{"text_format":"1","workbook":"xlsx","n_sheets":19,"sheets":["Startseite","Kurzanleitung","FAQ","Haushaltsbuch2","Regelm. E&A","Kategorien","Budget Grafiken","Budgetdifferenzen","E&A 12M-DS","E&A Übersicht","Ausgabenübersicht","E&A DATA","E&A DATA Jahre","Passive Einnahmen","Dividenden","Optionsprämien","Underlyings","Zugeteilte Aktien","Ende"],"not_rendered":{"charts":6,"images":18,"macros":1,"external_links":0,"defined_names":10,"comments":0,"pivot_tables":0},"unopened":[],"bounds":{"document_bytes":16777216,"sheet_cells":100000,"rows_first":2000,"rows_last":500,"rows_between":2000,"halvings":0,"cell_chars":16384,"cell_head_chars":4096},"cells_cut":0,"cells_raw":0,"read":"whole","date_system":"1900"}

{"sheet":"Startseite","index":0,"n_rows":39,"n_cols":3,"rows_kept":39,"cut":false,"hidden":false,"merged":[[38,0,39,45],[0,0,1,45],[2,0,3,0],[14,0,15,0],[26,0,27,0],[26,2,27,18]]}
["Startseite (Haushaltsbuch)"]
[]
["Wissenswertes"]
[]
[]
[]
[]
[]
[]
[]
[]
[]
[]
[]
["Berechnungen"]
[]
[]
[]
[]
[]
[]
[]
[]
[]
[]
[]
["Weblinks",null,"Shortcuts"]
[]
[]
[]
[]
[]
[]
[]
[]
[]
[]
[]
["Copyright © 2018 by Martin Kapp, 1230 Wien [V2.0]"]

{"sheet":"Kurzanleitung","index":1,"n_rows":29,"n_cols":12,"rows_kept":29,"cut":false,"hidden":false,"merged":[[2,1,3,58],[4,1,5,58],[6,1,9,58],[10,1,12,58],[0,1,1,58],[28,1,28,58],[21,11,21,39],[13,1,14,58],[15,1,16,58],[17,1,17,58],[18,1,19,58],[23,11,23,39],[21,2,21,8]]}
[null,"Kurzanleitung"]
[]
[null,"Hier eine kurze Erklärung, wie die Exceldatei funktioniert sowie die Bedeutung der verwendeten Symbole."]
[]
[null,"Wichtig ist, dass Du parallel oder zuvor das E-Book liest. So verinnerlichst Du die FinOrga-Philosophie und kannst diese Exceldatei (im Folgenden nur noch kurz Excel gennant) als effektives Hilfsmittel optimal nutzen."]
[]
[null,"Die Bearbeitung der Zellen in diesem Excel ist grundsätzlich gesperrt (außer für die Felder, wo etwas eingegeben werden soll). Das ist nur zum Schutz der Formeln und der Makros. Besonders Makros sind \"dumm\". Anders als Formeln berücksichtigen sie nicht, ob beispielsweise eine Zeile gelöscht oder ein Wert verschoben wurde. Ich hoffe natürlich, dass alle Formeln und Makros fehlerfrei funktionieren, sollte das nicht der Fall sein, bitte auf der Homepage (http://www.finorga.net/finorga-excel-support) melden. Du bekommst eine neue/bzw. überarbeitete Version."]
[]
[]
[]
[null,"Worum geht es hier überhaupt? Ich möchte mich gerne mit Dir auf eine (lange) Reise in Richtung finanzielle Freiheit begeben. Ich habe dafür einige Empfehlungen und konkrete Vorschläge im Gepäck. Wo wir am Ende landen werden ist ungewiss. Du kannst jedoch jederzeit sehr detailliert den zurückgelegten Weg nachvollziehen und analysieren, um zukünftig noch effektiver in die Richtung Deines Ziels zu schreiten!"]
[]
[]
[null,"Du solltest nicht versuchen, dass E-Book und das Excel an einem Abend durchzuarbeiten, dafür ist es nicht gedacht. Bitte mach ab und zu pausen und reflektiere, ob das hier beschriebene für Dich Sinn macht. Wenn Du nur halbherzig an die Sache gehst, dann lass es lieber bleiben und nutze Deine Zeit sinnvoller."]
[]
[null,"Wahrscheinlich hast Du (noch) keine Millionen auf dem Konto. Die meisten müssen \"klein\" anfangen. Der Weg bis zur finanziellen Freiheit ist dann sehr lang und beschwerlich. Er erfordert Anstrengungen und Disziplin. Aber er ist gangbar! Und lohnenswert!"]
[]
[null,"Ich wünsche Dir viel Ausdauer, viel Disziplin und viel Glück! Über Feedback freue ich mich immer: info@finorga.net."]
[null,"Hier noch kurz das Wichtigste:"]
[]
[]
[null,null,null,null,null,null,null,null,null,null,null,"Eingabefeld, hier benötige ich z.B. Informationen von Dir"]
[]
[null,null,null,null,null,null,null,null,null,null,null,"Klicke die Buttons an, um eine Aktion zu starten oder zu einem Thema zu springen"]
[]
[null,null,null,null,null,null,null,null,null,null,null,"Klicke hierhin, um zurück zur Startseite zu gelangen (links oben auf jeder Seite)"]
[]
[]
[null,"Noch Fragen? Die häufigsten Fragen sind in den FAQs zusammengefasst."]

{"sheet":"FAQ","index":2,"n_rows":30,"n_cols":3,"rows_kept":30,"cut":false,"hidden":false,"merged":[[0,1,1,58],[29,1,29,55],[10,2,10,54],[17,2,17,54],[13,2,14,55],[20,2,21,55],[27,2,27,55],[23,1,23,55],[24,2,24,54],[16,1,16,55],[19,1,19,55],[3,1,3,55],[5,1,5,55],[9,1,9,55],[12,1,12,55],[6,2,7,55]]}
[null,"FAQ"]
[]
[]
[null,"Hier werden häufig auftretenden Fragen beantwortet"]
[]
[null,"Was ist das für eine Dateiendung, .xlsm, die das finorga-Excel hat? Ist das sicher?"]
[null,null,"Die Dateiendung .xlsm bedeutet, dass das Excel Makros hat. Bei Dateien mit dieser Endung können Makros ausgeführt werden. Die Makros in diesem Excel können definitiv keinen Schaden anrichten und können bei Bedarf gerne eingesehen werden."]
[]
[]
[null,"Funktioniert das Excel auch ohne Makros?"]
[null,null,"Die Makros werden gebraucht, um verschiedene Berechnungen durchzuführen. Ohne geht es leider nicht."]
[]
[null,"Kann ich das Excel mit einem Passwort sichern?"]
[null,null,"Ja! Im Reiter \"Überprüfen\" wähle \"Arbeitsmappe schützen\" aus. Hier kannst Du ein Passwort eingeben. Du musst es Dir aber gut merken, sonst kommst Du selbst nicht mehr an Deine Daten!"]
[]
[]
[null,"Darf ich eine Kopie des finorga-Excels erstellen?"]
[null,null,"Ja, für Dich darfst Du so viele Kopien erstellen wie Du möchtest. Aber bitte nicht an Dritte weitergeben, das würde gegen das Urheberrecht verstoßen."]
[]
[null,"Was passiert, wenn ich Verluste erleide? Wer haftet für Verluste bzw. Schäden aller Art?"]
[null,null,"Alle Anlageentscheidungen passieren auf eigenes Risiko! Die hier vorgestellten Strategien dienen lediglich Informationszwecken. Eine Haftung kann ich (der Autor) nicht übernehmen. Lies dazu bitte den Disclaimer."]
[]
[]
[null,"Kann ich Fehler melden oder Fragen zu dem Excel an den Entwickler stellen?"]
[null,null,"Selbstverständlich! Besuche dafür einfach http://www.finorga.net/finorga-excel-support oder schreibe eine E-Mail an info@finorga.net."]
[]
[null,"Mir gefällt das Excel und das E-Book, wie kann ich mich beim Entwickler bedanken?"]
[null,null,"Einfach auf www.finorga.net einen Kommentar hinterlassen."]
[]
[null,"Du hast weitere Fragen oder suchst nützliche Tipps und Tricks? Dann schau bitte auf www.finorga.net vorbei. Feedback ist immer willkommen."]

{"sheet":"Haushaltsbuch2","index":3,"n_rows":12,"n_cols":10,"rows_kept":12,"cut":false,"hidden":false,"merged":[[9,3,9,5],[0,0,1,6],[3,3,3,5],[4,3,4,5],[6,3,6,5],[7,3,7,5]]}
["Haushaltsbuch",null,null,null,null,null,null,null,"HILFSTABELLEN"]
[]
[null,null,null,null,null,null,null,null,"Datum",{"$f":"TODAY()","v":43835}]
[null,null,null,"Anfangssaldo Girokonto ",null,null,0,null,"Monatsanfang",{"$f":"DATE(YEAR(J3),MONTH(J3),1)","v":43831}]
[null,null,null,"Aktueller Saldo Girokonto ",null,null,{"$f":"G4+SUMIF(Haushaltsbuch2[Girokonto],\"Ja\",Haushaltsbuch2[Einnahmen])-SUMIF(Haushaltsbuch2[Girokonto],\"Ja\",Haushaltsbuch2[Ausgaben])","v":0},null,"Monatsende",{"$f":"EOMONTH(J3,0)","v":43861}]
[]
[null,null,null,"Summe Einnahmen (aktueller Monat): ",null,null,{"$f":"SUMIFS(Haushaltsbuch2[Einnahmen],Haushaltsbuch2[Datum],\">=\"&J4,Haushaltsbuch2[Datum],\"<=\"&J5)","v":0}]
[null,null,null,"Summe Ausgaben (aktueller Monat): ",null,null,{"$f":"SUMIFS(Haushaltsbuch2[Ausgaben],Haushaltsbuch2[Datum],\">=\"&J4,Haushaltsbuch2[Datum],\"<=\"&J5)","v":0}]
[]
[null,null,null,"Budgetdifferenz (aktueller Monat): ",null,null,{"$f":"G7-Kategorien!D29+Kategorien!K29-G8","v":0}]
[]
["Datum","Kategorie","Hinweis","Girokonto","N/V","Einnahmen","Ausgaben"]

{"sheet":"Regelm. E&A","index":4,"n_rows":29,"n_cols":19,"rows_kept":29,"cut":false,"hidden":false,"merged":[[3,0,3,5],[17,0,17,6],[0,0,1,10]]}
["Regelmäßige Einnahmen und Ausgaben"]
[]
[]
["REGELMÄßIGE EINNAHMEN"]
["Datum","Kategorie","Hinweis","Betrag","Girokonto","Eintragen",null,null,null,null,null,null,"Datum","Kategorie","Hinweis","Girokonto","N/V","Einnahmen","Ausgaben"]
[{"$f":"TODAY()","v":43835},"Lohn und Gehalt",1,11,"Ja",null,null,null,null,null,null,null,{"$f":"RM_Einnahmen[[#This Row],[Datum]]","v":43835},{"$f":"RM_Einnahmen[[#This Row],[Kategorie]]","v":"Lohn und Gehalt"},{"$f":"RM_Einnahmen[[#This Row],[Hinweis]]","v":1},{"$f":"RM_Einnahmen[[#This Row],[Girokonto]]","v":"Ja"},null,{"$f":"RM_Einnahmen[[#This Row],[Betrag]]","v":11}]
[{"$f":"TODAY()","v":43835},"Einkommen aus Nebentätigkeiten",2,22,"Ja",null,null,null,null,null,null,null,{"$f":"RM_Einnahmen[[#This Row],[Datum]]","v":43835},{"$f":"RM_Einnahmen[[#This Row],[Kategorie]]","v":"Einkommen aus Nebentätigkeiten"},{"$f":"RM_Einnahmen[[#This Row],[Hinweis]]","v":2},{"$f":"RM_Einnahmen[[#This Row],[Girokonto]]","v":"Ja"},null,{"$f":"RM_Einnahmen[[#This Row],[Betrag]]","v":22}]
[{"$f":"TODAY()","v":43835},"Beitrag von Familie/Verwandten",3,33,"Ja",null,null,null,null,null,null,null,{"$f":"RM_Einnahmen[[#This Row],[Datum]]","v":43835},{"$f":"RM_Einnahmen[[#This Row],[Kategorie]]","v":"Beitrag von Familie/Verwandten"},{"$f":"RM_Einnahmen[[#This Row],[Hinweis]]","v":3},{"$f":"RM_Einnahmen[[#This Row],[Girokonto]]","v":"Ja"},null,{"$f":"RM_Einnahmen[[#This Row],[Betrag]]","v":33}]
[{"$f":"TODAY()","v":43835},"Lohn und Gehalt",4,44,"Ja",null,null,null,null,null,null,null,{"$f":"RM_Einnahmen[[#This Row],[Datum]]","v":43835},{"$f":"RM_Einnahmen[[#This Row],[Kategorie]]","v":"Lohn und Gehalt"},{"$f":"RM_Einnahmen[[#This Row],[Hinweis]]","v":4},{"$f":"RM_Einnahmen[[#This Row],[Girokonto]]","v":"Ja"},null,{"$f":"RM_Einnahmen[[#This Row],[Betrag]]","v":44}]
[{"$f":"TODAY()","v":43835},"Lizenz- und Patenteinnahmen",5,55,"Ja",null,null,null,null,null,null,null,{"$f":"RM_Einnahmen[[#This Row],[Datum]]","v":43835},{"$f":"RM_Einnahmen[[#This Row],[Kategorie]]","v":"Lizenz- und Patenteinnahmen"},{"$f":"RM_Einnahmen[[#This Row],[Hinweis]]","v":5},{"$f":"RM_Einnahmen[[#This Row],[Girokonto]]","v":"Ja"},null,{"$f":"RM_Einnahmen[[#This Row],[Betrag]]","v":55}]
[{"$f":"TODAY()","v":43835},"Kindergeld",6,66,"Ja",null,null,null,null,null,null,null,{"$f":"RM_Einnahmen[[#This Row],[Datum]]","v":43835},{"$f":"RM_Einnahmen[[#This Row],[Kategorie]]","v":"Kindergeld"},{"$f":"RM_Einnahmen[[#This Row],[Hinweis]]","v":6},{"$f":"RM_Einnahmen[[#This Row],[Girokonto]]","v":"Ja"},null,{"$f":"RM_Einnahmen[[#This Row],[Betrag]]","v":66}]
[{"$f":"TODAY()","v":43835},"Renten und Sozialleistungen",7,77,"Ja",null,null,null,null,null,null,null,{"$f":"RM_Einnahmen[[#This Row],[Datum]]","v":43835},{"$f":"RM_Einnahmen[[#This Row],[Kategorie]]","v":"Renten und Sozialleistungen"},{"$f":"RM_Einnahmen[[#This Row],[Hinweis]]","v":7},{"$f":"RM_Einnahmen[[#This Row],[Girokonto]]","v":"Ja"},null,{"$f":"RM_Einnahmen[[#This Row],[Betrag]]","v":77}]
[{"$f":"TODAY()","v":43835},"Geldgeschenke/Zuwendungen",8,88,"Ja",null,null,null,null,null,null,null,{"$f":"RM_Einnahmen[[#This Row],[Datum]]","v":43835},{"$f":"RM_Einnahmen[[#This Row],[Kategorie]]","v":"Geldgeschenke/Zuwendungen"},{"$f":"RM_Einnahmen[[#This Row],[Hinweis]]","v":8},{"$f":"RM_Einnahmen[[#This Row],[Girokonto]]","v":"Ja"},null,{"$f":"RM_Einnahmen[[#This Row],[Betrag]]","v":88}]
[{"$f":"TODAY()","v":43835},"Sonstige passive Einnahmen",9,99,"Ja",null,null,null,null,null,null,null,{"$f":"RM_Einnahmen[[#This Row],[Datum]]","v":43835},{"$f":"RM_Einnahmen[[#This Row],[Kategorie]]","v":"Sonstige passive Einnahmen"},{"$f":"RM_Einnahmen[[#This Row],[Hinweis]]","v":9},{"$f":"RM_Einnahmen[[#This Row],[Girokonto]]","v":"Ja"},null,{"$f":"RM_Einnahmen[[#This Row],[Betrag]]","v":99}]
[{"$f":"TODAY()","v":43835},"P2P Kreditrückzahlungen",10,111,"Ja",null,null,null,null,null,null,null,{"$f":"RM_Einnahmen[[#This Row],[Datum]]","v":43835},{"$f":"RM_Einnahmen[[#This Row],[Kategorie]]","v":"P2P Kreditrückzahlungen"},{"$f":"RM_Einnahmen[[#This Row],[Hinweis]]","v":10},{"$f":"RM_Einnahmen[[#This Row],[Girokonto]]","v":"Ja"},null,{"$f":"RM_Einnahmen[[#This Row],[Betrag]]","v":111}]
[]
[]
["REGELMÄßIGE AUSGABEN"]
["Datum","Kategorie","Hinweis","Betrag","Girokonto","N/V","Eintragen",null,null,null,null,null,"Datum","Kategorie","Hinweis","Girokonto","N/V","Einnahmen","Ausgaben"]
[{"$f":"TODAY()","v":43835},"Miete/Kosten für Eigenheim",1,11,"Ja","N",null,null,null,null,null,null,{"$f":"RM_Ausgaben[[#This Row],[Datum]]","v":43835},{"$f":"RM_Ausgaben[[#This Row],[Kategorie]]","v":"Miete/Kosten für Eigenheim"},{"$f":"RM_Ausgaben[[#This Row],[Hinweis]]","v":1},{"$f":"RM_Ausgaben[[#This Row],[Girokonto]]","v":"Ja"},{"$f":"RM_Ausgaben[[#This Row],[N/V]]","v":"N"},null,{"$f":"RM_Ausgaben[[#This Row],[Betrag]]","v":11}]
[{"$f":"TODAY()","v":43835},"Versicherungen",2,22,"Ja","N",null,null,null,null,null,null,{"$f":"RM_Ausgaben[[#This Row],[Datum]]","v":43835},{"$f":"RM_Ausgaben[[#This Row],[Kategorie]]","v":"Versicherungen"},{"$f":"RM_Ausgaben[[#This Row],[Hinweis]]","v":2},{"$f":"RM_Ausgaben[[#This Row],[Girokonto]]","v":"Ja"},{"$f":"RM_Ausgaben[[#This Row],[N/V]]","v":"N"},null,{"$f":"RM_Ausgaben[[#This Row],[Betrag]]","v":22}]
[{"$f":"TODAY()","v":43835},"Versicherungen",3,33,"Ja","N",null,null,null,null,null,null,{"$f":"RM_Ausgaben[[#This Row],[Datum]]","v":43835},{"$f":"RM_Ausgaben[[#This Row],[Kategorie]]","v":"Versicherungen"},{"$f":"RM_Ausgaben[[#This Row],[Hinweis]]","v":3},{"$f":"RM_Ausgaben[[#This Row],[Girokonto]]","v":"Ja"},{"$f":"RM_Ausgaben[[#This Row],[N/V]]","v":"N"},null,{"$f":"RM_Ausgaben[[#This Row],[Betrag]]","v":33}]
[{"$f":"TODAY()","v":43835},"Telefon/Handy, Internet und TV",4,44,"Ja","N",null,null,null,null,null,null,{"$f":"RM_Ausgaben[[#This Row],[Datum]]","v":43835},{"$f":"RM_Ausgaben[[#This Row],[Kategorie]]","v":"Telefon/Handy, Internet und TV"},{"$f":"RM_Ausgaben[[#This Row],[Hinweis]]","v":4},{"$f":"RM_Ausgaben[[#This Row],[Girokonto]]","v":"Ja"},{"$f":"RM_Ausgaben[[#This Row],[N/V]]","v":"N"},null,{"$f":"RM_Ausgaben[[#This Row],[Betrag]]","v":44}]
[{"$f":"TODAY()","v":43835},"Energiekosten",5,55,"Ja","N",null,null,null,null,null,null,{"$f":"RM_Ausgaben[[#This Row],[Datum]]","v":43835},{"$f":"RM_Ausgaben[[#This Row],[Kategorie]]","v":"Energiekosten"},{"$f":"RM_Ausgaben[[#This Row],[Hinweis]]","v":5},{"$f":"RM_Ausgaben[[#This Row],[Girokonto]]","v":"Ja"},{"$f":"RM_Ausgaben[[#This Row],[N/V]]","v":"N"},null,{"$f":"RM_Ausgaben[[#This Row],[Betrag]]","v":55}]
[{"$f":"TODAY()","v":43835},"Mobilität",6,66,"Ja","N",null,null,null,null,null,null,{"$f":"RM_Ausgaben[[#This Row],[Datum]]","v":43835},{"$f":"RM_Ausgaben[[#This Row],[Kategorie]]","v":"Mobilität"},{"$f":"RM_Ausgaben[[#This Row],[Hinweis]]","v":6},{"$f":"RM_Ausgaben[[#This Row],[Girokonto]]","v":"Ja"},{"$f":"RM_Ausgaben[[#This Row],[N/V]]","v":"N"},null,{"$f":"RM_Ausgaben[[#This Row],[Betrag]]","v":66}]
[{"$f":"TODAY()","v":43835},"Lebensmittel",7,77,"Ja","N",null,null,null,null,null,null,{"$f":"RM_Ausgaben[[#This Row],[Datum]]","v":43835},{"$f":"RM_Ausgaben[[#This Row],[Kategorie]]","v":"Lebensmittel"},{"$f":"RM_Ausgaben[[#This Row],[Hinweis]]","v":7},{"$f":"RM_Ausgaben[[#This Row],[Girokonto]]","v":"Ja"},{"$f":"RM_Ausgaben[[#This Row],[N/V]]","v":"N"},null,{"$f":"RM_Ausgaben[[#This Row],[Betrag]]","v":77}]
[{"$f":"TODAY()","v":43835},"Kreditkartenabbuchungen",8,88,"Ja","N",null,null,null,null,null,null,{"$f":"RM_Ausgaben[[#This Row],[Datum]]","v":43835},{"$f":"RM_Ausgaben[[#This Row],[Kategorie]]","v":"Kreditkartenabbuchungen"},{"$f":"RM_Ausgaben[[#This Row],[Hinweis]]","v":8},{"$f":"RM_Ausgaben[[#This Row],[Girokonto]]","v":"Ja"},{"$f":"RM_Ausgaben[[#This Row],[N/V]]","v":"N"},null,{"$f":"RM_Ausgaben[[#This Row],[Betrag]]","v":88}]
[{"$f":"TODAY()","v":43835},"Sparen (inkl. Vorsorge und Investments)",9,99,"Ja","N",null,null,null,null,null,null,{"$f":"RM_Ausgaben[[#This Row],[Datum]]","v":43835},{"$f":"RM_Ausgaben[[#This Row],[Kategorie]]","v":"Sparen (inkl. Vorsorge und Investments)"},{"$f":"RM_Ausgaben[[#This Row],[Hinweis]]","v":9},{"$f":"RM_Ausgaben[[#This Row],[Girokonto]]","v":"Ja"},{"$f":"RM_Ausgaben[[#This Row],[N/V]]","v":"N"},null,{"$f":"RM_Ausgaben[[#This Row],[Betrag]]","v":99}]
[{"$f":"TODAY()","v":43835},"Bargeldabhebungen",10,111,"Ja","N",null,null,null,null,null,null,{"$f":"RM_Ausgaben[[#This Row],[Datum]]","v":43835},{"$f":"RM_Ausgaben[[#This Row],[Kategorie]]","v":"Bargeldabhebungen"},{"$f":"RM_Ausgaben[[#This Row],[Hinweis]]","v":10},{"$f":"RM_Ausgaben[[#This Row],[Girokonto]]","v":"Ja"},{"$f":"RM_Ausgaben[[#This Row],[N/V]]","v":"N"},null,{"$f":"RM_Ausgaben[[#This Row],[Betrag]]","v":111}]

{"sheet":"Kategorien","index":5,"n_rows":43,"n_cols":18,"rows_kept":43,"cut":false,"hidden":false,"merged":[[0,0,1,13],[3,2,3,5],[19,2,19,5],[3,9,3,12],[3,15,3,17],[32,3,32,5],[33,3,33,5],[35,3,35,5],[29,9,29,10],[29,2,29,3]]}
["Kategorien und Budget definieren",null,null,null,null,null,null,null,null,null,null,null,null,null,null,"HILFSTABELLEN"]
[]
[]
[null,null,"Einnahmen",null,null,null,null,null,null,"Ausgaben",null,null,null,null,null,"Tabellen für die Listen (Datenüberprüfung)"]
[]
[null,null,"Kategorie","Budget","IST\n(12M-Ø)","Differenz",null,null,null,"Kategorie","Budget","IST\n(12M-Ø)","Differenz",null,null,"EINNAHMEN","AUSGABEN","ALLE"]
[]
[null,1,"Lohn und Gehalt",0,{"$f":"'E&A 12M-DS'!C17","v":0},{"$f":"E8-D8","v":0},null,null,1,"Miete/Kosten für Eigenheim",0,{"$f":"'E&A 12M-DS'!S17","v":0},{"$f":"K8-L8","v":0},null,null,{"$f":"C8","v":"Lohn und Gehalt"},{"$f":"J8","v":"Miete/Kosten für Eigenheim"},{"$f":"P8","v":"Lohn und Gehalt"}]
[null,2,"Einkommen aus Nebentätigkeiten",0,{"$f":"'E&A 12M-DS'!D17","v":0},{"$f":"E9-D9","v":0},null,null,2,"Versicherungen",0,{"$f":"'E&A 12M-DS'!T17","v":0},{"$f":"K9-L9","v":0},null,null,"Einkommen aus Nebentätigkeiten","Versicherungen",{"$f":"P9","v":"Einkommen aus Nebentätigkeiten"}]
[null,3,"Beitrag von Familie/Verwandten",0,{"$f":"'E&A 12M-DS'!E17","v":0},0,null,null,3,"Telefon/Handy, Internet und TV",0,{"$f":"'E&A 12M-DS'!U17","v":0},0,null,null,"Beitrag von Familie/Verwandten","Telefon/Handy, Internet und TV","Beitrag von Familie/Verwandten"]
[null,4,"Kindergeld",0,{"$f":"'E&A 12M-DS'!F17","v":0},0,null,null,4,"Energiekosten",0,{"$f":"'E&A 12M-DS'!V17","v":0},0,null,null,"Kindergeld","Energiekosten","Kindergeld"]
[null,5,"Renten und Sozialleistungen",0,{"$f":"'E&A 12M-DS'!G17","v":0},0,null,null,5,"Mobilität",0,{"$f":"'E&A 12M-DS'!W17","v":0},0,null,null,"Renten und Sozialleistungen","Mobilität","Renten und Sozialleistungen"]
[null,6,"Geldgeschenke/Zuwendungen",0,{"$f":"'E&A 12M-DS'!H17","v":0},0,null,null,6,"Kinder",0,{"$f":"'E&A 12M-DS'!X17","v":0},0,null,null,"Geldgeschenke/Zuwendungen","Kinder","Geldgeschenke/Zuwendungen"]
[null,7,"Steuerrückzahlungen",0,{"$f":"'E&A 12M-DS'!I17","v":0},0,null,null,7,"Lebensmittel",0,{"$f":"'E&A 12M-DS'!Y17","v":0},0,null,null,"Steuerrückzahlungen","Lebensmittel","Steuerrückzahlungen"]
[null,8,"Verkauf von Sach- und Finanzvermögen",0,{"$f":"'E&A 12M-DS'!J17","v":0},0,null,null,8,"Darlehensverpflichtungen",0,{"$f":"'E&A 12M-DS'!Z17","v":0},0,null,null,"Verkauf von Sach- und Finanzvermögen","Darlehensverpflichtungen","Verkauf von Sach- und Finanzvermögen"]
[null,9,"Umbuchungen auf das Girokonto",0,{"$f":"'E&A 12M-DS'!K17","v":0},0,null,null,9,"Besuche in Restaurants und Bars",0,{"$f":"'E&A 12M-DS'!AA17","v":0},0,null,null,"Umbuchungen auf das Girokonto","Besuche in Restaurants und Bars","Umbuchungen auf das Girokonto"]
[null,10,"Sonstige Einnahmen",0,{"$f":"'E&A 12M-DS'!L17","v":0},0,null,null,10,"Kultur und Unterhaltung",0,{"$f":"'E&A 12M-DS'!AB17","v":0},0,null,null,"Sonstige Einnahmen","Kultur und Unterhaltung","Sonstige Einnahmen"]
[null,null,null,null,null,null,null,null,11,"Geschenke",0,{"$f":"'E&A 12M-DS'!AC17","v":0},0,null,null,{"$f":"C22","v":"Zinserträge"},"Geschenke","Zinserträge"]
[null,null,null,null,null,null,null,null,12,"Mode und Bekleidung",0,{"$f":"'E&A 12M-DS'!AD17","v":0},0,null,null,"Dividenden","Mode und Bekleidung","Dividenden"]
[null,null,"Passive Einnahmen",null,null,null,null,null,13,"Gesundheit und Körperpflege",0,{"$f":"'E&A 12M-DS'!AE17","v":0},0,null,null,"Optionserträge","Gesundheit und Körperpflege","Optionserträge"]
[null,null,null,null,null,null,null,null,14,"Urlaub und Reisen",0,{"$f":"'E&A 12M-DS'!AF17","v":0},0,null,null,"Lizenz- und Patenteinnahmen","Urlaub und Reisen","Lizenz- und Patenteinnahmen"]
[null,1,"Zinserträge",0,{"$f":"'Passive Einnahmen'!BK11","v":0},{"$f":"E22-D22","v":0},null,null,15,"Kraftfahrzeugskosten",0,{"$f":"'E&A 12M-DS'!AG17","v":0},0,null,null,"P2P Kreditrückzahlungen","Kraftfahrzeugskosten","P2P Kreditrückzahlungen"]
[null,2,"Dividenden",0,{"$f":"'Passive Einnahmen'!BK14","v":0},{"$f":"E23-D23","v":0},null,null,16,"Möbel und Dekorationen",0,{"$f":"'E&A 12M-DS'!AH17","v":0},0,null,null,"Sonstige passive Einnahmen","Möbel und Dekorationen","Sonstige passive Einnahmen"]
[null,3,"Optionserträge",0,{"$f":"'Passive Einnahmen'!BK17","v":0},0,null,null,17,"Kreditkartenabbuchungen",0,{"$f":"'E&A 12M-DS'!AI17","v":0},0,null,null,null,"Kreditkartenabbuchungen",{"$f":"Q8","v":"Miete/Kosten für Eigenheim"}]
[null,4,"Lizenz- und Patenteinnahmen",0,{"$f":"'Passive Einnahmen'!BK18","v":0},0,null,null,18,"Bargeldabhebungen",0,{"$f":"'E&A 12M-DS'!AJ17","v":0},0,null,null,null,"Bargeldabhebungen",{"$f":"Q9","v":"Versicherungen"}]
[null,5,"P2P Kreditrückzahlungen",0,{"$f":"'Passive Einnahmen'!BK19","v":0},0,null,null,19,"Sparen (inkl. Vorsorge und Investments)",0,{"$f":"'E&A 12M-DS'!AK17","v":0},0,null,null,null,"Sparen (inkl. Vorsorge und Investments)","Telefon/Handy, Internet und TV"]
[null,6,"Sonstige passive Einnahmen",0,{"$f":"'Passive Einnahmen'!BK20","v":0},0,null,null,20,"Sonstige Ausgaben",0,{"$f":"'E&A 12M-DS'!AL17","v":0},0,null,null,null,"Sonstige Ausgaben","Energiekosten"]
[null,null,null,null,null,null,null,null,null,null,null,null,null,null,null,null,null,"Mobilität"]
[null,null,"Durchschnittliche Einnahmen pro Monat",{"$f":"SUM(D8:D17)+SUM(D22:D27)","v":0},{"$f":"SUM(E8:E17)+SUM(E22:E27)","v":0},0,null,null,null,"Durchschnittliche Ausgaben pro Monat",{"$f":"SUM(K8:K27)","v":0},{"$f":"SUM(L8:L27)","v":0},0,null,null,null,null,"Kinder"]
[null,null,"   davon passive Einnahmen",null,{"$f":"SUM(E22:E27)","v":0},{"$f":"IFERROR(E30/E29,0)","v":0},null,null,null,"   davon Sparen/Investieren bzw. Deine Sparquote",null,{"$f":"L26","v":0},{"$f":"IFERROR(L30/L29,0)","v":0},null,null,null,null,"Lebensmittel"]
[null,null,null,null,null,null,null,null,null,null,null,null,null,null,null,null,null,"Darlehensverpflichtungen"]
[null,null,null,null,null,null,null,null,null,null,null,null,null,null,null,null,null,"Besuche in Restaurants und Bars"]
[null,null,"Budgetüberschuss",{"$f":"D29-K29","v":0},null,null,null,null,null,null,null,null,null,null,null,null,null,"Kultur und Unterhaltung"]
[null,null,"IST Überschuss",{"$f":"E29-L29","v":0},null,null,null,null,null,null,null,null,null,null,null,null,null,"Geschenke"]
[null,null,null,null,null,null,null,null,null,null,null,null,null,null,null,null,null,"Mode und Bekleidung"]
[null,null,"Budgetabweichung",{"$f":"IFERROR(TEXT(D34-D33,\"#.##0,00\")&\"   (\"&TEXT((D34-D33)/D33,\"0,0%\")&\")\",0)","v":0},null,null,null,null,null,null,null,null,null,null,null,null,null,"Gesundheit und Körperpflege"]
[null,null,null,null,null,null,null,null,null,null,null,null,null,null,null,null,null,"Urlaub und Reisen"]
[null,null,null,null,null,null,null,null,null,null,null,null,null,null,null,null,null,"Kraftfahrzeugskosten"]
[null,null,null,null,null,null,null,null,null,null,null,null,null,null,null,null,null,"Möbel und Dekorationen"]
[null,null,null,null,null,null,null,null,null,null,null,null,null,null,null,null,null,"Kreditkartenabbuchungen"]
[null,null,null,null,null,null,null,null,null,null,null,null,null,null,null,null,null,"Bargeldabhebungen"]
[null,null,null,null,null,null,null,null,null,null,null,null,null,null,null,null,null,"Sparen (inkl. Vorsorge und Investments)"]
[null,null,null,null,null,null,null,null,null,null,null,null,null,null,null,null,null,"Sonstige Ausgaben"]

{"sheet":"Budget Grafiken","index":6,"n_rows":46,"n_cols":80,"rows_kept":46,"cut":false,"hidden":false,"merged":[[2,17,2,25],[3,48,31,76],[34,17,62,45],[34,48,62,76],[24,2,24,4],[24,5,24,7],[24,10,24,12],[24,13,24,15],[3,17,31,45]]}
[]
[null,"Einnahmen","Aktueller Monat","12M-Ø","Budget","Δ AM","Δ 12M-Ø",null,null,"Ausgaben","Aktueller Monat","12M-Ø","Budget","Δ AM","Δ 12M-Ø",null,null,"Grafiken"]
[null,{"$f":"Kategorien!C8","v":"Lohn und Gehalt"},{"$f":"'E&A 12M-DS'!C5","v":0},{"$f":"Kategorien!E8","v":0},{"$f":"Kategorien!D8","v":0},{"$f":"C3-E3","v":0},{"$f":"D3-E3","v":0},null,null,{"$f":"Kategorien!J8","v":"Miete/Kosten für Eigenheim"},{"$f":"'E&A 12M-DS'!S5","v":0},{"$f":"Kategorien!L8","v":0},{"$f":"Kategorien!K8","v":0},{"$f":"M3-K3","v":0},{"$f":"M3-L3","v":0},null,null,"Einnahmen aktueller Monat",null,null,null,null,null,null,null,null,null,null,null,null,null,null,null,null,null,null,null,null,null,null,null,null,null,null,null,null,null,null,"Ausgaben aktueller Monat",null,null,null,null,null,null,null,null,null,null,null,null,null,null,null,null,null,null,null,null,null,null,null,null,null,null,null,null,null,null,"Auswahl"]
[null,{"$f":"Kategorien!C9","v":"Einkommen aus Nebentätigkeiten"},{"$f":"'E&A 12M-DS'!D5","v":0},{"$f":"Kategorien!E9","v":0},{"$f":"Kategorien!D9","v":0},{"$f":"C4-E4","v":0},{"$f":"D4-E4","v":0},null,null,{"$f":"Kategorien!J9","v":"Versicherungen"},{"$f":"'E&A 12M-DS'!T5","v":0},{"$f":"Kategorien!L9","v":0},{"$f":"Kategorien!K9","v":0},{"$f":"M4-K4","v":0},{"$f":"M4-L4","v":0},null,null,null,null,null,null,null,null,null,null,null,null,null,null,null,null,null,null,null,null,null,null,null,null,null,null,null,null,null,null,null,null,null,null,null,null,null,null,null,null,null,null,null,null,null,null,null,null,null,null,null,null,null,null,null,null,null,null,null,null,null,null,null,null,"Aktueller Monat"]
[null,{"$f":"Kategorien!C10","v":"Beitrag von Familie/Verwandten"},{"$f":"'E&A 12M-DS'!E5","v":0},{"$f":"Kategorien!E10","v":0},{"$f":"Kategorien!D10","v":0},0,0,null,null,{"$f":"Kategorien!J10","v":"Telefon/Handy, Internet und TV"},{"$f":"'E&A 12M-DS'!U5","v":0},{"$f":"Kategorien!L10","v":0},{"$f":"Kategorien!K10","v":0},0,0,null,null,null,null,null,null,null,null,null,null,null,null,null,null,null,null,null,null,null,null,null,null,null,null,null,null,null,null,null,null,null,null,null,null,null,null,null,null,null,null,null,null,null,null,null,null,null,null,null,null,null,null,null,null,null,null,null,null,null,null,null,null,null,null,"12M-Ø"]
[null,{"$f":"Kategorien!C11","v":"Kindergeld"},{"$f":"'E&A 12M-DS'!F5","v":0},{"$f":"Kategorien!E11","v":0},{"$f":"Kategorien!D11","v":0},0,0,null,null,{"$f":"Kategorien!J11","v":"Energiekosten"},{"$f":"'E&A 12M-DS'!V5","v":0},{"$f":"Kategorien!L11","v":0},{"$f":"Kategorien!K11","v":0},0,0]
[null,{"$f":"Kategorien!C12","v":"Renten und Sozialleistungen"},{"$f":"'E&A 12M-DS'!G5","v":0},{"$f":"Kategorien!E12","v":0},{"$f":"Kategorien!D12","v":0},0,0,null,null,{"$f":"Kategorien!J12","v":"Mobilität"},{"$f":"'E&A 12M-DS'!W5","v":0},{"$f":"Kategorien!L12","v":0},{"$f":"Kategorien!K12","v":0},0,0,null,null,null,null,null,null,null,null,null,null,null,null,null,null,null,null,null,null,null,null,null,null,null,null,null,null,null,null,null,null,null,null,null,null,null,null,null,null,null,null,null,null,null,null,null,null,null,null,null,null,null,null,null,null,null,null,null,null,null,null,null,null,null,null,1]
[null,{"$f":"Kategorien!C13","v":"Geldgeschenke/Zuwendungen"},{"$f":"'E&A 12M-DS'!H5","v":0},{"$f":"Kategorien!E13","v":0},{"$f":"Kategorien!D13","v":0},0,0,null,null,{"$f":"Kategorien!J13","v":"Kinder"},{"$f":"'E&A 12M-DS'!X5","v":0},{"$f":"Kategorien!L13","v":0},{"$f":"Kategorien!K13","v":0},0,0]
[null,{"$f":"Kategorien!C14","v":"Steuerrückzahlungen"},{"$f":"'E&A 12M-DS'!I5","v":0},{"$f":"Kategorien!E14","v":0},{"$f":"Kategorien!D14","v":0},0,0,null,null,{"$f":"Kategorien!J14","v":"Lebensmittel"},{"$f":"'E&A 12M-DS'!Y5","v":0},{"$f":"Kategorien!L14","v":0},{"$f":"Kategorien!K14","v":0},0,0]
[null,{"$f":"Kategorien!C15","v":"Verkauf von Sach- und Finanzvermögen"},{"$f":"'E&A 12M-DS'!J5","v":0},{"$f":"Kategorien!E15","v":0},{"$f":"Kategorien!D15","v":0},0,0,null,null,{"$f":"Kategorien!J15","v":"Darlehensverpflichtungen"},{"$f":"'E&A 12M-DS'!Z5","v":0},{"$f":"Kategorien!L15","v":0},{"$f":"Kategorien!K15","v":0},0,0]
[null,{"$f":"Kategorien!C16","v":"Umbuchungen auf das Girokonto"},{"$f":"'E&A 12M-DS'!K5","v":0},{"$f":"Kategorien!E16","v":0},{"$f":"Kategorien!D16","v":0},0,0,null,null,{"$f":"Kategorien!J16","v":"Besuche in Restaurants und Bars"},{"$f":"'E&A 12M-DS'!AA5","v":0},{"$f":"Kategorien!L16","v":0},{"$f":"Kategorien!K16","v":0},0,0]
[null,{"$f":"Kategorien!C17","v":"Sonstige Einnahmen"},{"$f":"'E&A 12M-DS'!L5","v":0},{"$f":"Kategorien!E17","v":0},{"$f":"Kategorien!D17","v":0},0,0,null,null,{"$f":"Kategorien!J17","v":"Kultur und Unterhaltung"},{"$f":"'E&A 12M-DS'!AB5","v":0},{"$f":"Kategorien!L17","v":0},{"$f":"Kategorien!K17","v":0},0,0]
[null,{"$f":"Kategorien!C22","v":"Zinserträge"},{"$f":"'E&A DATA'!M604","v":0},{"$f":"Kategorien!E22","v":0},{"$f":"Kategorien!D22","v":0},0,0,null,null,{"$f":"Kategorien!J18","v":"Geschenke"},{"$f":"'E&A 12M-DS'!AC5","v":0},{"$f":"Kategorien!L18","v":0},{"$f":"Kategorien!K18","v":0},0,0]
[null,{"$f":"Kategorien!C23","v":"Dividenden"},{"$f":"'E&A DATA'!AQ604","v":0},{"$f":"Kategorien!E23","v":0},{"$f":"Kategorien!D23","v":0},0,0,null,null,{"$f":"Kategorien!J19","v":"Mode und Bekleidung"},{"$f":"'E&A 12M-DS'!AD5","v":0},{"$f":"Kategorien!L19","v":0},{"$f":"Kategorien!K19","v":0},0,0]
[null,{"$f":"Kategorien!C24","v":"Optionserträge"},{"$f":"'E&A DATA'!AR604","v":0},{"$f":"Kategorien!E24","v":0},{"$f":"Kategorien!D24","v":0},0,0,null,null,{"$f":"Kategorien!J20","v":"Gesundheit und Körperpflege"},{"$f":"'E&A 12M-DS'!AE5","v":0},{"$f":"Kategorien!L20","v":0},{"$f":"Kategorien!K20","v":0},0,0]
[null,{"$f":"Kategorien!C25","v":"Lizenz- und Patenteinnahmen"},{"$f":"'E&A DATA'!P604","v":0},{"$f":"Kategorien!E25","v":0},{"$f":"Kategorien!D25","v":0},0,0,null,null,{"$f":"Kategorien!J21","v":"Urlaub und Reisen"},{"$f":"'E&A 12M-DS'!AF5","v":0},{"$f":"Kategorien!L21","v":0},{"$f":"Kategorien!K21","v":0},0,0]
[null,{"$f":"Kategorien!C26","v":"P2P Kreditrückzahlungen"},{"$f":"'E&A DATA'!Q604","v":0},{"$f":"Kategorien!E26","v":0},{"$f":"Kategorien!D26","v":0},0,0,null,null,{"$f":"Kategorien!J22","v":"Kraftfahrzeugskosten"},{"$f":"'E&A 12M-DS'!AG5","v":0},{"$f":"Kategorien!L22","v":0},{"$f":"Kategorien!K22","v":0},0,0]
[null,{"$f":"Kategorien!C27","v":"Sonstige passive Einnahmen"},{"$f":"'E&A DATA'!R604","v":0},{"$f":"Kategorien!E27","v":0},{"$f":"Kategorien!D27","v":0},0,0,null,null,{"$f":"Kategorien!J23","v":"Möbel und Dekorationen"},{"$f":"'E&A 12M-DS'!AH5","v":0},{"$f":"Kategorien!L23","v":0},{"$f":"Kategorien!K23","v":0},0,0]
[null,null,null,null,null,null,null,null,null,{"$f":"Kategorien!J24","v":"Kreditkartenabbuchungen"},{"$f":"'E&A 12M-DS'!AI5","v":0},{"$f":"Kategorien!L24","v":0},{"$f":"Kategorien!K24","v":0},0,0]
[null,null,null,null,null,null,null,null,null,{"$f":"Kategorien!J25","v":"Bargeldabhebungen"},{"$f":"'E&A 12M-DS'!AJ5","v":0},{"$f":"Kategorien!L25","v":0},{"$f":"Kategorien!K25","v":0},0,0]
[null,null,null,null,null,null,null,null,null,{"$f":"Kategorien!J26","v":"Sparen (inkl. Vorsorge und Investments)"},{"$f":"'E&A 12M-DS'!AK5","v":0},{"$f":"Kategorien!L26","v":0},{"$f":"Kategorien!K26","v":0},0,0]
[null,null,null,null,null,null,null,null,null,{"$f":"Kategorien!J27","v":"Sonstige Ausgaben"},{"$f":"'E&A 12M-DS'!AL5","v":0},{"$f":"Kategorien!L27","v":0},{"$f":"Kategorien!K27","v":0},0,0]
[]
[]
[null,null,"Aktueller Monat",null,null,"12M-Ø",null,null,null,null,"Aktueller Monat",null,null,"12M-Ø"]
[null,null,"Budget","Delta rot","Delta grün","Budget","Delta rot","Delta grün",null,null,"Budget","Delta rot","Delta grün","Budget","Delta rot","Delta grün"]
[null,{"$f":"B3","v":"Lohn und Gehalt"},{"$f":"IF(F3<0,C3,E3)","v":0},{"$f":"IF(F3<0,F3,0)*(-1)","v":0},{"$f":"IF(F3>0,F3,0)","v":0},{"$f":"IF(G3<0,D3,E3)","v":0},{"$f":"IF(G3<0,G3,0)*(-1)","v":0},{"$f":"IF(G3>0,G3,0)","v":0},null,{"$f":"J3","v":"Miete/Kosten für Eigenheim"},{"$f":"IF(N3<0,M3,K3)","v":0},{"$f":"IF(N3<0,N3,0)*(-1)","v":0},{"$f":"IF(N3>0,N3,0)","v":0},{"$f":"IF(O3<0,M3,O3)","v":0},{"$f":"IF(O3<0,O3,0)*(-1)","v":0},{"$f":"IF(O3>0,O3,0)","v":0}]
[null,"Einkommen aus Nebentätigkeiten",{"$f":"IF(F4<0,C4,E4)","v":0},{"$f":"IF(F4<0,F4,0)*(-1)","v":0},{"$f":"IF(F4>0,F4,0)","v":0},{"$f":"IF(G4<0,D4,E4)","v":0},{"$f":"IF(G4<0,G4,0)*(-1)","v":0},{"$f":"IF(G4>0,G4,0)","v":0},null,"Versicherungen",{"$f":"IF(N4<0,M4,K4)","v":0},{"$f":"IF(N4<0,N4,0)*(-1)","v":0},{"$f":"IF(N4>0,N4,0)","v":0},{"$f":"IF(O4<0,M4,O4)","v":0},{"$f":"IF(O4<0,O4,0)*(-1)","v":0},{"$f":"IF(O4>0,O4,0)","v":0}]
[null,"Beitrag von Familie/Verwandten",0,0,0,0,0,0,null,"Telefon/Handy, Internet und TV",0,0,0,0,0,0]
[null,"Kindergeld",0,0,0,0,0,0,null,"Energiekosten",0,0,0,0,0,0]
[null,"Renten und Sozialleistungen",0,0,0,0,0,0,null,"Mobilität",0,0,0,0,0,0]
[null,"Geldgeschenke/Zuwendungen",0,0,0,0,0,0,null,"Kinder",0,0,0,0,0,0]
[null,"Steuerrückzahlungen",0,0,0,0,0,0,null,"Lebensmittel",0,0,0,0,0,0]
[null,"Verkauf von Sach- und Finanzvermögen",0,0,0,0,0,0,null,"Darlehensverpflichtungen",0,0,0,0,0,0,null,"Einnahmen 12M-Ø",null,null,null,null,null,null,null,null,null,null,null,null,null,null,null,null,null,null,null,null,null,null,null,null,null,null,null,null,null,null,"Ausgaben 12M-Ø"]
[null,"Umbuchungen auf das Girokonto",0,0,0,0,0,0,null,"Besuche in Restaurants und Bars",0,0,0,0,0,0]
[null,"Sonstige Einnahmen",0,0,0,0,0,0,null,"Kultur und Unterhaltung",0,0,0,0,0,0]
[null,"Zinserträge",0,0,0,0,0,0,null,"Geschenke",0,0,0,0,0,0]
[null,"Dividenden",0,0,0,0,0,0,null,"Mode und Bekleidung",0,0,0,0,0,0]
[null,"Optionserträge",0,0,0,0,0,0,null,"Gesundheit und Körperpflege",0,0,0,0,0,0]
[null,"Lizenz- und Patenteinnahmen",0,0,0,0,0,0,null,"Urlaub und Reisen",0,0,0,0,0,0]
[null,"P2P Kreditrückzahlungen",0,0,0,0,0,0,null,"Kraftfahrzeugskosten",0,0,0,0,0,0]
[null,"Sonstige passive Einnahmen",0,0,0,0,0,0,null,"Möbel und Dekorationen",0,0,0,0,0,0]
[null,null,null,null,null,null,null,null,null,"Kreditkartenabbuchungen",0,0,0,0,0,0]
[null,null,null,null,null,null,null,null,null,"Bargeldabhebungen",0,0,0,0,0,0]
[null,null,null,null,null,null,null,null,null,"Sparen (inkl. Vorsorge und Investments)",0,0,0,0,0,0]
[null,null,null,null,null,null,null,null,null,"Sonstige Ausgaben",0,0,0,0,0,0]

{"sheet":"Budgetdifferenzen","index":7,"n_rows":4,"n_cols":63,"rows_kept":4,"cut":false,"hidden":false,"merged":[[3,1,3,28],[3,31,3,58],[0,1,1,58],[5,1,33,29]]}
[null,"Budgetübersicht"]
[]
[]
[null,{"$f":"\"EINNAHMEN - Budget vs. \"&BK4","v":"EINNAHMEN - Budget vs. Aktueller Monat"},null,null,null,null,null,null,null,null,null,null,null,null,null,null,null,null,null,null,null,null,null,null,null,null,null,null,null,null,null,{"$f":"\"AUSGABEN - Budget vs. \"&BK4","v":"AUSGABEN - Budget vs. Aktueller Monat"},null,null,null,null,null,null,null,null,null,null,null,null,null,null,null,null,null,null,null,null,null,null,null,null,null,null,null,null,null,null,{"$f":"IF('Budget Grafiken'!CB7=1,\"Aktueller Monat\",\"12M-Ø\")","v":"Aktueller Monat"}]

{"sheet":"E&A 12M-DS","index":8,"n_rows":17,"n_cols":38,"rows_kept":17,"cut":false,"hidden":false,"merged":[[0,0,1,17],[4,12,15,17],[16,0,16,1]]}
["Kategorien und Budget definieren"]
[]
[]
["Von","Bis",{"$f":"Kategorien!C8","v":"Lohn und Gehalt"},{"$f":"Kategorien!C9","v":"Einkommen aus Nebentätigkeiten"},{"$f":"Kategorien!C10","v":"Beitrag von Familie/Verwandten"},{"$f":"Kategorien!C11","v":"Kindergeld"},{"$f":"Kategorien!C12","v":"Renten und Sozialleistungen"},{"$f":"Kategorien!C13","v":"Geldgeschenke/Zuwendungen"},{"$f":"Kategorien!C14","v":"Steuerrückzahlungen"},{"$f":"Kategorien!C15","v":"Verkauf von Sach- und Finanzvermögen"},{"$f":"Kategorien!C16","v":"Umbuchungen auf das Girokonto"},{"$f":"Kategorien!C17","v":"Sonstige Einnahmen"},{"$f":"Kategorien!C22","v":"Zinserträge"},{"$f":"Kategorien!C23","v":"Dividenden"},{"$f":"Kategorien!C24","v":"Optionserträge"},{"$f":"Kategorien!C25","v":"Lizenz- und Patenteinnahmen"},{"$f":"Kategorien!C26","v":"P2P Kreditrückzahlungen"},{"$f":"Kategorien!C27","v":"Sonstige passive Einnahmen"},{"$f":"Kategorien!J8","v":"Miete/Kosten für Eigenheim"},{"$f":"Kategorien!J9","v":"Versicherungen"},{"$f":"Kategorien!J10","v":"Telefon/Handy, Internet und TV"},{"$f":"Kategorien!J11","v":"Energiekosten"},{"$f":"Kategorien!J12","v":"Mobilität"},{"$f":"Kategorien!J13","v":"Kinder"},{"$f":"Kategorien!J14","v":"Lebensmittel"},{"$f":"Kategorien!J15","v":"Darlehensverpflichtungen"},{"$f":"Kategorien!J16","v":"Besuche in Restaurants und Bars"},{"$f":"Kategorien!J17","v":"Kultur und Unterhaltung"},{"$f":"Kategorien!J18","v":"Geschenke"},{"$f":"Kategorien!J19","v":"Mode und Bekleidung"},{"$f":"Kategorien!J20","v":"Gesundheit und Körperpflege"},{"$f":"Kategorien!J21","v":"Urlaub und Reisen"},{"$f":"Kategorien!J22","v":"Kraftfahrzeugskosten"},{"$f":"Kategorien!J23","v":"Möbel und Dekorationen"},{"$f":"Kategorien!J24","v":"Kreditkartenabbuchungen"},{"$f":"Kategorien!J25","v":"Bargeldabhebungen"},{"$f":"Kategorien!J26","v":"Sparen (inkl. Vorsorge und Investments)"},{"$f":"Kategorien!J27","v":"Sonstige Ausgaben"}]
[{"$f":"DATE(YEAR(TODAY()),MONTH(TODAY()),1)","v":43831},{"$f":"EOMONTH(A5,0)","v":43861},{"$f":"SUMIFS(Haushaltsbuch2[Einnahmen],Haushaltsbuch2[Kategorie],$C$4,Haushaltsbuch2[Datum],\">=\"&A5,Haushaltsbuch2[Datum],\"<=\"&B5)","v":0},{"$f":"SUMIFS(Haushaltsbuch2[Einnahmen],Haushaltsbuch2[Kategorie],$D$4,Haushaltsbuch2[Datum],\">=\"&A5,Haushaltsbuch2[Datum],\"<=\"&B5)","v":0},{"$f":"SUMIFS(Haushaltsbuch2[Einnahmen],Haushaltsbuch2[Kategorie],$E$4,Haushaltsbuch2[Datum],\">=\"&A5,Haushaltsbuch2[Datum],\"<=\"&B5)","v":0},{"$f":"SUMIFS(Haushaltsbuch2[Einnahmen],Haushaltsbuch2[Kategorie],$F$4,Haushaltsbuch2[Datum],\">=\"&A5,Haushaltsbuch2[Datum],\"<=\"&B5)","v":0},{"$f":"SUMIFS(Haushaltsbuch2[Einnahmen],Haushaltsbuch2[Kategorie],$G$4,Haushaltsbuch2[Datum],\">=\"&A5,Haushaltsbuch2[Datum],\"<=\"&B5)","v":0},{"$f":"SUMIFS(Haushaltsbuch2[Einnahmen],Haushaltsbuch2[Kategorie],$H$4,Haushaltsbuch2[Datum],\">=\"&A5,Haushaltsbuch2[Datum],\"<=\"&B5)","v":0},{"$f":"SUMIFS(Haushaltsbuch2[Einnahmen],Haushaltsbuch2[Kategorie],$I$4,Haushaltsbuch2[Datum],\">=\"&A5,Haushaltsbuch2[Datum],\"<=\"&B5)","v":0},{"$f":"SUMIFS(Haushaltsbuch2[Einnahmen],Haushaltsbuch2[Kategorie],$J$4,Haushaltsbuch2[Datum],\">=\"&A5,Haushaltsbuch2[Datum],\"<=\"&B5)","v":0},{"$f":"SUMIFS(Haushaltsbuch2[Einnahmen],Haushaltsbuch2[Kategorie],$K$4,Haushaltsbuch2[Datum],\">=\"&A5,Haushaltsbuch2[Datum],\"<=\"&B5)","v":0},{"$f":"SUMIFS(Haushaltsbuch2[Einnahmen],Haushaltsbuch2[Kategorie],$L$4,Haushaltsbuch2[Datum],\">=\"&A5,Haushaltsbuch2[Datum],\"<=\"&B5)","v":0},"Mittelwerte aus Sheet Passive Einnahmen",null,null,null,null,null,{"$f":"SUMIFS(Haushaltsbuch2[Ausgaben],Haushaltsbuch2[Kategorie],$S$4,Haushaltsbuch2[Datum],\">=\"&A5,Haushaltsbuch2[Datum],\"<=\"&B5)","v":0},{"$f":"SUMIFS(Haushaltsbuch2[Ausgaben],Haushaltsbuch2[Kategorie],$T$4,Haushaltsbuch2[Datum],\">=\"&A5,Haushaltsbuch2[Datum],\"<=\"&B5)","v":0},{"$f":"SUMIFS(Haushaltsbuch2[Ausgaben],Haushaltsbuch2[Kategorie],$U$4,Haushaltsbuch2[Datum],\">=\"&A5,Haushaltsbuch2[Datum],\"<=\"&B5)","v":0},{"$f":"SUMIFS(Haushaltsbuch2[Ausgaben],Haushaltsbuch2[Kategorie],$V$4,Haushaltsbuch2[Datum],\">=\"&A5,Haushaltsbuch2[Datum],\"<=\"&B5)","v":0},{"$f":"SUMIFS(Haushaltsbuch2[Ausgaben],Haushaltsbuch2[Kategorie],$W$4,Haushaltsbuch2[Datum],\">=\"&A5,Haushaltsbuch2[Datum],\"<=\"&B5)","v":0},{"$f":"SUMIFS(Haushaltsbuch2[Ausgaben],Haushaltsbuch2[Kategorie],$X$4,Haushaltsbuch2[Datum],\">=\"&A5,Haushaltsbuch2[Datum],\"<=\"&B5)","v":0},{"$f":"SUMIFS(Haushaltsbuch2[Ausgaben],Haushaltsbuch2[Kategorie],$Y$4,Haushaltsbuch2[Datum],\">=\"&A5,Haushaltsbuch2[Datum],\"<=\"&B5)","v":0},{"$f":"SUMIFS(Haushaltsbuch2[Ausgaben],Haushaltsbuch2[Kategorie],$Z$4,Haushaltsbuch2[Datum],\">=\"&A5,Haushaltsbuch2[Datum],\"<=\"&B5)","v":0},{"$f":"SUMIFS(Haushaltsbuch2[Ausgaben],Haushaltsbuch2[Kategorie],$AA$4,Haushaltsbuch2[Datum],\">=\"&A5,Haushaltsbuch2[Datum],\"<=\"&B5)","v":0},{"$f":"SUMIFS(Haushaltsbuch2[Ausgaben],Haushaltsbuch2[Kategorie],$AB$4,Haushaltsbuch2[Datum],\">=\"&A5,Haushaltsbuch2[Datum],\"<=\"&B5)","v":0},{"$f":"SUMIFS(Haushaltsbuch2[Ausgaben],Haushaltsbuch2[Kategorie],$AC$4,Haushaltsbuch2[Datum],\">=\"&A5,Haushaltsbuch2[Datum],\"<=\"&B5)","v":0},{"$f":"SUMIFS(Haushaltsbuch2[Ausgaben],Haushaltsbuch2[Kategorie],$AD$4,Haushaltsbuch2[Datum],\">=\"&A5,Haushaltsbuch2[Datum],\"<=\"&B5)","v":0},{"$f":"SUMIFS(Haushaltsbuch2[Ausgaben],Haushaltsbuch2[Kategorie],$AE$4,Haushaltsbuch2[Datum],\">=\"&A5,Haushaltsbuch2[Datum],\"<=\"&B5)","v":0},{"$f":"SUMIFS(Haushaltsbuch2[Ausgaben],Haushaltsbuch2[Kategorie],$AF$4,Haushaltsbuch2[Datum],\">=\"&A5,Haushaltsbuch2[Datum],\"<=\"&B5)","v":0},{"$f":"SUMIFS(Haushaltsbuch2[Ausgaben],Haushaltsbuch2[Kategorie],$AG$4,Haushaltsbuch2[Datum],\">=\"&A5,Haushaltsbuch2[Datum],\"<=\"&B5)","v":0},{"$f":"SUMIFS(Haushaltsbuch2[Ausgaben],Haushaltsbuch2[Kategorie],$AH$4,Haushaltsbuch2[Datum],\">=\"&A5,Haushaltsbuch2[Datum],\"<=\"&B5)","v":0},{"$f":"SUMIFS(Haushaltsbuch2[Ausgaben],Haushaltsbuch2[Kategorie],$AI$4,Haushaltsbuch2[Datum],\">=\"&A5,Haushaltsbuch2[Datum],\"<=\"&B5)","v":0},{"$f":"SUMIFS(Haushaltsbuch2[Ausgaben],Haushaltsbuch2[Kategorie],$AJ$4,Haushaltsbuch2[Datum],\">=\"&A5,Haushaltsbuch2[Datum],\"<=\"&B5)","v":0},{"$f":"SUMIFS(Haushaltsbuch2[Ausgaben],Haushaltsbuch2[Kategorie],$AK$4,Haushaltsbuch2[Datum],\">=\"&A5,Haushaltsbuch2[Datum],\"<=\"&B5)","v":0},{"$f":"SUMIFS(Haushaltsbuch2[Ausgaben],Haushaltsbuch2[Kategorie],$AL$4,Haushaltsbuch2[Datum],\">=\"&A5,Haushaltsbuch2[Datum],\"<=\"&B5)","v":0}]
[{"$f":"DATE(YEAR(A5),MONTH(A5)-1,1)","v":43800},{"$f":"EOMONTH(A6,0)","v":43830},{"$f":"SUMIFS(Haushaltsbuch2[Einnahmen],Haushaltsbuch2[Kategorie],$C$4,Haushaltsbuch2[Datum],\">=\"&A6,Haushaltsbuch2[Datum],\"<=\"&B6)","v":0},{"$f":"SUMIFS(Haushaltsbuch2[Einnahmen],Haushaltsbuch2[Kategorie],$D$4,Haushaltsbuch2[Datum],\">=\"&A6,Haushaltsbuch2[Datum],\"<=\"&B6)","v":0},{"$f":"SUMIFS(Haushaltsbuch2[Einnahmen],Haushaltsbuch2[Kategorie],$E$4,Haushaltsbuch2[Datum],\">=\"&A6,Haushaltsbuch2[Datum],\"<=\"&B6)","v":0},{"$f":"SUMIFS(Haushaltsbuch2[Einnahmen],Haushaltsbuch2[Kategorie],$F$4,Haushaltsbuch2[Datum],\">=\"&A6,Haushaltsbuch2[Datum],\"<=\"&B6)","v":0},{"$f":"SUMIFS(Haushaltsbuch2[Einnahmen],Haushaltsbuch2[Kategorie],$G$4,Haushaltsbuch2[Datum],\">=\"&A6,Haushaltsbuch2[Datum],\"<=\"&B6)","v":0},{"$f":"SUMIFS(Haushaltsbuch2[Einnahmen],Haushaltsbuch2[Kategorie],$H$4,Haushaltsbuch2[Datum],\">=\"&A6,Haushaltsbuch2[Datum],\"<=\"&B6)","v":0},{"$f":"SUMIFS(Haushaltsbuch2[Einnahmen],Haushaltsbuch2[Kategorie],$I$4,Haushaltsbuch2[Datum],\">=\"&A6,Haushaltsbuch2[Datum],\"<=\"&B6)","v":0},{"$f":"SUMIFS(Haushaltsbuch2[Einnahmen],Haushaltsbuch2[Kategorie],$J$4,Haushaltsbuch2[Datum],\">=\"&A6,Haushaltsbuch2[Datum],\"<=\"&B6)","v":0},{"$f":"SUMIFS(Haushaltsbuch2[Einnahmen],Haushaltsbuch2[Kategorie],$K$4,Haushaltsbuch2[Datum],\">=\"&A6,Haushaltsbuch2[Datum],\"<=\"&B6)","v":0},{"$f":"SUMIFS(Haushaltsbuch2[Einnahmen],Haushaltsbuch2[Kategorie],$L$4,Haushaltsbuch2[Datum],\">=\"&A6,Haushaltsbuch2[Datum],\"<=\"&B6)","v":0},null,null,null,null,null,null,{"$f":"SUMIFS(Haushaltsbuch2[Ausgaben],Haushaltsbuch2[Kategorie],$S$4,Haushaltsbuch2[Datum],\">=\"&A6,Haushaltsbuch2[Datum],\"<=\"&B6)","v":0},{"$f":"SUMIFS(Haushaltsbuch2[Ausgaben],Haushaltsbuch2[Kategorie],$T$4,Haushaltsbuch2[Datum],\">=\"&A6,Haushaltsbuch2[Datum],\"<=\"&B6)","v":0},{"$f":"SUMIFS(Haushaltsbuch2[Ausgaben],Haushaltsbuch2[Kategorie],$U$4,Haushaltsbuch2[Datum],\">=\"&A6,Haushaltsbuch2[Datum],\"<=\"&B6)","v":0},{"$f":"SUMIFS(Haushaltsbuch2[Ausgaben],Haushaltsbuch2[Kategorie],$V$4,Haushaltsbuch2[Datum],\">=\"&A6,Haushaltsbuch2[Datum],\"<=\"&B6)","v":0},{"$f":"SUMIFS(Haushaltsbuch2[Ausgaben],Haushaltsbuch2[Kategorie],$W$4,Haushaltsbuch2[Datum],\">=\"&A6,Haushaltsbuch2[Datum],\"<=\"&B6)","v":0},{"$f":"SUMIFS(Haushaltsbuch2[Ausgaben],Haushaltsbuch2[Kategorie],$X$4,Haushaltsbuch2[Datum],\">=\"&A6,Haushaltsbuch2[Datum],\"<=\"&B6)","v":0},{"$f":"SUMIFS(Haushaltsbuch2[Ausgaben],Haushaltsbuch2[Kategorie],$Y$4,Haushaltsbuch2[Datum],\">=\"&A6,Haushaltsbuch2[Datum],\"<=\"&B6)","v":0},{"$f":"SUMIFS(Haushaltsbuch2[Ausgaben],Haushaltsbuch2[Kategorie],$Z$4,Haushaltsbuch2[Datum],\">=\"&A6,Haushaltsbuch2[Datum],\"<=\"&B6)","v":0},{"$f":"SUMIFS(Haushaltsbuch2[Ausgaben],Haushaltsbuch2[Kategorie],$AA$4,Haushaltsbuch2[Datum],\">=\"&A6,Haushaltsbuch2[Datum],\"<=\"&B6)","v":0},{"$f":"SUMIFS(Haushaltsbuch2[Ausgaben],Haushaltsbuch2[Kategorie],$AB$4,Haushaltsbuch2[Datum],\">=\"&A6,Haushaltsbuch2[Datum],\"<=\"&B6)","v":0},{"$f":"SUMIFS(Haushaltsbuch2[Ausgaben],Haushaltsbuch2[Kategorie],$AC$4,Haushaltsbuch2[Datum],\">=\"&A6,Haushaltsbuch2[Datum],\"<=\"&B6)","v":0},{"$f":"SUMIFS(Haushaltsbuch2[Ausgaben],Haushaltsbuch2[Kategorie],$AD$4,Haushaltsbuch2[Datum],\">=\"&A6,Haushaltsbuch2[Datum],\"<=\"&B6)","v":0},{"$f":"SUMIFS(Haushaltsbuch2[Ausgaben],Haushaltsbuch2[Kategorie],$AE$4,Haushaltsbuch2[Datum],\">=\"&A6,Haushaltsbuch2[Datum],\"<=\"&B6)","v":0},{"$f":"SUMIFS(Haushaltsbuch2[Ausgaben],Haushaltsbuch2[Kategorie],$AF$4,Haushaltsbuch2[Datum],\">=\"&A6,Haushaltsbuch2[Datum],\"<=\"&B6)","v":0},{"$f":"SUMIFS(Haushaltsbuch2[Ausgaben],Haushaltsbuch2[Kategorie],$AG$4,Haushaltsbuch2[Datum],\">=\"&A6,Haushaltsbuch2[Datum],\"<=\"&B6)","v":0},{"$f":"SUMIFS(Haushaltsbuch2[Ausgaben],Haushaltsbuch2[Kategorie],$AH$4,Haushaltsbuch2[Datum],\">=\"&A6,Haushaltsbuch2[Datum],\"<=\"&B6)","v":0},{"$f":"SUMIFS(Haushaltsbuch2[Ausgaben],Haushaltsbuch2[Kategorie],$AI$4,Haushaltsbuch2[Datum],\">=\"&A6,Haushaltsbuch2[Datum],\"<=\"&B6)","v":0},{"$f":"SUMIFS(Haushaltsbuch2[Ausgaben],Haushaltsbuch2[Kategorie],$AJ$4,Haushaltsbuch2[Datum],\">=\"&A6,Haushaltsbuch2[Datum],\"<=\"&B6)","v":0},{"$f":"SUMIFS(Haushaltsbuch2[Ausgaben],Haushaltsbuch2[Kategorie],$AK$4,Haushaltsbuch2[Datum],\">=\"&A6,Haushaltsbuch2[Datum],\"<=\"&B6)","v":0},{"$f":"SUMIFS(Haushaltsbuch2[Ausgaben],Haushaltsbuch2[Kategorie],$AL$4,Haushaltsbuch2[Datum],\">=\"&A6,Haushaltsbuch2[Datum],\"<=\"&B6)","v":0}]
[{"$f":"DATE(YEAR(A6),MONTH(A6)-1,1)","v":43770},43799,{"$f":"SUMIFS(Haushaltsbuch2[Einnahmen],Haushaltsbuch2[Kategorie],$C$4,Haushaltsbuch2[Datum],\">=\"&A7,Haushaltsbuch2[Datum],\"<=\"&B7)","v":0},{"$f":"SUMIFS(Haushaltsbuch2[Einnahmen],Haushaltsbuch2[Kategorie],$D$4,Haushaltsbuch2[Datum],\">=\"&A7,Haushaltsbuch2[Datum],\"<=\"&B7)","v":0},{"$f":"SUMIFS(Haushaltsbuch2[Einnahmen],Haushaltsbuch2[Kategorie],$E$4,Haushaltsbuch2[Datum],\">=\"&A7,Haushaltsbuch2[Datum],\"<=\"&B7)","v":0},{"$f":"SUMIFS(Haushaltsbuch2[Einnahmen],Haushaltsbuch2[Kategorie],$F$4,Haushaltsbuch2[Datum],\">=\"&A7,Haushaltsbuch2[Datum],\"<=\"&B7)","v":0},{"$f":"SUMIFS(Haushaltsbuch2[Einnahmen],Haushaltsbuch2[Kategorie],$G$4,Haushaltsbuch2[Datum],\">=\"&A7,Haushaltsbuch2[Datum],\"<=\"&B7)","v":0},{"$f":"SUMIFS(Haushaltsbuch2[Einnahmen],Haushaltsbuch2[Kategorie],$H$4,Haushaltsbuch2[Datum],\">=\"&A7,Haushaltsbuch2[Datum],\"<=\"&B7)","v":0},{"$f":"SUMIFS(Haushaltsbuch2[Einnahmen],Haushaltsbuch2[Kategorie],$I$4,Haushaltsbuch2[Datum],\">=\"&A7,Haushaltsbuch2[Datum],\"<=\"&B7)","v":0},{"$f":"SUMIFS(Haushaltsbuch2[Einnahmen],Haushaltsbuch2[Kategorie],$J$4,Haushaltsbuch2[Datum],\">=\"&A7,Haushaltsbuch2[Datum],\"<=\"&B7)","v":0},{"$f":"SUMIFS(Haushaltsbuch2[Einnahmen],Haushaltsbuch2[Kategorie],$K$4,Haushaltsbuch2[Datum],\">=\"&A7,Haushaltsbuch2[Datum],\"<=\"&B7)","v":0},{"$f":"SUMIFS(Haushaltsbuch2[Einnahmen],Haushaltsbuch2[Kategorie],$L$4,Haushaltsbuch2[Datum],\">=\"&A7,Haushaltsbuch2[Datum],\"<=\"&B7)","v":0},null,null,null,null,null,null,{"$f":"SUMIFS(Haushaltsbuch2[Ausgaben],Haushaltsbuch2[Kategorie],$S$4,Haushaltsbuch2[Datum],\">=\"&A7,Haushaltsbuch2[Datum],\"<=\"&B7)","v":0},{"$f":"SUMIFS(Haushaltsbuch2[Ausgaben],Haushaltsbuch2[Kategorie],$T$4,Haushaltsbuch2[Datum],\">=\"&A7,Haushaltsbuch2[Datum],\"<=\"&B7)","v":0},{"$f":"SUMIFS(Haushaltsbuch2[Ausgaben],Haushaltsbuch2[Kategorie],$U$4,Haushaltsbuch2[Datum],\">=\"&A7,Haushaltsbuch2[Datum],\"<=\"&B7)","v":0},{"$f":"SUMIFS(Haushaltsbuch2[Ausgaben],Haushaltsbuch2[Kategorie],$V$4,Haushaltsbuch2[Datum],\">=\"&A7,Haushaltsbuch2[Datum],\"<=\"&B7)","v":0},{"$f":"SUMIFS(Haushaltsbuch2[Ausgaben],Haushaltsbuch2[Kategorie],$W$4,Haushaltsbuch2[Datum],\">=\"&A7,Haushaltsbuch2[Datum],\"<=\"&B7)","v":0},{"$f":"SUMIFS(Haushaltsbuch2[Ausgaben],Haushaltsbuch2[Kategorie],$X$4,Haushaltsbuch2[Datum],\">=\"&A7,Haushaltsbuch2[Datum],\"<=\"&B7)","v":0},{"$f":"SUMIFS(Haushaltsbuch2[Ausgaben],Haushaltsbuch2[Kategorie],$Y$4,Haushaltsbuch2[Datum],\">=\"&A7,Haushaltsbuch2[Datum],\"<=\"&B7)","v":0},{"$f":"SUMIFS(Haushaltsbuch2[Ausgaben],Haushaltsbuch2[Kategorie],$Z$4,Haushaltsbuch2[Datum],\">=\"&A7,Haushaltsbuch2[Datum],\"<=\"&B7)","v":0},{"$f":"SUMIFS(Haushaltsbuch2[Ausgaben],Haushaltsbuch2[Kategorie],$AA$4,Haushaltsbuch2[Datum],\">=\"&A7,Haushaltsbuch2[Datum],\"<=\"&B7)","v":0},{"$f":"SUMIFS(Haushaltsbuch2[Ausgaben],Haushaltsbuch2[Kategorie],$AB$4,Haushaltsbuch2[Datum],\">=\"&A7,Haushaltsbuch2[Datum],\"<=\"&B7)","v":0},{"$f":"SUMIFS(Haushaltsbuch2[Ausgaben],Haushaltsbuch2[Kategorie],$AC$4,Haushaltsbuch2[Datum],\">=\"&A7,Haushaltsbuch2[Datum],\"<=\"&B7)","v":0},{"$f":"SUMIFS(Haushaltsbuch2[Ausgaben],Haushaltsbuch2[Kategorie],$AD$4,Haushaltsbuch2[Datum],\">=\"&A7,Haushaltsbuch2[Datum],\"<=\"&B7)","v":0},{"$f":"SUMIFS(Haushaltsbuch2[Ausgaben],Haushaltsbuch2[Kategorie],$AE$4,Haushaltsbuch2[Datum],\">=\"&A7,Haushaltsbuch2[Datum],\"<=\"&B7)","v":0},{"$f":"SUMIFS(Haushaltsbuch2[Ausgaben],Haushaltsbuch2[Kategorie],$AF$4,Haushaltsbuch2[Datum],\">=\"&A7,Haushaltsbuch2[Datum],\"<=\"&B7)","v":0},{"$f":"SUMIFS(Haushaltsbuch2[Ausgaben],Haushaltsbuch2[Kategorie],$AG$4,Haushaltsbuch2[Datum],\">=\"&A7,Haushaltsbuch2[Datum],\"<=\"&B7)","v":0},{"$f":"SUMIFS(Haushaltsbuch2[Ausgaben],Haushaltsbuch2[Kategorie],$AH$4,Haushaltsbuch2[Datum],\">=\"&A7,Haushaltsbuch2[Datum],\"<=\"&B7)","v":0},{"$f":"SUMIFS(Haushaltsbuch2[Ausgaben],Haushaltsbuch2[Kategorie],$AI$4,Haushaltsbuch2[Datum],\">=\"&A7,Haushaltsbuch2[Datum],\"<=\"&B7)","v":0},{"$f":"SUMIFS(Haushaltsbuch2[Ausgaben],Haushaltsbuch2[Kategorie],$AJ$4,Haushaltsbuch2[Datum],\">=\"&A7,Haushaltsbuch2[Datum],\"<=\"&B7)","v":0},{"$f":"SUMIFS(Haushaltsbuch2[Ausgaben],Haushaltsbuch2[Kategorie],$AK$4,Haushaltsbuch2[Datum],\">=\"&A7,Haushaltsbuch2[Datum],\"<=\"&B7)","v":0},{"$f":"SUMIFS(Haushaltsbuch2[Ausgaben],Haushaltsbuch2[Kategorie],$AL$4,Haushaltsbuch2[Datum],\">=\"&A7,Haushaltsbuch2[Datum],\"<=\"&B7)","v":0}]
[43739,43769,{"$f":"SUMIFS(Haushaltsbuch2[Einnahmen],Haushaltsbuch2[Kategorie],$C$4,Haushaltsbuch2[Datum],\">=\"&A8,Haushaltsbuch2[Datum],\"<=\"&B8)","v":0},{"$f":"SUMIFS(Haushaltsbuch2[Einnahmen],Haushaltsbuch2[Kategorie],$D$4,Haushaltsbuch2[Datum],\">=\"&A8,Haushaltsbuch2[Datum],\"<=\"&B8)","v":0},{"$f":"SUMIFS(Haushaltsbuch2[Einnahmen],Haushaltsbuch2[Kategorie],$E$4,Haushaltsbuch2[Datum],\">=\"&A8,Haushaltsbuch2[Datum],\"<=\"&B8)","v":0},{"$f":"SUMIFS(Haushaltsbuch2[Einnahmen],Haushaltsbuch2[Kategorie],$F$4,Haushaltsbuch2[Datum],\">=\"&A8,Haushaltsbuch2[Datum],\"<=\"&B8)","v":0},{"$f":"SUMIFS(Haushaltsbuch2[Einnahmen],Haushaltsbuch2[Kategorie],$G$4,Haushaltsbuch2[Datum],\">=\"&A8,Haushaltsbuch2[Datum],\"<=\"&B8)","v":0},{"$f":"SUMIFS(Haushaltsbuch2[Einnahmen],Haushaltsbuch2[Kategorie],$H$4,Haushaltsbuch2[Datum],\">=\"&A8,Haushaltsbuch2[Datum],\"<=\"&B8)","v":0},{"$f":"SUMIFS(Haushaltsbuch2[Einnahmen],Haushaltsbuch2[Kategorie],$I$4,Haushaltsbuch2[Datum],\">=\"&A8,Haushaltsbuch2[Datum],\"<=\"&B8)","v":0},{"$f":"SUMIFS(Haushaltsbuch2[Einnahmen],Haushaltsbuch2[Kategorie],$J$4,Haushaltsbuch2[Datum],\">=\"&A8,Haushaltsbuch2[Datum],\"<=\"&B8)","v":0},{"$f":"SUMIFS(Haushaltsbuch2[Einnahmen],Haushaltsbuch2[Kategorie],$K$4,Haushaltsbuch2[Datum],\">=\"&A8,Haushaltsbuch2[Datum],\"<=\"&B8)","v":0},{"$f":"SUMIFS(Haushaltsbuch2[Einnahmen],Haushaltsbuch2[Kategorie],$L$4,Haushaltsbuch2[Datum],\">=\"&A8,Haushaltsbuch2[Datum],\"<=\"&B8)","v":0},null,null,null,null,null,null,{"$f":"SUMIFS(Haushaltsbuch2[Ausgaben],Haushaltsbuch2[Kategorie],$S$4,Haushaltsbuch2[Datum],\">=\"&A8,Haushaltsbuch2[Datum],\"<=\"&B8)","v":0},{"$f":"SUMIFS(Haushaltsbuch2[Ausgaben],Haushaltsbuch2[Kategorie],$T$4,Haushaltsbuch2[Datum],\">=\"&A8,Haushaltsbuch2[Datum],\"<=\"&B8)","v":0},{"$f":"SUMIFS(Haushaltsbuch2[Ausgaben],Haushaltsbuch2[Kategorie],$U$4,Haushaltsbuch2[Datum],\">=\"&A8,Haushaltsbuch2[Datum],\"<=\"&B8)","v":0},{"$f":"SUMIFS(Haushaltsbuch2[Ausgaben],Haushaltsbuch2[Kategorie],$V$4,Haushaltsbuch2[Datum],\">=\"&A8,Haushaltsbuch2[Datum],\"<=\"&B8)","v":0},{"$f":"SUMIFS(Haushaltsbuch2[Ausgaben],Haushaltsbuch2[Kategorie],$W$4,Haushaltsbuch2[Datum],\">=\"&A8,Haushaltsbuch2[Datum],\"<=\"&B8)","v":0},{"$f":"SUMIFS(Haushaltsbuch2[Ausgaben],Haushaltsbuch2[Kategorie],$X$4,Haushaltsbuch2[Datum],\">=\"&A8,Haushaltsbuch2[Datum],\"<=\"&B8)","v":0},{"$f":"SUMIFS(Haushaltsbuch2[Ausgaben],Haushaltsbuch2[Kategorie],$Y$4,Haushaltsbuch2[Datum],\">=\"&A8,Haushaltsbuch2[Datum],\"<=\"&B8)","v":0},{"$f":"SUMIFS(Haushaltsbuch2[Ausgaben],Haushaltsbuch2[Kategorie],$Z$4,Haushaltsbuch2[Datum],\">=\"&A8,Haushaltsbuch2[Datum],\"<=\"&B8)","v":0},{"$f":"SUMIFS(Haushaltsbuch2[Ausgaben],Haushaltsbuch2[Kategorie],$AA$4,Haushaltsbuch2[Datum],\">=\"&A8,Haushaltsbuch2[Datum],\"<=\"&B8)","v":0},{"$f":"SUMIFS(Haushaltsbuch2[Ausgaben],Haushaltsbuch2[Kategorie],$AB$4,Haushaltsbuch2[Datum],\">=\"&A8,Haushaltsbuch2[Datum],\"<=\"&B8)","v":0},{"$f":"SUMIFS(Haushaltsbuch2[Ausgaben],Haushaltsbuch2[Kategorie],$AC$4,Haushaltsbuch2[Datum],\">=\"&A8,Haushaltsbuch2[Datum],\"<=\"&B8)","v":0},{"$f":"SUMIFS(Haushaltsbuch2[Ausgaben],Haushaltsbuch2[Kategorie],$AD$4,Haushaltsbuch2[Datum],\">=\"&A8,Haushaltsbuch2[Datum],\"<=\"&B8)","v":0},{"$f":"SUMIFS(Haushaltsbuch2[Ausgaben],Haushaltsbuch2[Kategorie],$AE$4,Haushaltsbuch2[Datum],\">=\"&A8,Haushaltsbuch2[Datum],\"<=\"&B8)","v":0},{"$f":"SUMIFS(Haushaltsbuch2[Ausgaben],Haushaltsbuch2[Kategorie],$AF$4,Haushaltsbuch2[Datum],\">=\"&A8,Haushaltsbuch2[Datum],\"<=\"&B8)","v":0},{"$f":"SUMIFS(Haushaltsbuch2[Ausgaben],Haushaltsbuch2[Kategorie],$AG$4,Haushaltsbuch2[Datum],\">=\"&A8,Haushaltsbuch2[Datum],\"<=\"&B8)","v":0},{"$f":"SUMIFS(Haushaltsbuch2[Ausgaben],Haushaltsbuch2[Kategorie],$AH$4,Haushaltsbuch2[Datum],\">=\"&A8,Haushaltsbuch2[Datum],\"<=\"&B8)","v":0},{"$f":"SUMIFS(Haushaltsbuch2[Ausgaben],Haushaltsbuch2[Kategorie],$AI$4,Haushaltsbuch2[Datum],\">=\"&A8,Haushaltsbuch2[Datum],\"<=\"&B8)","v":0},{"$f":"SUMIFS(Haushaltsbuch2[Ausgaben],Haushaltsbuch2[Kategorie],$AJ$4,Haushaltsbuch2[Datum],\">=\"&A8,Haushaltsbuch2[Datum],\"<=\"&B8)","v":0},{"$f":"SUMIFS(Haushaltsbuch2[Ausgaben],Haushaltsbuch2[Kategorie],$AK$4,Haushaltsbuch2[Datum],\">=\"&A8,Haushaltsbuch2[Datum],\"<=\"&B8)","v":0},{"$f":"SUMIFS(Haushaltsbuch2[Ausgaben],Haushaltsbuch2[Kategorie],$AL$4,Haushaltsbuch2[Datum],\">=\"&A8,Haushaltsbuch2[Datum],\"<=\"&B8)","v":0}]
[43709,43738,{"$f":"SUMIFS(Haushaltsbuch2[Einnahmen],Haushaltsbuch2[Kategorie],$C$4,Haushaltsbuch2[Datum],\">=\"&A9,Haushaltsbuch2[Datum],\"<=\"&B9)","v":0},{"$f":"SUMIFS(Haushaltsbuch2[Einnahmen],Haushaltsbuch2[Kategorie],$D$4,Haushaltsbuch2[Datum],\">=\"&A9,Haushaltsbuch2[Datum],\"<=\"&B9)","v":0},{"$f":"SUMIFS(Haushaltsbuch2[Einnahmen],Haushaltsbuch2[Kategorie],$E$4,Haushaltsbuch2[Datum],\">=\"&A9,Haushaltsbuch2[Datum],\"<=\"&B9)","v":0},{"$f":"SUMIFS(Haushaltsbuch2[Einnahmen],Haushaltsbuch2[Kategorie],$F$4,Haushaltsbuch2[Datum],\">=\"&A9,Haushaltsbuch2[Datum],\"<=\"&B9)","v":0},{"$f":"SUMIFS(Haushaltsbuch2[Einnahmen],Haushaltsbuch2[Kategorie],$G$4,Haushaltsbuch2[Datum],\">=\"&A9,Haushaltsbuch2[Datum],\"<=\"&B9)","v":0},{"$f":"SUMIFS(Haushaltsbuch2[Einnahmen],Haushaltsbuch2[Kategorie],$H$4,Haushaltsbuch2[Datum],\">=\"&A9,Haushaltsbuch2[Datum],\"<=\"&B9)","v":0},{"$f":"SUMIFS(Haushaltsbuch2[Einnahmen],Haushaltsbuch2[Kategorie],$I$4,Haushaltsbuch2[Datum],\">=\"&A9,Haushaltsbuch2[Datum],\"<=\"&B9)","v":0},{"$f":"SUMIFS(Haushaltsbuch2[Einnahmen],Haushaltsbuch2[Kategorie],$J$4,Haushaltsbuch2[Datum],\">=\"&A9,Haushaltsbuch2[Datum],\"<=\"&B9)","v":0},{"$f":"SUMIFS(Haushaltsbuch2[Einnahmen],Haushaltsbuch2[Kategorie],$K$4,Haushaltsbuch2[Datum],\">=\"&A9,Haushaltsbuch2[Datum],\"<=\"&B9)","v":0},{"$f":"SUMIFS(Haushaltsbuch2[Einnahmen],Haushaltsbuch2[Kategorie],$L$4,Haushaltsbuch2[Datum],\">=\"&A9,Haushaltsbuch2[Datum],\"<=\"&B9)","v":0},null,null,null,null,null,null,{"$f":"SUMIFS(Haushaltsbuch2[Ausgaben],Haushaltsbuch2[Kategorie],$S$4,Haushaltsbuch2[Datum],\">=\"&A9,Haushaltsbuch2[Datum],\"<=\"&B9)","v":0},{"$f":"SUMIFS(Haushaltsbuch2[Ausgaben],Haushaltsbuch2[Kategorie],$T$4,Haushaltsbuch2[Datum],\">=\"&A9,Haushaltsbuch2[Datum],\"<=\"&B9)","v":0},{"$f":"SUMIFS(Haushaltsbuch2[Ausgaben],Haushaltsbuch2[Kategorie],$U$4,Haushaltsbuch2[Datum],\">=\"&A9,Haushaltsbuch2[Datum],\"<=\"&B9)","v":0},{"$f":"SUMIFS(Haushaltsbuch2[Ausgaben],Haushaltsbuch2[Kategorie],$V$4,Haushaltsbuch2[Datum],\">=\"&A9,Haushaltsbuch2[Datum],\"<=\"&B9)","v":0},{"$f":"SUMIFS(Haushaltsbuch2[Ausgaben],Haushaltsbuch2[Kategorie],$W$4,Haushaltsbuch2[Datum],\">=\"&A9,Haushaltsbuch2[Datum],\"<=\"&B9)","v":0},{"$f":"SUMIFS(Haushaltsbuch2[Ausgaben],Haushaltsbuch2[Kategorie],$X$4,Haushaltsbuch2[Datum],\">=\"&A9,Haushaltsbuch2[Datum],\"<=\"&B9)","v":0},{"$f":"SUMIFS(Haushaltsbuch2[Ausgaben],Haushaltsbuch2[Kategorie],$Y$4,Haushaltsbuch2[Datum],\">=\"&A9,Haushaltsbuch2[Datum],\"<=\"&B9)","v":0},{"$f":"SUMIFS(Haushaltsbuch2[Ausgaben],Haushaltsbuch2[Kategorie],$Z$4,Haushaltsbuch2[Datum],\">=\"&A9,Haushaltsbuch2[Datum],\"<=\"&B9)","v":0},{"$f":"SUMIFS(Haushaltsbuch2[Ausgaben],Haushaltsbuch2[Kategorie],$AA$4,Haushaltsbuch2[Datum],\">=\"&A9,Haushaltsbuch2[Datum],\"<=\"&B9)","v":0},{"$f":"SUMIFS(Haushaltsbuch2[Ausgaben],Haushaltsbuch2[Kategorie],$AB$4,Haushaltsbuch2[Datum],\">=\"&A9,Haushaltsbuch2[Datum],\"<=\"&B9)","v":0},{"$f":"SUMIFS(Haushaltsbuch2[Ausgaben],Haushaltsbuch2[Kategorie],$AC$4,Haushaltsbuch2[Datum],\">=\"&A9,Haushaltsbuch2[Datum],\"<=\"&B9)","v":0},{"$f":"SUMIFS(Haushaltsbuch2[Ausgaben],Haushaltsbuch2[Kategorie],$AD$4,Haushaltsbuch2[Datum],\">=\"&A9,Haushaltsbuch2[Datum],\"<=\"&B9)","v":0},{"$f":"SUMIFS(Haushaltsbuch2[Ausgaben],Haushaltsbuch2[Kategorie],$AE$4,Haushaltsbuch2[Datum],\">=\"&A9,Haushaltsbuch2[Datum],\"<=\"&B9)","v":0},{"$f":"SUMIFS(Haushaltsbuch2[Ausgaben],Haushaltsbuch2[Kategorie],$AF$4,Haushaltsbuch2[Datum],\">=\"&A9,Haushaltsbuch2[Datum],\"<=\"&B9)","v":0},{"$f":"SUMIFS(Haushaltsbuch2[Ausgaben],Haushaltsbuch2[Kategorie],$AG$4,Haushaltsbuch2[Datum],\">=\"&A9,Haushaltsbuch2[Datum],\"<=\"&B9)","v":0},{"$f":"SUMIFS(Haushaltsbuch2[Ausgaben],Haushaltsbuch2[Kategorie],$AH$4,Haushaltsbuch2[Datum],\">=\"&A9,Haushaltsbuch2[Datum],\"<=\"&B9)","v":0},{"$f":"SUMIFS(Haushaltsbuch2[Ausgaben],Haushaltsbuch2[Kategorie],$AI$4,Haushaltsbuch2[Datum],\">=\"&A9,Haushaltsbuch2[Datum],\"<=\"&B9)","v":0},{"$f":"SUMIFS(Haushaltsbuch2[Ausgaben],Haushaltsbuch2[Kategorie],$AJ$4,Haushaltsbuch2[Datum],\">=\"&A9,Haushaltsbuch2[Datum],\"<=\"&B9)","v":0},{"$f":"SUMIFS(Haushaltsbuch2[Ausgaben],Haushaltsbuch2[Kategorie],$AK$4,Haushaltsbuch2[Datum],\">=\"&A9,Haushaltsbuch2[Datum],\"<=\"&B9)","v":0},{"$f":"SUMIFS(Haushaltsbuch2[Ausgaben],Haushaltsbuch2[Kategorie],$AL$4,Haushaltsbuch2[Datum],\">=\"&A9,Haushaltsbuch2[Datum],\"<=\"&B9)","v":0}]
[43678,43708,{"$f":"SUMIFS(Haushaltsbuch2[Einnahmen],Haushaltsbuch2[Kategorie],$C$4,Haushaltsbuch2[Datum],\">=\"&A10,Haushaltsbuch2[Datum],\"<=\"&B10)","v":0},{"$f":"SUMIFS(Haushaltsbuch2[Einnahmen],Haushaltsbuch2[Kategorie],$D$4,Haushaltsbuch2[Datum],\">=\"&A10,Haushaltsbuch2[Datum],\"<=\"&B10)","v":0},{"$f":"SUMIFS(Haushaltsbuch2[Einnahmen],Haushaltsbuch2[Kategorie],$E$4,Haushaltsbuch2[Datum],\">=\"&A10,Haushaltsbuch2[Datum],\"<=\"&B10)","v":0},{"$f":"SUMIFS(Haushaltsbuch2[Einnahmen],Haushaltsbuch2[Kategorie],$F$4,Haushaltsbuch2[Datum],\">=\"&A10,Haushaltsbuch2[Datum],\"<=\"&B10)","v":0},{"$f":"SUMIFS(Haushaltsbuch2[Einnahmen],Haushaltsbuch2[Kategorie],$G$4,Haushaltsbuch2[Datum],\">=\"&A10,Haushaltsbuch2[Datum],\"<=\"&B10)","v":0},{"$f":"SUMIFS(Haushaltsbuch2[Einnahmen],Haushaltsbuch2[Kategorie],$H$4,Haushaltsbuch2[Datum],\">=\"&A10,Haushaltsbuch2[Datum],\"<=\"&B10)","v":0},{"$f":"SUMIFS(Haushaltsbuch2[Einnahmen],Haushaltsbuch2[Kategorie],$I$4,Haushaltsbuch2[Datum],\">=\"&A10,Haushaltsbuch2[Datum],\"<=\"&B10)","v":0},{"$f":"SUMIFS(Haushaltsbuch2[Einnahmen],Haushaltsbuch2[Kategorie],$J$4,Haushaltsbuch2[Datum],\">=\"&A10,Haushaltsbuch2[Datum],\"<=\"&B10)","v":0},{"$f":"SUMIFS(Haushaltsbuch2[Einnahmen],Haushaltsbuch2[Kategorie],$K$4,Haushaltsbuch2[Datum],\">=\"&A10,Haushaltsbuch2[Datum],\"<=\"&B10)","v":0},{"$f":"SUMIFS(Haushaltsbuch2[Einnahmen],Haushaltsbuch2[Kategorie],$L$4,Haushaltsbuch2[Datum],\">=\"&A10,Haushaltsbuch2[Datum],\"<=\"&B10)","v":0},null,null,null,null,null,null,{"$f":"SUMIFS(Haushaltsbuch2[Ausgaben],Haushaltsbuch2[Kategorie],$S$4,Haushaltsbuch2[Datum],\">=\"&A10,Haushaltsbuch2[Datum],\"<=\"&B10)","v":0},{"$f":"SUMIFS(Haushaltsbuch2[Ausgaben],Haushaltsbuch2[Kategorie],$T$4,Haushaltsbuch2[Datum],\">=\"&A10,Haushaltsbuch2[Datum],\"<=\"&B10)","v":0},{"$f":"SUMIFS(Haushaltsbuch2[Ausgaben],Haushaltsbuch2[Kategorie],$U$4,Haushaltsbuch2[Datum],\">=\"&A10,Haushaltsbuch2[Datum],\"<=\"&B10)","v":0},{"$f":"SUMIFS(Haushaltsbuch2[Ausgaben],Haushaltsbuch2[Kategorie],$V$4,Haushaltsbuch2[Datum],\">=\"&A10,Haushaltsbuch2[Datum],\"<=\"&B10)","v":0},{"$f":"SUMIFS(Haushaltsbuch2[Ausgaben],Haushaltsbuch2[Kategorie],$W$4,Haushaltsbuch2[Datum],\">=\"&A10,Haushaltsbuch2[Datum],\"<=\"&B10)","v":0},{"$f":"SUMIFS(Haushaltsbuch2[Ausgaben],Haushaltsbuch2[Kategorie],$X$4,Haushaltsbuch2[Datum],\">=\"&A10,Haushaltsbuch2[Datum],\"<=\"&B10)","v":0},{"$f":"SUMIFS(Haushaltsbuch2[Ausgaben],Haushaltsbuch2[Kategorie],$Y$4,Haushaltsbuch2[Datum],\">=\"&A10,Haushaltsbuch2[Datum],\"<=\"&B10)","v":0},{"$f":"SUMIFS(Haushaltsbuch2[Ausgaben],Haushaltsbuch2[Kategorie],$Z$4,Haushaltsbuch2[Datum],\">=\"&A10,Haushaltsbuch2[Datum],\"<=\"&B10)","v":0},{"$f":"SUMIFS(Haushaltsbuch2[Ausgaben],Haushaltsbuch2[Kategorie],$AA$4,Haushaltsbuch2[Datum],\">=\"&A10,Haushaltsbuch2[Datum],\"<=\"&B10)","v":0},{"$f":"SUMIFS(Haushaltsbuch2[Ausgaben],Haushaltsbuch2[Kategorie],$AB$4,Haushaltsbuch2[Datum],\">=\"&A10,Haushaltsbuch2[Datum],\"<=\"&B10)","v":0},{"$f":"SUMIFS(Haushaltsbuch2[Ausgaben],Haushaltsbuch2[Kategorie],$AC$4,Haushaltsbuch2[Datum],\">=\"&A10,Haushaltsbuch2[Datum],\"<=\"&B10)","v":0},{"$f":"SUMIFS(Haushaltsbuch2[Ausgaben],Haushaltsbuch2[Kategorie],$AD$4,Haushaltsbuch2[Datum],\">=\"&A10,Haushaltsbuch2[Datum],\"<=\"&B10)","v":0},{"$f":"SUMIFS(Haushaltsbuch2[Ausgaben],Haushaltsbuch2[Kategorie],$AE$4,Haushaltsbuch2[Datum],\">=\"&A10,Haushaltsbuch2[Datum],\"<=\"&B10)","v":0},{"$f":"SUMIFS(Haushaltsbuch2[Ausgaben],Haushaltsbuch2[Kategorie],$AF$4,Haushaltsbuch2[Datum],\">=\"&A10,Haushaltsbuch2[Datum],\"<=\"&B10)","v":0},{"$f":"SUMIFS(Haushaltsbuch2[Ausgaben],Haushaltsbuch2[Kategorie],$AG$4,Haushaltsbuch2[Datum],\">=\"&A10,Haushaltsbuch2[Datum],\"<=\"&B10)","v":0},{"$f":"SUMIFS(Haushaltsbuch2[Ausgaben],Haushaltsbuch2[Kategorie],$AH$4,Haushaltsbuch2[Datum],\">=\"&A10,Haushaltsbuch2[Datum],\"<=\"&B10)","v":0},{"$f":"SUMIFS(Haushaltsbuch2[Ausgaben],Haushaltsbuch2[Kategorie],$AI$4,Haushaltsbuch2[Datum],\">=\"&A10,Haushaltsbuch2[Datum],\"<=\"&B10)","v":0},{"$f":"SUMIFS(Haushaltsbuch2[Ausgaben],Haushaltsbuch2[Kategorie],$AJ$4,Haushaltsbuch2[Datum],\">=\"&A10,Haushaltsbuch2[Datum],\"<=\"&B10)","v":0},{"$f":"SUMIFS(Haushaltsbuch2[Ausgaben],Haushaltsbuch2[Kategorie],$AK$4,Haushaltsbuch2[Datum],\">=\"&A10,Haushaltsbuch2[Datum],\"<=\"&B10)","v":0},{"$f":"SUMIFS(Haushaltsbuch2[Ausgaben],Haushaltsbuch2[Kategorie],$AL$4,Haushaltsbuch2[Datum],\">=\"&A10,Haushaltsbuch2[Datum],\"<=\"&B10)","v":0}]
[43647,43677,{"$f":"SUMIFS(Haushaltsbuch2[Einnahmen],Haushaltsbuch2[Kategorie],$C$4,Haushaltsbuch2[Datum],\">=\"&A11,Haushaltsbuch2[Datum],\"<=\"&B11)","v":0},{"$f":"SUMIFS(Haushaltsbuch2[Einnahmen],Haushaltsbuch2[Kategorie],$D$4,Haushaltsbuch2[Datum],\">=\"&A11,Haushaltsbuch2[Datum],\"<=\"&B11)","v":0},{"$f":"SUMIFS(Haushaltsbuch2[Einnahmen],Haushaltsbuch2[Kategorie],$E$4,Haushaltsbuch2[Datum],\">=\"&A11,Haushaltsbuch2[Datum],\"<=\"&B11)","v":0},{"$f":"SUMIFS(Haushaltsbuch2[Einnahmen],Haushaltsbuch2[Kategorie],$F$4,Haushaltsbuch2[Datum],\">=\"&A11,Haushaltsbuch2[Datum],\"<=\"&B11)","v":0},{"$f":"SUMIFS(Haushaltsbuch2[Einnahmen],Haushaltsbuch2[Kategorie],$G$4,Haushaltsbuch2[Datum],\">=\"&A11,Haushaltsbuch2[Datum],\"<=\"&B11)","v":0},{"$f":"SUMIFS(Haushaltsbuch2[Einnahmen],Haushaltsbuch2[Kategorie],$H$4,Haushaltsbuch2[Datum],\">=\"&A11,Haushaltsbuch2[Datum],\"<=\"&B11)","v":0},{"$f":"SUMIFS(Haushaltsbuch2[Einnahmen],Haushaltsbuch2[Kategorie],$I$4,Haushaltsbuch2[Datum],\">=\"&A11,Haushaltsbuch2[Datum],\"<=\"&B11)","v":0},{"$f":"SUMIFS(Haushaltsbuch2[Einnahmen],Haushaltsbuch2[Kategorie],$J$4,Haushaltsbuch2[Datum],\">=\"&A11,Haushaltsbuch2[Datum],\"<=\"&B11)","v":0},{"$f":"SUMIFS(Haushaltsbuch2[Einnahmen],Haushaltsbuch2[Kategorie],$K$4,Haushaltsbuch2[Datum],\">=\"&A11,Haushaltsbuch2[Datum],\"<=\"&B11)","v":0},{"$f":"SUMIFS(Haushaltsbuch2[Einnahmen],Haushaltsbuch2[Kategorie],$L$4,Haushaltsbuch2[Datum],\">=\"&A11,Haushaltsbuch2[Datum],\"<=\"&B11)","v":0},null,null,null,null,null,null,{"$f":"SUMIFS(Haushaltsbuch2[Ausgaben],Haushaltsbuch2[Kategorie],$S$4,Haushaltsbuch2[Datum],\">=\"&A11,Haushaltsbuch2[Datum],\"<=\"&B11)","v":0},{"$f":"SUMIFS(Haushaltsbuch2[Ausgaben],Haushaltsbuch2[Kategorie],$T$4,Haushaltsbuch2[Datum],\">=\"&A11,Haushaltsbuch2[Datum],\"<=\"&B11)","v":0},{"$f":"SUMIFS(Haushaltsbuch2[Ausgaben],Haushaltsbuch2[Kategorie],$U$4,Haushaltsbuch2[Datum],\">=\"&A11,Haushaltsbuch2[Datum],\"<=\"&B11)","v":0},{"$f":"SUMIFS(Haushaltsbuch2[Ausgaben],Haushaltsbuch2[Kategorie],$V$4,Haushaltsbuch2[Datum],\">=\"&A11,Haushaltsbuch2[Datum],\"<=\"&B11)","v":0},{"$f":"SUMIFS(Haushaltsbuch2[Ausgaben],Haushaltsbuch2[Kategorie],$W$4,Haushaltsbuch2[Datum],\">=\"&A11,Haushaltsbuch2[Datum],\"<=\"&B11)","v":0},{"$f":"SUMIFS(Haushaltsbuch2[Ausgaben],Haushaltsbuch2[Kategorie],$X$4,Haushaltsbuch2[Datum],\">=\"&A11,Haushaltsbuch2[Datum],\"<=\"&B11)","v":0},{"$f":"SUMIFS(Haushaltsbuch2[Ausgaben],Haushaltsbuch2[Kategorie],$Y$4,Haushaltsbuch2[Datum],\">=\"&A11,Haushaltsbuch2[Datum],\"<=\"&B11)","v":0},{"$f":"SUMIFS(Haushaltsbuch2[Ausgaben],Haushaltsbuch2[Kategorie],$Z$4,Haushaltsbuch2[Datum],\">=\"&A11,Haushaltsbuch2[Datum],\"<=\"&B11)","v":0},{"$f":"SUMIFS(Haushaltsbuch2[Ausgaben],Haushaltsbuch2[Kategorie],$AA$4,Haushaltsbuch2[Datum],\">=\"&A11,Haushaltsbuch2[Datum],\"<=\"&B11)","v":0},{"$f":"SUMIFS(Haushaltsbuch2[Ausgaben],Haushaltsbuch2[Kategorie],$AB$4,Haushaltsbuch2[Datum],\">=\"&A11,Haushaltsbuch2[Datum],\"<=\"&B11)","v":0},{"$f":"SUMIFS(Haushaltsbuch2[Ausgaben],Haushaltsbuch2[Kategorie],$AC$4,Haushaltsbuch2[Datum],\">=\"&A11,Haushaltsbuch2[Datum],\"<=\"&B11)","v":0},{"$f":"SUMIFS(Haushaltsbuch2[Ausgaben],Haushaltsbuch2[Kategorie],$AD$4,Haushaltsbuch2[Datum],\">=\"&A11,Haushaltsbuch2[Datum],\"<=\"&B11)","v":0},{"$f":"SUMIFS(Haushaltsbuch2[Ausgaben],Haushaltsbuch2[Kategorie],$AE$4,Haushaltsbuch2[Datum],\">=\"&A11,Haushaltsbuch2[Datum],\"<=\"&B11)","v":0},{"$f":"SUMIFS(Haushaltsbuch2[Ausgaben],Haushaltsbuch2[Kategorie],$AF$4,Haushaltsbuch2[Datum],\">=\"&A11,Haushaltsbuch2[Datum],\"<=\"&B11)","v":0},{"$f":"SUMIFS(Haushaltsbuch2[Ausgaben],Haushaltsbuch2[Kategorie],$AG$4,Haushaltsbuch2[Datum],\">=\"&A11,Haushaltsbuch2[Datum],\"<=\"&B11)","v":0},{"$f":"SUMIFS(Haushaltsbuch2[Ausgaben],Haushaltsbuch2[Kategorie],$AH$4,Haushaltsbuch2[Datum],\">=\"&A11,Haushaltsbuch2[Datum],\"<=\"&B11)","v":0},{"$f":"SUMIFS(Haushaltsbuch2[Ausgaben],Haushaltsbuch2[Kategorie],$AI$4,Haushaltsbuch2[Datum],\">=\"&A11,Haushaltsbuch2[Datum],\"<=\"&B11)","v":0},{"$f":"SUMIFS(Haushaltsbuch2[Ausgaben],Haushaltsbuch2[Kategorie],$AJ$4,Haushaltsbuch2[Datum],\">=\"&A11,Haushaltsbuch2[Datum],\"<=\"&B11)","v":0},{"$f":"SUMIFS(Haushaltsbuch2[Ausgaben],Haushaltsbuch2[Kategorie],$AK$4,Haushaltsbuch2[Datum],\">=\"&A11,Haushaltsbuch2[Datum],\"<=\"&B11)","v":0},{"$f":"SUMIFS(Haushaltsbuch2[Ausgaben],Haushaltsbuch2[Kategorie],$AL$4,Haushaltsbuch2[Datum],\">=\"&A11,Haushaltsbuch2[Datum],\"<=\"&B11)","v":0}]
[43617,43646,{"$f":"SUMIFS(Haushaltsbuch2[Einnahmen],Haushaltsbuch2[Kategorie],$C$4,Haushaltsbuch2[Datum],\">=\"&A12,Haushaltsbuch2[Datum],\"<=\"&B12)","v":0},{"$f":"SUMIFS(Haushaltsbuch2[Einnahmen],Haushaltsbuch2[Kategorie],$D$4,Haushaltsbuch2[Datum],\">=\"&A12,Haushaltsbuch2[Datum],\"<=\"&B12)","v":0},{"$f":"SUMIFS(Haushaltsbuch2[Einnahmen],Haushaltsbuch2[Kategorie],$E$4,Haushaltsbuch2[Datum],\">=\"&A12,Haushaltsbuch2[Datum],\"<=\"&B12)","v":0},{"$f":"SUMIFS(Haushaltsbuch2[Einnahmen],Haushaltsbuch2[Kategorie],$F$4,Haushaltsbuch2[Datum],\">=\"&A12,Haushaltsbuch2[Datum],\"<=\"&B12)","v":0},{"$f":"SUMIFS(Haushaltsbuch2[Einnahmen],Haushaltsbuch2[Kategorie],$G$4,Haushaltsbuch2[Datum],\">=\"&A12,Haushaltsbuch2[Datum],\"<=\"&B12)","v":0},{"$f":"SUMIFS(Haushaltsbuch2[Einnahmen],Haushaltsbuch2[Kategorie],$H$4,Haushaltsbuch2[Datum],\">=\"&A12,Haushaltsbuch2[Datum],\"<=\"&B12)","v":0},{"$f":"SUMIFS(Haushaltsbuch2[Einnahmen],Haushaltsbuch2[Kategorie],$I$4,Haushaltsbuch2[Datum],\">=\"&A12,Haushaltsbuch2[Datum],\"<=\"&B12)","v":0},{"$f":"SUMIFS(Haushaltsbuch2[Einnahmen],Haushaltsbuch2[Kategorie],$J$4,Haushaltsbuch2[Datum],\">=\"&A12,Haushaltsbuch2[Datum],\"<=\"&B12)","v":0},{"$f":"SUMIFS(Haushaltsbuch2[Einnahmen],Haushaltsbuch2[Kategorie],$K$4,Haushaltsbuch2[Datum],\">=\"&A12,Haushaltsbuch2[Datum],\"<=\"&B12)","v":0},{"$f":"SUMIFS(Haushaltsbuch2[Einnahmen],Haushaltsbuch2[Kategorie],$L$4,Haushaltsbuch2[Datum],\">=\"&A12,Haushaltsbuch2[Datum],\"<=\"&B12)","v":0},null,null,null,null,null,null,{"$f":"SUMIFS(Haushaltsbuch2[Ausgaben],Haushaltsbuch2[Kategorie],$S$4,Haushaltsbuch2[Datum],\">=\"&A12,Haushaltsbuch2[Datum],\"<=\"&B12)","v":0},{"$f":"SUMIFS(Haushaltsbuch2[Ausgaben],Haushaltsbuch2[Kategorie],$T$4,Haushaltsbuch2[Datum],\">=\"&A12,Haushaltsbuch2[Datum],\"<=\"&B12)","v":0},{"$f":"SUMIFS(Haushaltsbuch2[Ausgaben],Haushaltsbuch2[Kategorie],$U$4,Haushaltsbuch2[Datum],\">=\"&A12,Haushaltsbuch2[Datum],\"<=\"&B12)","v":0},{"$f":"SUMIFS(Haushaltsbuch2[Ausgaben],Haushaltsbuch2[Kategorie],$V$4,Haushaltsbuch2[Datum],\">=\"&A12,Haushaltsbuch2[Datum],\"<=\"&B12)","v":0},{"$f":"SUMIFS(Haushaltsbuch2[Ausgaben],Haushaltsbuch2[Kategorie],$W$4,Haushaltsbuch2[Datum],\">=\"&A12,Haushaltsbuch2[Datum],\"<=\"&B12)","v":0},{"$f":"SUMIFS(Haushaltsbuch2[Ausgaben],Haushaltsbuch2[Kategorie],$X$4,Haushaltsbuch2[Datum],\">=\"&A12,Haushaltsbuch2[Datum],\"<=\"&B12)","v":0},{"$f":"SUMIFS(Haushaltsbuch2[Ausgaben],Haushaltsbuch2[Kategorie],$Y$4,Haushaltsbuch2[Datum],\">=\"&A12,Haushaltsbuch2[Datum],\"<=\"&B12)","v":0},{"$f":"SUMIFS(Haushaltsbuch2[Ausgaben],Haushaltsbuch2[Kategorie],$Z$4,Haushaltsbuch2[Datum],\">=\"&A12,Haushaltsbuch2[Datum],\"<=\"&B12)","v":0},{"$f":"SUMIFS(Haushaltsbuch2[Ausgaben],Haushaltsbuch2[Kategorie],$AA$4,Haushaltsbuch2[Datum],\">=\"&A12,Haushaltsbuch2[Datum],\"<=\"&B12)","v":0},{"$f":"SUMIFS(Haushaltsbuch2[Ausgaben],Haushaltsbuch2[Kategorie],$AB$4,Haushaltsbuch2[Datum],\">=\"&A12,Haushaltsbuch2[Datum],\"<=\"&B12)","v":0},{"$f":"SUMIFS(Haushaltsbuch2[Ausgaben],Haushaltsbuch2[Kategorie],$AC$4,Haushaltsbuch2[Datum],\">=\"&A12,Haushaltsbuch2[Datum],\"<=\"&B12)","v":0},{"$f":"SUMIFS(Haushaltsbuch2[Ausgaben],Haushaltsbuch2[Kategorie],$AD$4,Haushaltsbuch2[Datum],\">=\"&A12,Haushaltsbuch2[Datum],\"<=\"&B12)","v":0},{"$f":"SUMIFS(Haushaltsbuch2[Ausgaben],Haushaltsbuch2[Kategorie],$AE$4,Haushaltsbuch2[Datum],\">=\"&A12,Haushaltsbuch2[Datum],\"<=\"&B12)","v":0},{"$f":"SUMIFS(Haushaltsbuch2[Ausgaben],Haushaltsbuch2[Kategorie],$AF$4,Haushaltsbuch2[Datum],\">=\"&A12,Haushaltsbuch2[Datum],\"<=\"&B12)","v":0},{"$f":"SUMIFS(Haushaltsbuch2[Ausgaben],Haushaltsbuch2[Kategorie],$AG$4,Haushaltsbuch2[Datum],\">=\"&A12,Haushaltsbuch2[Datum],\"<=\"&B12)","v":0},{"$f":"SUMIFS(Haushaltsbuch2[Ausgaben],Haushaltsbuch2[Kategorie],$AH$4,Haushaltsbuch2[Datum],\">=\"&A12,Haushaltsbuch2[Datum],\"<=\"&B12)","v":0},{"$f":"SUMIFS(Haushaltsbuch2[Ausgaben],Haushaltsbuch2[Kategorie],$AI$4,Haushaltsbuch2[Datum],\">=\"&A12,Haushaltsbuch2[Datum],\"<=\"&B12)","v":0},{"$f":"SUMIFS(Haushaltsbuch2[Ausgaben],Haushaltsbuch2[Kategorie],$AJ$4,Haushaltsbuch2[Datum],\">=\"&A12,Haushaltsbuch2[Datum],\"<=\"&B12)","v":0},{"$f":"SUMIFS(Haushaltsbuch2[Ausgaben],Haushaltsbuch2[Kategorie],$AK$4,Haushaltsbuch2[Datum],\">=\"&A12,Haushaltsbuch2[Datum],\"<=\"&B12)","v":0},{"$f":"SUMIFS(Haushaltsbuch2[Ausgaben],Haushaltsbuch2[Kategorie],$AL$4,Haushaltsbuch2[Datum],\">=\"&A12,Haushaltsbuch2[Datum],\"<=\"&B12)","v":0}]
[43586,43616,{"$f":"SUMIFS(Haushaltsbuch2[Einnahmen],Haushaltsbuch2[Kategorie],$C$4,Haushaltsbuch2[Datum],\">=\"&A13,Haushaltsbuch2[Datum],\"<=\"&B13)","v":0},{"$f":"SUMIFS(Haushaltsbuch2[Einnahmen],Haushaltsbuch2[Kategorie],$D$4,Haushaltsbuch2[Datum],\">=\"&A13,Haushaltsbuch2[Datum],\"<=\"&B13)","v":0},{"$f":"SUMIFS(Haushaltsbuch2[Einnahmen],Haushaltsbuch2[Kategorie],$E$4,Haushaltsbuch2[Datum],\">=\"&A13,Haushaltsbuch2[Datum],\"<=\"&B13)","v":0},{"$f":"SUMIFS(Haushaltsbuch2[Einnahmen],Haushaltsbuch2[Kategorie],$F$4,Haushaltsbuch2[Datum],\">=\"&A13,Haushaltsbuch2[Datum],\"<=\"&B13)","v":0},{"$f":"SUMIFS(Haushaltsbuch2[Einnahmen],Haushaltsbuch2[Kategorie],$G$4,Haushaltsbuch2[Datum],\">=\"&A13,Haushaltsbuch2[Datum],\"<=\"&B13)","v":0},{"$f":"SUMIFS(Haushaltsbuch2[Einnahmen],Haushaltsbuch2[Kategorie],$H$4,Haushaltsbuch2[Datum],\">=\"&A13,Haushaltsbuch2[Datum],\"<=\"&B13)","v":0},{"$f":"SUMIFS(Haushaltsbuch2[Einnahmen],Haushaltsbuch2[Kategorie],$I$4,Haushaltsbuch2[Datum],\">=\"&A13,Haushaltsbuch2[Datum],\"<=\"&B13)","v":0},{"$f":"SUMIFS(Haushaltsbuch2[Einnahmen],Haushaltsbuch2[Kategorie],$J$4,Haushaltsbuch2[Datum],\">=\"&A13,Haushaltsbuch2[Datum],\"<=\"&B13)","v":0},{"$f":"SUMIFS(Haushaltsbuch2[Einnahmen],Haushaltsbuch2[Kategorie],$K$4,Haushaltsbuch2[Datum],\">=\"&A13,Haushaltsbuch2[Datum],\"<=\"&B13)","v":0},{"$f":"SUMIFS(Haushaltsbuch2[Einnahmen],Haushaltsbuch2[Kategorie],$L$4,Haushaltsbuch2[Datum],\">=\"&A13,Haushaltsbuch2[Datum],\"<=\"&B13)","v":0},null,null,null,null,null,null,{"$f":"SUMIFS(Haushaltsbuch2[Ausgaben],Haushaltsbuch2[Kategorie],$S$4,Haushaltsbuch2[Datum],\">=\"&A13,Haushaltsbuch2[Datum],\"<=\"&B13)","v":0},{"$f":"SUMIFS(Haushaltsbuch2[Ausgaben],Haushaltsbuch2[Kategorie],$T$4,Haushaltsbuch2[Datum],\">=\"&A13,Haushaltsbuch2[Datum],\"<=\"&B13)","v":0},{"$f":"SUMIFS(Haushaltsbuch2[Ausgaben],Haushaltsbuch2[Kategorie],$U$4,Haushaltsbuch2[Datum],\">=\"&A13,Haushaltsbuch2[Datum],\"<=\"&B13)","v":0},{"$f":"SUMIFS(Haushaltsbuch2[Ausgaben],Haushaltsbuch2[Kategorie],$V$4,Haushaltsbuch2[Datum],\">=\"&A13,Haushaltsbuch2[Datum],\"<=\"&B13)","v":0},{"$f":"SUMIFS(Haushaltsbuch2[Ausgaben],Haushaltsbuch2[Kategorie],$W$4,Haushaltsbuch2[Datum],\">=\"&A13,Haushaltsbuch2[Datum],\"<=\"&B13)","v":0},{"$f":"SUMIFS(Haushaltsbuch2[Ausgaben],Haushaltsbuch2[Kategorie],$X$4,Haushaltsbuch2[Datum],\">=\"&A13,Haushaltsbuch2[Datum],\"<=\"&B13)","v":0},{"$f":"SUMIFS(Haushaltsbuch2[Ausgaben],Haushaltsbuch2[Kategorie],$Y$4,Haushaltsbuch2[Datum],\">=\"&A13,Haushaltsbuch2[Datum],\"<=\"&B13)","v":0},{"$f":"SUMIFS(Haushaltsbuch2[Ausgaben],Haushaltsbuch2[Kategorie],$Z$4,Haushaltsbuch2[Datum],\">=\"&A13,Haushaltsbuch2[Datum],\"<=\"&B13)","v":0},{"$f":"SUMIFS(Haushaltsbuch2[Ausgaben],Haushaltsbuch2[Kategorie],$AA$4,Haushaltsbuch2[Datum],\">=\"&A13,Haushaltsbuch2[Datum],\"<=\"&B13)","v":0},{"$f":"SUMIFS(Haushaltsbuch2[Ausgaben],Haushaltsbuch2[Kategorie],$AB$4,Haushaltsbuch2[Datum],\">=\"&A13,Haushaltsbuch2[Datum],\"<=\"&B13)","v":0},{"$f":"SUMIFS(Haushaltsbuch2[Ausgaben],Haushaltsbuch2[Kategorie],$AC$4,Haushaltsbuch2[Datum],\">=\"&A13,Haushaltsbuch2[Datum],\"<=\"&B13)","v":0},{"$f":"SUMIFS(Haushaltsbuch2[Ausgaben],Haushaltsbuch2[Kategorie],$AD$4,Haushaltsbuch2[Datum],\">=\"&A13,Haushaltsbuch2[Datum],\"<=\"&B13)","v":0},{"$f":"SUMIFS(Haushaltsbuch2[Ausgaben],Haushaltsbuch2[Kategorie],$AE$4,Haushaltsbuch2[Datum],\">=\"&A13,Haushaltsbuch2[Datum],\"<=\"&B13)","v":0},{"$f":"SUMIFS(Haushaltsbuch2[Ausgaben],Haushaltsbuch2[Kategorie],$AF$4,Haushaltsbuch2[Datum],\">=\"&A13,Haushaltsbuch2[Datum],\"<=\"&B13)","v":0},{"$f":"SUMIFS(Haushaltsbuch2[Ausgaben],Haushaltsbuch2[Kategorie],$AG$4,Haushaltsbuch2[Datum],\">=\"&A13,Haushaltsbuch2[Datum],\"<=\"&B13)","v":0},{"$f":"SUMIFS(Haushaltsbuch2[Ausgaben],Haushaltsbuch2[Kategorie],$AH$4,Haushaltsbuch2[Datum],\">=\"&A13,Haushaltsbuch2[Datum],\"<=\"&B13)","v":0},{"$f":"SUMIFS(Haushaltsbuch2[Ausgaben],Haushaltsbuch2[Kategorie],$AI$4,Haushaltsbuch2[Datum],\">=\"&A13,Haushaltsbuch2[Datum],\"<=\"&B13)","v":0},{"$f":"SUMIFS(Haushaltsbuch2[Ausgaben],Haushaltsbuch2[Kategorie],$AJ$4,Haushaltsbuch2[Datum],\">=\"&A13,Haushaltsbuch2[Datum],\"<=\"&B13)","v":0},{"$f":"SUMIFS(Haushaltsbuch2[Ausgaben],Haushaltsbuch2[Kategorie],$AK$4,Haushaltsbuch2[Datum],\">=\"&A13,Haushaltsbuch2[Datum],\"<=\"&B13)","v":0},{"$f":"SUMIFS(Haushaltsbuch2[Ausgaben],Haushaltsbuch2[Kategorie],$AL$4,Haushaltsbuch2[Datum],\">=\"&A13,Haushaltsbuch2[Datum],\"<=\"&B13)","v":0}]
[43556,43585,{"$f":"SUMIFS(Haushaltsbuch2[Einnahmen],Haushaltsbuch2[Kategorie],$C$4,Haushaltsbuch2[Datum],\">=\"&A14,Haushaltsbuch2[Datum],\"<=\"&B14)","v":0},{"$f":"SUMIFS(Haushaltsbuch2[Einnahmen],Haushaltsbuch2[Kategorie],$D$4,Haushaltsbuch2[Datum],\">=\"&A14,Haushaltsbuch2[Datum],\"<=\"&B14)","v":0},{"$f":"SUMIFS(Haushaltsbuch2[Einnahmen],Haushaltsbuch2[Kategorie],$E$4,Haushaltsbuch2[Datum],\">=\"&A14,Haushaltsbuch2[Datum],\"<=\"&B14)","v":0},{"$f":"SUMIFS(Haushaltsbuch2[Einnahmen],Haushaltsbuch2[Kategorie],$F$4,Haushaltsbuch2[Datum],\">=\"&A14,Haushaltsbuch2[Datum],\"<=\"&B14)","v":0},{"$f":"SUMIFS(Haushaltsbuch2[Einnahmen],Haushaltsbuch2[Kategorie],$G$4,Haushaltsbuch2[Datum],\">=\"&A14,Haushaltsbuch2[Datum],\"<=\"&B14)","v":0},{"$f":"SUMIFS(Haushaltsbuch2[Einnahmen],Haushaltsbuch2[Kategorie],$H$4,Haushaltsbuch2[Datum],\">=\"&A14,Haushaltsbuch2[Datum],\"<=\"&B14)","v":0},{"$f":"SUMIFS(Haushaltsbuch2[Einnahmen],Haushaltsbuch2[Kategorie],$I$4,Haushaltsbuch2[Datum],\">=\"&A14,Haushaltsbuch2[Datum],\"<=\"&B14)","v":0},{"$f":"SUMIFS(Haushaltsbuch2[Einnahmen],Haushaltsbuch2[Kategorie],$J$4,Haushaltsbuch2[Datum],\">=\"&A14,Haushaltsbuch2[Datum],\"<=\"&B14)","v":0},{"$f":"SUMIFS(Haushaltsbuch2[Einnahmen],Haushaltsbuch2[Kategorie],$K$4,Haushaltsbuch2[Datum],\">=\"&A14,Haushaltsbuch2[Datum],\"<=\"&B14)","v":0},{"$f":"SUMIFS(Haushaltsbuch2[Einnahmen],Haushaltsbuch2[Kategorie],$L$4,Haushaltsbuch2[Datum],\">=\"&A14,Haushaltsbuch2[Datum],\"<=\"&B14)","v":0},null,null,null,null,null,null,{"$f":"SUMIFS(Haushaltsbuch2[Ausgaben],Haushaltsbuch2[Kategorie],$S$4,Haushaltsbuch2[Datum],\">=\"&A14,Haushaltsbuch2[Datum],\"<=\"&B14)","v":0},{"$f":"SUMIFS(Haushaltsbuch2[Ausgaben],Haushaltsbuch2[Kategorie],$T$4,Haushaltsbuch2[Datum],\">=\"&A14,Haushaltsbuch2[Datum],\"<=\"&B14)","v":0},{"$f":"SUMIFS(Haushaltsbuch2[Ausgaben],Haushaltsbuch2[Kategorie],$U$4,Haushaltsbuch2[Datum],\">=\"&A14,Haushaltsbuch2[Datum],\"<=\"&B14)","v":0},{"$f":"SUMIFS(Haushaltsbuch2[Ausgaben],Haushaltsbuch2[Kategorie],$V$4,Haushaltsbuch2[Datum],\">=\"&A14,Haushaltsbuch2[Datum],\"<=\"&B14)","v":0},{"$f":"SUMIFS(Haushaltsbuch2[Ausgaben],Haushaltsbuch2[Kategorie],$W$4,Haushaltsbuch2[Datum],\">=\"&A14,Haushaltsbuch2[Datum],\"<=\"&B14)","v":0},{"$f":"SUMIFS(Haushaltsbuch2[Ausgaben],Haushaltsbuch2[Kategorie],$X$4,Haushaltsbuch2[Datum],\">=\"&A14,Haushaltsbuch2[Datum],\"<=\"&B14)","v":0},{"$f":"SUMIFS(Haushaltsbuch2[Ausgaben],Haushaltsbuch2[Kategorie],$Y$4,Haushaltsbuch2[Datum],\">=\"&A14,Haushaltsbuch2[Datum],\"<=\"&B14)","v":0},{"$f":"SUMIFS(Haushaltsbuch2[Ausgaben],Haushaltsbuch2[Kategorie],$Z$4,Haushaltsbuch2[Datum],\">=\"&A14,Haushaltsbuch2[Datum],\"<=\"&B14)","v":0},{"$f":"SUMIFS(Haushaltsbuch2[Ausgaben],Haushaltsbuch2[Kategorie],$AA$4,Haushaltsbuch2[Datum],\">=\"&A14,Haushaltsbuch2[Datum],\"<=\"&B14)","v":0},{"$f":"SUMIFS(Haushaltsbuch2[Ausgaben],Haushaltsbuch2[Kategorie],$AB$4,Haushaltsbuch2[Datum],\">=\"&A14,Haushaltsbuch2[Datum],\"<=\"&B14)","v":0},{"$f":"SUMIFS(Haushaltsbuch2[Ausgaben],Haushaltsbuch2[Kategorie],$AC$4,Haushaltsbuch2[Datum],\">=\"&A14,Haushaltsbuch2[Datum],\"<=\"&B14)","v":0},{"$f":"SUMIFS(Haushaltsbuch2[Ausgaben],Haushaltsbuch2[Kategorie],$AD$4,Haushaltsbuch2[Datum],\">=\"&A14,Haushaltsbuch2[Datum],\"<=\"&B14)","v":0},{"$f":"SUMIFS(Haushaltsbuch2[Ausgaben],Haushaltsbuch2[Kategorie],$AE$4,Haushaltsbuch2[Datum],\">=\"&A14,Haushaltsbuch2[Datum],\"<=\"&B14)","v":0},{"$f":"SUMIFS(Haushaltsbuch2[Ausgaben],Haushaltsbuch2[Kategorie],$AF$4,Haushaltsbuch2[Datum],\">=\"&A14,Haushaltsbuch2[Datum],\"<=\"&B14)","v":0},{"$f":"SUMIFS(Haushaltsbuch2[Ausgaben],Haushaltsbuch2[Kategorie],$AG$4,Haushaltsbuch2[Datum],\">=\"&A14,Haushaltsbuch2[Datum],\"<=\"&B14)","v":0},{"$f":"SUMIFS(Haushaltsbuch2[Ausgaben],Haushaltsbuch2[Kategorie],$AH$4,Haushaltsbuch2[Datum],\">=\"&A14,Haushaltsbuch2[Datum],\"<=\"&B14)","v":0},{"$f":"SUMIFS(Haushaltsbuch2[Ausgaben],Haushaltsbuch2[Kategorie],$AI$4,Haushaltsbuch2[Datum],\">=\"&A14,Haushaltsbuch2[Datum],\"<=\"&B14)","v":0},{"$f":"SUMIFS(Haushaltsbuch2[Ausgaben],Haushaltsbuch2[Kategorie],$AJ$4,Haushaltsbuch2[Datum],\">=\"&A14,Haushaltsbuch2[Datum],\"<=\"&B14)","v":0},{"$f":"SUMIFS(Haushaltsbuch2[Ausgaben],Haushaltsbuch2[Kategorie],$AK$4,Haushaltsbuch2[Datum],\">=\"&A14,Haushaltsbuch2[Datum],\"<=\"&B14)","v":0},{"$f":"SUMIFS(Haushaltsbuch2[Ausgaben],Haushaltsbuch2[Kategorie],$AL$4,Haushaltsbuch2[Datum],\">=\"&A14,Haushaltsbuch2[Datum],\"<=\"&B14)","v":0}]
[43525,43555,{"$f":"SUMIFS(Haushaltsbuch2[Einnahmen],Haushaltsbuch2[Kategorie],$C$4,Haushaltsbuch2[Datum],\">=\"&A15,Haushaltsbuch2[Datum],\"<=\"&B15)","v":0},{"$f":"SUMIFS(Haushaltsbuch2[Einnahmen],Haushaltsbuch2[Kategorie],$D$4,Haushaltsbuch2[Datum],\">=\"&A15,Haushaltsbuch2[Datum],\"<=\"&B15)","v":0},{"$f":"SUMIFS(Haushaltsbuch2[Einnahmen],Haushaltsbuch2[Kategorie],$E$4,Haushaltsbuch2[Datum],\">=\"&A15,Haushaltsbuch2[Datum],\"<=\"&B15)","v":0},{"$f":"SUMIFS(Haushaltsbuch2[Einnahmen],Haushaltsbuch2[Kategorie],$F$4,Haushaltsbuch2[Datum],\">=\"&A15,Haushaltsbuch2[Datum],\"<=\"&B15)","v":0},{"$f":"SUMIFS(Haushaltsbuch2[Einnahmen],Haushaltsbuch2[Kategorie],$G$4,Haushaltsbuch2[Datum],\">=\"&A15,Haushaltsbuch2[Datum],\"<=\"&B15)","v":0},{"$f":"SUMIFS(Haushaltsbuch2[Einnahmen],Haushaltsbuch2[Kategorie],$H$4,Haushaltsbuch2[Datum],\">=\"&A15,Haushaltsbuch2[Datum],\"<=\"&B15)","v":0},{"$f":"SUMIFS(Haushaltsbuch2[Einnahmen],Haushaltsbuch2[Kategorie],$I$4,Haushaltsbuch2[Datum],\">=\"&A15,Haushaltsbuch2[Datum],\"<=\"&B15)","v":0},{"$f":"SUMIFS(Haushaltsbuch2[Einnahmen],Haushaltsbuch2[Kategorie],$J$4,Haushaltsbuch2[Datum],\">=\"&A15,Haushaltsbuch2[Datum],\"<=\"&B15)","v":0},{"$f":"SUMIFS(Haushaltsbuch2[Einnahmen],Haushaltsbuch2[Kategorie],$K$4,Haushaltsbuch2[Datum],\">=\"&A15,Haushaltsbuch2[Datum],\"<=\"&B15)","v":0},{"$f":"SUMIFS(Haushaltsbuch2[Einnahmen],Haushaltsbuch2[Kategorie],$L$4,Haushaltsbuch2[Datum],\">=\"&A15,Haushaltsbuch2[Datum],\"<=\"&B15)","v":0},null,null,null,null,null,null,{"$f":"SUMIFS(Haushaltsbuch2[Ausgaben],Haushaltsbuch2[Kategorie],$S$4,Haushaltsbuch2[Datum],\">=\"&A15,Haushaltsbuch2[Datum],\"<=\"&B15)","v":0},{"$f":"SUMIFS(Haushaltsbuch2[Ausgaben],Haushaltsbuch2[Kategorie],$T$4,Haushaltsbuch2[Datum],\">=\"&A15,Haushaltsbuch2[Datum],\"<=\"&B15)","v":0},{"$f":"SUMIFS(Haushaltsbuch2[Ausgaben],Haushaltsbuch2[Kategorie],$U$4,Haushaltsbuch2[Datum],\">=\"&A15,Haushaltsbuch2[Datum],\"<=\"&B15)","v":0},{"$f":"SUMIFS(Haushaltsbuch2[Ausgaben],Haushaltsbuch2[Kategorie],$V$4,Haushaltsbuch2[Datum],\">=\"&A15,Haushaltsbuch2[Datum],\"<=\"&B15)","v":0},{"$f":"SUMIFS(Haushaltsbuch2[Ausgaben],Haushaltsbuch2[Kategorie],$W$4,Haushaltsbuch2[Datum],\">=\"&A15,Haushaltsbuch2[Datum],\"<=\"&B15)","v":0},{"$f":"SUMIFS(Haushaltsbuch2[Ausgaben],Haushaltsbuch2[Kategorie],$X$4,Haushaltsbuch2[Datum],\">=\"&A15,Haushaltsbuch2[Datum],\"<=\"&B15)","v":0},{"$f":"SUMIFS(Haushaltsbuch2[Ausgaben],Haushaltsbuch2[Kategorie],$Y$4,Haushaltsbuch2[Datum],\">=\"&A15,Haushaltsbuch2[Datum],\"<=\"&B15)","v":0},{"$f":"SUMIFS(Haushaltsbuch2[Ausgaben],Haushaltsbuch2[Kategorie],$Z$4,Haushaltsbuch2[Datum],\">=\"&A15,Haushaltsbuch2[Datum],\"<=\"&B15)","v":0},{"$f":"SUMIFS(Haushaltsbuch2[Ausgaben],Haushaltsbuch2[Kategorie],$AA$4,Haushaltsbuch2[Datum],\">=\"&A15,Haushaltsbuch2[Datum],\"<=\"&B15)","v":0},{"$f":"SUMIFS(Haushaltsbuch2[Ausgaben],Haushaltsbuch2[Kategorie],$AB$4,Haushaltsbuch2[Datum],\">=\"&A15,Haushaltsbuch2[Datum],\"<=\"&B15)","v":0},{"$f":"SUMIFS(Haushaltsbuch2[Ausgaben],Haushaltsbuch2[Kategorie],$AC$4,Haushaltsbuch2[Datum],\">=\"&A15,Haushaltsbuch2[Datum],\"<=\"&B15)","v":0},{"$f":"SUMIFS(Haushaltsbuch2[Ausgaben],Haushaltsbuch2[Kategorie],$AD$4,Haushaltsbuch2[Datum],\">=\"&A15,Haushaltsbuch2[Datum],\"<=\"&B15)","v":0},{"$f":"SUMIFS(Haushaltsbuch2[Ausgaben],Haushaltsbuch2[Kategorie],$AE$4,Haushaltsbuch2[Datum],\">=\"&A15,Haushaltsbuch2[Datum],\"<=\"&B15)","v":0},{"$f":"SUMIFS(Haushaltsbuch2[Ausgaben],Haushaltsbuch2[Kategorie],$AF$4,Haushaltsbuch2[Datum],\">=\"&A15,Haushaltsbuch2[Datum],\"<=\"&B15)","v":0},{"$f":"SUMIFS(Haushaltsbuch2[Ausgaben],Haushaltsbuch2[Kategorie],$AG$4,Haushaltsbuch2[Datum],\">=\"&A15,Haushaltsbuch2[Datum],\"<=\"&B15)","v":0},{"$f":"SUMIFS(Haushaltsbuch2[Ausgaben],Haushaltsbuch2[Kategorie],$AH$4,Haushaltsbuch2[Datum],\">=\"&A15,Haushaltsbuch2[Datum],\"<=\"&B15)","v":0},{"$f":"SUMIFS(Haushaltsbuch2[Ausgaben],Haushaltsbuch2[Kategorie],$AI$4,Haushaltsbuch2[Datum],\">=\"&A15,Haushaltsbuch2[Datum],\"<=\"&B15)","v":0},{"$f":"SUMIFS(Haushaltsbuch2[Ausgaben],Haushaltsbuch2[Kategorie],$AJ$4,Haushaltsbuch2[Datum],\">=\"&A15,Haushaltsbuch2[Datum],\"<=\"&B15)","v":0},{"$f":"SUMIFS(Haushaltsbuch2[Ausgaben],Haushaltsbuch2[Kategorie],$AK$4,Haushaltsbuch2[Datum],\">=\"&A15,Haushaltsbuch2[Datum],\"<=\"&B15)","v":0},{"$f":"SUMIFS(Haushaltsbuch2[Ausgaben],Haushaltsbuch2[Kategorie],$AL$4,Haushaltsbuch2[Datum],\">=\"&A15,Haushaltsbuch2[Datum],\"<=\"&B15)","v":0}]
[43497,43524,{"$f":"SUMIFS(Haushaltsbuch2[Einnahmen],Haushaltsbuch2[Kategorie],$C$4,Haushaltsbuch2[Datum],\">=\"&A16,Haushaltsbuch2[Datum],\"<=\"&B16)","v":0},{"$f":"SUMIFS(Haushaltsbuch2[Einnahmen],Haushaltsbuch2[Kategorie],$D$4,Haushaltsbuch2[Datum],\">=\"&A16,Haushaltsbuch2[Datum],\"<=\"&B16)","v":0},{"$f":"SUMIFS(Haushaltsbuch2[Einnahmen],Haushaltsbuch2[Kategorie],$E$4,Haushaltsbuch2[Datum],\">=\"&A16,Haushaltsbuch2[Datum],\"<=\"&B16)","v":0},{"$f":"SUMIFS(Haushaltsbuch2[Einnahmen],Haushaltsbuch2[Kategorie],$F$4,Haushaltsbuch2[Datum],\">=\"&A16,Haushaltsbuch2[Datum],\"<=\"&B16)","v":0},{"$f":"SUMIFS(Haushaltsbuch2[Einnahmen],Haushaltsbuch2[Kategorie],$G$4,Haushaltsbuch2[Datum],\">=\"&A16,Haushaltsbuch2[Datum],\"<=\"&B16)","v":0},{"$f":"SUMIFS(Haushaltsbuch2[Einnahmen],Haushaltsbuch2[Kategorie],$H$4,Haushaltsbuch2[Datum],\">=\"&A16,Haushaltsbuch2[Datum],\"<=\"&B16)","v":0},{"$f":"SUMIFS(Haushaltsbuch2[Einnahmen],Haushaltsbuch2[Kategorie],$I$4,Haushaltsbuch2[Datum],\">=\"&A16,Haushaltsbuch2[Datum],\"<=\"&B16)","v":0},{"$f":"SUMIFS(Haushaltsbuch2[Einnahmen],Haushaltsbuch2[Kategorie],$J$4,Haushaltsbuch2[Datum],\">=\"&A16,Haushaltsbuch2[Datum],\"<=\"&B16)","v":0},{"$f":"SUMIFS(Haushaltsbuch2[Einnahmen],Haushaltsbuch2[Kategorie],$K$4,Haushaltsbuch2[Datum],\">=\"&A16,Haushaltsbuch2[Datum],\"<=\"&B16)","v":0},{"$f":"SUMIFS(Haushaltsbuch2[Einnahmen],Haushaltsbuch2[Kategorie],$L$4,Haushaltsbuch2[Datum],\">=\"&A16,Haushaltsbuch2[Datum],\"<=\"&B16)","v":0},null,null,null,null,null,null,{"$f":"SUMIFS(Haushaltsbuch2[Ausgaben],Haushaltsbuch2[Kategorie],$S$4,Haushaltsbuch2[Datum],\">=\"&A16,Haushaltsbuch2[Datum],\"<=\"&B16)","v":0},{"$f":"SUMIFS(Haushaltsbuch2[Ausgaben],Haushaltsbuch2[Kategorie],$T$4,Haushaltsbuch2[Datum],\">=\"&A16,Haushaltsbuch2[Datum],\"<=\"&B16)","v":0},{"$f":"SUMIFS(Haushaltsbuch2[Ausgaben],Haushaltsbuch2[Kategorie],$U$4,Haushaltsbuch2[Datum],\">=\"&A16,Haushaltsbuch2[Datum],\"<=\"&B16)","v":0},{"$f":"SUMIFS(Haushaltsbuch2[Ausgaben],Haushaltsbuch2[Kategorie],$V$4,Haushaltsbuch2[Datum],\">=\"&A16,Haushaltsbuch2[Datum],\"<=\"&B16)","v":0},{"$f":"SUMIFS(Haushaltsbuch2[Ausgaben],Haushaltsbuch2[Kategorie],$W$4,Haushaltsbuch2[Datum],\">=\"&A16,Haushaltsbuch2[Datum],\"<=\"&B16)","v":0},{"$f":"SUMIFS(Haushaltsbuch2[Ausgaben],Haushaltsbuch2[Kategorie],$X$4,Haushaltsbuch2[Datum],\">=\"&A16,Haushaltsbuch2[Datum],\"<=\"&B16)","v":0},{"$f":"SUMIFS(Haushaltsbuch2[Ausgaben],Haushaltsbuch2[Kategorie],$Y$4,Haushaltsbuch2[Datum],\">=\"&A16,Haushaltsbuch2[Datum],\"<=\"&B16)","v":0},{"$f":"SUMIFS(Haushaltsbuch2[Ausgaben],Haushaltsbuch2[Kategorie],$Z$4,Haushaltsbuch2[Datum],\">=\"&A16,Haushaltsbuch2[Datum],\"<=\"&B16)","v":0},{"$f":"SUMIFS(Haushaltsbuch2[Ausgaben],Haushaltsbuch2[Kategorie],$AA$4,Haushaltsbuch2[Datum],\">=\"&A16,Haushaltsbuch2[Datum],\"<=\"&B16)","v":0},{"$f":"SUMIFS(Haushaltsbuch2[Ausgaben],Haushaltsbuch2[Kategorie],$AB$4,Haushaltsbuch2[Datum],\">=\"&A16,Haushaltsbuch2[Datum],\"<=\"&B16)","v":0},{"$f":"SUMIFS(Haushaltsbuch2[Ausgaben],Haushaltsbuch2[Kategorie],$AC$4,Haushaltsbuch2[Datum],\">=\"&A16,Haushaltsbuch2[Datum],\"<=\"&B16)","v":0},{"$f":"SUMIFS(Haushaltsbuch2[Ausgaben],Haushaltsbuch2[Kategorie],$AD$4,Haushaltsbuch2[Datum],\">=\"&A16,Haushaltsbuch2[Datum],\"<=\"&B16)","v":0},{"$f":"SUMIFS(Haushaltsbuch2[Ausgaben],Haushaltsbuch2[Kategorie],$AE$4,Haushaltsbuch2[Datum],\">=\"&A16,Haushaltsbuch2[Datum],\"<=\"&B16)","v":0},{"$f":"SUMIFS(Haushaltsbuch2[Ausgaben],Haushaltsbuch2[Kategorie],$AF$4,Haushaltsbuch2[Datum],\">=\"&A16,Haushaltsbuch2[Datum],\"<=\"&B16)","v":0},{"$f":"SUMIFS(Haushaltsbuch2[Ausgaben],Haushaltsbuch2[Kategorie],$AG$4,Haushaltsbuch2[Datum],\">=\"&A16,Haushaltsbuch2[Datum],\"<=\"&B16)","v":0},{"$f":"SUMIFS(Haushaltsbuch2[Ausgaben],Haushaltsbuch2[Kategorie],$AH$4,Haushaltsbuch2[Datum],\">=\"&A16,Haushaltsbuch2[Datum],\"<=\"&B16)","v":0},{"$f":"SUMIFS(Haushaltsbuch2[Ausgaben],Haushaltsbuch2[Kategorie],$AI$4,Haushaltsbuch2[Datum],\">=\"&A16,Haushaltsbuch2[Datum],\"<=\"&B16)","v":0},{"$f":"SUMIFS(Haushaltsbuch2[Ausgaben],Haushaltsbuch2[Kategorie],$AJ$4,Haushaltsbuch2[Datum],\">=\"&A16,Haushaltsbuch2[Datum],\"<=\"&B16)","v":0},{"$f":"SUMIFS(Haushaltsbuch2[Ausgaben],Haushaltsbuch2[Kategorie],$AK$4,Haushaltsbuch2[Datum],\">=\"&A16,Haushaltsbuch2[Datum],\"<=\"&B16)","v":0},{"$f":"SUMIFS(Haushaltsbuch2[Ausgaben],Haushaltsbuch2[Kategorie],$AL$4,Haushaltsbuch2[Datum],\">=\"&A16,Haushaltsbuch2[Datum],\"<=\"&B16)","v":0}]
["12M-Ø",null,{"$f":"AVERAGE(C5:C16)","v":0},{"$f":"AVERAGE(D5:D16)","v":0},0,0,0,0,0,0,0,0,{"$f":"'Passive Einnahmen'!BK11","v":0},{"$f":"'Passive Einnahmen'!BK12","v":0},{"$f":"'Passive Einnahmen'!BK15","v":0},{"$f":"'Passive Einnahmen'!BK18","v":0},{"$f":"'Passive Einnahmen'!BK19","v":0},{"$f":"'Passive Einnahmen'!BK20","v":0},0,0,0,0,0,0,0,0,0,0,0,0,0,0,0,0,0,0,0,0]

{"sheet":"E&A Übersicht","index":9,"n_rows":29,"n_cols":21,"rows_kept":29,"cut":false,"hidden":false,"merged":[[0,1,1,12]]}
[null,"Einnahmen- und Ausgabenübersicht",null,null,null,null,null,null,null,null,null,null,null,null,null,null,null,null,"HILFSTABBELEN"]
[]
[null,null,null,null,{"$f":"EOMONTH(DATE($T$5,1,1),-1)","v":{"$error":"#NUM!"}},null,null,null,null,null,null,null,null,null,null,null,null,null,"Erstes Jahr im HH-Buch",{"$f":"YEAR(MIN(Haushaltsbuch2[Datum]))","v":1900}]
["EINNAHMEN","IST (12M-Ø)","SOLL","Differenz",{"$f":"EOMONTH(DATE($T$5,1,1),0)","v":"1900-01-31"},{"$f":"EOMONTH(DATE($T$5,2,1),0)","v":"1900-02-28"},{"$f":"EOMONTH(DATE($T$5,3,1),0)","v":"1900-03-31"},{"$f":"EOMONTH(DATE($T$5,4,1),0)","v":"1900-04-30"},{"$f":"EOMONTH(DATE($T$5,5,1),0)","v":"1900-05-31"},{"$f":"EOMONTH(DATE($T$5,6,1),0)","v":"1900-06-30"},{"$f":"EOMONTH(DATE($T$5,7,1),0)","v":"1900-07-31"},{"$f":"EOMONTH(DATE($T$5,8,1),0)","v":"1900-08-31"},{"$f":"EOMONTH(DATE($T$5,9,1),0)","v":"1900-09-30"},{"$f":"EOMONTH(DATE($T$5,10,1),0)","v":"1900-10-31"},{"$f":"EOMONTH(DATE($T$5,11,1),0)","v":"1900-11-30"},{"$f":"EOMONTH(DATE($T$5,12,1),0)","v":"1900-12-31"},{"$f":"TEXT(T5,\"####\")&\" gesamt\"","v":"1900 gesamt"},null,"Letztes Jahr im HH-Buch",{"$f":"YEAR(MAX(Haushaltsbuch2[Datum]))","v":1900}]
[{"$f":"Kategorien!C8","v":"Lohn und Gehalt"},{"$f":"Kategorien!E8","v":0},{"$f":"Kategorien!D8","v":0},{"$f":"B5-C5","v":0},{"$f":"SUMIFS(Haushaltsbuch2[Einnahmen],Haushaltsbuch2[Kategorie],A5,Haushaltsbuch2[Datum],\">\"&$E$3,Haushaltsbuch2[Datum],\"<=\"&$E$4)","v":0},{"$f":"SUMIFS(Haushaltsbuch2[Einnahmen],Haushaltsbuch2[Kategorie],A5,Haushaltsbuch2[Datum],\">\"&$E$4,Haushaltsbuch2[Datum],\"<=\"&$F$4)","v":0},{"$f":"SUMIFS(Haushaltsbuch2[Einnahmen],Haushaltsbuch2[Kategorie],A5,Haushaltsbuch2[Datum],\">\"&$F$4,Haushaltsbuch2[Datum],\"<=\"&$G$4)","v":0},{"$f":"SUMIFS(Haushaltsbuch2[Einnahmen],Haushaltsbuch2[Kategorie],A5,Haushaltsbuch2[Datum],\">\"&$G$4,Haushaltsbuch2[Datum],\"<=\"&$H$4)","v":0},{"$f":"SUMIFS(Haushaltsbuch2[Einnahmen],Haushaltsbuch2[Kategorie],A5,Haushaltsbuch2[Datum],\">\"&$H$4,Haushaltsbuch2[Datum],\"<=\"&$I$4)","v":0},{"$f":"SUMIFS(Haushaltsbuch2[Einnahmen],Haushaltsbuch2[Kategorie],A5,Haushaltsbuch2[Datum],\">\"&$I$4,Haushaltsbuch2[Datum],\"<=\"&$J$4)","v":0},{"$f":"SUMIFS(Haushaltsbuch2[Einnahmen],Haushaltsbuch2[Kategorie],A5,Haushaltsbuch2[Datum],\">\"&$J$4,Haushaltsbuch2[Datum],\"<=\"&$K$4)","v":0},{"$f":"SUMIFS(Haushaltsbuch2[Einnahmen],Haushaltsbuch2[Kategorie],A5,Haushaltsbuch2[Datum],\">\"&$K$4,Haushaltsbuch2[Datum],\"<=\"&$L$4)","v":0},{"$f":"SUMIFS(Haushaltsbuch2[Einnahmen],Haushaltsbuch2[Kategorie],A5,Haushaltsbuch2[Datum],\">\"&$L$4,Haushaltsbuch2[Datum],\"<=\"&$M$4)","v":0},{"$f":"SUMIFS(Haushaltsbuch2[Einnahmen],Haushaltsbuch2[Kategorie],A5,Haushaltsbuch2[Datum],\">\"&$M$4,Haushaltsbuch2[Datum],\"<=\"&$N$4)","v":0},{"$f":"SUMIFS(Haushaltsbuch2[Einnahmen],Haushaltsbuch2[Kategorie],A5,Haushaltsbuch2[Datum],\">\"&$N$4,Haushaltsbuch2[Datum],\"<=\"&$O$4)","v":0},{"$f":"SUMIFS(Haushaltsbuch2[Einnahmen],Haushaltsbuch2[Kategorie],A5,Haushaltsbuch2[Datum],\">\"&$O$4,Haushaltsbuch2[Datum],\"<=\"&$P$4)","v":0},{"$f":"SUM(E5:P5)","v":0},null,"Ausgewähltes Jahr",{"$f":"VLOOKUP(U5,S8:T27,2,0)","v":1900},1]
[{"$f":"Kategorien!C9","v":"Einkommen aus Nebentätigkeiten"},{"$f":"Kategorien!E9","v":0},{"$f":"Kategorien!D9","v":0},{"$f":"B6-C6","v":0},{"$f":"SUMIFS(Haushaltsbuch2[Einnahmen],Haushaltsbuch2[Kategorie],A6,Haushaltsbuch2[Datum],\">\"&$E$3,Haushaltsbuch2[Datum],\"<=\"&$E$4)","v":0},{"$f":"SUMIFS(Haushaltsbuch2[Einnahmen],Haushaltsbuch2[Kategorie],A6,Haushaltsbuch2[Datum],\">\"&$E$4,Haushaltsbuch2[Datum],\"<=\"&$F$4)","v":0},{"$f":"SUMIFS(Haushaltsbuch2[Einnahmen],Haushaltsbuch2[Kategorie],A6,Haushaltsbuch2[Datum],\">\"&$F$4,Haushaltsbuch2[Datum],\"<=\"&$G$4)","v":0},{"$f":"SUMIFS(Haushaltsbuch2[Einnahmen],Haushaltsbuch2[Kategorie],A6,Haushaltsbuch2[Datum],\">\"&$G$4,Haushaltsbuch2[Datum],\"<=\"&$H$4)","v":0},{"$f":"SUMIFS(Haushaltsbuch2[Einnahmen],Haushaltsbuch2[Kategorie],A6,Haushaltsbuch2[Datum],\">\"&$H$4,Haushaltsbuch2[Datum],\"<=\"&$I$4)","v":0},{"$f":"SUMIFS(Haushaltsbuch2[Einnahmen],Haushaltsbuch2[Kategorie],A6,Haushaltsbuch2[Datum],\">\"&$I$4,Haushaltsbuch2[Datum],\"<=\"&$J$4)","v":0},{"$f":"SUMIFS(Haushaltsbuch2[Einnahmen],Haushaltsbuch2[Kategorie],A6,Haushaltsbuch2[Datum],\">\"&$J$4,Haushaltsbuch2[Datum],\"<=\"&$K$4)","v":0},{"$f":"SUMIFS(Haushaltsbuch2[Einnahmen],Haushaltsbuch2[Kategorie],A6,Haushaltsbuch2[Datum],\">\"&$K$4,Haushaltsbuch2[Datum],\"<=\"&$L$4)","v":0},{"$f":"SUMIFS(Haushaltsbuch2[Einnahmen],Haushaltsbuch2[Kategorie],A6,Haushaltsbuch2[Datum],\">\"&$L$4,Haushaltsbuch2[Datum],\"<=\"&$M$4)","v":0},{"$f":"SUMIFS(Haushaltsbuch2[Einnahmen],Haushaltsbuch2[Kategorie],A6,Haushaltsbuch2[Datum],\">\"&$M$4,Haushaltsbuch2[Datum],\"<=\"&$N$4)","v":0},{"$f":"SUMIFS(Haushaltsbuch2[Einnahmen],Haushaltsbuch2[Kategorie],A6,Haushaltsbuch2[Datum],\">\"&$N$4,Haushaltsbuch2[Datum],\"<=\"&$O$4)","v":0},{"$f":"SUMIFS(Haushaltsbuch2[Einnahmen],Haushaltsbuch2[Kategorie],A6,Haushaltsbuch2[Datum],\">\"&$O$4,Haushaltsbuch2[Datum],\"<=\"&$P$4)","v":0},{"$f":"SUM(E6:P6)","v":0}]
[{"$f":"Kategorien!C10","v":"Beitrag von Familie/Verwandten"},{"$f":"Kategorien!E10","v":0},{"$f":"Kategorien!D10","v":0},0,{"$f":"SUMIFS(Haushaltsbuch2[Einnahmen],Haushaltsbuch2[Kategorie],A7,Haushaltsbuch2[Datum],\">\"&$E$3,Haushaltsbuch2[Datum],\"<=\"&$E$4)","v":0},{"$f":"SUMIFS(Haushaltsbuch2[Einnahmen],Haushaltsbuch2[Kategorie],A7,Haushaltsbuch2[Datum],\">\"&$E$4,Haushaltsbuch2[Datum],\"<=\"&$F$4)","v":0},{"$f":"SUMIFS(Haushaltsbuch2[Einnahmen],Haushaltsbuch2[Kategorie],A7,Haushaltsbuch2[Datum],\">\"&$F$4,Haushaltsbuch2[Datum],\"<=\"&$G$4)","v":0},{"$f":"SUMIFS(Haushaltsbuch2[Einnahmen],Haushaltsbuch2[Kategorie],A7,Haushaltsbuch2[Datum],\">\"&$G$4,Haushaltsbuch2[Datum],\"<=\"&$H$4)","v":0},{"$f":"SUMIFS(Haushaltsbuch2[Einnahmen],Haushaltsbuch2[Kategorie],A7,Haushaltsbuch2[Datum],\">\"&$H$4,Haushaltsbuch2[Datum],\"<=\"&$I$4)","v":0},{"$f":"SUMIFS(Haushaltsbuch2[Einnahmen],Haushaltsbuch2[Kategorie],A7,Haushaltsbuch2[Datum],\">\"&$I$4,Haushaltsbuch2[Datum],\"<=\"&$J$4)","v":0},{"$f":"SUMIFS(Haushaltsbuch2[Einnahmen],Haushaltsbuch2[Kategorie],A7,Haushaltsbuch2[Datum],\">\"&$J$4,Haushaltsbuch2[Datum],\"<=\"&$K$4)","v":0},{"$f":"SUMIFS(Haushaltsbuch2[Einnahmen],Haushaltsbuch2[Kategorie],A7,Haushaltsbuch2[Datum],\">\"&$K$4,Haushaltsbuch2[Datum],\"<=\"&$L$4)","v":0},{"$f":"SUMIFS(Haushaltsbuch2[Einnahmen],Haushaltsbuch2[Kategorie],A7,Haushaltsbuch2[Datum],\">\"&$L$4,Haushaltsbuch2[Datum],\"<=\"&$M$4)","v":0},{"$f":"SUMIFS(Haushaltsbuch2[Einnahmen],Haushaltsbuch2[Kategorie],A7,Haushaltsbuch2[Datum],\">\"&$M$4,Haushaltsbuch2[Datum],\"<=\"&$N$4)","v":0},{"$f":"SUMIFS(Haushaltsbuch2[Einnahmen],Haushaltsbuch2[Kategorie],A7,Haushaltsbuch2[Datum],\">\"&$N$4,Haushaltsbuch2[Datum],\"<=\"&$O$4)","v":0},{"$f":"SUMIFS(Haushaltsbuch2[Einnahmen],Haushaltsbuch2[Kategorie],A7,Haushaltsbuch2[Datum],\">\"&$O$4,Haushaltsbuch2[Datum],\"<=\"&$P$4)","v":0},{"$f":"SUM(E7:P7)","v":0},null,"Jahr auswählen"]
[{"$f":"Kategorien!C11","v":"Kindergeld"},{"$f":"Kategorien!E11","v":0},{"$f":"Kategorien!D11","v":0},0,{"$f":"SUMIFS(Haushaltsbuch2[Einnahmen],Haushaltsbuch2[Kategorie],A8,Haushaltsbuch2[Datum],\">\"&$E$3,Haushaltsbuch2[Datum],\"<=\"&$E$4)","v":0},{"$f":"SUMIFS(Haushaltsbuch2[Einnahmen],Haushaltsbuch2[Kategorie],A8,Haushaltsbuch2[Datum],\">\"&$E$4,Haushaltsbuch2[Datum],\"<=\"&$F$4)","v":0},{"$f":"SUMIFS(Haushaltsbuch2[Einnahmen],Haushaltsbuch2[Kategorie],A8,Haushaltsbuch2[Datum],\">\"&$F$4,Haushaltsbuch2[Datum],\"<=\"&$G$4)","v":0},{"$f":"SUMIFS(Haushaltsbuch2[Einnahmen],Haushaltsbuch2[Kategorie],A8,Haushaltsbuch2[Datum],\">\"&$G$4,Haushaltsbuch2[Datum],\"<=\"&$H$4)","v":0},{"$f":"SUMIFS(Haushaltsbuch2[Einnahmen],Haushaltsbuch2[Kategorie],A8,Haushaltsbuch2[Datum],\">\"&$H$4,Haushaltsbuch2[Datum],\"<=\"&$I$4)","v":0},{"$f":"SUMIFS(Haushaltsbuch2[Einnahmen],Haushaltsbuch2[Kategorie],A8,Haushaltsbuch2[Datum],\">\"&$I$4,Haushaltsbuch2[Datum],\"<=\"&$J$4)","v":0},{"$f":"SUMIFS(Haushaltsbuch2[Einnahmen],Haushaltsbuch2[Kategorie],A8,Haushaltsbuch2[Datum],\">\"&$J$4,Haushaltsbuch2[Datum],\"<=\"&$K$4)","v":0},{"$f":"SUMIFS(Haushaltsbuch2[Einnahmen],Haushaltsbuch2[Kategorie],A8,Haushaltsbuch2[Datum],\">\"&$K$4,Haushaltsbuch2[Datum],\"<=\"&$L$4)","v":0},{"$f":"SUMIFS(Haushaltsbuch2[Einnahmen],Haushaltsbuch2[Kategorie],A8,Haushaltsbuch2[Datum],\">\"&$L$4,Haushaltsbuch2[Datum],\"<=\"&$M$4)","v":0},{"$f":"SUMIFS(Haushaltsbuch2[Einnahmen],Haushaltsbuch2[Kategorie],A8,Haushaltsbuch2[Datum],\">\"&$M$4,Haushaltsbuch2[Datum],\"<=\"&$N$4)","v":0},{"$f":"SUMIFS(Haushaltsbuch2[Einnahmen],Haushaltsbuch2[Kategorie],A8,Haushaltsbuch2[Datum],\">\"&$N$4,Haushaltsbuch2[Datum],\"<=\"&$O$4)","v":0},{"$f":"SUMIFS(Haushaltsbuch2[Einnahmen],Haushaltsbuch2[Kategorie],A8,Haushaltsbuch2[Datum],\">\"&$O$4,Haushaltsbuch2[Datum],\"<=\"&$P$4)","v":0},{"$f":"SUM(E8:P8)","v":0},null,1,{"$f":"T4","v":1900}]
[{"$f":"Kategorien!C12","v":"Renten und Sozialleistungen"},{"$f":"Kategorien!E12","v":0},{"$f":"Kategorien!D12","v":0},0,{"$f":"SUMIFS(Haushaltsbuch2[Einnahmen],Haushaltsbuch2[Kategorie],A9,Haushaltsbuch2[Datum],\">\"&$E$3,Haushaltsbuch2[Datum],\"<=\"&$E$4)","v":0},{"$f":"SUMIFS(Haushaltsbuch2[Einnahmen],Haushaltsbuch2[Kategorie],A9,Haushaltsbuch2[Datum],\">\"&$E$4,Haushaltsbuch2[Datum],\"<=\"&$F$4)","v":0},{"$f":"SUMIFS(Haushaltsbuch2[Einnahmen],Haushaltsbuch2[Kategorie],A9,Haushaltsbuch2[Datum],\">\"&$F$4,Haushaltsbuch2[Datum],\"<=\"&$G$4)","v":0},{"$f":"SUMIFS(Haushaltsbuch2[Einnahmen],Haushaltsbuch2[Kategorie],A9,Haushaltsbuch2[Datum],\">\"&$G$4,Haushaltsbuch2[Datum],\"<=\"&$H$4)","v":0},{"$f":"SUMIFS(Haushaltsbuch2[Einnahmen],Haushaltsbuch2[Kategorie],A9,Haushaltsbuch2[Datum],\">\"&$H$4,Haushaltsbuch2[Datum],\"<=\"&$I$4)","v":0},{"$f":"SUMIFS(Haushaltsbuch2[Einnahmen],Haushaltsbuch2[Kategorie],A9,Haushaltsbuch2[Datum],\">\"&$I$4,Haushaltsbuch2[Datum],\"<=\"&$J$4)","v":0},{"$f":"SUMIFS(Haushaltsbuch2[Einnahmen],Haushaltsbuch2[Kategorie],A9,Haushaltsbuch2[Datum],\">\"&$J$4,Haushaltsbuch2[Datum],\"<=\"&$K$4)","v":0},{"$f":"SUMIFS(Haushaltsbuch2[Einnahmen],Haushaltsbuch2[Kategorie],A9,Haushaltsbuch2[Datum],\">\"&$K$4,Haushaltsbuch2[Datum],\"<=\"&$L$4)","v":0},{"$f":"SUMIFS(Haushaltsbuch2[Einnahmen],Haushaltsbuch2[Kategorie],A9,Haushaltsbuch2[Datum],\">\"&$L$4,Haushaltsbuch2[Datum],\"<=\"&$M$4)","v":0},{"$f":"SUMIFS(Haushaltsbuch2[Einnahmen],Haushaltsbuch2[Kategorie],A9,Haushaltsbuch2[Datum],\">\"&$M$4,Haushaltsbuch2[Datum],\"<=\"&$N$4)","v":0},{"$f":"SUMIFS(Haushaltsbuch2[Einnahmen],Haushaltsbuch2[Kategorie],A9,Haushaltsbuch2[Datum],\">\"&$N$4,Haushaltsbuch2[Datum],\"<=\"&$O$4)","v":0},{"$f":"SUMIFS(Haushaltsbuch2[Einnahmen],Haushaltsbuch2[Kategorie],A9,Haushaltsbuch2[Datum],\">\"&$O$4,Haushaltsbuch2[Datum],\"<=\"&$P$4)","v":0},0,null,2,{"$f":"IFERROR(IF(T8>$T$3,T8-1,\"\"),\"\")","v":""}]
[{"$f":"Kategorien!C13","v":"Geldgeschenke/Zuwendungen"},{"$f":"Kategorien!E13","v":0},{"$f":"Kategorien!D13","v":0},0,{"$f":"SUMIFS(Haushaltsbuch2[Einnahmen],Haushaltsbuch2[Kategorie],A10,Haushaltsbuch2[Datum],\">\"&$E$3,Haushaltsbuch2[Datum],\"<=\"&$E$4)","v":0},{"$f":"SUMIFS(Haushaltsbuch2[Einnahmen],Haushaltsbuch2[Kategorie],A10,Haushaltsbuch2[Datum],\">\"&$E$4,Haushaltsbuch2[Datum],\"<=\"&$F$4)","v":0},{"$f":"SUMIFS(Haushaltsbuch2[Einnahmen],Haushaltsbuch2[Kategorie],A10,Haushaltsbuch2[Datum],\">\"&$F$4,Haushaltsbuch2[Datum],\"<=\"&$G$4)","v":0},{"$f":"SUMIFS(Haushaltsbuch2[Einnahmen],Haushaltsbuch2[Kategorie],A10,Haushaltsbuch2[Datum],\">\"&$G$4,Haushaltsbuch2[Datum],\"<=\"&$H$4)","v":0},{"$f":"SUMIFS(Haushaltsbuch2[Einnahmen],Haushaltsbuch2[Kategorie],A10,Haushaltsbuch2[Datum],\">\"&$H$4,Haushaltsbuch2[Datum],\"<=\"&$I$4)","v":0},{"$f":"SUMIFS(Haushaltsbuch2[Einnahmen],Haushaltsbuch2[Kategorie],A10,Haushaltsbuch2[Datum],\">\"&$I$4,Haushaltsbuch2[Datum],\"<=\"&$J$4)","v":0},{"$f":"SUMIFS(Haushaltsbuch2[Einnahmen],Haushaltsbuch2[Kategorie],A10,Haushaltsbuch2[Datum],\">\"&$J$4,Haushaltsbuch2[Datum],\"<=\"&$K$4)","v":0},{"$f":"SUMIFS(Haushaltsbuch2[Einnahmen],Haushaltsbuch2[Kategorie],A10,Haushaltsbuch2[Datum],\">\"&$K$4,Haushaltsbuch2[Datum],\"<=\"&$L$4)","v":0},{"$f":"SUMIFS(Haushaltsbuch2[Einnahmen],Haushaltsbuch2[Kategorie],A10,Haushaltsbuch2[Datum],\">\"&$L$4,Haushaltsbuch2[Datum],\"<=\"&$M$4)","v":0},{"$f":"SUMIFS(Haushaltsbuch2[Einnahmen],Haushaltsbuch2[Kategorie],A10,Haushaltsbuch2[Datum],\">\"&$M$4,Haushaltsbuch2[Datum],\"<=\"&$N$4)","v":0},{"$f":"SUMIFS(Haushaltsbuch2[Einnahmen],Haushaltsbuch2[Kategorie],A10,Haushaltsbuch2[Datum],\">\"&$N$4,Haushaltsbuch2[Datum],\"<=\"&$O$4)","v":0},{"$f":"SUMIFS(Haushaltsbuch2[Einnahmen],Haushaltsbuch2[Kategorie],A10,Haushaltsbuch2[Datum],\">\"&$O$4,Haushaltsbuch2[Datum],\"<=\"&$P$4)","v":0},0,null,3,{"$f":"IFERROR(IF(T9>$T$3,T9-1,\"\"),\"\")","v":""}]
[{"$f":"Kategorien!C14","v":"Steuerrückzahlungen"},{"$f":"Kategorien!E14","v":0},{"$f":"Kategorien!D14","v":0},0,{"$f":"SUMIFS(Haushaltsbuch2[Einnahmen],Haushaltsbuch2[Kategorie],A11,Haushaltsbuch2[Datum],\">\"&$E$3,Haushaltsbuch2[Datum],\"<=\"&$E$4)","v":0},{"$f":"SUMIFS(Haushaltsbuch2[Einnahmen],Haushaltsbuch2[Kategorie],A11,Haushaltsbuch2[Datum],\">\"&$E$4,Haushaltsbuch2[Datum],\"<=\"&$F$4)","v":0},{"$f":"SUMIFS(Haushaltsbuch2[Einnahmen],Haushaltsbuch2[Kategorie],A11,Haushaltsbuch2[Datum],\">\"&$F$4,Haushaltsbuch2[Datum],\"<=\"&$G$4)","v":0},{"$f":"SUMIFS(Haushaltsbuch2[Einnahmen],Haushaltsbuch2[Kategorie],A11,Haushaltsbuch2[Datum],\">\"&$G$4,Haushaltsbuch2[Datum],\"<=\"&$H$4)","v":0},{"$f":"SUMIFS(Haushaltsbuch2[Einnahmen],Haushaltsbuch2[Kategorie],A11,Haushaltsbuch2[Datum],\">\"&$H$4,Haushaltsbuch2[Datum],\"<=\"&$I$4)","v":0},{"$f":"SUMIFS(Haushaltsbuch2[Einnahmen],Haushaltsbuch2[Kategorie],A11,Haushaltsbuch2[Datum],\">\"&$I$4,Haushaltsbuch2[Datum],\"<=\"&$J$4)","v":0},{"$f":"SUMIFS(Haushaltsbuch2[Einnahmen],Haushaltsbuch2[Kategorie],A11,Haushaltsbuch2[Datum],\">\"&$J$4,Haushaltsbuch2[Datum],\"<=\"&$K$4)","v":0},{"$f":"SUMIFS(Haushaltsbuch2[Einnahmen],Haushaltsbuch2[Kategorie],A11,Haushaltsbuch2[Datum],\">\"&$K$4,Haushaltsbuch2[Datum],\"<=\"&$L$4)","v":0},{"$f":"SUMIFS(Haushaltsbuch2[Einnahmen],Haushaltsbuch2[Kategorie],A11,Haushaltsbuch2[Datum],\">\"&$L$4,Haushaltsbuch2[Datum],\"<=\"&$M$4)","v":0},{"$f":"SUMIFS(Haushaltsbuch2[Einnahmen],Haushaltsbuch2[Kategorie],A11,Haushaltsbuch2[Datum],\">\"&$M$4,Haushaltsbuch2[Datum],\"<=\"&$N$4)","v":0},{"$f":"SUMIFS(Haushaltsbuch2[Einnahmen],Haushaltsbuch2[Kategorie],A11,Haushaltsbuch2[Datum],\">\"&$N$4,Haushaltsbuch2[Datum],\"<=\"&$O$4)","v":0},{"$f":"SUMIFS(Haushaltsbuch2[Einnahmen],Haushaltsbuch2[Kategorie],A11,Haushaltsbuch2[Datum],\">\"&$O$4,Haushaltsbuch2[Datum],\"<=\"&$P$4)","v":0},0,null,4,""]
[{"$f":"Kategorien!C15","v":"Verkauf von Sach- und Finanzvermögen"},{"$f":"Kategorien!E15","v":0},{"$f":"Kategorien!D15","v":0},0,{"$f":"SUMIFS(Haushaltsbuch2[Einnahmen],Haushaltsbuch2[Kategorie],A12,Haushaltsbuch2[Datum],\">\"&$E$3,Haushaltsbuch2[Datum],\"<=\"&$E$4)","v":0},{"$f":"SUMIFS(Haushaltsbuch2[Einnahmen],Haushaltsbuch2[Kategorie],A12,Haushaltsbuch2[Datum],\">\"&$E$4,Haushaltsbuch2[Datum],\"<=\"&$F$4)","v":0},{"$f":"SUMIFS(Haushaltsbuch2[Einnahmen],Haushaltsbuch2[Kategorie],A12,Haushaltsbuch2[Datum],\">\"&$F$4,Haushaltsbuch2[Datum],\"<=\"&$G$4)","v":0},{"$f":"SUMIFS(Haushaltsbuch2[Einnahmen],Haushaltsbuch2[Kategorie],A12,Haushaltsbuch2[Datum],\">\"&$G$4,Haushaltsbuch2[Datum],\"<=\"&$H$4)","v":0},{"$f":"SUMIFS(Haushaltsbuch2[Einnahmen],Haushaltsbuch2[Kategorie],A12,Haushaltsbuch2[Datum],\">\"&$H$4,Haushaltsbuch2[Datum],\"<=\"&$I$4)","v":0},{"$f":"SUMIFS(Haushaltsbuch2[Einnahmen],Haushaltsbuch2[Kategorie],A12,Haushaltsbuch2[Datum],\">\"&$I$4,Haushaltsbuch2[Datum],\"<=\"&$J$4)","v":0},{"$f":"SUMIFS(Haushaltsbuch2[Einnahmen],Haushaltsbuch2[Kategorie],A12,Haushaltsbuch2[Datum],\">\"&$J$4,Haushaltsbuch2[Datum],\"<=\"&$K$4)","v":0},{"$f":"SUMIFS(Haushaltsbuch2[Einnahmen],Haushaltsbuch2[Kategorie],A12,Haushaltsbuch2[Datum],\">\"&$K$4,Haushaltsbuch2[Datum],\"<=\"&$L$4)","v":0},{"$f":"SUMIFS(Haushaltsbuch2[Einnahmen],Haushaltsbuch2[Kategorie],A12,Haushaltsbuch2[Datum],\">\"&$L$4,Haushaltsbuch2[Datum],\"<=\"&$M$4)","v":0},{"$f":"SUMIFS(Haushaltsbuch2[Einnahmen],Haushaltsbuch2[Kategorie],A12,Haushaltsbuch2[Datum],\">\"&$M$4,Haushaltsbuch2[Datum],\"<=\"&$N$4)","v":0},{"$f":"SUMIFS(Haushaltsbuch2[Einnahmen],Haushaltsbuch2[Kategorie],A12,Haushaltsbuch2[Datum],\">\"&$N$4,Haushaltsbuch2[Datum],\"<=\"&$O$4)","v":0},{"$f":"SUMIFS(Haushaltsbuch2[Einnahmen],Haushaltsbuch2[Kategorie],A12,Haushaltsbuch2[Datum],\">\"&$O$4,Haushaltsbuch2[Datum],\"<=\"&$P$4)","v":0},0,null,5,""]
[{"$f":"Kategorien!C16","v":"Umbuchungen auf das Girokonto"},{"$f":"Kategorien!E16","v":0},{"$f":"Kategorien!D16","v":0},0,{"$f":"SUMIFS(Haushaltsbuch2[Einnahmen],Haushaltsbuch2[Kategorie],A13,Haushaltsbuch2[Datum],\">\"&$E$3,Haushaltsbuch2[Datum],\"<=\"&$E$4)","v":0},{"$f":"SUMIFS(Haushaltsbuch2[Einnahmen],Haushaltsbuch2[Kategorie],A13,Haushaltsbuch2[Datum],\">\"&$E$4,Haushaltsbuch2[Datum],\"<=\"&$F$4)","v":0},{"$f":"SUMIFS(Haushaltsbuch2[Einnahmen],Haushaltsbuch2[Kategorie],A13,Haushaltsbuch2[Datum],\">\"&$F$4,Haushaltsbuch2[Datum],\"<=\"&$G$4)","v":0},{"$f":"SUMIFS(Haushaltsbuch2[Einnahmen],Haushaltsbuch2[Kategorie],A13,Haushaltsbuch2[Datum],\">\"&$G$4,Haushaltsbuch2[Datum],\"<=\"&$H$4)","v":0},{"$f":"SUMIFS(Haushaltsbuch2[Einnahmen],Haushaltsbuch2[Kategorie],A13,Haushaltsbuch2[Datum],\">\"&$H$4,Haushaltsbuch2[Datum],\"<=\"&$I$4)","v":0},{"$f":"SUMIFS(Haushaltsbuch2[Einnahmen],Haushaltsbuch2[Kategorie],A13,Haushaltsbuch2[Datum],\">\"&$I$4,Haushaltsbuch2[Datum],\"<=\"&$J$4)","v":0},{"$f":"SUMIFS(Haushaltsbuch2[Einnahmen],Haushaltsbuch2[Kategorie],A13,Haushaltsbuch2[Datum],\">\"&$J$4,Haushaltsbuch2[Datum],\"<=\"&$K$4)","v":0},{"$f":"SUMIFS(Haushaltsbuch2[Einnahmen],Haushaltsbuch2[Kategorie],A13,Haushaltsbuch2[Datum],\">\"&$K$4,Haushaltsbuch2[Datum],\"<=\"&$L$4)","v":0},{"$f":"SUMIFS(Haushaltsbuch2[Einnahmen],Haushaltsbuch2[Kategorie],A13,Haushaltsbuch2[Datum],\">\"&$L$4,Haushaltsbuch2[Datum],\"<=\"&$M$4)","v":0},{"$f":"SUMIFS(Haushaltsbuch2[Einnahmen],Haushaltsbuch2[Kategorie],A13,Haushaltsbuch2[Datum],\">\"&$M$4,Haushaltsbuch2[Datum],\"<=\"&$N$4)","v":0},{"$f":"SUMIFS(Haushaltsbuch2[Einnahmen],Haushaltsbuch2[Kategorie],A13,Haushaltsbuch2[Datum],\">\"&$N$4,Haushaltsbuch2[Datum],\"<=\"&$O$4)","v":0},{"$f":"SUMIFS(Haushaltsbuch2[Einnahmen],Haushaltsbuch2[Kategorie],A13,Haushaltsbuch2[Datum],\">\"&$O$4,Haushaltsbuch2[Datum],\"<=\"&$P$4)","v":0},0,null,6,""]
[{"$f":"Kategorien!C17","v":"Sonstige Einnahmen"},{"$f":"Kategorien!E17","v":0},{"$f":"Kategorien!D17","v":0},0,{"$f":"SUMIFS(Haushaltsbuch2[Einnahmen],Haushaltsbuch2[Kategorie],A14,Haushaltsbuch2[Datum],\">\"&$E$3,Haushaltsbuch2[Datum],\"<=\"&$E$4)","v":0},{"$f":"SUMIFS(Haushaltsbuch2[Einnahmen],Haushaltsbuch2[Kategorie],A14,Haushaltsbuch2[Datum],\">\"&$E$4,Haushaltsbuch2[Datum],\"<=\"&$F$4)","v":0},{"$f":"SUMIFS(Haushaltsbuch2[Einnahmen],Haushaltsbuch2[Kategorie],A14,Haushaltsbuch2[Datum],\">\"&$F$4,Haushaltsbuch2[Datum],\"<=\"&$G$4)","v":0},{"$f":"SUMIFS(Haushaltsbuch2[Einnahmen],Haushaltsbuch2[Kategorie],A14,Haushaltsbuch2[Datum],\">\"&$G$4,Haushaltsbuch2[Datum],\"<=\"&$H$4)","v":0},{"$f":"SUMIFS(Haushaltsbuch2[Einnahmen],Haushaltsbuch2[Kategorie],A14,Haushaltsbuch2[Datum],\">\"&$H$4,Haushaltsbuch2[Datum],\"<=\"&$I$4)","v":0},{"$f":"SUMIFS(Haushaltsbuch2[Einnahmen],Haushaltsbuch2[Kategorie],A14,Haushaltsbuch2[Datum],\">\"&$I$4,Haushaltsbuch2[Datum],\"<=\"&$J$4)","v":0},{"$f":"SUMIFS(Haushaltsbuch2[Einnahmen],Haushaltsbuch2[Kategorie],A14,Haushaltsbuch2[Datum],\">\"&$J$4,Haushaltsbuch2[Datum],\"<=\"&$K$4)","v":0},{"$f":"SUMIFS(Haushaltsbuch2[Einnahmen],Haushaltsbuch2[Kategorie],A14,Haushaltsbuch2[Datum],\">\"&$K$4,Haushaltsbuch2[Datum],\"<=\"&$L$4)","v":0},{"$f":"SUMIFS(Haushaltsbuch2[Einnahmen],Haushaltsbuch2[Kategorie],A14,Haushaltsbuch2[Datum],\">\"&$L$4,Haushaltsbuch2[Datum],\"<=\"&$M$4)","v":0},{"$f":"SUMIFS(Haushaltsbuch2[Einnahmen],Haushaltsbuch2[Kategorie],A14,Haushaltsbuch2[Datum],\">\"&$M$4,Haushaltsbuch2[Datum],\"<=\"&$N$4)","v":0},{"$f":"SUMIFS(Haushaltsbuch2[Einnahmen],Haushaltsbuch2[Kategorie],A14,Haushaltsbuch2[Datum],\">\"&$N$4,Haushaltsbuch2[Datum],\"<=\"&$O$4)","v":0},{"$f":"SUMIFS(Haushaltsbuch2[Einnahmen],Haushaltsbuch2[Kategorie],A14,Haushaltsbuch2[Datum],\">\"&$O$4,Haushaltsbuch2[Datum],\"<=\"&$P$4)","v":0},0,null,7,""]
[{"$f":"Kategorien!C22","v":"Zinserträge"},{"$f":"Kategorien!E22","v":0},{"$f":"Kategorien!D22","v":0},0,{"$f":"SUMIFS(Haushaltsbuch2[Einnahmen],Haushaltsbuch2[Kategorie],A15,Haushaltsbuch2[Datum],\">\"&$E$3,Haushaltsbuch2[Datum],\"<=\"&$E$4)","v":0},{"$f":"SUMIFS(Haushaltsbuch2[Einnahmen],Haushaltsbuch2[Kategorie],A15,Haushaltsbuch2[Datum],\">\"&$E$4,Haushaltsbuch2[Datum],\"<=\"&$F$4)","v":0},{"$f":"SUMIFS(Haushaltsbuch2[Einnahmen],Haushaltsbuch2[Kategorie],A15,Haushaltsbuch2[Datum],\">\"&$F$4,Haushaltsbuch2[Datum],\"<=\"&$G$4)","v":0},{"$f":"SUMIFS(Haushaltsbuch2[Einnahmen],Haushaltsbuch2[Kategorie],A15,Haushaltsbuch2[Datum],\">\"&$G$4,Haushaltsbuch2[Datum],\"<=\"&$H$4)","v":0},{"$f":"SUMIFS(Haushaltsbuch2[Einnahmen],Haushaltsbuch2[Kategorie],A15,Haushaltsbuch2[Datum],\">\"&$H$4,Haushaltsbuch2[Datum],\"<=\"&$I$4)","v":0},{"$f":"SUMIFS(Haushaltsbuch2[Einnahmen],Haushaltsbuch2[Kategorie],A15,Haushaltsbuch2[Datum],\">\"&$I$4,Haushaltsbuch2[Datum],\"<=\"&$J$4)","v":0},{"$f":"SUMIFS(Haushaltsbuch2[Einnahmen],Haushaltsbuch2[Kategorie],A15,Haushaltsbuch2[Datum],\">\"&$J$4,Haushaltsbuch2[Datum],\"<=\"&$K$4)","v":0},{"$f":"SUMIFS(Haushaltsbuch2[Einnahmen],Haushaltsbuch2[Kategorie],A15,Haushaltsbuch2[Datum],\">\"&$K$4,Haushaltsbuch2[Datum],\"<=\"&$L$4)","v":0},{"$f":"SUMIFS(Haushaltsbuch2[Einnahmen],Haushaltsbuch2[Kategorie],A15,Haushaltsbuch2[Datum],\">\"&$L$4,Haushaltsbuch2[Datum],\"<=\"&$M$4)","v":0},{"$f":"SUMIFS(Haushaltsbuch2[Einnahmen],Haushaltsbuch2[Kategorie],A15,Haushaltsbuch2[Datum],\">\"&$M$4,Haushaltsbuch2[Datum],\"<=\"&$N$4)","v":0},{"$f":"SUMIFS(Haushaltsbuch2[Einnahmen],Haushaltsbuch2[Kategorie],A15,Haushaltsbuch2[Datum],\">\"&$N$4,Haushaltsbuch2[Datum],\"<=\"&$O$4)","v":0},{"$f":"SUMIFS(Haushaltsbuch2[Einnahmen],Haushaltsbuch2[Kategorie],A15,Haushaltsbuch2[Datum],\">\"&$O$4,Haushaltsbuch2[Datum],\"<=\"&$P$4)","v":0},0,null,8,""]
[{"$f":"Kategorien!C23","v":"Dividenden"},{"$f":"Kategorien!E23","v":0},{"$f":"IF(B22>0,0,Kategorien!D23)","v":0},0,{"$f":"SUMIFS(Haushaltsbuch2[Einnahmen],Haushaltsbuch2[Kategorie],A16,Haushaltsbuch2[Datum],\">\"&$E$3,Haushaltsbuch2[Datum],\"<=\"&$E$4)","v":0},{"$f":"SUMIFS(Haushaltsbuch2[Einnahmen],Haushaltsbuch2[Kategorie],A16,Haushaltsbuch2[Datum],\">\"&$E$4,Haushaltsbuch2[Datum],\"<=\"&$F$4)","v":0},{"$f":"SUMIFS(Haushaltsbuch2[Einnahmen],Haushaltsbuch2[Kategorie],A16,Haushaltsbuch2[Datum],\">\"&$F$4,Haushaltsbuch2[Datum],\"<=\"&$G$4)","v":0},{"$f":"SUMIFS(Haushaltsbuch2[Einnahmen],Haushaltsbuch2[Kategorie],A16,Haushaltsbuch2[Datum],\">\"&$G$4,Haushaltsbuch2[Datum],\"<=\"&$H$4)","v":0},{"$f":"SUMIFS(Haushaltsbuch2[Einnahmen],Haushaltsbuch2[Kategorie],A16,Haushaltsbuch2[Datum],\">\"&$H$4,Haushaltsbuch2[Datum],\"<=\"&$I$4)","v":0},{"$f":"SUMIFS(Haushaltsbuch2[Einnahmen],Haushaltsbuch2[Kategorie],A16,Haushaltsbuch2[Datum],\">\"&$I$4,Haushaltsbuch2[Datum],\"<=\"&$J$4)","v":0},{"$f":"SUMIFS(Haushaltsbuch2[Einnahmen],Haushaltsbuch2[Kategorie],A16,Haushaltsbuch2[Datum],\">\"&$J$4,Haushaltsbuch2[Datum],\"<=\"&$K$4)","v":0},{"$f":"SUMIFS(Haushaltsbuch2[Einnahmen],Haushaltsbuch2[Kategorie],A16,Haushaltsbuch2[Datum],\">\"&$K$4,Haushaltsbuch2[Datum],\"<=\"&$L$4)","v":0},{"$f":"SUMIFS(Haushaltsbuch2[Einnahmen],Haushaltsbuch2[Kategorie],A16,Haushaltsbuch2[Datum],\">\"&$L$4,Haushaltsbuch2[Datum],\"<=\"&$M$4)","v":0},{"$f":"SUMIFS(Haushaltsbuch2[Einnahmen],Haushaltsbuch2[Kategorie],A16,Haushaltsbuch2[Datum],\">\"&$M$4,Haushaltsbuch2[Datum],\"<=\"&$N$4)","v":0},{"$f":"SUMIFS(Haushaltsbuch2[Einnahmen],Haushaltsbuch2[Kategorie],A16,Haushaltsbuch2[Datum],\">\"&$N$4,Haushaltsbuch2[Datum],\"<=\"&$O$4)","v":0},{"$f":"SUMIFS(Haushaltsbuch2[Einnahmen],Haushaltsbuch2[Kategorie],A16,Haushaltsbuch2[Datum],\">\"&$O$4,Haushaltsbuch2[Datum],\"<=\"&$P$4)","v":0},0,null,9,""]
[{"$f":"Kategorien!C24","v":"Optionserträge"},{"$f":"Kategorien!E24","v":0},{"$f":"IF(B23>0,0,Kategorien!D24)","v":0},0,{"$f":"SUMIFS(Haushaltsbuch2[Einnahmen],Haushaltsbuch2[Kategorie],A17,Haushaltsbuch2[Datum],\">\"&$E$3,Haushaltsbuch2[Datum],\"<=\"&$E$4)","v":0},{"$f":"SUMIFS(Haushaltsbuch2[Einnahmen],Haushaltsbuch2[Kategorie],A17,Haushaltsbuch2[Datum],\">\"&$E$4,Haushaltsbuch2[Datum],\"<=\"&$F$4)","v":0},{"$f":"SUMIFS(Haushaltsbuch2[Einnahmen],Haushaltsbuch2[Kategorie],A17,Haushaltsbuch2[Datum],\">\"&$F$4,Haushaltsbuch2[Datum],\"<=\"&$G$4)","v":0},{"$f":"SUMIFS(Haushaltsbuch2[Einnahmen],Haushaltsbuch2[Kategorie],A17,Haushaltsbuch2[Datum],\">\"&$G$4,Haushaltsbuch2[Datum],\"<=\"&$H$4)","v":0},{"$f":"SUMIFS(Haushaltsbuch2[Einnahmen],Haushaltsbuch2[Kategorie],A17,Haushaltsbuch2[Datum],\">\"&$H$4,Haushaltsbuch2[Datum],\"<=\"&$I$4)","v":0},{"$f":"SUMIFS(Haushaltsbuch2[Einnahmen],Haushaltsbuch2[Kategorie],A17,Haushaltsbuch2[Datum],\">\"&$I$4,Haushaltsbuch2[Datum],\"<=\"&$J$4)","v":0},{"$f":"SUMIFS(Haushaltsbuch2[Einnahmen],Haushaltsbuch2[Kategorie],A17,Haushaltsbuch2[Datum],\">\"&$J$4,Haushaltsbuch2[Datum],\"<=\"&$K$4)","v":0},{"$f":"SUMIFS(Haushaltsbuch2[Einnahmen],Haushaltsbuch2[Kategorie],A17,Haushaltsbuch2[Datum],\">\"&$K$4,Haushaltsbuch2[Datum],\"<=\"&$L$4)","v":0},{"$f":"SUMIFS(Haushaltsbuch2[Einnahmen],Haushaltsbuch2[Kategorie],A17,Haushaltsbuch2[Datum],\">\"&$L$4,Haushaltsbuch2[Datum],\"<=\"&$M$4)","v":0},{"$f":"SUMIFS(Haushaltsbuch2[Einnahmen],Haushaltsbuch2[Kategorie],A17,Haushaltsbuch2[Datum],\">\"&$M$4,Haushaltsbuch2[Datum],\"<=\"&$N$4)","v":0},{"$f":"SUMIFS(Haushaltsbuch2[Einnahmen],Haushaltsbuch2[Kategorie],A17,Haushaltsbuch2[Datum],\">\"&$N$4,Haushaltsbuch2[Datum],\"<=\"&$O$4)","v":0},{"$f":"SUMIFS(Haushaltsbuch2[Einnahmen],Haushaltsbuch2[Kategorie],A17,Haushaltsbuch2[Datum],\">\"&$O$4,Haushaltsbuch2[Datum],\"<=\"&$P$4)","v":0},0,null,10,""]
[{"$f":"Kategorien!C25","v":"Lizenz- und Patenteinnahmen"},{"$f":"Kategorien!E25","v":0},{"$f":"Kategorien!D25","v":0},0,{"$f":"SUMIFS(Haushaltsbuch2[Einnahmen],Haushaltsbuch2[Kategorie],A18,Haushaltsbuch2[Datum],\">\"&$E$3,Haushaltsbuch2[Datum],\"<=\"&$E$4)","v":0},{"$f":"SUMIFS(Haushaltsbuch2[Einnahmen],Haushaltsbuch2[Kategorie],A18,Haushaltsbuch2[Datum],\">\"&$E$4,Haushaltsbuch2[Datum],\"<=\"&$F$4)","v":0},{"$f":"SUMIFS(Haushaltsbuch2[Einnahmen],Haushaltsbuch2[Kategorie],A18,Haushaltsbuch2[Datum],\">\"&$F$4,Haushaltsbuch2[Datum],\"<=\"&$G$4)","v":0},{"$f":"SUMIFS(Haushaltsbuch2[Einnahmen],Haushaltsbuch2[Kategorie],A18,Haushaltsbuch2[Datum],\">\"&$G$4,Haushaltsbuch2[Datum],\"<=\"&$H$4)","v":0},{"$f":"SUMIFS(Haushaltsbuch2[Einnahmen],Haushaltsbuch2[Kategorie],A18,Haushaltsbuch2[Datum],\">\"&$H$4,Haushaltsbuch2[Datum],\"<=\"&$I$4)","v":0},{"$f":"SUMIFS(Haushaltsbuch2[Einnahmen],Haushaltsbuch2[Kategorie],A18,Haushaltsbuch2[Datum],\">\"&$I$4,Haushaltsbuch2[Datum],\"<=\"&$J$4)","v":0},{"$f":"SUMIFS(Haushaltsbuch2[Einnahmen],Haushaltsbuch2[Kategorie],A18,Haushaltsbuch2[Datum],\">\"&$J$4,Haushaltsbuch2[Datum],\"<=\"&$K$4)","v":0},{"$f":"SUMIFS(Haushaltsbuch2[Einnahmen],Haushaltsbuch2[Kategorie],A18,Haushaltsbuch2[Datum],\">\"&$K$4,Haushaltsbuch2[Datum],\"<=\"&$L$4)","v":0},{"$f":"SUMIFS(Haushaltsbuch2[Einnahmen],Haushaltsbuch2[Kategorie],A18,Haushaltsbuch2[Datum],\">\"&$L$4,Haushaltsbuch2[Datum],\"<=\"&$M$4)","v":0},{"$f":"SUMIFS(Haushaltsbuch2[Einnahmen],Haushaltsbuch2[Kategorie],A18,Haushaltsbuch2[Datum],\">\"&$M$4,Haushaltsbuch2[Datum],\"<=\"&$N$4)","v":0},{"$f":"SUMIFS(Haushaltsbuch2[Einnahmen],Haushaltsbuch2[Kategorie],A18,Haushaltsbuch2[Datum],\">\"&$N$4,Haushaltsbuch2[Datum],\"<=\"&$O$4)","v":0},{"$f":"SUMIFS(Haushaltsbuch2[Einnahmen],Haushaltsbuch2[Kategorie],A18,Haushaltsbuch2[Datum],\">\"&$O$4,Haushaltsbuch2[Datum],\"<=\"&$P$4)","v":0},0,null,11,""]
[{"$f":"Kategorien!C26","v":"P2P Kreditrückzahlungen"},{"$f":"Kategorien!E26","v":0},{"$f":"Kategorien!D26","v":0},0,{"$f":"SUMIFS(Haushaltsbuch2[Einnahmen],Haushaltsbuch2[Kategorie],A19,Haushaltsbuch2[Datum],\">\"&$E$3,Haushaltsbuch2[Datum],\"<=\"&$E$4)","v":0},{"$f":"SUMIFS(Haushaltsbuch2[Einnahmen],Haushaltsbuch2[Kategorie],A19,Haushaltsbuch2[Datum],\">\"&$E$4,Haushaltsbuch2[Datum],\"<=\"&$F$4)","v":0},{"$f":"SUMIFS(Haushaltsbuch2[Einnahmen],Haushaltsbuch2[Kategorie],A19,Haushaltsbuch2[Datum],\">\"&$F$4,Haushaltsbuch2[Datum],\"<=\"&$G$4)","v":0},{"$f":"SUMIFS(Haushaltsbuch2[Einnahmen],Haushaltsbuch2[Kategorie],A19,Haushaltsbuch2[Datum],\">\"&$G$4,Haushaltsbuch2[Datum],\"<=\"&$H$4)","v":0},{"$f":"SUMIFS(Haushaltsbuch2[Einnahmen],Haushaltsbuch2[Kategorie],A19,Haushaltsbuch2[Datum],\">\"&$H$4,Haushaltsbuch2[Datum],\"<=\"&$I$4)","v":0},{"$f":"SUMIFS(Haushaltsbuch2[Einnahmen],Haushaltsbuch2[Kategorie],A19,Haushaltsbuch2[Datum],\">\"&$I$4,Haushaltsbuch2[Datum],\"<=\"&$J$4)","v":0},{"$f":"SUMIFS(Haushaltsbuch2[Einnahmen],Haushaltsbuch2[Kategorie],A19,Haushaltsbuch2[Datum],\">\"&$J$4,Haushaltsbuch2[Datum],\"<=\"&$K$4)","v":0},{"$f":"SUMIFS(Haushaltsbuch2[Einnahmen],Haushaltsbuch2[Kategorie],A19,Haushaltsbuch2[Datum],\">\"&$K$4,Haushaltsbuch2[Datum],\"<=\"&$L$4)","v":0},{"$f":"SUMIFS(Haushaltsbuch2[Einnahmen],Haushaltsbuch2[Kategorie],A19,Haushaltsbuch2[Datum],\">\"&$L$4,Haushaltsbuch2[Datum],\"<=\"&$M$4)","v":0},{"$f":"SUMIFS(Haushaltsbuch2[Einnahmen],Haushaltsbuch2[Kategorie],A19,Haushaltsbuch2[Datum],\">\"&$M$4,Haushaltsbuch2[Datum],\"<=\"&$N$4)","v":0},{"$f":"SUMIFS(Haushaltsbuch2[Einnahmen],Haushaltsbuch2[Kategorie],A19,Haushaltsbuch2[Datum],\">\"&$N$4,Haushaltsbuch2[Datum],\"<=\"&$O$4)","v":0},{"$f":"SUMIFS(Haushaltsbuch2[Einnahmen],Haushaltsbuch2[Kategorie],A19,Haushaltsbuch2[Datum],\">\"&$O$4,Haushaltsbuch2[Datum],\"<=\"&$P$4)","v":0},0,null,12,""]
[{"$f":"Kategorien!C27","v":"Sonstige passive Einnahmen"},{"$f":"Kategorien!E27","v":0},{"$f":"Kategorien!D27","v":0},0,{"$f":"SUMIFS(Haushaltsbuch2[Einnahmen],Haushaltsbuch2[Kategorie],A20,Haushaltsbuch2[Datum],\">\"&$E$3,Haushaltsbuch2[Datum],\"<=\"&$E$4)","v":0},{"$f":"SUMIFS(Haushaltsbuch2[Einnahmen],Haushaltsbuch2[Kategorie],A20,Haushaltsbuch2[Datum],\">\"&$E$4,Haushaltsbuch2[Datum],\"<=\"&$F$4)","v":0},{"$f":"SUMIFS(Haushaltsbuch2[Einnahmen],Haushaltsbuch2[Kategorie],A20,Haushaltsbuch2[Datum],\">\"&$F$4,Haushaltsbuch2[Datum],\"<=\"&$G$4)","v":0},{"$f":"SUMIFS(Haushaltsbuch2[Einnahmen],Haushaltsbuch2[Kategorie],A20,Haushaltsbuch2[Datum],\">\"&$G$4,Haushaltsbuch2[Datum],\"<=\"&$H$4)","v":0},{"$f":"SUMIFS(Haushaltsbuch2[Einnahmen],Haushaltsbuch2[Kategorie],A20,Haushaltsbuch2[Datum],\">\"&$H$4,Haushaltsbuch2[Datum],\"<=\"&$I$4)","v":0},{"$f":"SUMIFS(Haushaltsbuch2[Einnahmen],Haushaltsbuch2[Kategorie],A20,Haushaltsbuch2[Datum],\">\"&$I$4,Haushaltsbuch2[Datum],\"<=\"&$J$4)","v":0},{"$f":"SUMIFS(Haushaltsbuch2[Einnahmen],Haushaltsbuch2[Kategorie],A20,Haushaltsbuch2[Datum],\">\"&$J$4,Haushaltsbuch2[Datum],\"<=\"&$K$4)","v":0},{"$f":"SUMIFS(Haushaltsbuch2[Einnahmen],Haushaltsbuch2[Kategorie],A20,Haushaltsbuch2[Datum],\">\"&$K$4,Haushaltsbuch2[Datum],\"<=\"&$L$4)","v":0},{"$f":"SUMIFS(Haushaltsbuch2[Einnahmen],Haushaltsbuch2[Kategorie],A20,Haushaltsbuch2[Datum],\">\"&$L$4,Haushaltsbuch2[Datum],\"<=\"&$M$4)","v":0},{"$f":"SUMIFS(Haushaltsbuch2[Einnahmen],Haushaltsbuch2[Kategorie],A20,Haushaltsbuch2[Datum],\">\"&$M$4,Haushaltsbuch2[Datum],\"<=\"&$N$4)","v":0},{"$f":"SUMIFS(Haushaltsbuch2[Einnahmen],Haushaltsbuch2[Kategorie],A20,Haushaltsbuch2[Datum],\">\"&$N$4,Haushaltsbuch2[Datum],\"<=\"&$O$4)","v":0},{"$f":"SUMIFS(Haushaltsbuch2[Einnahmen],Haushaltsbuch2[Kategorie],A20,Haushaltsbuch2[Datum],\">\"&$O$4,Haushaltsbuch2[Datum],\"<=\"&$P$4)","v":0},0,null,13,""]
["Passive Einnahmen laut Extra Liste",null,null,null,null,null,null,null,null,null,null,null,null,null,null,null,null,null,14,""]
["Dividenden",{"$f":"'Passive Einnahmen'!BK13","v":0},{"$f":"IF(B22>0,Kategorien!D23,0)","v":0},{"$f":"B22-C22","v":0},{"$f":"SUMIFS(Dividenden[Betrag in EUR],Dividenden[Datum],\">\"&E3,Dividenden[Datum],\"<=\"&E4)","v":0},{"$f":"SUMIFS(Dividenden[Betrag in EUR],Dividenden[Datum],\">\"&E4,Dividenden[Datum],\"<=\"&F4)","v":0},{"$f":"SUMIFS(Dividenden[Betrag in EUR],Dividenden[Datum],\">\"&F4,Dividenden[Datum],\"<=\"&G4)","v":0},{"$f":"SUMIFS(Dividenden[Betrag in EUR],Dividenden[Datum],\">\"&G4,Dividenden[Datum],\"<=\"&H4)","v":0},{"$f":"SUMIFS(Dividenden[Betrag in EUR],Dividenden[Datum],\">\"&H4,Dividenden[Datum],\"<=\"&I4)","v":0},{"$f":"SUMIFS(Dividenden[Betrag in EUR],Dividenden[Datum],\">\"&I4,Dividenden[Datum],\"<=\"&J4)","v":0},{"$f":"SUMIFS(Dividenden[Betrag in EUR],Dividenden[Datum],\">\"&J4,Dividenden[Datum],\"<=\"&K4)","v":0},{"$f":"SUMIFS(Dividenden[Betrag in EUR],Dividenden[Datum],\">\"&K4,Dividenden[Datum],\"<=\"&L4)","v":0},{"$f":"SUMIFS(Dividenden[Betrag in EUR],Dividenden[Datum],\">\"&L4,Dividenden[Datum],\"<=\"&M4)","v":0},{"$f":"SUMIFS(Dividenden[Betrag in EUR],Dividenden[Datum],\">\"&M4,Dividenden[Datum],\"<=\"&N4)","v":0},{"$f":"SUMIFS(Dividenden[Betrag in EUR],Dividenden[Datum],\">\"&N4,Dividenden[Datum],\"<=\"&O4)","v":0},{"$f":"SUMIFS(Dividenden[Betrag in EUR],Dividenden[Datum],\">\"&O4,Dividenden[Datum],\"<=\"&P4)","v":0},{"$f":"SUM(E22:P22)","v":0},null,15,""]
["Optionserträge",{"$f":"'Passive Einnahmen'!BK16","v":0},{"$f":"IF(B23>0,Kategorien!D24,0)","v":0},{"$f":"B23-C23","v":0},{"$f":"SUMIFS(Optionen[G/V (Netto)],Optionen[Datum],\">\"&E3,Optionen[Datum],\"<=\"&E4)","v":0},{"$f":"SUMIFS(Optionen[G/V (Netto)],Optionen[Datum],\">\"&E4,Optionen[Datum],\"<=\"&F4)","v":0},{"$f":"SUMIFS(Optionen[G/V (Netto)],Optionen[Datum],\">\"&F4,Optionen[Datum],\"<=\"&G4)","v":0},{"$f":"SUMIFS(Optionen[G/V (Netto)],Optionen[Datum],\">\"&G4,Optionen[Datum],\"<=\"&H4)","v":0},{"$f":"SUMIFS(Optionen[G/V (Netto)],Optionen[Datum],\">\"&H4,Optionen[Datum],\"<=\"&I4)","v":0},{"$f":"SUMIFS(Optionen[G/V (Netto)],Optionen[Datum],\">\"&I4,Optionen[Datum],\"<=\"&J4)","v":0},{"$f":"SUMIFS(Optionen[G/V (Netto)],Optionen[Datum],\">\"&J4,Optionen[Datum],\"<=\"&K4)","v":0},{"$f":"SUMIFS(Optionen[G/V (Netto)],Optionen[Datum],\">\"&K4,Optionen[Datum],\"<=\"&L4)","v":0},{"$f":"SUMIFS(Optionen[G/V (Netto)],Optionen[Datum],\">\"&L4,Optionen[Datum],\"<=\"&M4)","v":0},{"$f":"SUMIFS(Optionen[G/V (Netto)],Optionen[Datum],\">\"&M4,Optionen[Datum],\"<=\"&N4)","v":0},{"$f":"SUMIFS(Optionen[G/V (Netto)],Optionen[Datum],\">\"&N4,Optionen[Datum],\"<=\"&O4)","v":0},{"$f":"SUMIFS(Optionen[G/V (Netto)],Optionen[Datum],\">\"&O4,Optionen[Datum],\"<=\"&P4)","v":0},{"$f":"SUM(E23:P23)","v":0},null,16,""]
["Passive Einnahmen",{"$f":"'Passive Einnahmen'!BK4","v":0},{"$f":"SUM(Kategorien!D22:D27)","v":0},{"$f":"B24-C24","v":0},{"$f":"SUM(E15:E23)","v":0},{"$f":"SUM(F15:F23)","v":0},0,0,0,0,0,0,0,0,0,0,0,null,17,""]
[null,null,null,null,null,null,null,null,null,null,null,null,null,null,null,null,null,null,18,""]
[{"$f":"\"EINNAHMEN \"&TEXT(T5,\"####\")&\" GESAMT\"","v":"EINNAHMEN 1900 GESAMT"},{"$f":"SUM(B5:B20)+SUM(B22:B23)","v":0},0,0,0,0,0,0,0,0,0,0,0,0,0,0,0,null,19,""]
[{"$f":"\"AUSGABEN \"&TEXT(Ausgabenübersicht!T5,\"####\")&\" GESAMT\"","v":"AUSGABEN 1900 GESAMT"},{"$f":"Ausgabenübersicht!B26","v":0},{"$f":"Ausgabenübersicht!C26","v":0},{"$f":"Ausgabenübersicht!D26","v":0},{"$f":"Ausgabenübersicht!E26","v":0},{"$f":"Ausgabenübersicht!F26","v":0},{"$f":"Ausgabenübersicht!G26","v":0},{"$f":"Ausgabenübersicht!H26","v":0},{"$f":"Ausgabenübersicht!I26","v":0},{"$f":"Ausgabenübersicht!J26","v":0},{"$f":"Ausgabenübersicht!K26","v":0},{"$f":"Ausgabenübersicht!L26","v":0},{"$f":"Ausgabenübersicht!M26","v":0},{"$f":"Ausgabenübersicht!N26","v":0},{"$f":"Ausgabenübersicht!O26","v":0},{"$f":"Ausgabenübersicht!P26","v":0},{"$f":"Ausgabenübersicht!Q26","v":0},null,20,""]
[]
["NETTOEINNAHMEN",{"$f":"B26-B27","v":0},{"$f":"C26-C27","v":0},{"$f":"D26+D27","v":0},{"$f":"E26-E27","v":0},{"$f":"F26-F27","v":0},0,0,0,0,0,0,0,0,0,0,0]

{"sheet":"Ausgabenübersicht","index":10,"n_rows":29,"n_cols":21,"rows_kept":29,"cut":false,"hidden":false,"merged":[[0,1,1,12]]}
[null,"Einnahmen- und Ausgabenübersicht",null,null,null,null,null,null,null,null,null,null,null,null,null,null,null,null,"HILFSTABBELEN"]
[]
[null,null,null,null,{"$f":"EOMONTH(DATE($T$5,1,1),-1)","v":{"$error":"#NUM!"}},null,null,null,null,null,null,null,null,null,null,null,null,null,"Erstes Jahr im HH-Buch",{"$f":"'E&A Übersicht'!T3","v":1900}]
["AUSGABEN","IST (12M-Ø)","SOLL","Differenz",{"$f":"EOMONTH(DATE($T$5,1,1),0)","v":"1900-01-31"},{"$f":"EOMONTH(DATE($T$5,2,1),0)","v":"1900-02-28"},{"$f":"EOMONTH(DATE($T$5,3,1),0)","v":"1900-03-31"},{"$f":"EOMONTH(DATE($T$5,4,1),0)","v":"1900-04-30"},{"$f":"EOMONTH(DATE($T$5,5,1),0)","v":"1900-05-31"},{"$f":"EOMONTH(DATE($T$5,6,1),0)","v":"1900-06-30"},{"$f":"EOMONTH(DATE($T$5,7,1),0)","v":"1900-07-31"},{"$f":"EOMONTH(DATE($T$5,8,1),0)","v":"1900-08-31"},{"$f":"EOMONTH(DATE($T$5,9,1),0)","v":"1900-09-30"},{"$f":"EOMONTH(DATE($T$5,10,1),0)","v":"1900-10-31"},{"$f":"EOMONTH(DATE($T$5,11,1),0)","v":"1900-11-30"},{"$f":"EOMONTH(DATE($T$5,12,1),0)","v":"1900-12-31"},{"$f":"TEXT(T5,\"####\")&\" gesamt\"","v":"1900 gesamt"},null,"Letztes Jahr im HH-Buch",{"$f":"'E&A Übersicht'!T4","v":1900}]
[{"$f":"Kategorien!J8","v":"Miete/Kosten für Eigenheim"},{"$f":"'E&A 12M-DS'!S17","v":0},{"$f":"Kategorien!K8","v":0},{"$f":"C5-B5","v":0},{"$f":"SUMIFS(Haushaltsbuch2[Ausgaben],Haushaltsbuch2[Kategorie],A5,Haushaltsbuch2[Datum],\">\"&$E$3,Haushaltsbuch2[Datum],\"<=\"&$E$4)","v":0},{"$f":"SUMIFS(Haushaltsbuch2[Ausgaben],Haushaltsbuch2[Kategorie],A5,Haushaltsbuch2[Datum],\">\"&$E$4,Haushaltsbuch2[Datum],\"<=\"&$F$4)","v":0},{"$f":"SUMIFS(Haushaltsbuch2[Ausgaben],Haushaltsbuch2[Kategorie],A5,Haushaltsbuch2[Datum],\">\"&$F$4,Haushaltsbuch2[Datum],\"<=\"&$G$4)","v":0},{"$f":"SUMIFS(Haushaltsbuch2[Ausgaben],Haushaltsbuch2[Kategorie],A5,Haushaltsbuch2[Datum],\">\"&$G$4,Haushaltsbuch2[Datum],\"<=\"&$H$4)","v":0},{"$f":"SUMIFS(Haushaltsbuch2[Ausgaben],Haushaltsbuch2[Kategorie],A5,Haushaltsbuch2[Datum],\">\"&$H$4,Haushaltsbuch2[Datum],\"<=\"&$I$4)","v":0},{"$f":"SUMIFS(Haushaltsbuch2[Ausgaben],Haushaltsbuch2[Kategorie],A5,Haushaltsbuch2[Datum],\">\"&$I$4,Haushaltsbuch2[Datum],\"<=\"&$J$4)","v":0},{"$f":"SUMIFS(Haushaltsbuch2[Ausgaben],Haushaltsbuch2[Kategorie],A5,Haushaltsbuch2[Datum],\">\"&$J$4,Haushaltsbuch2[Datum],\"<=\"&$K$4)","v":0},{"$f":"SUMIFS(Haushaltsbuch2[Ausgaben],Haushaltsbuch2[Kategorie],A5,Haushaltsbuch2[Datum],\">\"&$K$4,Haushaltsbuch2[Datum],\"<=\"&$L$4)","v":0},{"$f":"SUMIFS(Haushaltsbuch2[Ausgaben],Haushaltsbuch2[Kategorie],A5,Haushaltsbuch2[Datum],\">\"&$L$4,Haushaltsbuch2[Datum],\"<=\"&$M$4)","v":0},{"$f":"SUMIFS(Haushaltsbuch2[Ausgaben],Haushaltsbuch2[Kategorie],A5,Haushaltsbuch2[Datum],\">\"&$M$4,Haushaltsbuch2[Datum],\"<=\"&$N$4)","v":0},{"$f":"SUMIFS(Haushaltsbuch2[Ausgaben],Haushaltsbuch2[Kategorie],A5,Haushaltsbuch2[Datum],\">\"&$N$4,Haushaltsbuch2[Datum],\"<=\"&$O$4)","v":0},{"$f":"SUMIFS(Haushaltsbuch2[Ausgaben],Haushaltsbuch2[Kategorie],A5,Haushaltsbuch2[Datum],\">\"&$O$4,Haushaltsbuch2[Datum],\"<=\"&$P$4)","v":0},{"$f":"SUM(E5:P5)","v":0},null,"Ausgewähltes Jahr",{"$f":"VLOOKUP(U5,S8:T27,2,0)","v":1900},1]
[{"$f":"Kategorien!J9","v":"Versicherungen"},{"$f":"'E&A 12M-DS'!T17","v":0},{"$f":"Kategorien!K9","v":0},{"$f":"C6-B6","v":0},{"$f":"SUMIFS(Haushaltsbuch2[Ausgaben],Haushaltsbuch2[Kategorie],A6,Haushaltsbuch2[Datum],\">\"&$E$3,Haushaltsbuch2[Datum],\"<=\"&$E$4)","v":0},{"$f":"SUMIFS(Haushaltsbuch2[Ausgaben],Haushaltsbuch2[Kategorie],A6,Haushaltsbuch2[Datum],\">\"&$E$4,Haushaltsbuch2[Datum],\"<=\"&$F$4)","v":0},{"$f":"SUMIFS(Haushaltsbuch2[Ausgaben],Haushaltsbuch2[Kategorie],A6,Haushaltsbuch2[Datum],\">\"&$F$4,Haushaltsbuch2[Datum],\"<=\"&$G$4)","v":0},{"$f":"SUMIFS(Haushaltsbuch2[Ausgaben],Haushaltsbuch2[Kategorie],A6,Haushaltsbuch2[Datum],\">\"&$G$4,Haushaltsbuch2[Datum],\"<=\"&$H$4)","v":0},{"$f":"SUMIFS(Haushaltsbuch2[Ausgaben],Haushaltsbuch2[Kategorie],A6,Haushaltsbuch2[Datum],\">\"&$H$4,Haushaltsbuch2[Datum],\"<=\"&$I$4)","v":0},{"$f":"SUMIFS(Haushaltsbuch2[Ausgaben],Haushaltsbuch2[Kategorie],A6,Haushaltsbuch2[Datum],\">\"&$I$4,Haushaltsbuch2[Datum],\"<=\"&$J$4)","v":0},{"$f":"SUMIFS(Haushaltsbuch2[Ausgaben],Haushaltsbuch2[Kategorie],A6,Haushaltsbuch2[Datum],\">\"&$J$4,Haushaltsbuch2[Datum],\"<=\"&$K$4)","v":0},{"$f":"SUMIFS(Haushaltsbuch2[Ausgaben],Haushaltsbuch2[Kategorie],A6,Haushaltsbuch2[Datum],\">\"&$K$4,Haushaltsbuch2[Datum],\"<=\"&$L$4)","v":0},{"$f":"SUMIFS(Haushaltsbuch2[Ausgaben],Haushaltsbuch2[Kategorie],A6,Haushaltsbuch2[Datum],\">\"&$L$4,Haushaltsbuch2[Datum],\"<=\"&$M$4)","v":0},{"$f":"SUMIFS(Haushaltsbuch2[Ausgaben],Haushaltsbuch2[Kategorie],A6,Haushaltsbuch2[Datum],\">\"&$M$4,Haushaltsbuch2[Datum],\"<=\"&$N$4)","v":0},{"$f":"SUMIFS(Haushaltsbuch2[Ausgaben],Haushaltsbuch2[Kategorie],A6,Haushaltsbuch2[Datum],\">\"&$N$4,Haushaltsbuch2[Datum],\"<=\"&$O$4)","v":0},{"$f":"SUMIFS(Haushaltsbuch2[Ausgaben],Haushaltsbuch2[Kategorie],A6,Haushaltsbuch2[Datum],\">\"&$O$4,Haushaltsbuch2[Datum],\"<=\"&$P$4)","v":0},{"$f":"SUM(E6:P6)","v":0}]
[{"$f":"Kategorien!J10","v":"Telefon/Handy, Internet und TV"},{"$f":"'E&A 12M-DS'!U17","v":0},{"$f":"Kategorien!K10","v":0},0,{"$f":"SUMIFS(Haushaltsbuch2[Ausgaben],Haushaltsbuch2[Kategorie],A7,Haushaltsbuch2[Datum],\">\"&$E$3,Haushaltsbuch2[Datum],\"<=\"&$E$4)","v":0},{"$f":"SUMIFS(Haushaltsbuch2[Ausgaben],Haushaltsbuch2[Kategorie],A7,Haushaltsbuch2[Datum],\">\"&$E$4,Haushaltsbuch2[Datum],\"<=\"&$F$4)","v":0},{"$f":"SUMIFS(Haushaltsbuch2[Ausgaben],Haushaltsbuch2[Kategorie],A7,Haushaltsbuch2[Datum],\">\"&$F$4,Haushaltsbuch2[Datum],\"<=\"&$G$4)","v":0},{"$f":"SUMIFS(Haushaltsbuch2[Ausgaben],Haushaltsbuch2[Kategorie],A7,Haushaltsbuch2[Datum],\">\"&$G$4,Haushaltsbuch2[Datum],\"<=\"&$H$4)","v":0},{"$f":"SUMIFS(Haushaltsbuch2[Ausgaben],Haushaltsbuch2[Kategorie],A7,Haushaltsbuch2[Datum],\">\"&$H$4,Haushaltsbuch2[Datum],\"<=\"&$I$4)","v":0},{"$f":"SUMIFS(Haushaltsbuch2[Ausgaben],Haushaltsbuch2[Kategorie],A7,Haushaltsbuch2[Datum],\">\"&$I$4,Haushaltsbuch2[Datum],\"<=\"&$J$4)","v":0},{"$f":"SUMIFS(Haushaltsbuch2[Ausgaben],Haushaltsbuch2[Kategorie],A7,Haushaltsbuch2[Datum],\">\"&$J$4,Haushaltsbuch2[Datum],\"<=\"&$K$4)","v":0},{"$f":"SUMIFS(Haushaltsbuch2[Ausgaben],Haushaltsbuch2[Kategorie],A7,Haushaltsbuch2[Datum],\">\"&$K$4,Haushaltsbuch2[Datum],\"<=\"&$L$4)","v":0},{"$f":"SUMIFS(Haushaltsbuch2[Ausgaben],Haushaltsbuch2[Kategorie],A7,Haushaltsbuch2[Datum],\">\"&$L$4,Haushaltsbuch2[Datum],\"<=\"&$M$4)","v":0},{"$f":"SUMIFS(Haushaltsbuch2[Ausgaben],Haushaltsbuch2[Kategorie],A7,Haushaltsbuch2[Datum],\">\"&$M$4,Haushaltsbuch2[Datum],\"<=\"&$N$4)","v":0},{"$f":"SUMIFS(Haushaltsbuch2[Ausgaben],Haushaltsbuch2[Kategorie],A7,Haushaltsbuch2[Datum],\">\"&$N$4,Haushaltsbuch2[Datum],\"<=\"&$O$4)","v":0},{"$f":"SUMIFS(Haushaltsbuch2[Ausgaben],Haushaltsbuch2[Kategorie],A7,Haushaltsbuch2[Datum],\">\"&$O$4,Haushaltsbuch2[Datum],\"<=\"&$P$4)","v":0},{"$f":"SUM(E7:P7)","v":0},null,"Jahr auswählen"]
[{"$f":"Kategorien!J11","v":"Energiekosten"},{"$f":"'E&A 12M-DS'!V17","v":0},{"$f":"Kategorien!K11","v":0},0,{"$f":"SUMIFS(Haushaltsbuch2[Ausgaben],Haushaltsbuch2[Kategorie],A8,Haushaltsbuch2[Datum],\">\"&$E$3,Haushaltsbuch2[Datum],\"<=\"&$E$4)","v":0},{"$f":"SUMIFS(Haushaltsbuch2[Ausgaben],Haushaltsbuch2[Kategorie],A8,Haushaltsbuch2[Datum],\">\"&$E$4,Haushaltsbuch2[Datum],\"<=\"&$F$4)","v":0},{"$f":"SUMIFS(Haushaltsbuch2[Ausgaben],Haushaltsbuch2[Kategorie],A8,Haushaltsbuch2[Datum],\">\"&$F$4,Haushaltsbuch2[Datum],\"<=\"&$G$4)","v":0},{"$f":"SUMIFS(Haushaltsbuch2[Ausgaben],Haushaltsbuch2[Kategorie],A8,Haushaltsbuch2[Datum],\">\"&$G$4,Haushaltsbuch2[Datum],\"<=\"&$H$4)","v":0},{"$f":"SUMIFS(Haushaltsbuch2[Ausgaben],Haushaltsbuch2[Kategorie],A8,Haushaltsbuch2[Datum],\">\"&$H$4,Haushaltsbuch2[Datum],\"<=\"&$I$4)","v":0},{"$f":"SUMIFS(Haushaltsbuch2[Ausgaben],Haushaltsbuch2[Kategorie],A8,Haushaltsbuch2[Datum],\">\"&$I$4,Haushaltsbuch2[Datum],\"<=\"&$J$4)","v":0},{"$f":"SUMIFS(Haushaltsbuch2[Ausgaben],Haushaltsbuch2[Kategorie],A8,Haushaltsbuch2[Datum],\">\"&$J$4,Haushaltsbuch2[Datum],\"<=\"&$K$4)","v":0},{"$f":"SUMIFS(Haushaltsbuch2[Ausgaben],Haushaltsbuch2[Kategorie],A8,Haushaltsbuch2[Datum],\">\"&$K$4,Haushaltsbuch2[Datum],\"<=\"&$L$4)","v":0},{"$f":"SUMIFS(Haushaltsbuch2[Ausgaben],Haushaltsbuch2[Kategorie],A8,Haushaltsbuch2[Datum],\">\"&$L$4,Haushaltsbuch2[Datum],\"<=\"&$M$4)","v":0},{"$f":"SUMIFS(Haushaltsbuch2[Ausgaben],Haushaltsbuch2[Kategorie],A8,Haushaltsbuch2[Datum],\">\"&$M$4,Haushaltsbuch2[Datum],\"<=\"&$N$4)","v":0},{"$f":"SUMIFS(Haushaltsbuch2[Ausgaben],Haushaltsbuch2[Kategorie],A8,Haushaltsbuch2[Datum],\">\"&$N$4,Haushaltsbuch2[Datum],\"<=\"&$O$4)","v":0},{"$f":"SUMIFS(Haushaltsbuch2[Ausgaben],Haushaltsbuch2[Kategorie],A8,Haushaltsbuch2[Datum],\">\"&$O$4,Haushaltsbuch2[Datum],\"<=\"&$P$4)","v":0},{"$f":"SUM(E8:P8)","v":0},null,1,{"$f":"T4","v":1900}]
[{"$f":"Kategorien!J12","v":"Mobilität"},{"$f":"'E&A 12M-DS'!W17","v":0},{"$f":"Kategorien!K12","v":0},0,{"$f":"SUMIFS(Haushaltsbuch2[Ausgaben],Haushaltsbuch2[Kategorie],A9,Haushaltsbuch2[Datum],\">\"&$E$3,Haushaltsbuch2[Datum],\"<=\"&$E$4)","v":0},{"$f":"SUMIFS(Haushaltsbuch2[Ausgaben],Haushaltsbuch2[Kategorie],A9,Haushaltsbuch2[Datum],\">\"&$E$4,Haushaltsbuch2[Datum],\"<=\"&$F$4)","v":0},{"$f":"SUMIFS(Haushaltsbuch2[Ausgaben],Haushaltsbuch2[Kategorie],A9,Haushaltsbuch2[Datum],\">\"&$F$4,Haushaltsbuch2[Datum],\"<=\"&$G$4)","v":0},{"$f":"SUMIFS(Haushaltsbuch2[Ausgaben],Haushaltsbuch2[Kategorie],A9,Haushaltsbuch2[Datum],\">\"&$G$4,Haushaltsbuch2[Datum],\"<=\"&$H$4)","v":0},{"$f":"SUMIFS(Haushaltsbuch2[Ausgaben],Haushaltsbuch2[Kategorie],A9,Haushaltsbuch2[Datum],\">\"&$H$4,Haushaltsbuch2[Datum],\"<=\"&$I$4)","v":0},{"$f":"SUMIFS(Haushaltsbuch2[Ausgaben],Haushaltsbuch2[Kategorie],A9,Haushaltsbuch2[Datum],\">\"&$I$4,Haushaltsbuch2[Datum],\"<=\"&$J$4)","v":0},{"$f":"SUMIFS(Haushaltsbuch2[Ausgaben],Haushaltsbuch2[Kategorie],A9,Haushaltsbuch2[Datum],\">\"&$J$4,Haushaltsbuch2[Datum],\"<=\"&$K$4)","v":0},{"$f":"SUMIFS(Haushaltsbuch2[Ausgaben],Haushaltsbuch2[Kategorie],A9,Haushaltsbuch2[Datum],\">\"&$K$4,Haushaltsbuch2[Datum],\"<=\"&$L$4)","v":0},{"$f":"SUMIFS(Haushaltsbuch2[Ausgaben],Haushaltsbuch2[Kategorie],A9,Haushaltsbuch2[Datum],\">\"&$L$4,Haushaltsbuch2[Datum],\"<=\"&$M$4)","v":0},{"$f":"SUMIFS(Haushaltsbuch2[Ausgaben],Haushaltsbuch2[Kategorie],A9,Haushaltsbuch2[Datum],\">\"&$M$4,Haushaltsbuch2[Datum],\"<=\"&$N$4)","v":0},{"$f":"SUMIFS(Haushaltsbuch2[Ausgaben],Haushaltsbuch2[Kategorie],A9,Haushaltsbuch2[Datum],\">\"&$N$4,Haushaltsbuch2[Datum],\"<=\"&$O$4)","v":0},{"$f":"SUMIFS(Haushaltsbuch2[Ausgaben],Haushaltsbuch2[Kategorie],A9,Haushaltsbuch2[Datum],\">\"&$O$4,Haushaltsbuch2[Datum],\"<=\"&$P$4)","v":0},0,null,2,{"$f":"IFERROR(IF(T8>$T$3,T8-1,\"\"),\"\")","v":""}]
[{"$f":"Kategorien!J13","v":"Kinder"},{"$f":"'E&A 12M-DS'!X17","v":0},{"$f":"Kategorien!K13","v":0},0,{"$f":"SUMIFS(Haushaltsbuch2[Ausgaben],Haushaltsbuch2[Kategorie],A10,Haushaltsbuch2[Datum],\">\"&$E$3,Haushaltsbuch2[Datum],\"<=\"&$E$4)","v":0},{"$f":"SUMIFS(Haushaltsbuch2[Ausgaben],Haushaltsbuch2[Kategorie],A10,Haushaltsbuch2[Datum],\">\"&$E$4,Haushaltsbuch2[Datum],\"<=\"&$F$4)","v":0},{"$f":"SUMIFS(Haushaltsbuch2[Ausgaben],Haushaltsbuch2[Kategorie],A10,Haushaltsbuch2[Datum],\">\"&$F$4,Haushaltsbuch2[Datum],\"<=\"&$G$4)","v":0},{"$f":"SUMIFS(Haushaltsbuch2[Ausgaben],Haushaltsbuch2[Kategorie],A10,Haushaltsbuch2[Datum],\">\"&$G$4,Haushaltsbuch2[Datum],\"<=\"&$H$4)","v":0},{"$f":"SUMIFS(Haushaltsbuch2[Ausgaben],Haushaltsbuch2[Kategorie],A10,Haushaltsbuch2[Datum],\">\"&$H$4,Haushaltsbuch2[Datum],\"<=\"&$I$4)","v":0},{"$f":"SUMIFS(Haushaltsbuch2[Ausgaben],Haushaltsbuch2[Kategorie],A10,Haushaltsbuch2[Datum],\">\"&$I$4,Haushaltsbuch2[Datum],\"<=\"&$J$4)","v":0},{"$f":"SUMIFS(Haushaltsbuch2[Ausgaben],Haushaltsbuch2[Kategorie],A10,Haushaltsbuch2[Datum],\">\"&$J$4,Haushaltsbuch2[Datum],\"<=\"&$K$4)","v":0},{"$f":"SUMIFS(Haushaltsbuch2[Ausgaben],Haushaltsbuch2[Kategorie],A10,Haushaltsbuch2[Datum],\">\"&$K$4,Haushaltsbuch2[Datum],\"<=\"&$L$4)","v":0},{"$f":"SUMIFS(Haushaltsbuch2[Ausgaben],Haushaltsbuch2[Kategorie],A10,Haushaltsbuch2[Datum],\">\"&$L$4,Haushaltsbuch2[Datum],\"<=\"&$M$4)","v":0},{"$f":"SUMIFS(Haushaltsbuch2[Ausgaben],Haushaltsbuch2[Kategorie],A10,Haushaltsbuch2[Datum],\">\"&$M$4,Haushaltsbuch2[Datum],\"<=\"&$N$4)","v":0},{"$f":"SUMIFS(Haushaltsbuch2[Ausgaben],Haushaltsbuch2[Kategorie],A10,Haushaltsbuch2[Datum],\">\"&$N$4,Haushaltsbuch2[Datum],\"<=\"&$O$4)","v":0},{"$f":"SUMIFS(Haushaltsbuch2[Ausgaben],Haushaltsbuch2[Kategorie],A10,Haushaltsbuch2[Datum],\">\"&$O$4,Haushaltsbuch2[Datum],\"<=\"&$P$4)","v":0},0,null,3,{"$f":"IFERROR(IF(T9>$T$3,T9-1,\"\"),\"\")","v":""}]
[{"$f":"Kategorien!J14","v":"Lebensmittel"},{"$f":"'E&A 12M-DS'!Y17","v":0},{"$f":"Kategorien!K14","v":0},0,{"$f":"SUMIFS(Haushaltsbuch2[Ausgaben],Haushaltsbuch2[Kategorie],A11,Haushaltsbuch2[Datum],\">\"&$E$3,Haushaltsbuch2[Datum],\"<=\"&$E$4)","v":0},{"$f":"SUMIFS(Haushaltsbuch2[Ausgaben],Haushaltsbuch2[Kategorie],A11,Haushaltsbuch2[Datum],\">\"&$E$4,Haushaltsbuch2[Datum],\"<=\"&$F$4)","v":0},{"$f":"SUMIFS(Haushaltsbuch2[Ausgaben],Haushaltsbuch2[Kategorie],A11,Haushaltsbuch2[Datum],\">\"&$F$4,Haushaltsbuch2[Datum],\"<=\"&$G$4)","v":0},{"$f":"SUMIFS(Haushaltsbuch2[Ausgaben],Haushaltsbuch2[Kategorie],A11,Haushaltsbuch2[Datum],\">\"&$G$4,Haushaltsbuch2[Datum],\"<=\"&$H$4)","v":0},{"$f":"SUMIFS(Haushaltsbuch2[Ausgaben],Haushaltsbuch2[Kategorie],A11,Haushaltsbuch2[Datum],\">\"&$H$4,Haushaltsbuch2[Datum],\"<=\"&$I$4)","v":0},{"$f":"SUMIFS(Haushaltsbuch2[Ausgaben],Haushaltsbuch2[Kategorie],A11,Haushaltsbuch2[Datum],\">\"&$I$4,Haushaltsbuch2[Datum],\"<=\"&$J$4)","v":0},{"$f":"SUMIFS(Haushaltsbuch2[Ausgaben],Haushaltsbuch2[Kategorie],A11,Haushaltsbuch2[Datum],\">\"&$J$4,Haushaltsbuch2[Datum],\"<=\"&$K$4)","v":0},{"$f":"SUMIFS(Haushaltsbuch2[Ausgaben],Haushaltsbuch2[Kategorie],A11,Haushaltsbuch2[Datum],\">\"&$K$4,Haushaltsbuch2[Datum],\"<=\"&$L$4)","v":0},{"$f":"SUMIFS(Haushaltsbuch2[Ausgaben],Haushaltsbuch2[Kategorie],A11,Haushaltsbuch2[Datum],\">\"&$L$4,Haushaltsbuch2[Datum],\"<=\"&$M$4)","v":0},{"$f":"SUMIFS(Haushaltsbuch2[Ausgaben],Haushaltsbuch2[Kategorie],A11,Haushaltsbuch2[Datum],\">\"&$M$4,Haushaltsbuch2[Datum],\"<=\"&$N$4)","v":0},{"$f":"SUMIFS(Haushaltsbuch2[Ausgaben],Haushaltsbuch2[Kategorie],A11,Haushaltsbuch2[Datum],\">\"&$N$4,Haushaltsbuch2[Datum],\"<=\"&$O$4)","v":0},{"$f":"SUMIFS(Haushaltsbuch2[Ausgaben],Haushaltsbuch2[Kategorie],A11,Haushaltsbuch2[Datum],\">\"&$O$4,Haushaltsbuch2[Datum],\"<=\"&$P$4)","v":0},0,null,4,""]
[{"$f":"Kategorien!J15","v":"Darlehensverpflichtungen"},{"$f":"'E&A 12M-DS'!Z17","v":0},{"$f":"Kategorien!K15","v":0},0,{"$f":"SUMIFS(Haushaltsbuch2[Ausgaben],Haushaltsbuch2[Kategorie],A12,Haushaltsbuch2[Datum],\">\"&$E$3,Haushaltsbuch2[Datum],\"<=\"&$E$4)","v":0},{"$f":"SUMIFS(Haushaltsbuch2[Ausgaben],Haushaltsbuch2[Kategorie],A12,Haushaltsbuch2[Datum],\">\"&$E$4,Haushaltsbuch2[Datum],\"<=\"&$F$4)","v":0},{"$f":"SUMIFS(Haushaltsbuch2[Ausgaben],Haushaltsbuch2[Kategorie],A12,Haushaltsbuch2[Datum],\">\"&$F$4,Haushaltsbuch2[Datum],\"<=\"&$G$4)","v":0},{"$f":"SUMIFS(Haushaltsbuch2[Ausgaben],Haushaltsbuch2[Kategorie],A12,Haushaltsbuch2[Datum],\">\"&$G$4,Haushaltsbuch2[Datum],\"<=\"&$H$4)","v":0},{"$f":"SUMIFS(Haushaltsbuch2[Ausgaben],Haushaltsbuch2[Kategorie],A12,Haushaltsbuch2[Datum],\">\"&$H$4,Haushaltsbuch2[Datum],\"<=\"&$I$4)","v":0},{"$f":"SUMIFS(Haushaltsbuch2[Ausgaben],Haushaltsbuch2[Kategorie],A12,Haushaltsbuch2[Datum],\">\"&$I$4,Haushaltsbuch2[Datum],\"<=\"&$J$4)","v":0},{"$f":"SUMIFS(Haushaltsbuch2[Ausgaben],Haushaltsbuch2[Kategorie],A12,Haushaltsbuch2[Datum],\">\"&$J$4,Haushaltsbuch2[Datum],\"<=\"&$K$4)","v":0},{"$f":"SUMIFS(Haushaltsbuch2[Ausgaben],Haushaltsbuch2[Kategorie],A12,Haushaltsbuch2[Datum],\">\"&$K$4,Haushaltsbuch2[Datum],\"<=\"&$L$4)","v":0},{"$f":"SUMIFS(Haushaltsbuch2[Ausgaben],Haushaltsbuch2[Kategorie],A12,Haushaltsbuch2[Datum],\">\"&$L$4,Haushaltsbuch2[Datum],\"<=\"&$M$4)","v":0},{"$f":"SUMIFS(Haushaltsbuch2[Ausgaben],Haushaltsbuch2[Kategorie],A12,Haushaltsbuch2[Datum],\">\"&$M$4,Haushaltsbuch2[Datum],\"<=\"&$N$4)","v":0},{"$f":"SUMIFS(Haushaltsbuch2[Ausgaben],Haushaltsbuch2[Kategorie],A12,Haushaltsbuch2[Datum],\">\"&$N$4,Haushaltsbuch2[Datum],\"<=\"&$O$4)","v":0},{"$f":"SUMIFS(Haushaltsbuch2[Ausgaben],Haushaltsbuch2[Kategorie],A12,Haushaltsbuch2[Datum],\">\"&$O$4,Haushaltsbuch2[Datum],\"<=\"&$P$4)","v":0},0,null,5,""]
[{"$f":"Kategorien!J16","v":"Besuche in Restaurants und Bars"},{"$f":"'E&A 12M-DS'!AA17","v":0},{"$f":"Kategorien!K16","v":0},0,{"$f":"SUMIFS(Haushaltsbuch2[Ausgaben],Haushaltsbuch2[Kategorie],A13,Haushaltsbuch2[Datum],\">\"&$E$3,Haushaltsbuch2[Datum],\"<=\"&$E$4)","v":0},{"$f":"SUMIFS(Haushaltsbuch2[Ausgaben],Haushaltsbuch2[Kategorie],A13,Haushaltsbuch2[Datum],\">\"&$E$4,Haushaltsbuch2[Datum],\"<=\"&$F$4)","v":0},{"$f":"SUMIFS(Haushaltsbuch2[Ausgaben],Haushaltsbuch2[Kategorie],A13,Haushaltsbuch2[Datum],\">\"&$F$4,Haushaltsbuch2[Datum],\"<=\"&$G$4)","v":0},{"$f":"SUMIFS(Haushaltsbuch2[Ausgaben],Haushaltsbuch2[Kategorie],A13,Haushaltsbuch2[Datum],\">\"&$G$4,Haushaltsbuch2[Datum],\"<=\"&$H$4)","v":0},{"$f":"SUMIFS(Haushaltsbuch2[Ausgaben],Haushaltsbuch2[Kategorie],A13,Haushaltsbuch2[Datum],\">\"&$H$4,Haushaltsbuch2[Datum],\"<=\"&$I$4)","v":0},{"$f":"SUMIFS(Haushaltsbuch2[Ausgaben],Haushaltsbuch2[Kategorie],A13,Haushaltsbuch2[Datum],\">\"&$I$4,Haushaltsbuch2[Datum],\"<=\"&$J$4)","v":0},{"$f":"SUMIFS(Haushaltsbuch2[Ausgaben],Haushaltsbuch2[Kategorie],A13,Haushaltsbuch2[Datum],\">\"&$J$4,Haushaltsbuch2[Datum],\"<=\"&$K$4)","v":0},{"$f":"SUMIFS(Haushaltsbuch2[Ausgaben],Haushaltsbuch2[Kategorie],A13,Haushaltsbuch2[Datum],\">\"&$K$4,Haushaltsbuch2[Datum],\"<=\"&$L$4)","v":0},{"$f":"SUMIFS(Haushaltsbuch2[Ausgaben],Haushaltsbuch2[Kategorie],A13,Haushaltsbuch2[Datum],\">\"&$L$4,Haushaltsbuch2[Datum],\"<=\"&$M$4)","v":0},{"$f":"SUMIFS(Haushaltsbuch2[Ausgaben],Haushaltsbuch2[Kategorie],A13,Haushaltsbuch2[Datum],\">\"&$M$4,Haushaltsbuch2[Datum],\"<=\"&$N$4)","v":0},{"$f":"SUMIFS(Haushaltsbuch2[Ausgaben],Haushaltsbuch2[Kategorie],A13,Haushaltsbuch2[Datum],\">\"&$N$4,Haushaltsbuch2[Datum],\"<=\"&$O$4)","v":0},{"$f":"SUMIFS(Haushaltsbuch2[Ausgaben],Haushaltsbuch2[Kategorie],A13,Haushaltsbuch2[Datum],\">\"&$O$4,Haushaltsbuch2[Datum],\"<=\"&$P$4)","v":0},0,null,6,""]
[{"$f":"Kategorien!J17","v":"Kultur und Unterhaltung"},{"$f":"'E&A 12M-DS'!AB17","v":0},{"$f":"Kategorien!K17","v":0},0,{"$f":"SUMIFS(Haushaltsbuch2[Ausgaben],Haushaltsbuch2[Kategorie],A14,Haushaltsbuch2[Datum],\">\"&$E$3,Haushaltsbuch2[Datum],\"<=\"&$E$4)","v":0},{"$f":"SUMIFS(Haushaltsbuch2[Ausgaben],Haushaltsbuch2[Kategorie],A14,Haushaltsbuch2[Datum],\">\"&$E$4,Haushaltsbuch2[Datum],\"<=\"&$F$4)","v":0},{"$f":"SUMIFS(Haushaltsbuch2[Ausgaben],Haushaltsbuch2[Kategorie],A14,Haushaltsbuch2[Datum],\">\"&$F$4,Haushaltsbuch2[Datum],\"<=\"&$G$4)","v":0},{"$f":"SUMIFS(Haushaltsbuch2[Ausgaben],Haushaltsbuch2[Kategorie],A14,Haushaltsbuch2[Datum],\">\"&$G$4,Haushaltsbuch2[Datum],\"<=\"&$H$4)","v":0},{"$f":"SUMIFS(Haushaltsbuch2[Ausgaben],Haushaltsbuch2[Kategorie],A14,Haushaltsbuch2[Datum],\">\"&$H$4,Haushaltsbuch2[Datum],\"<=\"&$I$4)","v":0},{"$f":"SUMIFS(Haushaltsbuch2[Ausgaben],Haushaltsbuch2[Kategorie],A14,Haushaltsbuch2[Datum],\">\"&$I$4,Haushaltsbuch2[Datum],\"<=\"&$J$4)","v":0},{"$f":"SUMIFS(Haushaltsbuch2[Ausgaben],Haushaltsbuch2[Kategorie],A14,Haushaltsbuch2[Datum],\">\"&$J$4,Haushaltsbuch2[Datum],\"<=\"&$K$4)","v":0},{"$f":"SUMIFS(Haushaltsbuch2[Ausgaben],Haushaltsbuch2[Kategorie],A14,Haushaltsbuch2[Datum],\">\"&$K$4,Haushaltsbuch2[Datum],\"<=\"&$L$4)","v":0},{"$f":"SUMIFS(Haushaltsbuch2[Ausgaben],Haushaltsbuch2[Kategorie],A14,Haushaltsbuch2[Datum],\">\"&$L$4,Haushaltsbuch2[Datum],\"<=\"&$M$4)","v":0},{"$f":"SUMIFS(Haushaltsbuch2[Ausgaben],Haushaltsbuch2[Kategorie],A14,Haushaltsbuch2[Datum],\">\"&$M$4,Haushaltsbuch2[Datum],\"<=\"&$N$4)","v":0},{"$f":"SUMIFS(Haushaltsbuch2[Ausgaben],Haushaltsbuch2[Kategorie],A14,Haushaltsbuch2[Datum],\">\"&$N$4,Haushaltsbuch2[Datum],\"<=\"&$O$4)","v":0},{"$f":"SUMIFS(Haushaltsbuch2[Ausgaben],Haushaltsbuch2[Kategorie],A14,Haushaltsbuch2[Datum],\">\"&$O$4,Haushaltsbuch2[Datum],\"<=\"&$P$4)","v":0},0,null,7,""]
[{"$f":"Kategorien!J18","v":"Geschenke"},{"$f":"'E&A 12M-DS'!AC17","v":0},{"$f":"Kategorien!K18","v":0},0,{"$f":"SUMIFS(Haushaltsbuch2[Ausgaben],Haushaltsbuch2[Kategorie],A15,Haushaltsbuch2[Datum],\">\"&$E$3,Haushaltsbuch2[Datum],\"<=\"&$E$4)","v":0},{"$f":"SUMIFS(Haushaltsbuch2[Ausgaben],Haushaltsbuch2[Kategorie],A15,Haushaltsbuch2[Datum],\">\"&$E$4,Haushaltsbuch2[Datum],\"<=\"&$F$4)","v":0},{"$f":"SUMIFS(Haushaltsbuch2[Ausgaben],Haushaltsbuch2[Kategorie],A15,Haushaltsbuch2[Datum],\">\"&$F$4,Haushaltsbuch2[Datum],\"<=\"&$G$4)","v":0},{"$f":"SUMIFS(Haushaltsbuch2[Ausgaben],Haushaltsbuch2[Kategorie],A15,Haushaltsbuch2[Datum],\">\"&$G$4,Haushaltsbuch2[Datum],\"<=\"&$H$4)","v":0},{"$f":"SUMIFS(Haushaltsbuch2[Ausgaben],Haushaltsbuch2[Kategorie],A15,Haushaltsbuch2[Datum],\">\"&$H$4,Haushaltsbuch2[Datum],\"<=\"&$I$4)","v":0},{"$f":"SUMIFS(Haushaltsbuch2[Ausgaben],Haushaltsbuch2[Kategorie],A15,Haushaltsbuch2[Datum],\">\"&$I$4,Haushaltsbuch2[Datum],\"<=\"&$J$4)","v":0},{"$f":"SUMIFS(Haushaltsbuch2[Ausgaben],Haushaltsbuch2[Kategorie],A15,Haushaltsbuch2[Datum],\">\"&$J$4,Haushaltsbuch2[Datum],\"<=\"&$K$4)","v":0},{"$f":"SUMIFS(Haushaltsbuch2[Ausgaben],Haushaltsbuch2[Kategorie],A15,Haushaltsbuch2[Datum],\">\"&$K$4,Haushaltsbuch2[Datum],\"<=\"&$L$4)","v":0},{"$f":"SUMIFS(Haushaltsbuch2[Ausgaben],Haushaltsbuch2[Kategorie],A15,Haushaltsbuch2[Datum],\">\"&$L$4,Haushaltsbuch2[Datum],\"<=\"&$M$4)","v":0},{"$f":"SUMIFS(Haushaltsbuch2[Ausgaben],Haushaltsbuch2[Kategorie],A15,Haushaltsbuch2[Datum],\">\"&$M$4,Haushaltsbuch2[Datum],\"<=\"&$N$4)","v":0},{"$f":"SUMIFS(Haushaltsbuch2[Ausgaben],Haushaltsbuch2[Kategorie],A15,Haushaltsbuch2[Datum],\">\"&$N$4,Haushaltsbuch2[Datum],\"<=\"&$O$4)","v":0},{"$f":"SUMIFS(Haushaltsbuch2[Ausgaben],Haushaltsbuch2[Kategorie],A15,Haushaltsbuch2[Datum],\">\"&$O$4,Haushaltsbuch2[Datum],\"<=\"&$P$4)","v":0},0,null,8,""]
[{"$f":"Kategorien!J19","v":"Mode und Bekleidung"},{"$f":"'E&A 12M-DS'!AD17","v":0},{"$f":"Kategorien!K19","v":0},0,{"$f":"SUMIFS(Haushaltsbuch2[Ausgaben],Haushaltsbuch2[Kategorie],A16,Haushaltsbuch2[Datum],\">\"&$E$3,Haushaltsbuch2[Datum],\"<=\"&$E$4)","v":0},{"$f":"SUMIFS(Haushaltsbuch2[Ausgaben],Haushaltsbuch2[Kategorie],A16,Haushaltsbuch2[Datum],\">\"&$E$4,Haushaltsbuch2[Datum],\"<=\"&$F$4)","v":0},{"$f":"SUMIFS(Haushaltsbuch2[Ausgaben],Haushaltsbuch2[Kategorie],A16,Haushaltsbuch2[Datum],\">\"&$F$4,Haushaltsbuch2[Datum],\"<=\"&$G$4)","v":0},{"$f":"SUMIFS(Haushaltsbuch2[Ausgaben],Haushaltsbuch2[Kategorie],A16,Haushaltsbuch2[Datum],\">\"&$G$4,Haushaltsbuch2[Datum],\"<=\"&$H$4)","v":0},{"$f":"SUMIFS(Haushaltsbuch2[Ausgaben],Haushaltsbuch2[Kategorie],A16,Haushaltsbuch2[Datum],\">\"&$H$4,Haushaltsbuch2[Datum],\"<=\"&$I$4)","v":0},{"$f":"SUMIFS(Haushaltsbuch2[Ausgaben],Haushaltsbuch2[Kategorie],A16,Haushaltsbuch2[Datum],\">\"&$I$4,Haushaltsbuch2[Datum],\"<=\"&$J$4)","v":0},{"$f":"SUMIFS(Haushaltsbuch2[Ausgaben],Haushaltsbuch2[Kategorie],A16,Haushaltsbuch2[Datum],\">\"&$J$4,Haushaltsbuch2[Datum],\"<=\"&$K$4)","v":0},{"$f":"SUMIFS(Haushaltsbuch2[Ausgaben],Haushaltsbuch2[Kategorie],A16,Haushaltsbuch2[Datum],\">\"&$K$4,Haushaltsbuch2[Datum],\"<=\"&$L$4)","v":0},{"$f":"SUMIFS(Haushaltsbuch2[Ausgaben],Haushaltsbuch2[Kategorie],A16,Haushaltsbuch2[Datum],\">\"&$L$4,Haushaltsbuch2[Datum],\"<=\"&$M$4)","v":0},{"$f":"SUMIFS(Haushaltsbuch2[Ausgaben],Haushaltsbuch2[Kategorie],A16,Haushaltsbuch2[Datum],\">\"&$M$4,Haushaltsbuch2[Datum],\"<=\"&$N$4)","v":0},{"$f":"SUMIFS(Haushaltsbuch2[Ausgaben],Haushaltsbuch2[Kategorie],A16,Haushaltsbuch2[Datum],\">\"&$N$4,Haushaltsbuch2[Datum],\"<=\"&$O$4)","v":0},{"$f":"SUMIFS(Haushaltsbuch2[Ausgaben],Haushaltsbuch2[Kategorie],A16,Haushaltsbuch2[Datum],\">\"&$O$4,Haushaltsbuch2[Datum],\"<=\"&$P$4)","v":0},0,null,9,""]
[{"$f":"Kategorien!J20","v":"Gesundheit und Körperpflege"},{"$f":"'E&A 12M-DS'!AE17","v":0},{"$f":"Kategorien!K20","v":0},0,{"$f":"SUMIFS(Haushaltsbuch2[Ausgaben],Haushaltsbuch2[Kategorie],A17,Haushaltsbuch2[Datum],\">\"&$E$3,Haushaltsbuch2[Datum],\"<=\"&$E$4)","v":0},{"$f":"SUMIFS(Haushaltsbuch2[Ausgaben],Haushaltsbuch2[Kategorie],A17,Haushaltsbuch2[Datum],\">\"&$E$4,Haushaltsbuch2[Datum],\"<=\"&$F$4)","v":0},{"$f":"SUMIFS(Haushaltsbuch2[Ausgaben],Haushaltsbuch2[Kategorie],A17,Haushaltsbuch2[Datum],\">\"&$F$4,Haushaltsbuch2[Datum],\"<=\"&$G$4)","v":0},{"$f":"SUMIFS(Haushaltsbuch2[Ausgaben],Haushaltsbuch2[Kategorie],A17,Haushaltsbuch2[Datum],\">\"&$G$4,Haushaltsbuch2[Datum],\"<=\"&$H$4)","v":0},{"$f":"SUMIFS(Haushaltsbuch2[Ausgaben],Haushaltsbuch2[Kategorie],A17,Haushaltsbuch2[Datum],\">\"&$H$4,Haushaltsbuch2[Datum],\"<=\"&$I$4)","v":0},{"$f":"SUMIFS(Haushaltsbuch2[Ausgaben],Haushaltsbuch2[Kategorie],A17,Haushaltsbuch2[Datum],\">\"&$I$4,Haushaltsbuch2[Datum],\"<=\"&$J$4)","v":0},{"$f":"SUMIFS(Haushaltsbuch2[Ausgaben],Haushaltsbuch2[Kategorie],A17,Haushaltsbuch2[Datum],\">\"&$J$4,Haushaltsbuch2[Datum],\"<=\"&$K$4)","v":0},{"$f":"SUMIFS(Haushaltsbuch2[Ausgaben],Haushaltsbuch2[Kategorie],A17,Haushaltsbuch2[Datum],\">\"&$K$4,Haushaltsbuch2[Datum],\"<=\"&$L$4)","v":0},{"$f":"SUMIFS(Haushaltsbuch2[Ausgaben],Haushaltsbuch2[Kategorie],A17,Haushaltsbuch2[Datum],\">\"&$L$4,Haushaltsbuch2[Datum],\"<=\"&$M$4)","v":0},{"$f":"SUMIFS(Haushaltsbuch2[Ausgaben],Haushaltsbuch2[Kategorie],A17,Haushaltsbuch2[Datum],\">\"&$M$4,Haushaltsbuch2[Datum],\"<=\"&$N$4)","v":0},{"$f":"SUMIFS(Haushaltsbuch2[Ausgaben],Haushaltsbuch2[Kategorie],A17,Haushaltsbuch2[Datum],\">\"&$N$4,Haushaltsbuch2[Datum],\"<=\"&$O$4)","v":0},{"$f":"SUMIFS(Haushaltsbuch2[Ausgaben],Haushaltsbuch2[Kategorie],A17,Haushaltsbuch2[Datum],\">\"&$O$4,Haushaltsbuch2[Datum],\"<=\"&$P$4)","v":0},0,null,10,""]
[{"$f":"Kategorien!J21","v":"Urlaub und Reisen"},{"$f":"'E&A 12M-DS'!AF17","v":0},{"$f":"Kategorien!K21","v":0},0,{"$f":"SUMIFS(Haushaltsbuch2[Ausgaben],Haushaltsbuch2[Kategorie],A18,Haushaltsbuch2[Datum],\">\"&$E$3,Haushaltsbuch2[Datum],\"<=\"&$E$4)","v":0},{"$f":"SUMIFS(Haushaltsbuch2[Ausgaben],Haushaltsbuch2[Kategorie],A18,Haushaltsbuch2[Datum],\">\"&$E$4,Haushaltsbuch2[Datum],\"<=\"&$F$4)","v":0},{"$f":"SUMIFS(Haushaltsbuch2[Ausgaben],Haushaltsbuch2[Kategorie],A18,Haushaltsbuch2[Datum],\">\"&$F$4,Haushaltsbuch2[Datum],\"<=\"&$G$4)","v":0},{"$f":"SUMIFS(Haushaltsbuch2[Ausgaben],Haushaltsbuch2[Kategorie],A18,Haushaltsbuch2[Datum],\">\"&$G$4,Haushaltsbuch2[Datum],\"<=\"&$H$4)","v":0},{"$f":"SUMIFS(Haushaltsbuch2[Ausgaben],Haushaltsbuch2[Kategorie],A18,Haushaltsbuch2[Datum],\">\"&$H$4,Haushaltsbuch2[Datum],\"<=\"&$I$4)","v":0},{"$f":"SUMIFS(Haushaltsbuch2[Ausgaben],Haushaltsbuch2[Kategorie],A18,Haushaltsbuch2[Datum],\">\"&$I$4,Haushaltsbuch2[Datum],\"<=\"&$J$4)","v":0},{"$f":"SUMIFS(Haushaltsbuch2[Ausgaben],Haushaltsbuch2[Kategorie],A18,Haushaltsbuch2[Datum],\">\"&$J$4,Haushaltsbuch2[Datum],\"<=\"&$K$4)","v":0},{"$f":"SUMIFS(Haushaltsbuch2[Ausgaben],Haushaltsbuch2[Kategorie],A18,Haushaltsbuch2[Datum],\">\"&$K$4,Haushaltsbuch2[Datum],\"<=\"&$L$4)","v":0},{"$f":"SUMIFS(Haushaltsbuch2[Ausgaben],Haushaltsbuch2[Kategorie],A18,Haushaltsbuch2[Datum],\">\"&$L$4,Haushaltsbuch2[Datum],\"<=\"&$M$4)","v":0},{"$f":"SUMIFS(Haushaltsbuch2[Ausgaben],Haushaltsbuch2[Kategorie],A18,Haushaltsbuch2[Datum],\">\"&$M$4,Haushaltsbuch2[Datum],\"<=\"&$N$4)","v":0},{"$f":"SUMIFS(Haushaltsbuch2[Ausgaben],Haushaltsbuch2[Kategorie],A18,Haushaltsbuch2[Datum],\">\"&$N$4,Haushaltsbuch2[Datum],\"<=\"&$O$4)","v":0},{"$f":"SUMIFS(Haushaltsbuch2[Ausgaben],Haushaltsbuch2[Kategorie],A18,Haushaltsbuch2[Datum],\">\"&$O$4,Haushaltsbuch2[Datum],\"<=\"&$P$4)","v":0},0,null,11,""]
[{"$f":"Kategorien!J22","v":"Kraftfahrzeugskosten"},{"$f":"'E&A 12M-DS'!AG17","v":0},{"$f":"Kategorien!K22","v":0},0,{"$f":"SUMIFS(Haushaltsbuch2[Ausgaben],Haushaltsbuch2[Kategorie],A19,Haushaltsbuch2[Datum],\">\"&$E$3,Haushaltsbuch2[Datum],\"<=\"&$E$4)","v":0},{"$f":"SUMIFS(Haushaltsbuch2[Ausgaben],Haushaltsbuch2[Kategorie],A19,Haushaltsbuch2[Datum],\">\"&$E$4,Haushaltsbuch2[Datum],\"<=\"&$F$4)","v":0},{"$f":"SUMIFS(Haushaltsbuch2[Ausgaben],Haushaltsbuch2[Kategorie],A19,Haushaltsbuch2[Datum],\">\"&$F$4,Haushaltsbuch2[Datum],\"<=\"&$G$4)","v":0},{"$f":"SUMIFS(Haushaltsbuch2[Ausgaben],Haushaltsbuch2[Kategorie],A19,Haushaltsbuch2[Datum],\">\"&$G$4,Haushaltsbuch2[Datum],\"<=\"&$H$4)","v":0},{"$f":"SUMIFS(Haushaltsbuch2[Ausgaben],Haushaltsbuch2[Kategorie],A19,Haushaltsbuch2[Datum],\">\"&$H$4,Haushaltsbuch2[Datum],\"<=\"&$I$4)","v":0},{"$f":"SUMIFS(Haushaltsbuch2[Ausgaben],Haushaltsbuch2[Kategorie],A19,Haushaltsbuch2[Datum],\">\"&$I$4,Haushaltsbuch2[Datum],\"<=\"&$J$4)","v":0},{"$f":"SUMIFS(Haushaltsbuch2[Ausgaben],Haushaltsbuch2[Kategorie],A19,Haushaltsbuch2[Datum],\">\"&$J$4,Haushaltsbuch2[Datum],\"<=\"&$K$4)","v":0},{"$f":"SUMIFS(Haushaltsbuch2[Ausgaben],Haushaltsbuch2[Kategorie],A19,Haushaltsbuch2[Datum],\">\"&$K$4,Haushaltsbuch2[Datum],\"<=\"&$L$4)","v":0},{"$f":"SUMIFS(Haushaltsbuch2[Ausgaben],Haushaltsbuch2[Kategorie],A19,Haushaltsbuch2[Datum],\">\"&$L$4,Haushaltsbuch2[Datum],\"<=\"&$M$4)","v":0},{"$f":"SUMIFS(Haushaltsbuch2[Ausgaben],Haushaltsbuch2[Kategorie],A19,Haushaltsbuch2[Datum],\">\"&$M$4,Haushaltsbuch2[Datum],\"<=\"&$N$4)","v":0},{"$f":"SUMIFS(Haushaltsbuch2[Ausgaben],Haushaltsbuch2[Kategorie],A19,Haushaltsbuch2[Datum],\">\"&$N$4,Haushaltsbuch2[Datum],\"<=\"&$O$4)","v":0},{"$f":"SUMIFS(Haushaltsbuch2[Ausgaben],Haushaltsbuch2[Kategorie],A19,Haushaltsbuch2[Datum],\">\"&$O$4,Haushaltsbuch2[Datum],\"<=\"&$P$4)","v":0},0,null,12,""]
[{"$f":"Kategorien!J23","v":"Möbel und Dekorationen"},{"$f":"'E&A 12M-DS'!AH17","v":0},{"$f":"Kategorien!K23","v":0},0,{"$f":"SUMIFS(Haushaltsbuch2[Ausgaben],Haushaltsbuch2[Kategorie],A20,Haushaltsbuch2[Datum],\">\"&$E$3,Haushaltsbuch2[Datum],\"<=\"&$E$4)","v":0},{"$f":"SUMIFS(Haushaltsbuch2[Ausgaben],Haushaltsbuch2[Kategorie],A20,Haushaltsbuch2[Datum],\">\"&$E$4,Haushaltsbuch2[Datum],\"<=\"&$F$4)","v":0},{"$f":"SUMIFS(Haushaltsbuch2[Ausgaben],Haushaltsbuch2[Kategorie],A20,Haushaltsbuch2[Datum],\">\"&$F$4,Haushaltsbuch2[Datum],\"<=\"&$G$4)","v":0},{"$f":"SUMIFS(Haushaltsbuch2[Ausgaben],Haushaltsbuch2[Kategorie],A20,Haushaltsbuch2[Datum],\">\"&$G$4,Haushaltsbuch2[Datum],\"<=\"&$H$4)","v":0},{"$f":"SUMIFS(Haushaltsbuch2[Ausgaben],Haushaltsbuch2[Kategorie],A20,Haushaltsbuch2[Datum],\">\"&$H$4,Haushaltsbuch2[Datum],\"<=\"&$I$4)","v":0},{"$f":"SUMIFS(Haushaltsbuch2[Ausgaben],Haushaltsbuch2[Kategorie],A20,Haushaltsbuch2[Datum],\">\"&$I$4,Haushaltsbuch2[Datum],\"<=\"&$J$4)","v":0},{"$f":"SUMIFS(Haushaltsbuch2[Ausgaben],Haushaltsbuch2[Kategorie],A20,Haushaltsbuch2[Datum],\">\"&$J$4,Haushaltsbuch2[Datum],\"<=\"&$K$4)","v":0},{"$f":"SUMIFS(Haushaltsbuch2[Ausgaben],Haushaltsbuch2[Kategorie],A20,Haushaltsbuch2[Datum],\">\"&$K$4,Haushaltsbuch2[Datum],\"<=\"&$L$4)","v":0},{"$f":"SUMIFS(Haushaltsbuch2[Ausgaben],Haushaltsbuch2[Kategorie],A20,Haushaltsbuch2[Datum],\">\"&$L$4,Haushaltsbuch2[Datum],\"<=\"&$M$4)","v":0},{"$f":"SUMIFS(Haushaltsbuch2[Ausgaben],Haushaltsbuch2[Kategorie],A20,Haushaltsbuch2[Datum],\">\"&$M$4,Haushaltsbuch2[Datum],\"<=\"&$N$4)","v":0},{"$f":"SUMIFS(Haushaltsbuch2[Ausgaben],Haushaltsbuch2[Kategorie],A20,Haushaltsbuch2[Datum],\">\"&$N$4,Haushaltsbuch2[Datum],\"<=\"&$O$4)","v":0},{"$f":"SUMIFS(Haushaltsbuch2[Ausgaben],Haushaltsbuch2[Kategorie],A20,Haushaltsbuch2[Datum],\">\"&$O$4,Haushaltsbuch2[Datum],\"<=\"&$P$4)","v":0},0,null,13,""]
[{"$f":"Kategorien!J24","v":"Kreditkartenabbuchungen"},{"$f":"'E&A 12M-DS'!AI17","v":0},{"$f":"Kategorien!K24","v":0},0,{"$f":"SUMIFS(Haushaltsbuch2[Ausgaben],Haushaltsbuch2[Kategorie],A21,Haushaltsbuch2[Datum],\">\"&$E$3,Haushaltsbuch2[Datum],\"<=\"&$E$4)","v":0},{"$f":"SUMIFS(Haushaltsbuch2[Ausgaben],Haushaltsbuch2[Kategorie],A21,Haushaltsbuch2[Datum],\">\"&$E$4,Haushaltsbuch2[Datum],\"<=\"&$F$4)","v":0},{"$f":"SUMIFS(Haushaltsbuch2[Ausgaben],Haushaltsbuch2[Kategorie],A21,Haushaltsbuch2[Datum],\">\"&$F$4,Haushaltsbuch2[Datum],\"<=\"&$G$4)","v":0},{"$f":"SUMIFS(Haushaltsbuch2[Ausgaben],Haushaltsbuch2[Kategorie],A21,Haushaltsbuch2[Datum],\">\"&$G$4,Haushaltsbuch2[Datum],\"<=\"&$H$4)","v":0},{"$f":"SUMIFS(Haushaltsbuch2[Ausgaben],Haushaltsbuch2[Kategorie],A21,Haushaltsbuch2[Datum],\">\"&$H$4,Haushaltsbuch2[Datum],\"<=\"&$I$4)","v":0},{"$f":"SUMIFS(Haushaltsbuch2[Ausgaben],Haushaltsbuch2[Kategorie],A21,Haushaltsbuch2[Datum],\">\"&$I$4,Haushaltsbuch2[Datum],\"<=\"&$J$4)","v":0},{"$f":"SUMIFS(Haushaltsbuch2[Ausgaben],Haushaltsbuch2[Kategorie],A21,Haushaltsbuch2[Datum],\">\"&$J$4,Haushaltsbuch2[Datum],\"<=\"&$K$4)","v":0},{"$f":"SUMIFS(Haushaltsbuch2[Ausgaben],Haushaltsbuch2[Kategorie],A21,Haushaltsbuch2[Datum],\">\"&$K$4,Haushaltsbuch2[Datum],\"<=\"&$L$4)","v":0},{"$f":"SUMIFS(Haushaltsbuch2[Ausgaben],Haushaltsbuch2[Kategorie],A21,Haushaltsbuch2[Datum],\">\"&$L$4,Haushaltsbuch2[Datum],\"<=\"&$M$4)","v":0},{"$f":"SUMIFS(Haushaltsbuch2[Ausgaben],Haushaltsbuch2[Kategorie],A21,Haushaltsbuch2[Datum],\">\"&$M$4,Haushaltsbuch2[Datum],\"<=\"&$N$4)","v":0},{"$f":"SUMIFS(Haushaltsbuch2[Ausgaben],Haushaltsbuch2[Kategorie],A21,Haushaltsbuch2[Datum],\">\"&$N$4,Haushaltsbuch2[Datum],\"<=\"&$O$4)","v":0},{"$f":"SUMIFS(Haushaltsbuch2[Ausgaben],Haushaltsbuch2[Kategorie],A21,Haushaltsbuch2[Datum],\">\"&$O$4,Haushaltsbuch2[Datum],\"<=\"&$P$4)","v":0},0,null,14,""]
[{"$f":"Kategorien!J25","v":"Bargeldabhebungen"},{"$f":"'E&A 12M-DS'!AJ17","v":0},{"$f":"Kategorien!K25","v":0},0,{"$f":"SUMIFS(Haushaltsbuch2[Ausgaben],Haushaltsbuch2[Kategorie],A22,Haushaltsbuch2[Datum],\">\"&$E$3,Haushaltsbuch2[Datum],\"<=\"&$E$4)","v":0},{"$f":"SUMIFS(Haushaltsbuch2[Ausgaben],Haushaltsbuch2[Kategorie],A22,Haushaltsbuch2[Datum],\">\"&$E$4,Haushaltsbuch2[Datum],\"<=\"&$F$4)","v":0},{"$f":"SUMIFS(Haushaltsbuch2[Ausgaben],Haushaltsbuch2[Kategorie],A22,Haushaltsbuch2[Datum],\">\"&$F$4,Haushaltsbuch2[Datum],\"<=\"&$G$4)","v":0},{"$f":"SUMIFS(Haushaltsbuch2[Ausgaben],Haushaltsbuch2[Kategorie],A22,Haushaltsbuch2[Datum],\">\"&$G$4,Haushaltsbuch2[Datum],\"<=\"&$H$4)","v":0},{"$f":"SUMIFS(Haushaltsbuch2[Ausgaben],Haushaltsbuch2[Kategorie],A22,Haushaltsbuch2[Datum],\">\"&$H$4,Haushaltsbuch2[Datum],\"<=\"&$I$4)","v":0},{"$f":"SUMIFS(Haushaltsbuch2[Ausgaben],Haushaltsbuch2[Kategorie],A22,Haushaltsbuch2[Datum],\">\"&$I$4,Haushaltsbuch2[Datum],\"<=\"&$J$4)","v":0},{"$f":"SUMIFS(Haushaltsbuch2[Ausgaben],Haushaltsbuch2[Kategorie],A22,Haushaltsbuch2[Datum],\">\"&$J$4,Haushaltsbuch2[Datum],\"<=\"&$K$4)","v":0},{"$f":"SUMIFS(Haushaltsbuch2[Ausgaben],Haushaltsbuch2[Kategorie],A22,Haushaltsbuch2[Datum],\">\"&$K$4,Haushaltsbuch2[Datum],\"<=\"&$L$4)","v":0},{"$f":"SUMIFS(Haushaltsbuch2[Ausgaben],Haushaltsbuch2[Kategorie],A22,Haushaltsbuch2[Datum],\">\"&$L$4,Haushaltsbuch2[Datum],\"<=\"&$M$4)","v":0},{"$f":"SUMIFS(Haushaltsbuch2[Ausgaben],Haushaltsbuch2[Kategorie],A22,Haushaltsbuch2[Datum],\">\"&$M$4,Haushaltsbuch2[Datum],\"<=\"&$N$4)","v":0},{"$f":"SUMIFS(Haushaltsbuch2[Ausgaben],Haushaltsbuch2[Kategorie],A22,Haushaltsbuch2[Datum],\">\"&$N$4,Haushaltsbuch2[Datum],\"<=\"&$O$4)","v":0},{"$f":"SUMIFS(Haushaltsbuch2[Ausgaben],Haushaltsbuch2[Kategorie],A22,Haushaltsbuch2[Datum],\">\"&$O$4,Haushaltsbuch2[Datum],\"<=\"&$P$4)","v":0},0,null,15,""]
[{"$f":"Kategorien!J26","v":"Sparen (inkl. Vorsorge und Investments)"},{"$f":"'E&A 12M-DS'!AK17","v":0},{"$f":"Kategorien!K26","v":0},0,{"$f":"SUMIFS(Haushaltsbuch2[Ausgaben],Haushaltsbuch2[Kategorie],A23,Haushaltsbuch2[Datum],\">\"&$E$3,Haushaltsbuch2[Datum],\"<=\"&$E$4)","v":0},{"$f":"SUMIFS(Haushaltsbuch2[Ausgaben],Haushaltsbuch2[Kategorie],A23,Haushaltsbuch2[Datum],\">\"&$E$4,Haushaltsbuch2[Datum],\"<=\"&$F$4)","v":0},{"$f":"SUMIFS(Haushaltsbuch2[Ausgaben],Haushaltsbuch2[Kategorie],A23,Haushaltsbuch2[Datum],\">\"&$F$4,Haushaltsbuch2[Datum],\"<=\"&$G$4)","v":0},{"$f":"SUMIFS(Haushaltsbuch2[Ausgaben],Haushaltsbuch2[Kategorie],A23,Haushaltsbuch2[Datum],\">\"&$G$4,Haushaltsbuch2[Datum],\"<=\"&$H$4)","v":0},{"$f":"SUMIFS(Haushaltsbuch2[Ausgaben],Haushaltsbuch2[Kategorie],A23,Haushaltsbuch2[Datum],\">\"&$H$4,Haushaltsbuch2[Datum],\"<=\"&$I$4)","v":0},{"$f":"SUMIFS(Haushaltsbuch2[Ausgaben],Haushaltsbuch2[Kategorie],A23,Haushaltsbuch2[Datum],\">\"&$I$4,Haushaltsbuch2[Datum],\"<=\"&$J$4)","v":0},{"$f":"SUMIFS(Haushaltsbuch2[Ausgaben],Haushaltsbuch2[Kategorie],A23,Haushaltsbuch2[Datum],\">\"&$J$4,Haushaltsbuch2[Datum],\"<=\"&$K$4)","v":0},{"$f":"SUMIFS(Haushaltsbuch2[Ausgaben],Haushaltsbuch2[Kategorie],A23,Haushaltsbuch2[Datum],\">\"&$K$4,Haushaltsbuch2[Datum],\"<=\"&$L$4)","v":0},{"$f":"SUMIFS(Haushaltsbuch2[Ausgaben],Haushaltsbuch2[Kategorie],A23,Haushaltsbuch2[Datum],\">\"&$L$4,Haushaltsbuch2[Datum],\"<=\"&$M$4)","v":0},{"$f":"SUMIFS(Haushaltsbuch2[Ausgaben],Haushaltsbuch2[Kategorie],A23,Haushaltsbuch2[Datum],\">\"&$M$4,Haushaltsbuch2[Datum],\"<=\"&$N$4)","v":0},{"$f":"SUMIFS(Haushaltsbuch2[Ausgaben],Haushaltsbuch2[Kategorie],A23,Haushaltsbuch2[Datum],\">\"&$N$4,Haushaltsbuch2[Datum],\"<=\"&$O$4)","v":0},{"$f":"SUMIFS(Haushaltsbuch2[Ausgaben],Haushaltsbuch2[Kategorie],A23,Haushaltsbuch2[Datum],\">\"&$O$4,Haushaltsbuch2[Datum],\"<=\"&$P$4)","v":0},0,null,16,""]
[{"$f":"Kategorien!J27","v":"Sonstige Ausgaben"},{"$f":"'E&A 12M-DS'!AL17","v":0},{"$f":"Kategorien!K27","v":0},0,{"$f":"SUMIFS(Haushaltsbuch2[Ausgaben],Haushaltsbuch2[Kategorie],A24,Haushaltsbuch2[Datum],\">\"&$E$3,Haushaltsbuch2[Datum],\"<=\"&$E$4)","v":0},{"$f":"SUMIFS(Haushaltsbuch2[Ausgaben],Haushaltsbuch2[Kategorie],A24,Haushaltsbuch2[Datum],\">\"&$E$4,Haushaltsbuch2[Datum],\"<=\"&$F$4)","v":0},{"$f":"SUMIFS(Haushaltsbuch2[Ausgaben],Haushaltsbuch2[Kategorie],A24,Haushaltsbuch2[Datum],\">\"&$F$4,Haushaltsbuch2[Datum],\"<=\"&$G$4)","v":0},{"$f":"SUMIFS(Haushaltsbuch2[Ausgaben],Haushaltsbuch2[Kategorie],A24,Haushaltsbuch2[Datum],\">\"&$G$4,Haushaltsbuch2[Datum],\"<=\"&$H$4)","v":0},{"$f":"SUMIFS(Haushaltsbuch2[Ausgaben],Haushaltsbuch2[Kategorie],A24,Haushaltsbuch2[Datum],\">\"&$H$4,Haushaltsbuch2[Datum],\"<=\"&$I$4)","v":0},{"$f":"SUMIFS(Haushaltsbuch2[Ausgaben],Haushaltsbuch2[Kategorie],A24,Haushaltsbuch2[Datum],\">\"&$I$4,Haushaltsbuch2[Datum],\"<=\"&$J$4)","v":0},{"$f":"SUMIFS(Haushaltsbuch2[Ausgaben],Haushaltsbuch2[Kategorie],A24,Haushaltsbuch2[Datum],\">\"&$J$4,Haushaltsbuch2[Datum],\"<=\"&$K$4)","v":0},{"$f":"SUMIFS(Haushaltsbuch2[Ausgaben],Haushaltsbuch2[Kategorie],A24,Haushaltsbuch2[Datum],\">\"&$K$4,Haushaltsbuch2[Datum],\"<=\"&$L$4)","v":0},{"$f":"SUMIFS(Haushaltsbuch2[Ausgaben],Haushaltsbuch2[Kategorie],A24,Haushaltsbuch2[Datum],\">\"&$L$4,Haushaltsbuch2[Datum],\"<=\"&$M$4)","v":0},{"$f":"SUMIFS(Haushaltsbuch2[Ausgaben],Haushaltsbuch2[Kategorie],A24,Haushaltsbuch2[Datum],\">\"&$M$4,Haushaltsbuch2[Datum],\"<=\"&$N$4)","v":0},{"$f":"SUMIFS(Haushaltsbuch2[Ausgaben],Haushaltsbuch2[Kategorie],A24,Haushaltsbuch2[Datum],\">\"&$N$4,Haushaltsbuch2[Datum],\"<=\"&$O$4)","v":0},{"$f":"SUMIFS(Haushaltsbuch2[Ausgaben],Haushaltsbuch2[Kategorie],A24,Haushaltsbuch2[Datum],\">\"&$O$4,Haushaltsbuch2[Datum],\"<=\"&$P$4)","v":0},0,null,17,""]
[null,null,null,null,null,null,null,null,null,null,null,null,null,null,null,null,null,null,18,""]
[{"$f":"\"AUSGABEN \"&TEXT(T5,\"####\")&\" GESAMT\"","v":"AUSGABEN 1900 GESAMT"},{"$f":"SUM(B5:B24)","v":0},{"$f":"SUM(C5:C24)","v":0},{"$f":"SUM(D5:D24)","v":0},{"$f":"SUM(E5:E24)","v":0},{"$f":"SUM(F5:F24)","v":0},{"$f":"SUM(G5:G24)","v":0},0,0,0,0,0,0,0,0,{"$f":"SUM(P5:P24)","v":0},{"$f":"SUM(E26:P26)","v":0},null,19,""]
[{"$f":"\"EINNAHMEN \"&TEXT('E&A Übersicht'!T5,\"####\")&\" GESAMT\"","v":"EINNAHMEN 1900 GESAMT"},{"$f":"'E&A Übersicht'!B26","v":0},{"$f":"'E&A Übersicht'!C26","v":0},{"$f":"'E&A Übersicht'!D26","v":0},{"$f":"'E&A Übersicht'!E26","v":0},{"$f":"'E&A Übersicht'!F26","v":0},{"$f":"'E&A Übersicht'!G26","v":0},{"$f":"'E&A Übersicht'!H26","v":0},{"$f":"'E&A Übersicht'!I26","v":0},{"$f":"'E&A Übersicht'!J26","v":0},{"$f":"'E&A Übersicht'!K26","v":0},{"$f":"'E&A Übersicht'!L26","v":0},{"$f":"'E&A Übersicht'!M26","v":0},{"$f":"'E&A Übersicht'!N26","v":0},{"$f":"'E&A Übersicht'!O26","v":0},{"$f":"'E&A Übersicht'!P26","v":0},{"$f":"'E&A Übersicht'!Q26","v":0},null,20,""]
[]
["NETTOEINNAHMEN",{"$f":"B27-B26","v":0},{"$f":"C27-C26","v":0},{"$f":"D27+D26","v":0},0,{"$f":"F27-F26","v":0},0,0,0,0,0,0,0,0,0,0,0]

{"sheet":"E&A DATA","index":11,"n_rows":604,"n_cols":53,"rows_kept":604,"cut":false,"hidden":false,"merged":[[0,0,1,17]]}
["DATA TRACKING"]
[]
[null,"Monatsende",null,null,null,null,null,null,null,null,null,null,"Passive Einnahmen",null,null,null,null,null,null,null,null,null,null,null,null,null,null,null,null,null,null,null,null,null,null,null,null,null,null,"Passive Einnahmen laut Extraliste"]
[null,{"$f":"EOMONTH(TODAY(),-600)","v":25599},{"$f":"Kategorien!C8","v":"Lohn und Gehalt"},{"$f":"Kategorien!C9","v":"Einkommen aus Nebentätigkeiten"},{"$f":"Kategorien!C10","v":"Beitrag von Familie/Verwandten"},{"$f":"Kategorien!C11","v":"Kindergeld"},{"$f":"Kategorien!C12","v":"Renten und Sozialleistungen"},{"$f":"Kategorien!C13","v":"Geldgeschenke/Zuwendungen"},{"$f":"Kategorien!C14","v":"Steuerrückzahlungen"},{"$f":"Kategorien!C15","v":"Verkauf von Sach- und Finanzvermögen"},{"$f":"Kategorien!C16","v":"Umbuchungen auf das Girokonto"},{"$f":"Kategorien!C17","v":"Sonstige Einnahmen"},{"$f":"Kategorien!C22","v":"Zinserträge"},{"$f":"Kategorien!C23","v":"Dividenden"},{"$f":"Kategorien!C24","v":"Optionserträge"},{"$f":"Kategorien!C25","v":"Lizenz- und Patenteinnahmen"},{"$f":"Kategorien!C26","v":"P2P Kreditrückzahlungen"},{"$f":"Kategorien!C27","v":"Sonstige passive Einnahmen"},{"$f":"Kategorien!J8","v":"Miete/Kosten für Eigenheim"},{"$f":"Kategorien!J9","v":"Versicherungen"},{"$f":"Kategorien!J10","v":"Telefon/Handy, Internet und TV"},{"$f":"Kategorien!J11","v":"Energiekosten"},{"$f":"Kategorien!J12","v":"Mobilität"},{"$f":"Kategorien!J13","v":"Kinder"},{"$f":"Kategorien!J14","v":"Lebensmittel"},{"$f":"Kategorien!J15","v":"Darlehensverpflichtungen"},{"$f":"Kategorien!J16","v":"Besuche in Restaurants und Bars"},{"$f":"Kategorien!J17","v":"Kultur und Unterhaltung"},{"$f":"Kategorien!J18","v":"Geschenke"},{"$f":"Kategorien!J19","v":"Mode und Bekleidung"},{"$f":"Kategorien!J20","v":"Gesundheit und Körperpflege"},{"$f":"Kategorien!J21","v":"Urlaub und Reisen"},{"$f":"Kategorien!J22","v":"Kraftfahrzeugskosten"},{"$f":"Kategorien!J23","v":"Möbel und Dekorationen"},{"$f":"Kategorien!J24","v":"Kreditkartenabbuchungen"},{"$f":"Kategorien!J25","v":"Bargeldabhebungen"},{"$f":"Kategorien!J26","v":"Sparen (inkl. Vorsorge und Investments)"},{"$f":"Kategorien!J27","v":"Sonstige Ausgaben"},null,"Dividenden","Optionsprämien",null,"Dividenden Gesamt","Optionsprämien Gesamt",null,"Passive Einnahmen Gesamt","PE\n12M-Ø",null,"Einnahmen Gesamt",null,"Sparen\n12M-Ø",null,"Ausgaben Gesamt"]
[null,{"$f":"EOMONTH(TODAY(),-599)","v":25627},{"$f":"SUMIFS(Haushaltsbuch2[Einnahmen],Haushaltsbuch2[Kategorie],$C$4,Haushaltsbuch2[Datum],\">\"&B4,Haushaltsbuch2[Datum],\"<=\"&B5)","v":0},{"$f":"SUMIFS(Haushaltsbuch2[Einnahmen],Haushaltsbuch2[Kategorie],D$4,Haushaltsbuch2[Datum],\">\"&$B$4,Haushaltsbuch2[Datum],\"<=\"&$B$5)","v":0},{"$f":"SUMIFS(Haushaltsbuch2[Einnahmen],Haushaltsbuch2[Kategorie],E$4,Haushaltsbuch2[Datum],\">\"&B4,Haushaltsbuch2[Datum],\"<=\"&B5)","v":0},{"$f":"SUMIFS(Haushaltsbuch2[Einnahmen],Haushaltsbuch2[Kategorie],F$4,Haushaltsbuch2[Datum],\">\"&B4,Haushaltsbuch2[Datum],\"<=\"&B5)","v":0},{"$f":"SUMIFS(Haushaltsbuch2[Einnahmen],Haushaltsbuch2[Kategorie],G$4,Haushaltsbuch2[Datum],\">\"&B4,Haushaltsbuch2[Datum],\"<=\"&B5)","v":0},{"$f":"SUMIFS(Haushaltsbuch2[Einnahmen],Haushaltsbuch2[Kategorie],H$4,Haushaltsbuch2[Datum],\">\"&B4,Haushaltsbuch2[Datum],\"<=\"&B5)","v":0},{"$f":"SUMIFS(Haushaltsbuch2[Einnahmen],Haushaltsbuch2[Kategorie],I$4,Haushaltsbuch2[Datum],\">\"&B4,Haushaltsbuch2[Datum],\"<=\"&B5)","v":0},{"$f":"SUMIFS(Haushaltsbuch2[Einnahmen],Haushaltsbuch2[Kategorie],J$4,Haushaltsbuch2[Datum],\">\"&B4,Haushaltsbuch2[Datum],\"<=\"&B5)","v":0},{"$f":"SUMIFS(Haushaltsbuch2[Einnahmen],Haushaltsbuch2[Kategorie],K$4,Haushaltsbuch2[Datum],\">\"&B4,Haushaltsbuch2[Datum],\"<=\"&B5)","v":0},{"$f":"SUMIFS(Haushaltsbuch2[Einnahmen],Haushaltsbuch2[Kategorie],L$4,Haushaltsbuch2[Datum],\">\"&B4,Haushaltsbuch2[Datum],\"<=\"&B5)","v":0},{"$f":"SUMIFS(Haushaltsbuch2[Einnahmen],Haushaltsbuch2[Kategorie],M$4,Haushaltsbuch2[Datum],\">\"&B4,Haushaltsbuch2[Datum],\"<=\"&B5)","v":0},{"$f":"SUMIFS(Haushaltsbuch2[Einnahmen],Haushaltsbuch2[Kategorie],N$4,Haushaltsbuch2[Datum],\">\"&B4,Haushaltsbuch2[Datum],\"<=\"&B5)","v":0},{"$f":"SUMIFS(Haushaltsbuch2[Einnahmen],Haushaltsbuch2[Kategorie],O$4,Haushaltsbuch2[Datum],\">\"&B4,Haushaltsbuch2[Datum],\"<=\"&B5)","v":0},{"$f":"SUMIFS(Haushaltsbuch2[Einnahmen],Haushaltsbuch2[Kategorie],P$4,Haushaltsbuch2[Datum],\">\"&B4,Haushaltsbuch2[Datum],\"<=\"&B5)","v":0},{"$f":"SUMIFS(Haushaltsbuch2[Einnahmen],Haushaltsbuch2[Kategorie],Q$4,Haushaltsbuch2[Datum],\">\"&B4,Haushaltsbuch2[Datum],\"<=\"&B5)","v":0},{"$f":"SUMIFS(Haushaltsbuch2[Einnahmen],Haushaltsbuch2[Kategorie],R$4,Haushaltsbuch2[Datum],\">\"&B4,Haushaltsbuch2[Datum],\"<=\"&B5)","v":0},{"$f":"SUMIFS(Haushaltsbuch2[Ausgaben],Haushaltsbuch2[Kategorie],S$4,Haushaltsbuch2[Datum],\">\"&B4,Haushaltsbuch2[Datum],\"<=\"&B5)","v":0},{"$f":"SUMIFS(Haushaltsbuch2[Ausgaben],Haushaltsbuch2[Kategorie],T$4,Haushaltsbuch2[Datum],\">\"&B4,Haushaltsbuch2[Datum],\"<=\"&B5)","v":0},{"$f":"SUMIFS(Haushaltsbuch2[Ausgaben],Haushaltsbuch2[Kategorie],U$4,Haushaltsbuch2[Datum],\">\"&B4,Haushaltsbuch2[Datum],\"<=\"&B5)","v":0},{"$f":"SUMIFS(Haushaltsbuch2[Ausgaben],Haushaltsbuch2[Kategorie],V$4,Haushaltsbuch2[Datum],\">\"&B4,Haushaltsbuch2[Datum],\"<=\"&B5)","v":0},{"$f":"SUMIFS(Haushaltsbuch2[Ausgaben],Haushaltsbuch2[Kategorie],W$4,Haushaltsbuch2[Datum],\">\"&B4,Haushaltsbuch2[Datum],\"<=\"&B5)","v":0},{"$f":"SUMIFS(Haushaltsbuch2[Ausgaben],Haushaltsbuch2[Kategorie],X$4,Haushaltsbuch2[Datum],\">\"&B4,Haushaltsbuch2[Datum],\"<=\"&B5)","v":0},{"$f":"SUMIFS(Haushaltsbuch2[Ausgaben],Haushaltsbuch2[Kategorie],Y$4,Haushaltsbuch2[Datum],\">\"&B4,Haushaltsbuch2[Datum],\"<=\"&B5)","v":0},{"$f":"SUMIFS(Haushaltsbuch2[Ausgaben],Haushaltsbuch2[Kategorie],Z$4,Haushaltsbuch2[Datum],\">\"&B4,Haushaltsbuch2[Datum],\"<=\"&B5)","v":0},{"$f":"SUMIFS(Haushaltsbuch2[Ausgaben],Haushaltsbuch2[Kategorie],AA$4,Haushaltsbuch2[Datum],\">\"&B4,Haushaltsbuch2[Datum],\"<=\"&B5)","v":0},{"$f":"SUMIFS(Haushaltsbuch2[Ausgaben],Haushaltsbuch2[Kategorie],AB$4,Haushaltsbuch2[Datum],\">\"&B4,Haushaltsbuch2[Datum],\"<=\"&B5)","v":0},{"$f":"SUMIFS(Haushaltsbuch2[Ausgaben],Haushaltsbuch2[Kategorie],AC$4,Haushaltsbuch2[Datum],\">\"&B4,Haushaltsbuch2[Datum],\"<=\"&B5)","v":0},{"$f":"SUMIFS(Haushaltsbuch2[Ausgaben],Haushaltsbuch2[Kategorie],AD$4,Haushaltsbuch2[Datum],\">\"&B4,Haushaltsbuch2[Datum],\"<=\"&B5)","v":0},{"$f":"SUMIFS(Haushaltsbuch2[Ausgaben],Haushaltsbuch2[Kategorie],AE$4,Haushaltsbuch2[Datum],\">\"&B4,Haushaltsbuch2[Datum],\"<=\"&B5)","v":0},{"$f":"SUMIFS(Haushaltsbuch2[Ausgaben],Haushaltsbuch2[Kategorie],AF$4,Haushaltsbuch2[Datum],\">\"&B4,Haushaltsbuch2[Datum],\"<=\"&B5)","v":0},{"$f":"SUMIFS(Haushaltsbuch2[Ausgaben],Haushaltsbuch2[Kategorie],AG$4,Haushaltsbuch2[Datum],\">\"&B4,Haushaltsbuch2[Datum],\"<=\"&B5)","v":0},{"$f":"SUMIFS(Haushaltsbuch2[Ausgaben],Haushaltsbuch2[Kategorie],AH$4,Haushaltsbuch2[Datum],\">\"&B4,Haushaltsbuch2[Datum],\"<=\"&B5)","v":0},{"$f":"SUMIFS(Haushaltsbuch2[Ausgaben],Haushaltsbuch2[Kategorie],AI$4,Haushaltsbuch2[Datum],\">\"&B4,Haushaltsbuch2[Datum],\"<=\"&B5)","v":0},{"$f":"SUMIFS(Haushaltsbuch2[Ausgaben],Haushaltsbuch2[Kategorie],AJ$4,Haushaltsbuch2[Datum],\">\"&B4,Haushaltsbuch2[Datum],\"<=\"&B5)","v":0},{"$f":"SUMIFS(Haushaltsbuch2[Ausgaben],Haushaltsbuch2[Kategorie],AK$4,Haushaltsbuch2[Datum],\">\"&B4,Haushaltsbuch2[Datum],\"<=\"&B5)","v":0},{"$f":"SUMIFS(Haushaltsbuch2[Ausgaben],Haushaltsbuch2[Kategorie],AL$4,Haushaltsbuch2[Datum],\">\"&B4,Haushaltsbuch2[Datum],\"<=\"&B5)","v":0},null,{"$f":"SUMIFS(Dividenden[Betrag in EUR],Dividenden[Datum],\">\"&B4,Dividenden[Datum],\"<=\"&B5)","v":0},{"$f":"SUMIFS(Optionen[G/V (Netto)],Optionen[Datum],\">\"&B4,Optionen[Datum],\"<=\"&B5)","v":0},null,{"$f":"N5+AN5","v":0},{"$f":"O5+AO5","v":0},null,{"$f":"M5+SUM(P5:R5)+SUM(AQ5:AR5)","v":0},{"$f":"AT5","v":0},null,{"$f":"SUMIFS(Haushaltsbuch2[Einnahmen],Haushaltsbuch2[Datum],\">\"&B4,Haushaltsbuch2[Datum],\"<=\"&B5)+AN5+AO5","v":0},null,{"$f":"AK5","v":0},null,{"$f":"SUMIFS(Haushaltsbuch2[Ausgaben],Haushaltsbuch2[Datum],\">\"&B4,Haushaltsbuch2[Datum],\"<=\"&B5)","v":0}]
[null,{"$f":"EOMONTH(B5,1)","v":25658},null,null,null,null,null,null,null,null,null,null,{"$f":"SUMIFS(Haushaltsbuch2[Einnahmen],Haushaltsbuch2[Kategorie],M$4,Haushaltsbuch2[Datum],\">\"&B5,Haushaltsbuch2[Datum],\"<=\"&B6)","v":0},{"$f":"SUMIFS(Haushaltsbuch2[Einnahmen],Haushaltsbuch2[Kategorie],N$4,Haushaltsbuch2[Datum],\">\"&B5,Haushaltsbuch2[Datum],\"<=\"&B6)","v":0},{"$f":"SUMIFS(Haushaltsbuch2[Einnahmen],Haushaltsbuch2[Kategorie],O$4,Haushaltsbuch2[Datum],\">\"&B5,Haushaltsbuch2[Datum],\"<=\"&B6)","v":0},{"$f":"SUMIFS(Haushaltsbuch2[Einnahmen],Haushaltsbuch2[Kategorie],P$4,Haushaltsbuch2[Datum],\">\"&B5,Haushaltsbuch2[Datum],\"<=\"&B6)","v":0},{"$f":"SUMIFS(Haushaltsbuch2[Einnahmen],Haushaltsbuch2[Kategorie],Q$4,Haushaltsbuch2[Datum],\">\"&B5,Haushaltsbuch2[Datum],\"<=\"&B6)","v":0},{"$f":"SUMIFS(Haushaltsbuch2[Einnahmen],Haushaltsbuch2[Kategorie],R$4,Haushaltsbuch2[Datum],\">\"&B5,Haushaltsbuch2[Datum],\"<=\"&B6)","v":0},null,null,null,null,null,null,null,null,null,null,null,null,null,null,null,null,null,null,{"$f":"SUMIFS(Haushaltsbuch2[Ausgaben],Haushaltsbuch2[Kategorie],AK$4,Haushaltsbuch2[Datum],\">\"&B5,Haushaltsbuch2[Datum],\"<=\"&B6)","v":0},null,null,{"$f":"SUMIFS(Dividenden[Betrag in EUR],Dividenden[Datum],\">\"&B5,Dividenden[Datum],\"<=\"&B6)","v":0},{"$f":"SUMIFS(Optionen[G/V (Netto)],Optionen[Datum],\">\"&B5,Optionen[Datum],\"<=\"&B6)","v":0},null,{"$f":"N6+AN6","v":0},{"$f":"O6+AO6","v":0},null,{"$f":"M6+SUM(P6:R6)+SUM(AQ6:AR6)","v":0},{"$f":"AVERAGE($AT$5:AT6)","v":0},null,{"$f":"SUMIFS(Haushaltsbuch2[Einnahmen],Haushaltsbuch2[Datum],\">\"&B5,Haushaltsbuch2[Datum],\"<=\"&B6)+AN6+AO6","v":0},null,{"$f":"AVERAGE($AK$5:AK6)","v":0},null,{"$f":"SUMIFS(Haushaltsbuch2[Ausgaben],Haushaltsbuch2[Datum],\">\"&B5,Haushaltsbuch2[Datum],\"<=\"&B6)","v":0}]
[null,{"$f":"EOMONTH(B6,1)","v":25688},null,null,null,null,null,null,null,null,null,null,{"$f":"SUMIFS(Haushaltsbuch2[Einnahmen],Haushaltsbuch2[Kategorie],M$4,Haushaltsbuch2[Datum],\">\"&B6,Haushaltsbuch2[Datum],\"<=\"&B7)","v":0},{"$f":"SUMIFS(Haushaltsbuch2[Einnahmen],Haushaltsbuch2[Kategorie],N$4,Haushaltsbuch2[Datum],\">\"&B6,Haushaltsbuch2[Datum],\"<=\"&B7)","v":0},{"$f":"SUMIFS(Haushaltsbuch2[Einnahmen],Haushaltsbuch2[Kategorie],O$4,Haushaltsbuch2[Datum],\">\"&B6,Haushaltsbuch2[Datum],\"<=\"&B7)","v":0},{"$f":"SUMIFS(Haushaltsbuch2[Einnahmen],Haushaltsbuch2[Kategorie],P$4,Haushaltsbuch2[Datum],\">\"&B6,Haushaltsbuch2[Datum],\"<=\"&B7)","v":0},{"$f":"SUMIFS(Haushaltsbuch2[Einnahmen],Haushaltsbuch2[Kategorie],Q$4,Haushaltsbuch2[Datum],\">\"&B6,Haushaltsbuch2[Datum],\"<=\"&B7)","v":0},{"$f":"SUMIFS(Haushaltsbuch2[Einnahmen],Haushaltsbuch2[Kategorie],R$4,Haushaltsbuch2[Datum],\">\"&B6,Haushaltsbuch2[Datum],\"<=\"&B7)","v":0},null,null,null,null,null,null,null,null,null,null,null,null,null,null,null,null,null,null,{"$f":"SUMIFS(Haushaltsbuch2[Ausgaben],Haushaltsbuch2[Kategorie],AK$4,Haushaltsbuch2[Datum],\">\"&B6,Haushaltsbuch2[Datum],\"<=\"&B7)","v":0},null,null,{"$f":"SUMIFS(Dividenden[Betrag in EUR],Dividenden[Datum],\">\"&B6,Dividenden[Datum],\"<=\"&B7)","v":0},{"$f":"SUMIFS(Optionen[G/V (Netto)],Optionen[Datum],\">\"&B6,Optionen[Datum],\"<=\"&B7)","v":0},null,0,0,null,0,{"$f":"AVERAGE($AT$5:AT7)","v":0},null,{"$f":"SUMIFS(Haushaltsbuch2[Einnahmen],Haushaltsbuch2[Datum],\">\"&B6,Haushaltsbuch2[Datum],\"<=\"&B7)+AN7+AO7","v":0},null,{"$f":"AVERAGE($AK$5:AK7)","v":0},null,{"$f":"SUMIFS(Haushaltsbuch2[Ausgaben],Haushaltsbuch2[Datum],\">\"&B6,Haushaltsbuch2[Datum],\"<=\"&B7)","v":0}]
[null,25719,null,null,null,null,null,null,null,null,null,null,{"$f":"SUMIFS(Haushaltsbuch2[Einnahmen],Haushaltsbuch2[Kategorie],M$4,Haushaltsbuch2[Datum],\">\"&B7,Haushaltsbuch2[Datum],\"<=\"&B8)","v":0},{"$f":"SUMIFS(Haushaltsbuch2[Einnahmen],Haushaltsbuch2[Kategorie],N$4,Haushaltsbuch2[Datum],\">\"&B7,Haushaltsbuch2[Datum],\"<=\"&B8)","v":0},{"$f":"SUMIFS(Haushaltsbuch2[Einnahmen],Haushaltsbuch2[Kategorie],O$4,Haushaltsbuch2[Datum],\">\"&B7,Haushaltsbuch2[Datum],\"<=\"&B8)","v":0},{"$f":"SUMIFS(Haushaltsbuch2[Einnahmen],Haushaltsbuch2[Kategorie],P$4,Haushaltsbuch2[Datum],\">\"&B7,Haushaltsbuch2[Datum],\"<=\"&B8)","v":0},{"$f":"SUMIFS(Haushaltsbuch2[Einnahmen],Haushaltsbuch2[Kategorie],Q$4,Haushaltsbuch2[Datum],\">\"&B7,Haushaltsbuch2[Datum],\"<=\"&B8)","v":0},{"$f":"SUMIFS(Haushaltsbuch2[Einnahmen],Haushaltsbuch2[Kategorie],R$4,Haushaltsbuch2[Datum],\">\"&B7,Haushaltsbuch2[Datum],\"<=\"&B8)","v":0},null,null,null,null,null,null,null,null,null,null,null,null,null,null,null,null,null,null,{"$f":"SUMIFS(Haushaltsbuch2[Ausgaben],Haushaltsbuch2[Kategorie],AK$4,Haushaltsbuch2[Datum],\">\"&B7,Haushaltsbuch2[Datum],\"<=\"&B8)","v":0},null,null,{"$f":"SUMIFS(Dividenden[Betrag in EUR],Dividenden[Datum],\">\"&B7,Dividenden[Datum],\"<=\"&B8)","v":0},{"$f":"SUMIFS(Optionen[G/V (Netto)],Optionen[Datum],\">\"&B7,Optionen[Datum],\"<=\"&B8)","v":0},null,0,0,null,0,{"$f":"AVERAGE($AT$5:AT8)","v":0},null,{"$f":"SUMIFS(Haushaltsbuch2[Einnahmen],Haushaltsbuch2[Datum],\">\"&B7,Haushaltsbuch2[Datum],\"<=\"&B8)+AN8+AO8","v":0},null,{"$f":"AVERAGE($AK$5:AK8)","v":0},null,{"$f":"SUMIFS(Haushaltsbuch2[Ausgaben],Haushaltsbuch2[Datum],\">\"&B7,Haushaltsbuch2[Datum],\"<=\"&B8)","v":0}]
[null,25749,null,null,null,null,null,null,null,null,null,null,{"$f":"SUMIFS(Haushaltsbuch2[Einnahmen],Haushaltsbuch2[Kategorie],M$4,Haushaltsbuch2[Datum],\">\"&B8,Haushaltsbuch2[Datum],\"<=\"&B9)","v":0},{"$f":"SUMIFS(Haushaltsbuch2[Einnahmen],Haushaltsbuch2[Kategorie],N$4,Haushaltsbuch2[Datum],\">\"&B8,Haushaltsbuch2[Datum],\"<=\"&B9)","v":0},{"$f":"SUMIFS(Haushaltsbuch2[Einnahmen],Haushaltsbuch2[Kategorie],O$4,Haushaltsbuch2[Datum],\">\"&B8,Haushaltsbuch2[Datum],\"<=\"&B9)","v":0},{"$f":"SUMIFS(Haushaltsbuch2[Einnahmen],Haushaltsbuch2[Kategorie],P$4,Haushaltsbuch2[Datum],\">\"&B8,Haushaltsbuch2[Datum],\"<=\"&B9)","v":0},{"$f":"SUMIFS(Haushaltsbuch2[Einnahmen],Haushaltsbuch2[Kategorie],Q$4,Haushaltsbuch2[Datum],\">\"&B8,Haushaltsbuch2[Datum],\"<=\"&B9)","v":0},{"$f":"SUMIFS(Haushaltsbuch2[Einnahmen],Haushaltsbuch2[Kategorie],R$4,Haushaltsbuch2[Datum],\">\"&B8,Haushaltsbuch2[Datum],\"<=\"&B9)","v":0},null,null,null,null,null,null,null,null,null,null,null,null,null,null,null,null,null,null,{"$f":"SUMIFS(Haushaltsbuch2[Ausgaben],Haushaltsbuch2[Kategorie],AK$4,Haushaltsbuch2[Datum],\">\"&B8,Haushaltsbuch2[Datum],\"<=\"&B9)","v":0},null,null,{"$f":"SUMIFS(Dividenden[Betrag in EUR],Dividenden[Datum],\">\"&B8,Dividenden[Datum],\"<=\"&B9)","v":0},{"$f":"SUMIFS(Optionen[G/V (Netto)],Optionen[Datum],\">\"&B8,Optionen[Datum],\"<=\"&B9)","v":0},null,0,0,null,0,{"$f":"AVERAGE($AT$5:AT9)","v":0},null,{"$f":"SUMIFS(Haushaltsbuch2[Einnahmen],Haushaltsbuch2[Datum],\">\"&B8,Haushaltsbuch2[Datum],\"<=\"&B9)+AN9+AO9","v":0},null,{"$f":"AVERAGE($AK$5:AK9)","v":0},null,{"$f":"SUMIFS(Haushaltsbuch2[Ausgaben],Haushaltsbuch2[Datum],\">\"&B8,Haushaltsbuch2[Datum],\"<=\"&B9)","v":0}]
[null,25780,null,null,null,null,null,null,null,null,null,null,{"$f":"SUMIFS(Haushaltsbuch2[Einnahmen],Haushaltsbuch2[Kategorie],M$4,Haushaltsbuch2[Datum],\">\"&B9,Haushaltsbuch2[Datum],\"<=\"&B10)","v":0},{"$f":"SUMIFS(Haushaltsbuch2[Einnahmen],Haushaltsbuch2[Kategorie],N$4,Haushaltsbuch2[Datum],\">\"&B9,Haushaltsbuch2[Datum],\"<=\"&B10)","v":0},{"$f":"SUMIFS(Haushaltsbuch2[Einnahmen],Haushaltsbuch2[Kategorie],O$4,Haushaltsbuch2[Datum],\">\"&B9,Haushaltsbuch2[Datum],\"<=\"&B10)","v":0},{"$f":"SUMIFS(Haushaltsbuch2[Einnahmen],Haushaltsbuch2[Kategorie],P$4,Haushaltsbuch2[Datum],\">\"&B9,Haushaltsbuch2[Datum],\"<=\"&B10)","v":0},{"$f":"SUMIFS(Haushaltsbuch2[Einnahmen],Haushaltsbuch2[Kategorie],Q$4,Haushaltsbuch2[Datum],\">\"&B9,Haushaltsbuch2[Datum],\"<=\"&B10)","v":0},{"$f":"SUMIFS(Haushaltsbuch2[Einnahmen],Haushaltsbuch2[Kategorie],R$4,Haushaltsbuch2[Datum],\">\"&B9,Haushaltsbuch2[Datum],\"<=\"&B10)","v":0},null,null,null,null,null,null,null,null,null,null,null,null,null,null,null,null,null,null,{"$f":"SUMIFS(Haushaltsbuch2[Ausgaben],Haushaltsbuch2[Kategorie],AK$4,Haushaltsbuch2[Datum],\">\"&B9,Haushaltsbuch2[Datum],\"<=\"&B10)","v":0},null,null,{"$f":"SUMIFS(Dividenden[Betrag in EUR],Dividenden[Datum],\">\"&B9,Dividenden[Datum],\"<=\"&B10)","v":0},{"$f":"SUMIFS(Optionen[G/V (Netto)],Optionen[Datum],\">\"&B9,Optionen[Datum],\"<=\"&B10)","v":0},null,0,0,null,0,{"$f":"AVERAGE($AT$5:AT10)","v":0},null,{"$f":"SUMIFS(Haushaltsbuch2[Einnahmen],Haushaltsbuch2[Datum],\">\"&B9,Haushaltsbuch2[Datum],\"<=\"&B10)+AN10+AO10","v":0},null,{"$f":"AVERAGE($AK$5:AK10)","v":0},null,{"$f":"SUMIFS(Haushaltsbuch2[Ausgaben],Haushaltsbuch2[Datum],\">\"&B9,Haushaltsbuch2[Datum],\"<=\"&B10)","v":0}]
[null,25811,null,null,null,null,null,null,null,null,null,null,{"$f":"SUMIFS(Haushaltsbuch2[Einnahmen],Haushaltsbuch2[Kategorie],M$4,Haushaltsbuch2[Datum],\">\"&B10,Haushaltsbuch2[Datum],\"<=\"&B11)","v":0},{"$f":"SUMIFS(Haushaltsbuch2[Einnahmen],Haushaltsbuch2[Kategorie],N$4,Haushaltsbuch2[Datum],\">\"&B10,Haushaltsbuch2[Datum],\"<=\"&B11)","v":0},{"$f":"SUMIFS(Haushaltsbuch2[Einnahmen],Haushaltsbuch2[Kategorie],O$4,Haushaltsbuch2[Datum],\">\"&B10,Haushaltsbuch2[Datum],\"<=\"&B11)","v":0},{"$f":"SUMIFS(Haushaltsbuch2[Einnahmen],Haushaltsbuch2[Kategorie],P$4,Haushaltsbuch2[Datum],\">\"&B10,Haushaltsbuch2[Datum],\"<=\"&B11)","v":0},{"$f":"SUMIFS(Haushaltsbuch2[Einnahmen],Haushaltsbuch2[Kategorie],Q$4,Haushaltsbuch2[Datum],\">\"&B10,Haushaltsbuch2[Datum],\"<=\"&B11)","v":0},{"$f":"SUMIFS(Haushaltsbuch2[Einnahmen],Haushaltsbuch2[Kategorie],R$4,Haushaltsbuch2[Datum],\">\"&B10,Haushaltsbuch2[Datum],\"<=\"&B11)","v":0},null,null,null,null,null,null,null,null,null,null,null,null,null,null,null,null,null,null,{"$f":"SUMIFS(Haushaltsbuch2[Ausgaben],Haushaltsbuch2[Kategorie],AK$4,Haushaltsbuch2[Datum],\">\"&B10,Haushaltsbuch2[Datum],\"<=\"&B11)","v":0},null,null,{"$f":"SUMIFS(Dividenden[Betrag in EUR],Dividenden[Datum],\">\"&B10,Dividenden[Datum],\"<=\"&B11)","v":0},{"$f":"SUMIFS(Optionen[G/V (Netto)],Optionen[Datum],\">\"&B10,Optionen[Datum],\"<=\"&B11)","v":0},null,0,0,null,0,{"$f":"AVERAGE($AT$5:AT11)","v":0},null,{"$f":"SUMIFS(Haushaltsbuch2[Einnahmen],Haushaltsbuch2[Datum],\">\"&B10,Haushaltsbuch2[Datum],\"<=\"&B11)+AN11+AO11","v":0},null,{"$f":"AVERAGE($AK$5:AK11)","v":0},null,{"$f":"SUMIFS(Haushaltsbuch2[Ausgaben],Haushaltsbuch2[Datum],\">\"&B10,Haushaltsbuch2[Datum],\"<=\"&B11)","v":0}]
[null,25841,null,null,null,null,null,null,null,null,null,null,{"$f":"SUMIFS(Haushaltsbuch2[Einnahmen],Haushaltsbuch2[Kategorie],M$4,Haushaltsbuch2[Datum],\">\"&B11,Haushaltsbuch2[Datum],\"<=\"&B12)","v":0},{"$f":"SUMIFS(Haushaltsbuch2[Einnahmen],Haushaltsbuch2[Kategorie],N$4,Haushaltsbuch2[Datum],\">\"&B11,Haushaltsbuch2[Datum],\"<=\"&B12)","v":0},{"$f":"SUMIFS(Haushaltsbuch2[Einnahmen],Haushaltsbuch2[Kategorie],O$4,Haushaltsbuch2[Datum],\">\"&B11,Haushaltsbuch2[Datum],\"<=\"&B12)","v":0},{"$f":"SUMIFS(Haushaltsbuch2[Einnahmen],Haushaltsbuch2[Kategorie],P$4,Haushaltsbuch2[Datum],\">\"&B11,Haushaltsbuch2[Datum],\"<=\"&B12)","v":0},{"$f":"SUMIFS(Haushaltsbuch2[Einnahmen],Haushaltsbuch2[Kategorie],Q$4,Haushaltsbuch2[Datum],\">\"&B11,Haushaltsbuch2[Datum],\"<=\"&B12)","v":0},{"$f":"SUMIFS(Haushaltsbuch2[Einnahmen],Haushaltsbuch2[Kategorie],R$4,Haushaltsbuch2[Datum],\">\"&B11,Haushaltsbuch2[Datum],\"<=\"&B12)","v":0},null,null,null,null,null,null,null,null,null,null,null,null,null,null,null,null,null,null,{"$f":"SUMIFS(Haushaltsbuch2[Ausgaben],Haushaltsbuch2[Kategorie],AK$4,Haushaltsbuch2[Datum],\">\"&B11,Haushaltsbuch2[Datum],\"<=\"&B12)","v":0},null,null,{"$f":"SUMIFS(Dividenden[Betrag in EUR],Dividenden[Datum],\">\"&B11,Dividenden[Datum],\"<=\"&B12)","v":0},{"$f":"SUMIFS(Optionen[G/V (Netto)],Optionen[Datum],\">\"&B11,Optionen[Datum],\"<=\"&B12)","v":0},null,0,0,null,0,{"$f":"AVERAGE($AT$5:AT12)","v":0},null,{"$f":"SUMIFS(Haushaltsbuch2[Einnahmen],Haushaltsbuch2[Datum],\">\"&B11,Haushaltsbuch2[Datum],\"<=\"&B12)+AN12+AO12","v":0},null,{"$f":"AVERAGE($AK$5:AK12)","v":0},null,{"$f":"SUMIFS(Haushaltsbuch2[Ausgaben],Haushaltsbuch2[Datum],\">\"&B11,Haushaltsbuch2[Datum],\"<=\"&B12)","v":0}]
[null,25872,null,null,null,null,null,null,null,null,null,null,{"$f":"SUMIFS(Haushaltsbuch2[Einnahmen],Haushaltsbuch2[Kategorie],M$4,Haushaltsbuch2[Datum],\">\"&B12,Haushaltsbuch2[Datum],\"<=\"&B13)","v":0},{"$f":"SUMIFS(Haushaltsbuch2[Einnahmen],Haushaltsbuch2[Kategorie],N$4,Haushaltsbuch2[Datum],\">\"&B12,Haushaltsbuch2[Datum],\"<=\"&B13)","v":0},{"$f":"SUMIFS(Haushaltsbuch2[Einnahmen],Haushaltsbuch2[Kategorie],O$4,Haushaltsbuch2[Datum],\">\"&B12,Haushaltsbuch2[Datum],\"<=\"&B13)","v":0},{"$f":"SUMIFS(Haushaltsbuch2[Einnahmen],Haushaltsbuch2[Kategorie],P$4,Haushaltsbuch2[Datum],\">\"&B12,Haushaltsbuch2[Datum],\"<=\"&B13)","v":0},{"$f":"SUMIFS(Haushaltsbuch2[Einnahmen],Haushaltsbuch2[Kategorie],Q$4,Haushaltsbuch2[Datum],\">\"&B12,Haushaltsbuch2[Datum],\"<=\"&B13)","v":0},{"$f":"SUMIFS(Haushaltsbuch2[Einnahmen],Haushaltsbuch2[Kategorie],R$4,Haushaltsbuch2[Datum],\">\"&B12,Haushaltsbuch2[Datum],\"<=\"&B13)","v":0},null,null,null,null,null,null,null,null,null,null,null,null,null,null,null,null,null,null,{"$f":"SUMIFS(Haushaltsbuch2[Ausgaben],Haushaltsbuch2[Kategorie],AK$4,Haushaltsbuch2[Datum],\">\"&B12,Haushaltsbuch2[Datum],\"<=\"&B13)","v":0},null,null,{"$f":"SUMIFS(Dividenden[Betrag in EUR],Dividenden[Datum],\">\"&B12,Dividenden[Datum],\"<=\"&B13)","v":0},{"$f":"SUMIFS(Optionen[G/V (Netto)],Optionen[Datum],\">\"&B12,Optionen[Datum],\"<=\"&B13)","v":0},null,0,0,null,0,{"$f":"AVERAGE($AT$5:AT13)","v":0},null,{"$f":"SUMIFS(Haushaltsbuch2[Einnahmen],Haushaltsbuch2[Datum],\">\"&B12,Haushaltsbuch2[Datum],\"<=\"&B13)+AN13+AO13","v":0},null,{"$f":"AVERAGE($AK$5:AK13)","v":0},null,{"$f":"SUMIFS(Haushaltsbuch2[Ausgaben],Haushaltsbuch2[Datum],\">\"&B12,Haushaltsbuch2[Datum],\"<=\"&B13)","v":0}]
[null,25902,null,null,null,null,null,null,null,null,null,null,{"$f":"SUMIFS(Haushaltsbuch2[Einnahmen],Haushaltsbuch2[Kategorie],M$4,Haushaltsbuch2[Datum],\">\"&B13,Haushaltsbuch2[Datum],\"<=\"&B14)","v":0},{"$f":"SUMIFS(Haushaltsbuch2[Einnahmen],Haushaltsbuch2[Kategorie],N$4,Haushaltsbuch2[Datum],\">\"&B13,Haushaltsbuch2[Datum],\"<=\"&B14)","v":0},{"$f":"SUMIFS(Haushaltsbuch2[Einnahmen],Haushaltsbuch2[Kategorie],O$4,Haushaltsbuch2[Datum],\">\"&B13,Haushaltsbuch2[Datum],\"<=\"&B14)","v":0},{"$f":"SUMIFS(Haushaltsbuch2[Einnahmen],Haushaltsbuch2[Kategorie],P$4,Haushaltsbuch2[Datum],\">\"&B13,Haushaltsbuch2[Datum],\"<=\"&B14)","v":0},{"$f":"SUMIFS(Haushaltsbuch2[Einnahmen],Haushaltsbuch2[Kategorie],Q$4,Haushaltsbuch2[Datum],\">\"&B13,Haushaltsbuch2[Datum],\"<=\"&B14)","v":0},{"$f":"SUMIFS(Haushaltsbuch2[Einnahmen],Haushaltsbuch2[Kategorie],R$4,Haushaltsbuch2[Datum],\">\"&B13,Haushaltsbuch2[Datum],\"<=\"&B14)","v":0},null,null,null,null,null,null,null,null,null,null,null,null,null,null,null,null,null,null,{"$f":"SUMIFS(Haushaltsbuch2[Ausgaben],Haushaltsbuch2[Kategorie],AK$4,Haushaltsbuch2[Datum],\">\"&B13,Haushaltsbuch2[Datum],\"<=\"&B14)","v":0},null,null,{"$f":"SUMIFS(Dividenden[Betrag in EUR],Dividenden[Datum],\">\"&B13,Dividenden[Datum],\"<=\"&B14)","v":0},{"$f":"SUMIFS(Optionen[G/V (Netto)],Optionen[Datum],\">\"&B13,Optionen[Datum],\"<=\"&B14)","v":0},null,0,0,null,0,{"$f":"AVERAGE($AT$5:AT14)","v":0},null,{"$f":"SUMIFS(Haushaltsbuch2[Einnahmen],Haushaltsbuch2[Datum],\">\"&B13,Haushaltsbuch2[Datum],\"<=\"&B14)+AN14+AO14","v":0},null,{"$f":"AVERAGE($AK$5:AK14)","v":0},null,{"$f":"SUMIFS(Haushaltsbuch2[Ausgaben],Haushaltsbuch2[Datum],\">\"&B13,Haushaltsbuch2[Datum],\"<=\"&B14)","v":0}]
[null,25933,null,null,null,null,null,null,null,null,null,null,{"$f":"SUMIFS(Haushaltsbuch2[Einnahmen],Haushaltsbuch2[Kategorie],M$4,Haushaltsbuch2[Datum],\">\"&B14,Haushaltsbuch2[Datum],\"<=\"&B15)","v":0},{"$f":"SUMIFS(Haushaltsbuch2[Einnahmen],Haushaltsbuch2[Kategorie],N$4,Haushaltsbuch2[Datum],\">\"&B14,Haushaltsbuch2[Datum],\"<=\"&B15)","v":0},{"$f":"SUMIFS(Haushaltsbuch2[Einnahmen],Haushaltsbuch2[Kategorie],O$4,Haushaltsbuch2[Datum],\">\"&B14,Haushaltsbuch2[Datum],\"<=\"&B15)","v":0},{"$f":"SUMIFS(Haushaltsbuch2[Einnahmen],Haushaltsbuch2[Kategorie],P$4,Haushaltsbuch2[Datum],\">\"&B14,Haushaltsbuch2[Datum],\"<=\"&B15)","v":0},{"$f":"SUMIFS(Haushaltsbuch2[Einnahmen],Haushaltsbuch2[Kategorie],Q$4,Haushaltsbuch2[Datum],\">\"&B14,Haushaltsbuch2[Datum],\"<=\"&B15)","v":0},{"$f":"SUMIFS(Haushaltsbuch2[Einnahmen],Haushaltsbuch2[Kategorie],R$4,Haushaltsbuch2[Datum],\">\"&B14,Haushaltsbuch2[Datum],\"<=\"&B15)","v":0},null,null,null,null,null,null,null,null,null,null,null,null,null,null,null,null,null,null,{"$f":"SUMIFS(Haushaltsbuch2[Ausgaben],Haushaltsbuch2[Kategorie],AK$4,Haushaltsbuch2[Datum],\">\"&B14,Haushaltsbuch2[Datum],\"<=\"&B15)","v":0},null,null,{"$f":"SUMIFS(Dividenden[Betrag in EUR],Dividenden[Datum],\">\"&B14,Dividenden[Datum],\"<=\"&B15)","v":0},{"$f":"SUMIFS(Optionen[G/V (Netto)],Optionen[Datum],\">\"&B14,Optionen[Datum],\"<=\"&B15)","v":0},null,0,0,null,0,{"$f":"AVERAGE($AT$5:AT15)","v":0},null,{"$f":"SUMIFS(Haushaltsbuch2[Einnahmen],Haushaltsbuch2[Datum],\">\"&B14,Haushaltsbuch2[Datum],\"<=\"&B15)+AN15+AO15","v":0},null,{"$f":"AVERAGE($AK$5:AK15)","v":0},null,{"$f":"SUMIFS(Haushaltsbuch2[Ausgaben],Haushaltsbuch2[Datum],\">\"&B14,Haushaltsbuch2[Datum],\"<=\"&B15)","v":0}]
[null,25964,null,null,null,null,null,null,null,null,null,null,{"$f":"SUMIFS(Haushaltsbuch2[Einnahmen],Haushaltsbuch2[Kategorie],M$4,Haushaltsbuch2[Datum],\">\"&B15,Haushaltsbuch2[Datum],\"<=\"&B16)","v":0},{"$f":"SUMIFS(Haushaltsbuch2[Einnahmen],Haushaltsbuch2[Kategorie],N$4,Haushaltsbuch2[Datum],\">\"&B15,Haushaltsbuch2[Datum],\"<=\"&B16)","v":0},{"$f":"SUMIFS(Haushaltsbuch2[Einnahmen],Haushaltsbuch2[Kategorie],O$4,Haushaltsbuch2[Datum],\">\"&B15,Haushaltsbuch2[Datum],\"<=\"&B16)","v":0},{"$f":"SUMIFS(Haushaltsbuch2[Einnahmen],Haushaltsbuch2[Kategorie],P$4,Haushaltsbuch2[Datum],\">\"&B15,Haushaltsbuch2[Datum],\"<=\"&B16)","v":0},{"$f":"SUMIFS(Haushaltsbuch2[Einnahmen],Haushaltsbuch2[Kategorie],Q$4,Haushaltsbuch2[Datum],\">\"&B15,Haushaltsbuch2[Datum],\"<=\"&B16)","v":0},{"$f":"SUMIFS(Haushaltsbuch2[Einnahmen],Haushaltsbuch2[Kategorie],R$4,Haushaltsbuch2[Datum],\">\"&B15,Haushaltsbuch2[Datum],\"<=\"&B16)","v":0},null,null,null,null,null,null,null,null,null,null,null,null,null,null,null,null,null,null,{"$f":"SUMIFS(Haushaltsbuch2[Ausgaben],Haushaltsbuch2[Kategorie],AK$4,Haushaltsbuch2[Datum],\">\"&B15,Haushaltsbuch2[Datum],\"<=\"&B16)","v":0},null,null,{"$f":"SUMIFS(Dividenden[Betrag in EUR],Dividenden[Datum],\">\"&B15,Dividenden[Datum],\"<=\"&B16)","v":0},{"$f":"SUMIFS(Optionen[G/V (Netto)],Optionen[Datum],\">\"&B15,Optionen[Datum],\"<=\"&B16)","v":0},null,0,0,null,0,{"$f":"AVERAGE($AT$5:AT16)","v":0},null,{"$f":"SUMIFS(Haushaltsbuch2[Einnahmen],Haushaltsbuch2[Datum],\">\"&B15,Haushaltsbuch2[Datum],\"<=\"&B16)+AN16+AO16","v":0},null,{"$f":"AVERAGE($AK$5:AK16)","v":0},null,{"$f":"SUMIFS(Haushaltsbuch2[Ausgaben],Haushaltsbuch2[Datum],\">\"&B15,Haushaltsbuch2[Datum],\"<=\"&B16)","v":0}]
[null,25992,null,null,null,null,null,null,null,null,null,null,{"$f":"SUMIFS(Haushaltsbuch2[Einnahmen],Haushaltsbuch2[Kategorie],M$4,Haushaltsbuch2[Datum],\">\"&B16,Haushaltsbuch2[Datum],\"<=\"&B17)","v":0},{"$f":"SUMIFS(Haushaltsbuch2[Einnahmen],Haushaltsbuch2[Kategorie],N$4,Haushaltsbuch2[Datum],\">\"&B16,Haushaltsbuch2[Datum],\"<=\"&B17)","v":0},{"$f":"SUMIFS(Haushaltsbuch2[Einnahmen],Haushaltsbuch2[Kategorie],O$4,Haushaltsbuch2[Datum],\">\"&B16,Haushaltsbuch2[Datum],\"<=\"&B17)","v":0},{"$f":"SUMIFS(Haushaltsbuch2[Einnahmen],Haushaltsbuch2[Kategorie],P$4,Haushaltsbuch2[Datum],\">\"&B16,Haushaltsbuch2[Datum],\"<=\"&B17)","v":0},{"$f":"SUMIFS(Haushaltsbuch2[Einnahmen],Haushaltsbuch2[Kategorie],Q$4,Haushaltsbuch2[Datum],\">\"&B16,Haushaltsbuch2[Datum],\"<=\"&B17)","v":0},{"$f":"SUMIFS(Haushaltsbuch2[Einnahmen],Haushaltsbuch2[Kategorie],R$4,Haushaltsbuch2[Datum],\">\"&B16,Haushaltsbuch2[Datum],\"<=\"&B17)","v":0},null,null,null,null,null,null,null,null,null,null,null,null,null,null,null,null,null,null,{"$f":"SUMIFS(Haushaltsbuch2[Ausgaben],Haushaltsbuch2[Kategorie],AK$4,Haushaltsbuch2[Datum],\">\"&B16,Haushaltsbuch2[Datum],\"<=\"&B17)","v":0},null,null,{"$f":"SUMIFS(Dividenden[Betrag in EUR],Dividenden[Datum],\">\"&B16,Dividenden[Datum],\"<=\"&B17)","v":0},{"$f":"SUMIFS(Optionen[G/V (Netto)],Optionen[Datum],\">\"&B16,Optionen[Datum],\"<=\"&B17)","v":0},null,0,0,null,0,{"$f":"AVERAGE(AT6:AT17)","v":0},null,{"$f":"SUMIFS(Haushaltsbuch2[Einnahmen],Haushaltsbuch2[Datum],\">\"&B16,Haushaltsbuch2[Datum],\"<=\"&B17)+AN17+AO17","v":0},null,{"$f":"AVERAGE(AK6:AK17)","v":0},null,{"$f":"SUMIFS(Haushaltsbuch2[Ausgaben],Haushaltsbuch2[Datum],\">\"&B16,Haushaltsbuch2[Datum],\"<=\"&B17)","v":0}]
[null,26023,null,null,null,null,null,null,null,null,null,null,{"$f":"SUMIFS(Haushaltsbuch2[Einnahmen],Haushaltsbuch2[Kategorie],M$4,Haushaltsbuch2[Datum],\">\"&B17,Haushaltsbuch2[Datum],\"<=\"&B18)","v":0},{"$f":"SUMIFS(Haushaltsbuch2[Einnahmen],Haushaltsbuch2[Kategorie],N$4,Haushaltsbuch2[Datum],\">\"&B17,Haushaltsbuch2[Datum],\"<=\"&B18)","v":0},{"$f":"SUMIFS(Haushaltsbuch2[Einnahmen],Haushaltsbuch2[Kategorie],O$4,Haushaltsbuch2[Datum],\">\"&B17,Haushaltsbuch2[Datum],\"<=\"&B18)","v":0},{"$f":"SUMIFS(Haushaltsbuch2[Einnahmen],Haushaltsbuch2[Kategorie],P$4,Haushaltsbuch2[Datum],\">\"&B17,Haushaltsbuch2[Datum],\"<=\"&B18)","v":0},{"$f":"SUMIFS(Haushaltsbuch2[Einnahmen],Haushaltsbuch2[Kategorie],Q$4,Haushaltsbuch2[Datum],\">\"&B17,Haushaltsbuch2[Datum],\"<=\"&B18)","v":0},{"$f":"SUMIFS(Haushaltsbuch2[Einnahmen],Haushaltsbuch2[Kategorie],R$4,Haushaltsbuch2[Datum],\">\"&B17,Haushaltsbuch2[Datum],\"<=\"&B18)","v":0},null,null,null,null,null,null,null,null,null,null,null,null,null,null,null,null,null,null,{"$f":"SUMIFS(Haushaltsbuch2[Ausgaben],Haushaltsbuch2[Kategorie],AK$4,Haushaltsbuch2[Datum],\">\"&B17,Haushaltsbuch2[Datum],\"<=\"&B18)","v":0},null,null,{"$f":"SUMIFS(Dividenden[Betrag in EUR],Dividenden[Datum],\">\"&B17,Dividenden[Datum],\"<=\"&B18)","v":0},{"$f":"SUMIFS(Optionen[G/V (Netto)],Optionen[Datum],\">\"&B17,Optionen[Datum],\"<=\"&B18)","v":0},null,0,0,null,0,{"$f":"AVERAGE(AT7:AT18)","v":0},null,{"$f":"SUMIFS(Haushaltsbuch2[Einnahmen],Haushaltsbuch2[Datum],\">\"&B17,Haushaltsbuch2[Datum],\"<=\"&B18)+AN18+AO18","v":0},null,{"$f":"AVERAGE(AK7:AK18)","v":0},null,{"$f":"SUMIFS(Haushaltsbuch2[Ausgaben],Haushaltsbuch2[Datum],\">\"&B17,Haushaltsbuch2[Datum],\"<=\"&B18)","v":0}]
[null,26053,null,null,null,null,null,null,null,null,null,null,{"$f":"SUMIFS(Haushaltsbuch2[Einnahmen],Haushaltsbuch2[Kategorie],M$4,Haushaltsbuch2[Datum],\">\"&B18,Haushaltsbuch2[Datum],\"<=\"&B19)","v":0},{"$f":"SUMIFS(Haushaltsbuch2[Einnahmen],Haushaltsbuch2[Kategorie],N$4,Haushaltsbuch2[Datum],\">\"&B18,Haushaltsbuch2[Datum],\"<=\"&B19)","v":0},{"$f":"SUMIFS(Haushaltsbuch2[Einnahmen],Haushaltsbuch2[Kategorie],O$4,Haushaltsbuch2[Datum],\">\"&B18,Haushaltsbuch2[Datum],\"<=\"&B19)","v":0},{"$f":"SUMIFS(Haushaltsbuch2[Einnahmen],Haushaltsbuch2[Kategorie],P$4,Haushaltsbuch2[Datum],\">\"&B18,Haushaltsbuch2[Datum],\"<=\"&B19)","v":0},{"$f":"SUMIFS(Haushaltsbuch2[Einnahmen],Haushaltsbuch2[Kategorie],Q$4,Haushaltsbuch2[Datum],\">\"&B18,Haushaltsbuch2[Datum],\"<=\"&B19)","v":0},{"$f":"SUMIFS(Haushaltsbuch2[Einnahmen],Haushaltsbuch2[Kategorie],R$4,Haushaltsbuch2[Datum],\">\"&B18,Haushaltsbuch2[Datum],\"<=\"&B19)","v":0},null,null,null,null,null,null,null,null,null,null,null,null,null,null,null,null,null,null,{"$f":"SUMIFS(Haushaltsbuch2[Ausgaben],Haushaltsbuch2[Kategorie],AK$4,Haushaltsbuch2[Datum],\">\"&B18,Haushaltsbuch2[Datum],\"<=\"&B19)","v":0},null,null,{"$f":"SUMIFS(Dividenden[Betrag in EUR],Dividenden[Datum],\">\"&B18,Dividenden[Datum],\"<=\"&B19)","v":0},{"$f":"SUMIFS(Optionen[G/V (Netto)],Optionen[Datum],\">\"&B18,Optionen[Datum],\"<=\"&B19)","v":0},null,0,0,null,0,0,null,{"$f":"SUMIFS(Haushaltsbuch2[Einnahmen],Haushaltsbuch2[Datum],\">\"&B18,Haushaltsbuch2[Datum],\"<=\"&B19)+AN19+AO19","v":0},null,0,null,{"$f":"SUMIFS(Haushaltsbuch2[Ausgaben],Haushaltsbuch2[Datum],\">\"&B18,Haushaltsbuch2[Datum],\"<=\"&B19)","v":0}]
[null,26084,null,null,null,null,null,null,null,null,null,null,{"$f":"SUMIFS(Haushaltsbuch2[Einnahmen],Haushaltsbuch2[Kategorie],M$4,Haushaltsbuch2[Datum],\">\"&B19,Haushaltsbuch2[Datum],\"<=\"&B20)","v":0},{"$f":"SUMIFS(Haushaltsbuch2[Einnahmen],Haushaltsbuch2[Kategorie],N$4,Haushaltsbuch2[Datum],\">\"&B19,Haushaltsbuch2[Datum],\"<=\"&B20)","v":0},{"$f":"SUMIFS(Haushaltsbuch2[Einnahmen],Haushaltsbuch2[Kategorie],O$4,Haushaltsbuch2[Datum],\">\"&B19,Haushaltsbuch2[Datum],\"<=\"&B20)","v":0},{"$f":"SUMIFS(Haushaltsbuch2[Einnahmen],Haushaltsbuch2[Kategorie],P$4,Haushaltsbuch2[Datum],\">\"&B19,Haushaltsbuch2[Datum],\"<=\"&B20)","v":0},{"$f":"SUMIFS(Haushaltsbuch2[Einnahmen],Haushaltsbuch2[Kategorie],Q$4,Haushaltsbuch2[Datum],\">\"&B19,Haushaltsbuch2[Datum],\"<=\"&B20)","v":0},{"$f":"SUMIFS(Haushaltsbuch2[Einnahmen],Haushaltsbuch2[Kategorie],R$4,Haushaltsbuch2[Datum],\">\"&B19,Haushaltsbuch2[Datum],\"<=\"&B20)","v":0},null,null,null,null,null,null,null,null,null,null,null,null,null,null,null,null,null,null,{"$f":"SUMIFS(Haushaltsbuch2[Ausgaben],Haushaltsbuch2[Kategorie],AK$4,Haushaltsbuch2[Datum],\">\"&B19,Haushaltsbuch2[Datum],\"<=\"&B20)","v":0},null,null,{"$f":"SUMIFS(Dividenden[Betrag in EUR],Dividenden[Datum],\">\"&B19,Dividenden[Datum],\"<=\"&B20)","v":0},{"$f":"SUMIFS(Optionen[G/V (Netto)],Optionen[Datum],\">\"&B19,Optionen[Datum],\"<=\"&B20)","v":0},null,0,0,null,0,0,null,{"$f":"SUMIFS(Haushaltsbuch2[Einnahmen],Haushaltsbuch2[Datum],\">\"&B19,Haushaltsbuch2[Datum],\"<=\"&B20)+AN20+AO20","v":0},null,0,null,{"$f":"SUMIFS(Haushaltsbuch2[Ausgaben],Haushaltsbuch2[Datum],\">\"&B19,Haushaltsbuch2[Datum],\"<=\"&B20)","v":0}]
[null,26114,null,null,null,null,null,null,null,null,null,null,{"$f":"SUMIFS(Haushaltsbuch2[Einnahmen],Haushaltsbuch2[Kategorie],M$4,Haushaltsbuch2[Datum],\">\"&B20,Haushaltsbuch2[Datum],\"<=\"&B21)","v":0},{"$f":"SUMIFS(Haushaltsbuch2[Einnahmen],Haushaltsbuch2[Kategorie],N$4,Haushaltsbuch2[Datum],\">\"&B20,Haushaltsbuch2[Datum],\"<=\"&B21)","v":0},{"$f":"SUMIFS(Haushaltsbuch2[Einnahmen],Haushaltsbuch2[Kategorie],O$4,Haushaltsbuch2[Datum],\">\"&B20,Haushaltsbuch2[Datum],\"<=\"&B21)","v":0},{"$f":"SUMIFS(Haushaltsbuch2[Einnahmen],Haushaltsbuch2[Kategorie],P$4,Haushaltsbuch2[Datum],\">\"&B20,Haushaltsbuch2[Datum],\"<=\"&B21)","v":0},{"$f":"SUMIFS(Haushaltsbuch2[Einnahmen],Haushaltsbuch2[Kategorie],Q$4,Haushaltsbuch2[Datum],\">\"&B20,Haushaltsbuch2[Datum],\"<=\"&B21)","v":0},{"$f":"SUMIFS(Haushaltsbuch2[Einnahmen],Haushaltsbuch2[Kategorie],R$4,Haushaltsbuch2[Datum],\">\"&B20,Haushaltsbuch2[Datum],\"<=\"&B21)","v":0},null,null,null,null,null,null,null,null,null,null,null,null,null,null,null,null,null,null,{"$f":"SUMIFS(Haushaltsbuch2[Ausgaben],Haushaltsbuch2[Kategorie],AK$4,Haushaltsbuch2[Datum],\">\"&B20,Haushaltsbuch2[Datum],\"<=\"&B21)","v":0},null,null,{"$f":"SUMIFS(Dividenden[Betrag in EUR],Dividenden[Datum],\">\"&B20,Dividenden[Datum],\"<=\"&B21)","v":0},{"$f":"SUMIFS(Optionen[G/V (Netto)],Optionen[Datum],\">\"&B20,Optionen[Datum],\"<=\"&B21)","v":0},null,0,0,null,0,0,null,{"$f":"SUMIFS(Haushaltsbuch2[Einnahmen],Haushaltsbuch2[Datum],\">\"&B20,Haushaltsbuch2[Datum],\"<=\"&B21)+AN21+AO21","v":0},null,0,null,{"$f":"SUMIFS(Haushaltsbuch2[Ausgaben],Haushaltsbuch2[Datum],\">\"&B20,Haushaltsbuch2[Datum],\"<=\"&B21)","v":0}]
[null,26145,null,null,null,null,null,null,null,null,null,null,{"$f":"SUMIFS(Haushaltsbuch2[Einnahmen],Haushaltsbuch2[Kategorie],M$4,Haushaltsbuch2[Datum],\">\"&B21,Haushaltsbuch2[Datum],\"<=\"&B22)","v":0},{"$f":"SUMIFS(Haushaltsbuch2[Einnahmen],Haushaltsbuch2[Kategorie],N$4,Haushaltsbuch2[Datum],\">\"&B21,Haushaltsbuch2[Datum],\"<=\"&B22)","v":0},{"$f":"SUMIFS(Haushaltsbuch2[Einnahmen],Haushaltsbuch2[Kategorie],O$4,Haushaltsbuch2[Datum],\">\"&B21,Haushaltsbuch2[Datum],\"<=\"&B22)","v":0},{"$f":"SUMIFS(Haushaltsbuch2[Einnahmen],Haushaltsbuch2[Kategorie],P$4,Haushaltsbuch2[Datum],\">\"&B21,Haushaltsbuch2[Datum],\"<=\"&B22)","v":0},{"$f":"SUMIFS(Haushaltsbuch2[Einnahmen],Haushaltsbuch2[Kategorie],Q$4,Haushaltsbuch2[Datum],\">\"&B21,Haushaltsbuch2[Datum],\"<=\"&B22)","v":0},{"$f":"SUMIFS(Haushaltsbuch2[Einnahmen],Haushaltsbuch2[Kategorie],R$4,Haushaltsbuch2[Datum],\">\"&B21,Haushaltsbuch2[Datum],\"<=\"&B22)","v":0},null,null,null,null,null,null,null,null,null,null,null,null,null,null,null,null,null,null,{"$f":"SUMIFS(Haushaltsbuch2[Ausgaben],Haushaltsbuch2[Kategorie],AK$4,Haushaltsbuch2[Datum],\">\"&B21,Haushaltsbuch2[Datum],\"<=\"&B22)","v":0},null,null,{"$f":"SUMIFS(Dividenden[Betrag in EUR],Dividenden[Datum],\">\"&B21,Dividenden[Datum],\"<=\"&B22)","v":0},{"$f":"SUMIFS(Optionen[G/V (Netto)],Optionen[Datum],\">\"&B21,Optionen[Datum],\"<=\"&B22)","v":0},null,0,0,null,0,0,null,{"$f":"SUMIFS(Haushaltsbuch2[Einnahmen],Haushaltsbuch2[Datum],\">\"&B21,Haushaltsbuch2[Datum],\"<=\"&B22)+AN22+AO22","v":0},null,0,null,{"$f":"SUMIFS(Haushaltsbuch2[Ausgaben],Haushaltsbuch2[Datum],\">\"&B21,Haushaltsbuch2[Datum],\"<=\"&B22)","v":0}]
[null,26176,null,null,null,null,null,null,null,null,null,null,{"$f":"SUMIFS(Haushaltsbuch2[Einnahmen],Haushaltsbuch2[Kategorie],M$4,Haushaltsbuch2[Datum],\">\"&B22,Haushaltsbuch2[Datum],\"<=\"&B23)","v":0},{"$f":"SUMIFS(Haushaltsbuch2[Einnahmen],Haushaltsbuch2[Kategorie],N$4,Haushaltsbuch2[Datum],\">\"&B22,Haushaltsbuch2[Datum],\"<=\"&B23)","v":0},{"$f":"SUMIFS(Haushaltsbuch2[Einnahmen],Haushaltsbuch2[Kategorie],O$4,Haushaltsbuch2[Datum],\">\"&B22,Haushaltsbuch2[Datum],\"<=\"&B23)","v":0},{"$f":"SUMIFS(Haushaltsbuch2[Einnahmen],Haushaltsbuch2[Kategorie],P$4,Haushaltsbuch2[Datum],\">\"&B22,Haushaltsbuch2[Datum],\"<=\"&B23)","v":0},{"$f":"SUMIFS(Haushaltsbuch2[Einnahmen],Haushaltsbuch2[Kategorie],Q$4,Haushaltsbuch2[Datum],\">\"&B22,Haushaltsbuch2[Datum],\"<=\"&B23)","v":0},{"$f":"SUMIFS(Haushaltsbuch2[Einnahmen],Haushaltsbuch2[Kategorie],R$4,Haushaltsbuch2[Datum],\">\"&B22,Haushaltsbuch2[Datum],\"<=\"&B23)","v":0},null,null,null,null,null,null,null,null,null,null,null,null,null,null,null,null,null,null,{"$f":"SUMIFS(Haushaltsbuch2[Ausgaben],Haushaltsbuch2[Kategorie],AK$4,Haushaltsbuch2[Datum],\">\"&B22,Haushaltsbuch2[Datum],\"<=\"&B23)","v":0},null,null,{"$f":"SUMIFS(Dividenden[Betrag in EUR],Dividenden[Datum],\">\"&B22,Dividenden[Datum],\"<=\"&B23)","v":0},{"$f":"SUMIFS(Optionen[G/V (Netto)],Optionen[Datum],\">\"&B22,Optionen[Datum],\"<=\"&B23)","v":0},null,0,0,null,0,0,null,{"$f":"SUMIFS(Haushaltsbuch2[Einnahmen],Haushaltsbuch2[Datum],\">\"&B22,Haushaltsbuch2[Datum],\"<=\"&B23)+AN23+AO23","v":0},null,0,null,{"$f":"SUMIFS(Haushaltsbuch2[Ausgaben],Haushaltsbuch2[Datum],\">\"&B22,Haushaltsbuch2[Datum],\"<=\"&B23)","v":0}]
[null,26206,null,null,null,null,null,null,null,null,null,null,{"$f":"SUMIFS(Haushaltsbuch2[Einnahmen],Haushaltsbuch2[Kategorie],M$4,Haushaltsbuch2[Datum],\">\"&B23,Haushaltsbuch2[Datum],\"<=\"&B24)","v":0},{"$f":"SUMIFS(Haushaltsbuch2[Einnahmen],Haushaltsbuch2[Kategorie],N$4,Haushaltsbuch2[Datum],\">\"&B23,Haushaltsbuch2[Datum],\"<=\"&B24)","v":0},{"$f":"SUMIFS(Haushaltsbuch2[Einnahmen],Haushaltsbuch2[Kategorie],O$4,Haushaltsbuch2[Datum],\">\"&B23,Haushaltsbuch2[Datum],\"<=\"&B24)","v":0},{"$f":"SUMIFS(Haushaltsbuch2[Einnahmen],Haushaltsbuch2[Kategorie],P$4,Haushaltsbuch2[Datum],\">\"&B23,Haushaltsbuch2[Datum],\"<=\"&B24)","v":0},{"$f":"SUMIFS(Haushaltsbuch2[Einnahmen],Haushaltsbuch2[Kategorie],Q$4,Haushaltsbuch2[Datum],\">\"&B23,Haushaltsbuch2[Datum],\"<=\"&B24)","v":0},{"$f":"SUMIFS(Haushaltsbuch2[Einnahmen],Haushaltsbuch2[Kategorie],R$4,Haushaltsbuch2[Datum],\">\"&B23,Haushaltsbuch2[Datum],\"<=\"&B24)","v":0},null,null,null,null,null,null,null,null,null,null,null,null,null,null,null,null,null,null,{"$f":"SUMIFS(Haushaltsbuch2[Ausgaben],Haushaltsbuch2[Kategorie],AK$4,Haushaltsbuch2[Datum],\">\"&B23,Haushaltsbuch2[Datum],\"<=\"&B24)","v":0},null,null,{"$f":"SUMIFS(Dividenden[Betrag in EUR],Dividenden[Datum],\">\"&B23,Dividenden[Datum],\"<=\"&B24)","v":0},{"$f":"SUMIFS(Optionen[G/V (Netto)],Optionen[Datum],\">\"&B23,Optionen[Datum],\"<=\"&B24)","v":0},null,0,0,null,0,0,null,{"$f":"SUMIFS(Haushaltsbuch2[Einnahmen],Haushaltsbuch2[Datum],\">\"&B23,Haushaltsbuch2[Datum],\"<=\"&B24)+AN24+AO24","v":0},null,0,null,{"$f":"SUMIFS(Haushaltsbuch2[Ausgaben],Haushaltsbuch2[Datum],\">\"&B23,Haushaltsbuch2[Datum],\"<=\"&B24)","v":0}]
[null,26237,null,null,null,null,null,null,null,null,null,null,{"$f":"SUMIFS(Haushaltsbuch2[Einnahmen],Haushaltsbuch2[Kategorie],M$4,Haushaltsbuch2[Datum],\">\"&B24,Haushaltsbuch2[Datum],\"<=\"&B25)","v":0},{"$f":"SUMIFS(Haushaltsbuch2[Einnahmen],Haushaltsbuch2[Kategorie],N$4,Haushaltsbuch2[Datum],\">\"&B24,Haushaltsbuch2[Datum],\"<=\"&B25)","v":0},{"$f":"SUMIFS(Haushaltsbuch2[Einnahmen],Haushaltsbuch2[Kategorie],O$4,Haushaltsbuch2[Datum],\">\"&B24,Haushaltsbuch2[Datum],\"<=\"&B25)","v":0},{"$f":"SUMIFS(Haushaltsbuch2[Einnahmen],Haushaltsbuch2[Kategorie],P$4,Haushaltsbuch2[Datum],\">\"&B24,Haushaltsbuch2[Datum],\"<=\"&B25)","v":0},{"$f":"SUMIFS(Haushaltsbuch2[Einnahmen],Haushaltsbuch2[Kategorie],Q$4,Haushaltsbuch2[Datum],\">\"&B24,Haushaltsbuch2[Datum],\"<=\"&B25)","v":0},{"$f":"SUMIFS(Haushaltsbuch2[Einnahmen],Haushaltsbuch2[Kategorie],R$4,Haushaltsbuch2[Datum],\">\"&B24,Haushaltsbuch2[Datum],\"<=\"&B25)","v":0},null,null,null,null,null,null,null,null,null,null,null,null,null,null,null,null,null,null,{"$f":"SUMIFS(Haushaltsbuch2[Ausgaben],Haushaltsbuch2[Kategorie],AK$4,Haushaltsbuch2[Datum],\">\"&B24,Haushaltsbuch2[Datum],\"<=\"&B25)","v":0},null,null,{"$f":"SUMIFS(Dividenden[Betrag in EUR],Dividenden[Datum],\">\"&B24,Dividenden[Datum],\"<=\"&B25)","v":0},{"$f":"SUMIFS(Optionen[G/V (Netto)],Optionen[Datum],\">\"&B24,Optionen[Datum],\"<=\"&B25)","v":0},null,0,0,null,0,0,null,{"$f":"SUMIFS(Haushaltsbuch2[Einnahmen],Haushaltsbuch2[Datum],\">\"&B24,Haushaltsbuch2[Datum],\"<=\"&B25)+AN25+AO25","v":0},null,0,null,{"$f":"SUMIFS(Haushaltsbuch2[Ausgaben],Haushaltsbuch2[Datum],\">\"&B24,Haushaltsbuch2[Datum],\"<=\"&B25)","v":0}]
[null,26267,null,null,null,null,null,null,null,null,null,null,{"$f":"SUMIFS(Haushaltsbuch2[Einnahmen],Haushaltsbuch2[Kategorie],M$4,Haushaltsbuch2[Datum],\">\"&B25,Haushaltsbuch2[Datum],\"<=\"&B26)","v":0},{"$f":"SUMIFS(Haushaltsbuch2[Einnahmen],Haushaltsbuch2[Kategorie],N$4,Haushaltsbuch2[Datum],\">\"&B25,Haushaltsbuch2[Datum],\"<=\"&B26)","v":0},{"$f":"SUMIFS(Haushaltsbuch2[Einnahmen],Haushaltsbuch2[Kategorie],O$4,Haushaltsbuch2[Datum],\">\"&B25,Haushaltsbuch2[Datum],\"<=\"&B26)","v":0},{"$f":"SUMIFS(Haushaltsbuch2[Einnahmen],Haushaltsbuch2[Kategorie],P$4,Haushaltsbuch2[Datum],\">\"&B25,Haushaltsbuch2[Datum],\"<=\"&B26)","v":0},{"$f":"SUMIFS(Haushaltsbuch2[Einnahmen],Haushaltsbuch2[Kategorie],Q$4,Haushaltsbuch2[Datum],\">\"&B25,Haushaltsbuch2[Datum],\"<=\"&B26)","v":0},{"$f":"SUMIFS(Haushaltsbuch2[Einnahmen],Haushaltsbuch2[Kategorie],R$4,Haushaltsbuch2[Datum],\">\"&B25,Haushaltsbuch2[Datum],\"<=\"&B26)","v":0},null,null,null,null,null,null,null,null,null,null,null,null,null,null,null,null,null,null,{"$f":"SUMIFS(Haushaltsbuch2[Ausgaben],Haushaltsbuch2[Kategorie],AK$4,Haushaltsbuch2[Datum],\">\"&B25,Haushaltsbuch2[Datum],\"<=\"&B26)","v":0},null,null,{"$f":"SUMIFS(Dividenden[Betrag in EUR],Dividenden[Datum],\">\"&B25,Dividenden[Datum],\"<=\"&B26)","v":0},{"$f":"SUMIFS(Optionen[G/V (Netto)],Optionen[Datum],\">\"&B25,Optionen[Datum],\"<=\"&B26)","v":0},null,0,0,null,0,0,null,{"$f":"SUMIFS(Haushaltsbuch2[Einnahmen],Haushaltsbuch2[Datum],\">\"&B25,Haushaltsbuch2[Datum],\"<=\"&B26)+AN26+AO26","v":0},null,0,null,{"$f":"SUMIFS(Haushaltsbuch2[Ausgaben],Haushaltsbuch2[Datum],\">\"&B25,Haushaltsbuch2[Datum],\"<=\"&B26)","v":0}]
[null,26298,null,null,null,null,null,null,null,null,null,null,{"$f":"SUMIFS(Haushaltsbuch2[Einnahmen],Haushaltsbuch2[Kategorie],M$4,Haushaltsbuch2[Datum],\">\"&B26,Haushaltsbuch2[Datum],\"<=\"&B27)","v":0},{"$f":"SUMIFS(Haushaltsbuch2[Einnahmen],Haushaltsbuch2[Kategorie],N$4,Haushaltsbuch2[Datum],\">\"&B26,Haushaltsbuch2[Datum],\"<=\"&B27)","v":0},{"$f":"SUMIFS(Haushaltsbuch2[Einnahmen],Haushaltsbuch2[Kategorie],O$4,Haushaltsbuch2[Datum],\">\"&B26,Haushaltsbuch2[Datum],\"<=\"&B27)","v":0},{"$f":"SUMIFS(Haushaltsbuch2[Einnahmen],Haushaltsbuch2[Kategorie],P$4,Haushaltsbuch2[Datum],\">\"&B26,Haushaltsbuch2[Datum],\"<=\"&B27)","v":0},{"$f":"SUMIFS(Haushaltsbuch2[Einnahmen],Haushaltsbuch2[Kategorie],Q$4,Haushaltsbuch2[Datum],\">\"&B26,Haushaltsbuch2[Datum],\"<=\"&B27)","v":0},{"$f":"SUMIFS(Haushaltsbuch2[Einnahmen],Haushaltsbuch2[Kategorie],R$4,Haushaltsbuch2[Datum],\">\"&B26,Haushaltsbuch2[Datum],\"<=\"&B27)","v":0},null,null,null,null,null,null,null,null,null,null,null,null,null,null,null,null,null,null,{"$f":"SUMIFS(Haushaltsbuch2[Ausgaben],Haushaltsbuch2[Kategorie],AK$4,Haushaltsbuch2[Datum],\">\"&B26,Haushaltsbuch2[Datum],\"<=\"&B27)","v":0},null,null,{"$f":"SUMIFS(Dividenden[Betrag in EUR],Dividenden[Datum],\">\"&B26,Dividenden[Datum],\"<=\"&B27)","v":0},{"$f":"SUMIFS(Optionen[G/V (Netto)],Optionen[Datum],\">\"&B26,Optionen[Datum],\"<=\"&B27)","v":0},null,0,0,null,0,0,null,{"$f":"SUMIFS(Haushaltsbuch2[Einnahmen],Haushaltsbuch2[Datum],\">\"&B26,Haushaltsbuch2[Datum],\"<=\"&B27)+AN27+AO27","v":0},null,0,null,{"$f":"SUMIFS(Haushaltsbuch2[Ausgaben],Haushaltsbuch2[Datum],\">\"&B26,Haushaltsbuch2[Datum],\"<=\"&B27)","v":0}]
[null,26329,null,null,null,null,null,null,null,null,null,null,{"$f":"SUMIFS(Haushaltsbuch2[Einnahmen],Haushaltsbuch2[Kategorie],M$4,Haushaltsbuch2[Datum],\">\"&B27,Haushaltsbuch2[Datum],\"<=\"&B28)","v":0},{"$f":"SUMIFS(Haushaltsbuch2[Einnahmen],Haushaltsbuch2[Kategorie],N$4,Haushaltsbuch2[Datum],\">\"&B27,Haushaltsbuch2[Datum],\"<=\"&B28)","v":0},{"$f":"SUMIFS(Haushaltsbuch2[Einnahmen],Haushaltsbuch2[Kategorie],O$4,Haushaltsbuch2[Datum],\">\"&B27,Haushaltsbuch2[Datum],\"<=\"&B28)","v":0},{"$f":"SUMIFS(Haushaltsbuch2[Einnahmen],Haushaltsbuch2[Kategorie],P$4,Haushaltsbuch2[Datum],\">\"&B27,Haushaltsbuch2[Datum],\"<=\"&B28)","v":0},{"$f":"SUMIFS(Haushaltsbuch2[Einnahmen],Haushaltsbuch2[Kategorie],Q$4,Haushaltsbuch2[Datum],\">\"&B27,Haushaltsbuch2[Datum],\"<=\"&B28)","v":0},{"$f":"SUMIFS(Haushaltsbuch2[Einnahmen],Haushaltsbuch2[Kategorie],R$4,Haushaltsbuch2[Datum],\">\"&B27,Haushaltsbuch2[Datum],\"<=\"&B28)","v":0},null,null,null,null,null,null,null,null,null,null,null,null,null,null,null,null,null,null,{"$f":"SUMIFS(Haushaltsbuch2[Ausgaben],Haushaltsbuch2[Kategorie],AK$4,Haushaltsbuch2[Datum],\">\"&B27,Haushaltsbuch2[Datum],\"<=\"&B28)","v":0},null,null,{"$f":"SUMIFS(Dividenden[Betrag in EUR],Dividenden[Datum],\">\"&B27,Dividenden[Datum],\"<=\"&B28)","v":0},{"$f":"SUMIFS(Optionen[G/V (Netto)],Optionen[Datum],\">\"&B27,Optionen[Datum],\"<=\"&B28)","v":0},null,0,0,null,0,0,null,{"$f":"SUMIFS(Haushaltsbuch2[Einnahmen],Haushaltsbuch2[Datum],\">\"&B27,Haushaltsbuch2[Datum],\"<=\"&B28)+AN28+AO28","v":0},null,0,null,{"$f":"SUMIFS(Haushaltsbuch2[Ausgaben],Haushaltsbuch2[Datum],\">\"&B27,Haushaltsbuch2[Datum],\"<=\"&B28)","v":0}]
[null,26358,null,null,null,null,null,null,null,null,null,null,{"$f":"SUMIFS(Haushaltsbuch2[Einnahmen],Haushaltsbuch2[Kategorie],M$4,Haushaltsbuch2[Datum],\">\"&B28,Haushaltsbuch2[Datum],\"<=\"&B29)","v":0},{"$f":"SUMIFS(Haushaltsbuch2[Einnahmen],Haushaltsbuch2[Kategorie],N$4,Haushaltsbuch2[Datum],\">\"&B28,Haushaltsbuch2[Datum],\"<=\"&B29)","v":0},{"$f":"SUMIFS(Haushaltsbuch2[Einnahmen],Haushaltsbuch2[Kategorie],O$4,Haushaltsbuch2[Datum],\">\"&B28,Haushaltsbuch2[Datum],\"<=\"&B29)","v":0},{"$f":"SUMIFS(Haushaltsbuch2[Einnahmen],Haushaltsbuch2[Kategorie],P$4,Haushaltsbuch2[Datum],\">\"&B28,Haushaltsbuch2[Datum],\"<=\"&B29)","v":0},{"$f":"SUMIFS(Haushaltsbuch2[Einnahmen],Haushaltsbuch2[Kategorie],Q$4,Haushaltsbuch2[Datum],\">\"&B28,Haushaltsbuch2[Datum],\"<=\"&B29)","v":0},{"$f":"SUMIFS(Haushaltsbuch2[Einnahmen],Haushaltsbuch2[Kategorie],R$4,Haushaltsbuch2[Datum],\">\"&B28,Haushaltsbuch2[Datum],\"<=\"&B29)","v":0},null,null,null,null,null,null,null,null,null,null,null,null,null,null,null,null,null,null,{"$f":"SUMIFS(Haushaltsbuch2[Ausgaben],Haushaltsbuch2[Kategorie],AK$4,Haushaltsbuch2[Datum],\">\"&B28,Haushaltsbuch2[Datum],\"<=\"&B29)","v":0},null,null,{"$f":"SUMIFS(Dividenden[Betrag in EUR],Dividenden[Datum],\">\"&B28,Dividenden[Datum],\"<=\"&B29)","v":0},{"$f":"SUMIFS(Optionen[G/V (Netto)],Optionen[Datum],\">\"&B28,Optionen[Datum],\"<=\"&B29)","v":0},null,0,0,null,0,0,null,{"$f":"SUMIFS(Haushaltsbuch2[Einnahmen],Haushaltsbuch2[Datum],\">\"&B28,Haushaltsbuch2[Datum],\"<=\"&B29)+AN29+AO29","v":0},null,0,null,{"$f":"SUMIFS(Haushaltsbuch2[Ausgaben],Haushaltsbuch2[Datum],\">\"&B28,Haushaltsbuch2[Datum],\"<=\"&B29)","v":0}]
[null,26389,null,null,null,null,null,null,null,null,null,null,{"$f":"SUMIFS(Haushaltsbuch2[Einnahmen],Haushaltsbuch2[Kategorie],M$4,Haushaltsbuch2[Datum],\">\"&B29,Haushaltsbuch2[Datum],\"<=\"&B30)","v":0},{"$f":"SUMIFS(Haushaltsbuch2[Einnahmen],Haushaltsbuch2[Kategorie],N$4,Haushaltsbuch2[Datum],\">\"&B29,Haushaltsbuch2[Datum],\"<=\"&B30)","v":0},{"$f":"SUMIFS(Haushaltsbuch2[Einnahmen],Haushaltsbuch2[Kategorie],O$4,Haushaltsbuch2[Datum],\">\"&B29,Haushaltsbuch2[Datum],\"<=\"&B30)","v":0},{"$f":"SUMIFS(Haushaltsbuch2[Einnahmen],Haushaltsbuch2[Kategorie],P$4,Haushaltsbuch2[Datum],\">\"&B29,Haushaltsbuch2[Datum],\"<=\"&B30)","v":0},{"$f":"SUMIFS(Haushaltsbuch2[Einnahmen],Haushaltsbuch2[Kategorie],Q$4,Haushaltsbuch2[Datum],\">\"&B29,Haushaltsbuch2[Datum],\"<=\"&B30)","v":0},{"$f":"SUMIFS(Haushaltsbuch2[Einnahmen],Haushaltsbuch2[Kategorie],R$4,Haushaltsbuch2[Datum],\">\"&B29,Haushaltsbuch2[Datum],\"<=\"&B30)","v":0},null,null,null,null,null,null,null,null,null,null,null,null,null,null,null,null,null,null,{"$f":"SUMIFS(Haushaltsbuch2[Ausgaben],Haushaltsbuch2[Kategorie],AK$4,Haushaltsbuch2[Datum],\">\"&B29,Haushaltsbuch2[Datum],\"<=\"&B30)","v":0},null,null,{"$f":"SUMIFS(Dividenden[Betrag in EUR],Dividenden[Datum],\">\"&B29,Dividenden[Datum],\"<=\"&B30)","v":0},{"$f":"SUMIFS(Optionen[G/V (Netto)],Optionen[Datum],\">\"&B29,Optionen[Datum],\"<=\"&B30)","v":0},null,0,0,null,0,0,null,{"$f":"SUMIFS(Haushaltsbuch2[Einnahmen],Haushaltsbuch2[Datum],\">\"&B29,Haushaltsbuch2[Datum],\"<=\"&B30)+AN30+AO30","v":0},null,0,null,{"$f":"SUMIFS(Haushaltsbuch2[Ausgaben],Haushaltsbuch2[Datum],\">\"&B29,Haushaltsbuch2[Datum],\"<=\"&B30)","v":0}]
[null,26419,null,null,null,null,null,null,null,null,null,null,{"$f":"SUMIFS(Haushaltsbuch2[Einnahmen],Haushaltsbuch2[Kategorie],M$4,Haushaltsbuch2[Datum],\">\"&B30,Haushaltsbuch2[Datum],\"<=\"&B31)","v":0},{"$f":"SUMIFS(Haushaltsbuch2[Einnahmen],Haushaltsbuch2[Kategorie],N$4,Haushaltsbuch2[Datum],\">\"&B30,Haushaltsbuch2[Datum],\"<=\"&B31)","v":0},{"$f":"SUMIFS(Haushaltsbuch2[Einnahmen],Haushaltsbuch2[Kategorie],O$4,Haushaltsbuch2[Datum],\">\"&B30,Haushaltsbuch2[Datum],\"<=\"&B31)","v":0},{"$f":"SUMIFS(Haushaltsbuch2[Einnahmen],Haushaltsbuch2[Kategorie],P$4,Haushaltsbuch2[Datum],\">\"&B30,Haushaltsbuch2[Datum],\"<=\"&B31)","v":0},{"$f":"SUMIFS(Haushaltsbuch2[Einnahmen],Haushaltsbuch2[Kategorie],Q$4,Haushaltsbuch2[Datum],\">\"&B30,Haushaltsbuch2[Datum],\"<=\"&B31)","v":0},{"$f":"SUMIFS(Haushaltsbuch2[Einnahmen],Haushaltsbuch2[Kategorie],R$4,Haushaltsbuch2[Datum],\">\"&B30,Haushaltsbuch2[Datum],\"<=\"&B31)","v":0},null,null,null,null,null,null,null,null,null,null,null,null,null,null,null,null,null,null,{"$f":"SUMIFS(Haushaltsbuch2[Ausgaben],Haushaltsbuch2[Kategorie],AK$4,Haushaltsbuch2[Datum],\">\"&B30,Haushaltsbuch2[Datum],\"<=\"&B31)","v":0},null,null,{"$f":"SUMIFS(Dividenden[Betrag in EUR],Dividenden[Datum],\">\"&B30,Dividenden[Datum],\"<=\"&B31)","v":0},{"$f":"SUMIFS(Optionen[G/V (Netto)],Optionen[Datum],\">\"&B30,Optionen[Datum],\"<=\"&B31)","v":0},null,0,0,null,0,0,null,{"$f":"SUMIFS(Haushaltsbuch2[Einnahmen],Haushaltsbuch2[Datum],\">\"&B30,Haushaltsbuch2[Datum],\"<=\"&B31)+AN31+AO31","v":0},null,0,null,{"$f":"SUMIFS(Haushaltsbuch2[Ausgaben],Haushaltsbuch2[Datum],\">\"&B30,Haushaltsbuch2[Datum],\"<=\"&B31)","v":0}]
[null,26450,null,null,null,null,null,null,null,null,null,null,{"$f":"SUMIFS(Haushaltsbuch2[Einnahmen],Haushaltsbuch2[Kategorie],M$4,Haushaltsbuch2[Datum],\">\"&B31,Haushaltsbuch2[Datum],\"<=\"&B32)","v":0},{"$f":"SUMIFS(Haushaltsbuch2[Einnahmen],Haushaltsbuch2[Kategorie],N$4,Haushaltsbuch2[Datum],\">\"&B31,Haushaltsbuch2[Datum],\"<=\"&B32)","v":0},{"$f":"SUMIFS(Haushaltsbuch2[Einnahmen],Haushaltsbuch2[Kategorie],O$4,Haushaltsbuch2[Datum],\">\"&B31,Haushaltsbuch2[Datum],\"<=\"&B32)","v":0},{"$f":"SUMIFS(Haushaltsbuch2[Einnahmen],Haushaltsbuch2[Kategorie],P$4,Haushaltsbuch2[Datum],\">\"&B31,Haushaltsbuch2[Datum],\"<=\"&B32)","v":0},{"$f":"SUMIFS(Haushaltsbuch2[Einnahmen],Haushaltsbuch2[Kategorie],Q$4,Haushaltsbuch2[Datum],\">\"&B31,Haushaltsbuch2[Datum],\"<=\"&B32)","v":0},{"$f":"SUMIFS(Haushaltsbuch2[Einnahmen],Haushaltsbuch2[Kategorie],R$4,Haushaltsbuch2[Datum],\">\"&B31,Haushaltsbuch2[Datum],\"<=\"&B32)","v":0},null,null,null,null,null,null,null,null,null,null,null,null,null,null,null,null,null,null,{"$f":"SUMIFS(Haushaltsbuch2[Ausgaben],Haushaltsbuch2[Kategorie],AK$4,Haushaltsbuch2[Datum],\">\"&B31,Haushaltsbuch2[Datum],\"<=\"&B32)","v":0},null,null,{"$f":"SUMIFS(Dividenden[Betrag in EUR],Dividenden[Datum],\">\"&B31,Dividenden[Datum],\"<=\"&B32)","v":0},{"$f":"SUMIFS(Optionen[G/V (Netto)],Optionen[Datum],\">\"&B31,Optionen[Datum],\"<=\"&B32)","v":0},null,0,0,null,0,0,null,{"$f":"SUMIFS(Haushaltsbuch2[Einnahmen],Haushaltsbuch2[Datum],\">\"&B31,Haushaltsbuch2[Datum],\"<=\"&B32)+AN32+AO32","v":0},null,0,null,{"$f":"SUMIFS(Haushaltsbuch2[Ausgaben],Haushaltsbuch2[Datum],\">\"&B31,Haushaltsbuch2[Datum],\"<=\"&B32)","v":0}]
[null,26480,null,null,null,null,null,null,null,null,null,null,{"$f":"SUMIFS(Haushaltsbuch2[Einnahmen],Haushaltsbuch2[Kategorie],M$4,Haushaltsbuch2[Datum],\">\"&B32,Haushaltsbuch2[Datum],\"<=\"&B33)","v":0},{"$f":"SUMIFS(Haushaltsbuch2[Einnahmen],Haushaltsbuch2[Kategorie],N$4,Haushaltsbuch2[Datum],\">\"&B32,Haushaltsbuch2[Datum],\"<=\"&B33)","v":0},{"$f":"SUMIFS(Haushaltsbuch2[Einnahmen],Haushaltsbuch2[Kategorie],O$4,Haushaltsbuch2[Datum],\">\"&B32,Haushaltsbuch2[Datum],\"<=\"&B33)","v":0},{"$f":"SUMIFS(Haushaltsbuch2[Einnahmen],Haushaltsbuch2[Kategorie],P$4,Haushaltsbuch2[Datum],\">\"&B32,Haushaltsbuch2[Datum],\"<=\"&B33)","v":0},{"$f":"SUMIFS(Haushaltsbuch2[Einnahmen],Haushaltsbuch2[Kategorie],Q$4,Haushaltsbuch2[Datum],\">\"&B32,Haushaltsbuch2[Datum],\"<=\"&B33)","v":0},{"$f":"SUMIFS(Haushaltsbuch2[Einnahmen],Haushaltsbuch2[Kategorie],R$4,Haushaltsbuch2[Datum],\">\"&B32,Haushaltsbuch2[Datum],\"<=\"&B33)","v":0},null,null,null,null,null,null,null,null,null,null,null,null,null,null,null,null,null,null,{"$f":"SUMIFS(Haushaltsbuch2[Ausgaben],Haushaltsbuch2[Kategorie],AK$4,Haushaltsbuch2[Datum],\">\"&B32,Haushaltsbuch2[Datum],\"<=\"&B33)","v":0},null,null,{"$f":"SUMIFS(Dividenden[Betrag in EUR],Dividenden[Datum],\">\"&B32,Dividenden[Datum],\"<=\"&B33)","v":0},{"$f":"SUMIFS(Optionen[G/V (Netto)],Optionen[Datum],\">\"&B32,Optionen[Datum],\"<=\"&B33)","v":0},null,0,0,null,0,0,null,{"$f":"SUMIFS(Haushaltsbuch2[Einnahmen],Haushaltsbuch2[Datum],\">\"&B32,Haushaltsbuch2[Datum],\"<=\"&B33)+AN33+AO33","v":0},null,0,null,{"$f":"SUMIFS(Haushaltsbuch2[Ausgaben],Haushaltsbuch2[Datum],\">\"&B32,Haushaltsbuch2[Datum],\"<=\"&B33)","v":0}]
[null,26511,null,null,null,null,null,null,null,null,null,null,{"$f":"SUMIFS(Haushaltsbuch2[Einnahmen],Haushaltsbuch2[Kategorie],M$4,Haushaltsbuch2[Datum],\">\"&B33,Haushaltsbuch2[Datum],\"<=\"&B34)","v":0},{"$f":"SUMIFS(Haushaltsbuch2[Einnahmen],Haushaltsbuch2[Kategorie],N$4,Haushaltsbuch2[Datum],\">\"&B33,Haushaltsbuch2[Datum],\"<=\"&B34)","v":0},{"$f":"SUMIFS(Haushaltsbuch2[Einnahmen],Haushaltsbuch2[Kategorie],O$4,Haushaltsbuch2[Datum],\">\"&B33,Haushaltsbuch2[Datum],\"<=\"&B34)","v":0},{"$f":"SUMIFS(Haushaltsbuch2[Einnahmen],Haushaltsbuch2[Kategorie],P$4,Haushaltsbuch2[Datum],\">\"&B33,Haushaltsbuch2[Datum],\"<=\"&B34)","v":0},{"$f":"SUMIFS(Haushaltsbuch2[Einnahmen],Haushaltsbuch2[Kategorie],Q$4,Haushaltsbuch2[Datum],\">\"&B33,Haushaltsbuch2[Datum],\"<=\"&B34)","v":0},{"$f":"SUMIFS(Haushaltsbuch2[Einnahmen],Haushaltsbuch2[Kategorie],R$4,Haushaltsbuch2[Datum],\">\"&B33,Haushaltsbuch2[Datum],\"<=\"&B34)","v":0},null,null,null,null,null,null,null,null,null,null,null,null,null,null,null,null,null,null,{"$f":"SUMIFS(Haushaltsbuch2[Ausgaben],Haushaltsbuch2[Kategorie],AK$4,Haushaltsbuch2[Datum],\">\"&B33,Haushaltsbuch2[Datum],\"<=\"&B34)","v":0},null,null,{"$f":"SUMIFS(Dividenden[Betrag in EUR],Dividenden[Datum],\">\"&B33,Dividenden[Datum],\"<=\"&B34)","v":0},{"$f":"SUMIFS(Optionen[G/V (Netto)],Optionen[Datum],\">\"&B33,Optionen[Datum],\"<=\"&B34)","v":0},null,0,0,null,0,0,null,{"$f":"SUMIFS(Haushaltsbuch2[Einnahmen],Haushaltsbuch2[Datum],\">\"&B33,Haushaltsbuch2[Datum],\"<=\"&B34)+AN34+AO34","v":0},null,0,null,{"$f":"SUMIFS(Haushaltsbuch2[Ausgaben],Haushaltsbuch2[Datum],\">\"&B33,Haushaltsbuch2[Datum],\"<=\"&B34)","v":0}]
[null,26542,null,null,null,null,null,null,null,null,null,null,{"$f":"SUMIFS(Haushaltsbuch2[Einnahmen],Haushaltsbuch2[Kategorie],M$4,Haushaltsbuch2[Datum],\">\"&B34,Haushaltsbuch2[Datum],\"<=\"&B35)","v":0},{"$f":"SUMIFS(Haushaltsbuch2[Einnahmen],Haushaltsbuch2[Kategorie],N$4,Haushaltsbuch2[Datum],\">\"&B34,Haushaltsbuch2[Datum],\"<=\"&B35)","v":0},{"$f":"SUMIFS(Haushaltsbuch2[Einnahmen],Haushaltsbuch2[Kategorie],O$4,Haushaltsbuch2[Datum],\">\"&B34,Haushaltsbuch2[Datum],\"<=\"&B35)","v":0},{"$f":"SUMIFS(Haushaltsbuch2[Einnahmen],Haushaltsbuch2[Kategorie],P$4,Haushaltsbuch2[Datum],\">\"&B34,Haushaltsbuch2[Datum],\"<=\"&B35)","v":0},{"$f":"SUMIFS(Haushaltsbuch2[Einnahmen],Haushaltsbuch2[Kategorie],Q$4,Haushaltsbuch2[Datum],\">\"&B34,Haushaltsbuch2[Datum],\"<=\"&B35)","v":0},{"$f":"SUMIFS(Haushaltsbuch2[Einnahmen],Haushaltsbuch2[Kategorie],R$4,Haushaltsbuch2[Datum],\">\"&B34,Haushaltsbuch2[Datum],\"<=\"&B35)","v":0},null,null,null,null,null,null,null,null,null,null,null,null,null,null,null,null,null,null,{"$f":"SUMIFS(Haushaltsbuch2[Ausgaben],Haushaltsbuch2[Kategorie],AK$4,Haushaltsbuch2[Datum],\">\"&B34,Haushaltsbuch2[Datum],\"<=\"&B35)","v":0},null,null,{"$f":"SUMIFS(Dividenden[Betrag in EUR],Dividenden[Datum],\">\"&B34,Dividenden[Datum],\"<=\"&B35)","v":0},{"$f":"SUMIFS(Optionen[G/V (Netto)],Optionen[Datum],\">\"&B34,Optionen[Datum],\"<=\"&B35)","v":0},null,0,0,null,0,0,null,{"$f":"SUMIFS(Haushaltsbuch2[Einnahmen],Haushaltsbuch2[Datum],\">\"&B34,Haushaltsbuch2[Datum],\"<=\"&B35)+AN35+AO35","v":0},null,0,null,{"$f":"SUMIFS(Haushaltsbuch2[Ausgaben],Haushaltsbuch2[Datum],\">\"&B34,Haushaltsbuch2[Datum],\"<=\"&B35)","v":0}]
[null,26572,null,null,null,null,null,null,null,null,null,null,{"$f":"SUMIFS(Haushaltsbuch2[Einnahmen],Haushaltsbuch2[Kategorie],M$4,Haushaltsbuch2[Datum],\">\"&B35,Haushaltsbuch2[Datum],\"<=\"&B36)","v":0},{"$f":"SUMIFS(Haushaltsbuch2[Einnahmen],Haushaltsbuch2[Kategorie],N$4,Haushaltsbuch2[Datum],\">\"&B35,Haushaltsbuch2[Datum],\"<=\"&B36)","v":0},{"$f":"SUMIFS(Haushaltsbuch2[Einnahmen],Haushaltsbuch2[Kategorie],O$4,Haushaltsbuch2[Datum],\">\"&B35,Haushaltsbuch2[Datum],\"<=\"&B36)","v":0},{"$f":"SUMIFS(Haushaltsbuch2[Einnahmen],Haushaltsbuch2[Kategorie],P$4,Haushaltsbuch2[Datum],\">\"&B35,Haushaltsbuch2[Datum],\"<=\"&B36)","v":0},{"$f":"SUMIFS(Haushaltsbuch2[Einnahmen],Haushaltsbuch2[Kategorie],Q$4,Haushaltsbuch2[Datum],\">\"&B35,Haushaltsbuch2[Datum],\"<=\"&B36)","v":0},{"$f":"SUMIFS(Haushaltsbuch2[Einnahmen],Haushaltsbuch2[Kategorie],R$4,Haushaltsbuch2[Datum],\">\"&B35,Haushaltsbuch2[Datum],\"<=\"&B36)","v":0},null,null,null,null,null,null,null,null,null,null,null,null,null,null,null,null,null,null,{"$f":"SUMIFS(Haushaltsbuch2[Ausgaben],Haushaltsbuch2[Kategorie],AK$4,Haushaltsbuch2[Datum],\">\"&B35,Haushaltsbuch2[Datum],\"<=\"&B36)","v":0},null,null,{"$f":"SUMIFS(Dividenden[Betrag in EUR],Dividenden[Datum],\">\"&B35,Dividenden[Datum],\"<=\"&B36)","v":0},{"$f":"SUMIFS(Optionen[G/V (Netto)],Optionen[Datum],\">\"&B35,Optionen[Datum],\"<=\"&B36)","v":0},null,0,0,null,0,0,null,{"$f":"SUMIFS(Haushaltsbuch2[Einnahmen],Haushaltsbuch2[Datum],\">\"&B35,Haushaltsbuch2[Datum],\"<=\"&B36)+AN36+AO36","v":0},null,0,null,{"$f":"SUMIFS(Haushaltsbuch2[Ausgaben],Haushaltsbuch2[Datum],\">\"&B35,Haushaltsbuch2[Datum],\"<=\"&B36)","v":0}]
[null,26603,null,null,null,null,null,null,null,null,null,null,{"$f":"SUMIFS(Haushaltsbuch2[Einnahmen],Haushaltsbuch2[Kategorie],M$4,Haushaltsbuch2[Datum],\">\"&B36,Haushaltsbuch2[Datum],\"<=\"&B37)","v":0},{"$f":"SUMIFS(Haushaltsbuch2[Einnahmen],Haushaltsbuch2[Kategorie],N$4,Haushaltsbuch2[Datum],\">\"&B36,Haushaltsbuch2[Datum],\"<=\"&B37)","v":0},{"$f":"SUMIFS(Haushaltsbuch2[Einnahmen],Haushaltsbuch2[Kategorie],O$4,Haushaltsbuch2[Datum],\">\"&B36,Haushaltsbuch2[Datum],\"<=\"&B37)","v":0},{"$f":"SUMIFS(Haushaltsbuch2[Einnahmen],Haushaltsbuch2[Kategorie],P$4,Haushaltsbuch2[Datum],\">\"&B36,Haushaltsbuch2[Datum],\"<=\"&B37)","v":0},{"$f":"SUMIFS(Haushaltsbuch2[Einnahmen],Haushaltsbuch2[Kategorie],Q$4,Haushaltsbuch2[Datum],\">\"&B36,Haushaltsbuch2[Datum],\"<=\"&B37)","v":0},{"$f":"SUMIFS(Haushaltsbuch2[Einnahmen],Haushaltsbuch2[Kategorie],R$4,Haushaltsbuch2[Datum],\">\"&B36,Haushaltsbuch2[Datum],\"<=\"&B37)","v":0},null,null,null,null,null,null,null,null,null,null,null,null,null,null,null,null,null,null,{"$f":"SUMIFS(Haushaltsbuch2[Ausgaben],Haushaltsbuch2[Kategorie],AK$4,Haushaltsbuch2[Datum],\">\"&B36,Haushaltsbuch2[Datum],\"<=\"&B37)","v":0},null,null,{"$f":"SUMIFS(Dividenden[Betrag in EUR],Dividenden[Datum],\">\"&B36,Dividenden[Datum],\"<=\"&B37)","v":0},{"$f":"SUMIFS(Optionen[G/V (Netto)],Optionen[Datum],\">\"&B36,Optionen[Datum],\"<=\"&B37)","v":0},null,0,0,null,0,0,null,{"$f":"SUMIFS(Haushaltsbuch2[Einnahmen],Haushaltsbuch2[Datum],\">\"&B36,Haushaltsbuch2[Datum],\"<=\"&B37)+AN37+AO37","v":0},null,0,null,{"$f":"SUMIFS(Haushaltsbuch2[Ausgaben],Haushaltsbuch2[Datum],\">\"&B36,Haushaltsbuch2[Datum],\"<=\"&B37)","v":0}]
[null,26633,null,null,null,null,null,null,null,null,null,null,{"$f":"SUMIFS(Haushaltsbuch2[Einnahmen],Haushaltsbuch2[Kategorie],M$4,Haushaltsbuch2[Datum],\">\"&B37,Haushaltsbuch2[Datum],\"<=\"&B38)","v":0},{"$f":"SUMIFS(Haushaltsbuch2[Einnahmen],Haushaltsbuch2[Kategorie],N$4,Haushaltsbuch2[Datum],\">\"&B37,Haushaltsbuch2[Datum],\"<=\"&B38)","v":0},{"$f":"SUMIFS(Haushaltsbuch2[Einnahmen],Haushaltsbuch2[Kategorie],O$4,Haushaltsbuch2[Datum],\">\"&B37,Haushaltsbuch2[Datum],\"<=\"&B38)","v":0},{"$f":"SUMIFS(Haushaltsbuch2[Einnahmen],Haushaltsbuch2[Kategorie],P$4,Haushaltsbuch2[Datum],\">\"&B37,Haushaltsbuch2[Datum],\"<=\"&B38)","v":0},{"$f":"SUMIFS(Haushaltsbuch2[Einnahmen],Haushaltsbuch2[Kategorie],Q$4,Haushaltsbuch2[Datum],\">\"&B37,Haushaltsbuch2[Datum],\"<=\"&B38)","v":0},{"$f":"SUMIFS(Haushaltsbuch2[Einnahmen],Haushaltsbuch2[Kategorie],R$4,Haushaltsbuch2[Datum],\">\"&B37,Haushaltsbuch2[Datum],\"<=\"&B38)","v":0},null,null,null,null,null,null,null,null,null,null,null,null,null,null,null,null,null,null,{"$f":"SUMIFS(Haushaltsbuch2[Ausgaben],Haushaltsbuch2[Kategorie],AK$4,Haushaltsbuch2[Datum],\">\"&B37,Haushaltsbuch2[Datum],\"<=\"&B38)","v":0},null,null,{"$f":"SUMIFS(Dividenden[Betrag in EUR],Dividenden[Datum],\">\"&B37,Dividenden[Datum],\"<=\"&B38)","v":0},{"$f":"SUMIFS(Optionen[G/V (Netto)],Optionen[Datum],\">\"&B37,Optionen[Datum],\"<=\"&B38)","v":0},null,0,0,null,0,0,null,{"$f":"SUMIFS(Haushaltsbuch2[Einnahmen],Haushaltsbuch2[Datum],\">\"&B37,Haushaltsbuch2[Datum],\"<=\"&B38)+AN38+AO38","v":0},null,0,null,{"$f":"SUMIFS(Haushaltsbuch2[Ausgaben],Haushaltsbuch2[Datum],\">\"&B37,Haushaltsbuch2[Datum],\"<=\"&B38)","v":0}]
[null,26664,null,null,null,null,null,null,null,null,null,null,{"$f":"SUMIFS(Haushaltsbuch2[Einnahmen],Haushaltsbuch2[Kategorie],M$4,Haushaltsbuch2[Datum],\">\"&B38,Haushaltsbuch2[Datum],\"<=\"&B39)","v":0},{"$f":"SUMIFS(Haushaltsbuch2[Einnahmen],Haushaltsbuch2[Kategorie],N$4,Haushaltsbuch2[Datum],\">\"&B38,Haushaltsbuch2[Datum],\"<=\"&B39)","v":0},{"$f":"SUMIFS(Haushaltsbuch2[Einnahmen],Haushaltsbuch2[Kategorie],O$4,Haushaltsbuch2[Datum],\">\"&B38,Haushaltsbuch2[Datum],\"<=\"&B39)","v":0},{"$f":"SUMIFS(Haushaltsbuch2[Einnahmen],Haushaltsbuch2[Kategorie],P$4,Haushaltsbuch2[Datum],\">\"&B38,Haushaltsbuch2[Datum],\"<=\"&B39)","v":0},{"$f":"SUMIFS(Haushaltsbuch2[Einnahmen],Haushaltsbuch2[Kategorie],Q$4,Haushaltsbuch2[Datum],\">\"&B38,Haushaltsbuch2[Datum],\"<=\"&B39)","v":0},{"$f":"SUMIFS(Haushaltsbuch2[Einnahmen],Haushaltsbuch2[Kategorie],R$4,Haushaltsbuch2[Datum],\">\"&B38,Haushaltsbuch2[Datum],\"<=\"&B39)","v":0},null,null,null,null,null,null,null,null,null,null,null,null,null,null,null,null,null,null,{"$f":"SUMIFS(Haushaltsbuch2[Ausgaben],Haushaltsbuch2[Kategorie],AK$4,Haushaltsbuch2[Datum],\">\"&B38,Haushaltsbuch2[Datum],\"<=\"&B39)","v":0},null,null,{"$f":"SUMIFS(Dividenden[Betrag in EUR],Dividenden[Datum],\">\"&B38,Dividenden[Datum],\"<=\"&B39)","v":0},{"$f":"SUMIFS(Optionen[G/V (Netto)],Optionen[Datum],\">\"&B38,Optionen[Datum],\"<=\"&B39)","v":0},null,0,0,null,0,0,null,{"$f":"SUMIFS(Haushaltsbuch2[Einnahmen],Haushaltsbuch2[Datum],\">\"&B38,Haushaltsbuch2[Datum],\"<=\"&B39)+AN39+AO39","v":0},null,0,null,{"$f":"SUMIFS(Haushaltsbuch2[Ausgaben],Haushaltsbuch2[Datum],\">\"&B38,Haushaltsbuch2[Datum],\"<=\"&B39)","v":0}]
[null,26695,null,null,null,null,null,null,null,null,null,null,{"$f":"SUMIFS(Haushaltsbuch2[Einnahmen],Haushaltsbuch2[Kategorie],M$4,Haushaltsbuch2[Datum],\">\"&B39,Haushaltsbuch2[Datum],\"<=\"&B40)","v":0},{"$f":"SUMIFS(Haushaltsbuch2[Einnahmen],Haushaltsbuch2[Kategorie],N$4,Haushaltsbuch2[Datum],\">\"&B39,Haushaltsbuch2[Datum],\"<=\"&B40)","v":0},{"$f":"SUMIFS(Haushaltsbuch2[Einnahmen],Haushaltsbuch2[Kategorie],O$4,Haushaltsbuch2[Datum],\">\"&B39,Haushaltsbuch2[Datum],\"<=\"&B40)","v":0},{"$f":"SUMIFS(Haushaltsbuch2[Einnahmen],Haushaltsbuch2[Kategorie],P$4,Haushaltsbuch2[Datum],\">\"&B39,Haushaltsbuch2[Datum],\"<=\"&B40)","v":0},{"$f":"SUMIFS(Haushaltsbuch2[Einnahmen],Haushaltsbuch2[Kategorie],Q$4,Haushaltsbuch2[Datum],\">\"&B39,Haushaltsbuch2[Datum],\"<=\"&B40)","v":0},{"$f":"SUMIFS(Haushaltsbuch2[Einnahmen],Haushaltsbuch2[Kategorie],R$4,Haushaltsbuch2[Datum],\">\"&B39,Haushaltsbuch2[Datum],\"<=\"&B40)","v":0},null,null,null,null,null,null,null,null,null,null,null,null,null,null,null,null,null,null,{"$f":"SUMIFS(Haushaltsbuch2[Ausgaben],Haushaltsbuch2[Kategorie],AK$4,Haushaltsbuch2[Datum],\">\"&B39,Haushaltsbuch2[Datum],\"<=\"&B40)","v":0},null,null,{"$f":"SUMIFS(Dividenden[Betrag in EUR],Dividenden[Datum],\">\"&B39,Dividenden[Datum],\"<=\"&B40)","v":0},{"$f":"SUMIFS(Optionen[G/V (Netto)],Optionen[Datum],\">\"&B39,Optionen[Datum],\"<=\"&B40)","v":0},null,0,0,null,0,0,null,{"$f":"SUMIFS(Haushaltsbuch2[Einnahmen],Haushaltsbuch2[Datum],\">\"&B39,Haushaltsbuch2[Datum],\"<=\"&B40)+AN40+AO40","v":0},null,0,null,{"$f":"SUMIFS(Haushaltsbuch2[Ausgaben],Haushaltsbuch2[Datum],\">\"&B39,Haushaltsbuch2[Datum],\"<=\"&B40)","v":0}]
[null,26723,null,null,null,null,null,null,null,null,null,null,{"$f":"SUMIFS(Haushaltsbuch2[Einnahmen],Haushaltsbuch2[Kategorie],M$4,Haushaltsbuch2[Datum],\">\"&B40,Haushaltsbuch2[Datum],\"<=\"&B41)","v":0},{"$f":"SUMIFS(Haushaltsbuch2[Einnahmen],Haushaltsbuch2[Kategorie],N$4,Haushaltsbuch2[Datum],\">\"&B40,Haushaltsbuch2[Datum],\"<=\"&B41)","v":0},{"$f":"SUMIFS(Haushaltsbuch2[Einnahmen],Haushaltsbuch2[Kategorie],O$4,Haushaltsbuch2[Datum],\">\"&B40,Haushaltsbuch2[Datum],\"<=\"&B41)","v":0},{"$f":"SUMIFS(Haushaltsbuch2[Einnahmen],Haushaltsbuch2[Kategorie],P$4,Haushaltsbuch2[Datum],\">\"&B40,Haushaltsbuch2[Datum],\"<=\"&B41)","v":0},{"$f":"SUMIFS(Haushaltsbuch2[Einnahmen],Haushaltsbuch2[Kategorie],Q$4,Haushaltsbuch2[Datum],\">\"&B40,Haushaltsbuch2[Datum],\"<=\"&B41)","v":0},{"$f":"SUMIFS(Haushaltsbuch2[Einnahmen],Haushaltsbuch2[Kategorie],R$4,Haushaltsbuch2[Datum],\">\"&B40,Haushaltsbuch2[Datum],\"<=\"&B41)","v":0},null,null,null,null,null,null,null,null,null,null,null,null,null,null,null,null,null,null,{"$f":"SUMIFS(Haushaltsbuch2[Ausgaben],Haushaltsbuch2[Kategorie],AK$4,Haushaltsbuch2[Datum],\">\"&B40,Haushaltsbuch2[Datum],\"<=\"&B41)","v":0},null,null,{"$f":"SUMIFS(Dividenden[Betrag in EUR],Dividenden[Datum],\">\"&B40,Dividenden[Datum],\"<=\"&B41)","v":0},{"$f":"SUMIFS(Optionen[G/V (Netto)],Optionen[Datum],\">\"&B40,Optionen[Datum],\"<=\"&B41)","v":0},null,0,0,null,0,0,null,{"$f":"SUMIFS(Haushaltsbuch2[Einnahmen],Haushaltsbuch2[Datum],\">\"&B40,Haushaltsbuch2[Datum],\"<=\"&B41)+AN41+AO41","v":0},null,0,null,{"$f":"SUMIFS(Haushaltsbuch2[Ausgaben],Haushaltsbuch2[Datum],\">\"&B40,Haushaltsbuch2[Datum],\"<=\"&B41)","v":0}]
[null,26754,null,null,null,null,null,null,null,null,null,null,{"$f":"SUMIFS(Haushaltsbuch2[Einnahmen],Haushaltsbuch2[Kategorie],M$4,Haushaltsbuch2[Datum],\">\"&B41,Haushaltsbuch2[Datum],\"<=\"&B42)","v":0},{"$f":"SUMIFS(Haushaltsbuch2[Einnahmen],Haushaltsbuch2[Kategorie],N$4,Haushaltsbuch2[Datum],\">\"&B41,Haushaltsbuch2[Datum],\"<=\"&B42)","v":0},{"$f":"SUMIFS(Haushaltsbuch2[Einnahmen],Haushaltsbuch2[Kategorie],O$4,Haushaltsbuch2[Datum],\">\"&B41,Haushaltsbuch2[Datum],\"<=\"&B42)","v":0},{"$f":"SUMIFS(Haushaltsbuch2[Einnahmen],Haushaltsbuch2[Kategorie],P$4,Haushaltsbuch2[Datum],\">\"&B41,Haushaltsbuch2[Datum],\"<=\"&B42)","v":0},{"$f":"SUMIFS(Haushaltsbuch2[Einnahmen],Haushaltsbuch2[Kategorie],Q$4,Haushaltsbuch2[Datum],\">\"&B41,Haushaltsbuch2[Datum],\"<=\"&B42)","v":0},{"$f":"SUMIFS(Haushaltsbuch2[Einnahmen],Haushaltsbuch2[Kategorie],R$4,Haushaltsbuch2[Datum],\">\"&B41,Haushaltsbuch2[Datum],\"<=\"&B42)","v":0},null,null,null,null,null,null,null,null,null,null,null,null,null,null,null,null,null,null,{"$f":"SUMIFS(Haushaltsbuch2[Ausgaben],Haushaltsbuch2[Kategorie],AK$4,Haushaltsbuch2[Datum],\">\"&B41,Haushaltsbuch2[Datum],\"<=\"&B42)","v":0},null,null,{"$f":"SUMIFS(Dividenden[Betrag in EUR],Dividenden[Datum],\">\"&B41,Dividenden[Datum],\"<=\"&B42)","v":0},{"$f":"SUMIFS(Optionen[G/V (Netto)],Optionen[Datum],\">\"&B41,Optionen[Datum],\"<=\"&B42)","v":0},null,0,0,null,0,0,null,{"$f":"SUMIFS(Haushaltsbuch2[Einnahmen],Haushaltsbuch2[Datum],\">\"&B41,Haushaltsbuch2[Datum],\"<=\"&B42)+AN42+AO42","v":0},null,0,null,{"$f":"SUMIFS(Haushaltsbuch2[Ausgaben],Haushaltsbuch2[Datum],\">\"&B41,Haushaltsbuch2[Datum],\"<=\"&B42)","v":0}]
[null,26784,null,null,null,null,null,null,null,null,null,null,{"$f":"SUMIFS(Haushaltsbuch2[Einnahmen],Haushaltsbuch2[Kategorie],M$4,Haushaltsbuch2[Datum],\">\"&B42,Haushaltsbuch2[Datum],\"<=\"&B43)","v":0},{"$f":"SUMIFS(Haushaltsbuch2[Einnahmen],Haushaltsbuch2[Kategorie],N$4,Haushaltsbuch2[Datum],\">\"&B42,Haushaltsbuch2[Datum],\"<=\"&B43)","v":0},{"$f":"SUMIFS(Haushaltsbuch2[Einnahmen],Haushaltsbuch2[Kategorie],O$4,Haushaltsbuch2[Datum],\">\"&B42,Haushaltsbuch2[Datum],\"<=\"&B43)","v":0},{"$f":"SUMIFS(Haushaltsbuch2[Einnahmen],Haushaltsbuch2[Kategorie],P$4,Haushaltsbuch2[Datum],\">\"&B42,Haushaltsbuch2[Datum],\"<=\"&B43)","v":0},{"$f":"SUMIFS(Haushaltsbuch2[Einnahmen],Haushaltsbuch2[Kategorie],Q$4,Haushaltsbuch2[Datum],\">\"&B42,Haushaltsbuch2[Datum],\"<=\"&B43)","v":0},{"$f":"SUMIFS(Haushaltsbuch2[Einnahmen],Haushaltsbuch2[Kategorie],R$4,Haushaltsbuch2[Datum],\">\"&B42,Haushaltsbuch2[Datum],\"<=\"&B43)","v":0},null,null,null,null,null,null,null,null,null,null,null,null,null,null,null,null,null,null,{"$f":"SUMIFS(Haushaltsbuch2[Ausgaben],Haushaltsbuch2[Kategorie],AK$4,Haushaltsbuch2[Datum],\">\"&B42,Haushaltsbuch2[Datum],\"<=\"&B43)","v":0},null,null,{"$f":"SUMIFS(Dividenden[Betrag in EUR],Dividenden[Datum],\">\"&B42,Dividenden[Datum],\"<=\"&B43)","v":0},{"$f":"SUMIFS(Optionen[G/V (Netto)],Optionen[Datum],\">\"&B42,Optionen[Datum],\"<=\"&B43)","v":0},null,0,0,null,0,0,null,{"$f":"SUMIFS(Haushaltsbuch2[Einnahmen],Haushaltsbuch2[Datum],\">\"&B42,Haushaltsbuch2[Datum],\"<=\"&B43)+AN43+AO43","v":0},null,0,null,{"$f":"SUMIFS(Haushaltsbuch2[Ausgaben],Haushaltsbuch2[Datum],\">\"&B42,Haushaltsbuch2[Datum],\"<=\"&B43)","v":0}]
[null,26815,null,null,null,null,null,null,null,null,null,null,{"$f":"SUMIFS(Haushaltsbuch2[Einnahmen],Haushaltsbuch2[Kategorie],M$4,Haushaltsbuch2[Datum],\">\"&B43,Haushaltsbuch2[Datum],\"<=\"&B44)","v":0},{"$f":"SUMIFS(Haushaltsbuch2[Einnahmen],Haushaltsbuch2[Kategorie],N$4,Haushaltsbuch2[Datum],\">\"&B43,Haushaltsbuch2[Datum],\"<=\"&B44)","v":0},{"$f":"SUMIFS(Haushaltsbuch2[Einnahmen],Haushaltsbuch2[Kategorie],O$4,Haushaltsbuch2[Datum],\">\"&B43,Haushaltsbuch2[Datum],\"<=\"&B44)","v":0},{"$f":"SUMIFS(Haushaltsbuch2[Einnahmen],Haushaltsbuch2[Kategorie],P$4,Haushaltsbuch2[Datum],\">\"&B43,Haushaltsbuch2[Datum],\"<=\"&B44)","v":0},{"$f":"SUMIFS(Haushaltsbuch2[Einnahmen],Haushaltsbuch2[Kategorie],Q$4,Haushaltsbuch2[Datum],\">\"&B43,Haushaltsbuch2[Datum],\"<=\"&B44)","v":0},{"$f":"SUMIFS(Haushaltsbuch2[Einnahmen],Haushaltsbuch2[Kategorie],R$4,Haushaltsbuch2[Datum],\">\"&B43,Haushaltsbuch2[Datum],\"<=\"&B44)","v":0},null,null,null,null,null,null,null,null,null,null,null,null,null,null,null,null,null,null,{"$f":"SUMIFS(Haushaltsbuch2[Ausgaben],Haushaltsbuch2[Kategorie],AK$4,Haushaltsbuch2[Datum],\">\"&B43,Haushaltsbuch2[Datum],\"<=\"&B44)","v":0},null,null,{"$f":"SUMIFS(Dividenden[Betrag in EUR],Dividenden[Datum],\">\"&B43,Dividenden[Datum],\"<=\"&B44)","v":0},{"$f":"SUMIFS(Optionen[G/V (Netto)],Optionen[Datum],\">\"&B43,Optionen[Datum],\"<=\"&B44)","v":0},null,0,0,null,0,0,null,{"$f":"SUMIFS(Haushaltsbuch2[Einnahmen],Haushaltsbuch2[Datum],\">\"&B43,Haushaltsbuch2[Datum],\"<=\"&B44)+AN44+AO44","v":0},null,0,null,{"$f":"SUMIFS(Haushaltsbuch2[Ausgaben],Haushaltsbuch2[Datum],\">\"&B43,Haushaltsbuch2[Datum],\"<=\"&B44)","v":0}]
[null,26845,null,null,null,null,null,null,null,null,null,null,{"$f":"SUMIFS(Haushaltsbuch2[Einnahmen],Haushaltsbuch2[Kategorie],M$4,Haushaltsbuch2[Datum],\">\"&B44,Haushaltsbuch2[Datum],\"<=\"&B45)","v":0},{"$f":"SUMIFS(Haushaltsbuch2[Einnahmen],Haushaltsbuch2[Kategorie],N$4,Haushaltsbuch2[Datum],\">\"&B44,Haushaltsbuch2[Datum],\"<=\"&B45)","v":0},{"$f":"SUMIFS(Haushaltsbuch2[Einnahmen],Haushaltsbuch2[Kategorie],O$4,Haushaltsbuch2[Datum],\">\"&B44,Haushaltsbuch2[Datum],\"<=\"&B45)","v":0},{"$f":"SUMIFS(Haushaltsbuch2[Einnahmen],Haushaltsbuch2[Kategorie],P$4,Haushaltsbuch2[Datum],\">\"&B44,Haushaltsbuch2[Datum],\"<=\"&B45)","v":0},{"$f":"SUMIFS(Haushaltsbuch2[Einnahmen],Haushaltsbuch2[Kategorie],Q$4,Haushaltsbuch2[Datum],\">\"&B44,Haushaltsbuch2[Datum],\"<=\"&B45)","v":0},{"$f":"SUMIFS(Haushaltsbuch2[Einnahmen],Haushaltsbuch2[Kategorie],R$4,Haushaltsbuch2[Datum],\">\"&B44,Haushaltsbuch2[Datum],\"<=\"&B45)","v":0},null,null,null,null,null,null,null,null,null,null,null,null,null,null,null,null,null,null,{"$f":"SUMIFS(Haushaltsbuch2[Ausgaben],Haushaltsbuch2[Kategorie],AK$4,Haushaltsbuch2[Datum],\">\"&B44,Haushaltsbuch2[Datum],\"<=\"&B45)","v":0},null,null,{"$f":"SUMIFS(Dividenden[Betrag in EUR],Dividenden[Datum],\">\"&B44,Dividenden[Datum],\"<=\"&B45)","v":0},{"$f":"SUMIFS(Optionen[G/V (Netto)],Optionen[Datum],\">\"&B44,Optionen[Datum],\"<=\"&B45)","v":0},null,0,0,null,0,0,null,{"$f":"SUMIFS(Haushaltsbuch2[Einnahmen],Haushaltsbuch2[Datum],\">\"&B44,Haushaltsbuch2[Datum],\"<=\"&B45)+AN45+AO45","v":0},null,0,null,{"$f":"SUMIFS(Haushaltsbuch2[Ausgaben],Haushaltsbuch2[Datum],\">\"&B44,Haushaltsbuch2[Datum],\"<=\"&B45)","v":0}]
[null,26876,null,null,null,null,null,null,null,null,null,null,{"$f":"SUMIFS(Haushaltsbuch2[Einnahmen],Haushaltsbuch2[Kategorie],M$4,Haushaltsbuch2[Datum],\">\"&B45,Haushaltsbuch2[Datum],\"<=\"&B46)","v":0},{"$f":"SUMIFS(Haushaltsbuch2[Einnahmen],Haushaltsbuch2[Kategorie],N$4,Haushaltsbuch2[Datum],\">\"&B45,Haushaltsbuch2[Datum],\"<=\"&B46)","v":0},{"$f":"SUMIFS(Haushaltsbuch2[Einnahmen],Haushaltsbuch2[Kategorie],O$4,Haushaltsbuch2[Datum],\">\"&B45,Haushaltsbuch2[Datum],\"<=\"&B46)","v":0},{"$f":"SUMIFS(Haushaltsbuch2[Einnahmen],Haushaltsbuch2[Kategorie],P$4,Haushaltsbuch2[Datum],\">\"&B45,Haushaltsbuch2[Datum],\"<=\"&B46)","v":0},{"$f":"SUMIFS(Haushaltsbuch2[Einnahmen],Haushaltsbuch2[Kategorie],Q$4,Haushaltsbuch2[Datum],\">\"&B45,Haushaltsbuch2[Datum],\"<=\"&B46)","v":0},{"$f":"SUMIFS(Haushaltsbuch2[Einnahmen],Haushaltsbuch2[Kategorie],R$4,Haushaltsbuch2[Datum],\">\"&B45,Haushaltsbuch2[Datum],\"<=\"&B46)","v":0},null,null,null,null,null,null,null,null,null,null,null,null,null,null,null,null,null,null,{"$f":"SUMIFS(Haushaltsbuch2[Ausgaben],Haushaltsbuch2[Kategorie],AK$4,Haushaltsbuch2[Datum],\">\"&B45,Haushaltsbuch2[Datum],\"<=\"&B46)","v":0},null,null,{"$f":"SUMIFS(Dividenden[Betrag in EUR],Dividenden[Datum],\">\"&B45,Dividenden[Datum],\"<=\"&B46)","v":0},{"$f":"SUMIFS(Optionen[G/V (Netto)],Optionen[Datum],\">\"&B45,Optionen[Datum],\"<=\"&B46)","v":0},null,0,0,null,0,0,null,{"$f":"SUMIFS(Haushaltsbuch2[Einnahmen],Haushaltsbuch2[Datum],\">\"&B45,Haushaltsbuch2[Datum],\"<=\"&B46)+AN46+AO46","v":0},null,0,null,{"$f":"SUMIFS(Haushaltsbuch2[Ausgaben],Haushaltsbuch2[Datum],\">\"&B45,Haushaltsbuch2[Datum],\"<=\"&B46)","v":0}]
[null,26907,null,null,null,null,null,null,null,null,null,null,{"$f":"SUMIFS(Haushaltsbuch2[Einnahmen],Haushaltsbuch2[Kategorie],M$4,Haushaltsbuch2[Datum],\">\"&B46,Haushaltsbuch2[Datum],\"<=\"&B47)","v":0},{"$f":"SUMIFS(Haushaltsbuch2[Einnahmen],Haushaltsbuch2[Kategorie],N$4,Haushaltsbuch2[Datum],\">\"&B46,Haushaltsbuch2[Datum],\"<=\"&B47)","v":0},{"$f":"SUMIFS(Haushaltsbuch2[Einnahmen],Haushaltsbuch2[Kategorie],O$4,Haushaltsbuch2[Datum],\">\"&B46,Haushaltsbuch2[Datum],\"<=\"&B47)","v":0},{"$f":"SUMIFS(Haushaltsbuch2[Einnahmen],Haushaltsbuch2[Kategorie],P$4,Haushaltsbuch2[Datum],\">\"&B46,Haushaltsbuch2[Datum],\"<=\"&B47)","v":0},{"$f":"SUMIFS(Haushaltsbuch2[Einnahmen],Haushaltsbuch2[Kategorie],Q$4,Haushaltsbuch2[Datum],\">\"&B46,Haushaltsbuch2[Datum],\"<=\"&B47)","v":0},{"$f":"SUMIFS(Haushaltsbuch2[Einnahmen],Haushaltsbuch2[Kategorie],R$4,Haushaltsbuch2[Datum],\">\"&B46,Haushaltsbuch2[Datum],\"<=\"&B47)","v":0},null,null,null,null,null,null,null,null,null,null,null,null,null,null,null,null,null,null,{"$f":"SUMIFS(Haushaltsbuch2[Ausgaben],Haushaltsbuch2[Kategorie],AK$4,Haushaltsbuch2[Datum],\">\"&B46,Haushaltsbuch2[Datum],\"<=\"&B47)","v":0},null,null,{"$f":"SUMIFS(Dividenden[Betrag in EUR],Dividenden[Datum],\">\"&B46,Dividenden[Datum],\"<=\"&B47)","v":0},{"$f":"SUMIFS(Optionen[G/V (Netto)],Optionen[Datum],\">\"&B46,Optionen[Datum],\"<=\"&B47)","v":0},null,0,0,null,0,0,null,{"$f":"SUMIFS(Haushaltsbuch2[Einnahmen],Haushaltsbuch2[Datum],\">\"&B46,Haushaltsbuch2[Datum],\"<=\"&B47)+AN47+AO47","v":0},null,0,null,{"$f":"SUMIFS(Haushaltsbuch2[Ausgaben],Haushaltsbuch2[Datum],\">\"&B46,Haushaltsbuch2[Datum],\"<=\"&B47)","v":0}]
[null,26937,null,null,null,null,null,null,null,null,null,null,{"$f":"SUMIFS(Haushaltsbuch2[Einnahmen],Haushaltsbuch2[Kategorie],M$4,Haushaltsbuch2[Datum],\">\"&B47,Haushaltsbuch2[Datum],\"<=\"&B48)","v":0},{"$f":"SUMIFS(Haushaltsbuch2[Einnahmen],Haushaltsbuch2[Kategorie],N$4,Haushaltsbuch2[Datum],\">\"&B47,Haushaltsbuch2[Datum],\"<=\"&B48)","v":0},{"$f":"SUMIFS(Haushaltsbuch2[Einnahmen],Haushaltsbuch2[Kategorie],O$4,Haushaltsbuch2[Datum],\">\"&B47,Haushaltsbuch2[Datum],\"<=\"&B48)","v":0},{"$f":"SUMIFS(Haushaltsbuch2[Einnahmen],Haushaltsbuch2[Kategorie],P$4,Haushaltsbuch2[Datum],\">\"&B47,Haushaltsbuch2[Datum],\"<=\"&B48)","v":0},{"$f":"SUMIFS(Haushaltsbuch2[Einnahmen],Haushaltsbuch2[Kategorie],Q$4,Haushaltsbuch2[Datum],\">\"&B47,Haushaltsbuch2[Datum],\"<=\"&B48)","v":0},{"$f":"SUMIFS(Haushaltsbuch2[Einnahmen],Haushaltsbuch2[Kategorie],R$4,Haushaltsbuch2[Datum],\">\"&B47,Haushaltsbuch2[Datum],\"<=\"&B48)","v":0},null,null,null,null,null,null,null,null,null,null,null,null,null,null,null,null,null,null,{"$f":"SUMIFS(Haushaltsbuch2[Ausgaben],Haushaltsbuch2[Kategorie],AK$4,Haushaltsbuch2[Datum],\">\"&B47,Haushaltsbuch2[Datum],\"<=\"&B48)","v":0},null,null,{"$f":"SUMIFS(Dividenden[Betrag in EUR],Dividenden[Datum],\">\"&B47,Dividenden[Datum],\"<=\"&B48)","v":0},{"$f":"SUMIFS(Optionen[G/V (Netto)],Optionen[Datum],\">\"&B47,Optionen[Datum],\"<=\"&B48)","v":0},null,0,0,null,0,0,null,{"$f":"SUMIFS(Haushaltsbuch2[Einnahmen],Haushaltsbuch2[Datum],\">\"&B47,Haushaltsbuch2[Datum],\"<=\"&B48)+AN48+AO48","v":0},null,0,null,{"$f":"SUMIFS(Haushaltsbuch2[Ausgaben],Haushaltsbuch2[Datum],\">\"&B47,Haushaltsbuch2[Datum],\"<=\"&B48)","v":0}]
[null,26968,null,null,null,null,null,null,null,null,null,null,{"$f":"SUMIFS(Haushaltsbuch2[Einnahmen],Haushaltsbuch2[Kategorie],M$4,Haushaltsbuch2[Datum],\">\"&B48,Haushaltsbuch2[Datum],\"<=\"&B49)","v":0},{"$f":"SUMIFS(Haushaltsbuch2[Einnahmen],Haushaltsbuch2[Kategorie],N$4,Haushaltsbuch2[Datum],\">\"&B48,Haushaltsbuch2[Datum],\"<=\"&B49)","v":0},{"$f":"SUMIFS(Haushaltsbuch2[Einnahmen],Haushaltsbuch2[Kategorie],O$4,Haushaltsbuch2[Datum],\">\"&B48,Haushaltsbuch2[Datum],\"<=\"&B49)","v":0},{"$f":"SUMIFS(Haushaltsbuch2[Einnahmen],Haushaltsbuch2[Kategorie],P$4,Haushaltsbuch2[Datum],\">\"&B48,Haushaltsbuch2[Datum],\"<=\"&B49)","v":0},{"$f":"SUMIFS(Haushaltsbuch2[Einnahmen],Haushaltsbuch2[Kategorie],Q$4,Haushaltsbuch2[Datum],\">\"&B48,Haushaltsbuch2[Datum],\"<=\"&B49)","v":0},{"$f":"SUMIFS(Haushaltsbuch2[Einnahmen],Haushaltsbuch2[Kategorie],R$4,Haushaltsbuch2[Datum],\">\"&B48,Haushaltsbuch2[Datum],\"<=\"&B49)","v":0},null,null,null,null,null,null,null,null,null,null,null,null,null,null,null,null,null,null,{"$f":"SUMIFS(Haushaltsbuch2[Ausgaben],Haushaltsbuch2[Kategorie],AK$4,Haushaltsbuch2[Datum],\">\"&B48,Haushaltsbuch2[Datum],\"<=\"&B49)","v":0},null,null,{"$f":"SUMIFS(Dividenden[Betrag in EUR],Dividenden[Datum],\">\"&B48,Dividenden[Datum],\"<=\"&B49)","v":0},{"$f":"SUMIFS(Optionen[G/V (Netto)],Optionen[Datum],\">\"&B48,Optionen[Datum],\"<=\"&B49)","v":0},null,0,0,null,0,0,null,{"$f":"SUMIFS(Haushaltsbuch2[Einnahmen],Haushaltsbuch2[Datum],\">\"&B48,Haushaltsbuch2[Datum],\"<=\"&B49)+AN49+AO49","v":0},null,0,null,{"$f":"SUMIFS(Haushaltsbuch2[Ausgaben],Haushaltsbuch2[Datum],\">\"&B48,Haushaltsbuch2[Datum],\"<=\"&B49)","v":0}]
[null,26998,null,null,null,null,null,null,null,null,null,null,{"$f":"SUMIFS(Haushaltsbuch2[Einnahmen],Haushaltsbuch2[Kategorie],M$4,Haushaltsbuch2[Datum],\">\"&B49,Haushaltsbuch2[Datum],\"<=\"&B50)","v":0},{"$f":"SUMIFS(Haushaltsbuch2[Einnahmen],Haushaltsbuch2[Kategorie],N$4,Haushaltsbuch2[Datum],\">\"&B49,Haushaltsbuch2[Datum],\"<=\"&B50)","v":0},{"$f":"SUMIFS(Haushaltsbuch2[Einnahmen],Haushaltsbuch2[Kategorie],O$4,Haushaltsbuch2[Datum],\">\"&B49,Haushaltsbuch2[Datum],\"<=\"&B50)","v":0},{"$f":"SUMIFS(Haushaltsbuch2[Einnahmen],Haushaltsbuch2[Kategorie],P$4,Haushaltsbuch2[Datum],\">\"&B49,Haushaltsbuch2[Datum],\"<=\"&B50)","v":0},{"$f":"SUMIFS(Haushaltsbuch2[Einnahmen],Haushaltsbuch2[Kategorie],Q$4,Haushaltsbuch2[Datum],\">\"&B49,Haushaltsbuch2[Datum],\"<=\"&B50)","v":0},{"$f":"SUMIFS(Haushaltsbuch2[Einnahmen],Haushaltsbuch2[Kategorie],R$4,Haushaltsbuch2[Datum],\">\"&B49,Haushaltsbuch2[Datum],\"<=\"&B50)","v":0},null,null,null,null,null,null,null,null,null,null,null,null,null,null,null,null,null,null,{"$f":"SUMIFS(Haushaltsbuch2[Ausgaben],Haushaltsbuch2[Kategorie],AK$4,Haushaltsbuch2[Datum],\">\"&B49,Haushaltsbuch2[Datum],\"<=\"&B50)","v":0},null,null,{"$f":"SUMIFS(Dividenden[Betrag in EUR],Dividenden[Datum],\">\"&B49,Dividenden[Datum],\"<=\"&B50)","v":0},{"$f":"SUMIFS(Optionen[G/V (Netto)],Optionen[Datum],\">\"&B49,Optionen[Datum],\"<=\"&B50)","v":0},null,0,0,null,0,0,null,{"$f":"SUMIFS(Haushaltsbuch2[Einnahmen],Haushaltsbuch2[Datum],\">\"&B49,Haushaltsbuch2[Datum],\"<=\"&B50)+AN50+AO50","v":0},null,0,null,{"$f":"SUMIFS(Haushaltsbuch2[Ausgaben],Haushaltsbuch2[Datum],\">\"&B49,Haushaltsbuch2[Datum],\"<=\"&B50)","v":0}]
[null,27029,null,null,null,null,null,null,null,null,null,null,{"$f":"SUMIFS(Haushaltsbuch2[Einnahmen],Haushaltsbuch2[Kategorie],M$4,Haushaltsbuch2[Datum],\">\"&B50,Haushaltsbuch2[Datum],\"<=\"&B51)","v":0},{"$f":"SUMIFS(Haushaltsbuch2[Einnahmen],Haushaltsbuch2[Kategorie],N$4,Haushaltsbuch2[Datum],\">\"&B50,Haushaltsbuch2[Datum],\"<=\"&B51)","v":0},{"$f":"SUMIFS(Haushaltsbuch2[Einnahmen],Haushaltsbuch2[Kategorie],O$4,Haushaltsbuch2[Datum],\">\"&B50,Haushaltsbuch2[Datum],\"<=\"&B51)","v":0},{"$f":"SUMIFS(Haushaltsbuch2[Einnahmen],Haushaltsbuch2[Kategorie],P$4,Haushaltsbuch2[Datum],\">\"&B50,Haushaltsbuch2[Datum],\"<=\"&B51)","v":0},{"$f":"SUMIFS(Haushaltsbuch2[Einnahmen],Haushaltsbuch2[Kategorie],Q$4,Haushaltsbuch2[Datum],\">\"&B50,Haushaltsbuch2[Datum],\"<=\"&B51)","v":0},{"$f":"SUMIFS(Haushaltsbuch2[Einnahmen],Haushaltsbuch2[Kategorie],R$4,Haushaltsbuch2[Datum],\">\"&B50,Haushaltsbuch2[Datum],\"<=\"&B51)","v":0},null,null,null,null,null,null,null,null,null,null,null,null,null,null,null,null,null,null,{"$f":"SUMIFS(Haushaltsbuch2[Ausgaben],Haushaltsbuch2[Kategorie],AK$4,Haushaltsbuch2[Datum],\">\"&B50,Haushaltsbuch2[Datum],\"<=\"&B51)","v":0},null,null,{"$f":"SUMIFS(Dividenden[Betrag in EUR],Dividenden[Datum],\">\"&B50,Dividenden[Datum],\"<=\"&B51)","v":0},{"$f":"SUMIFS(Optionen[G/V (Netto)],Optionen[Datum],\">\"&B50,Optionen[Datum],\"<=\"&B51)","v":0},null,0,0,null,0,0,null,{"$f":"SUMIFS(Haushaltsbuch2[Einnahmen],Haushaltsbuch2[Datum],\">\"&B50,Haushaltsbuch2[Datum],\"<=\"&B51)+AN51+AO51","v":0},null,0,null,{"$f":"SUMIFS(Haushaltsbuch2[Ausgaben],Haushaltsbuch2[Datum],\">\"&B50,Haushaltsbuch2[Datum],\"<=\"&B51)","v":0}]
[null,27060,null,null,null,null,null,null,null,null,null,null,{"$f":"SUMIFS(Haushaltsbuch2[Einnahmen],Haushaltsbuch2[Kategorie],M$4,Haushaltsbuch2[Datum],\">\"&B51,Haushaltsbuch2[Datum],\"<=\"&B52)","v":0},{"$f":"SUMIFS(Haushaltsbuch2[Einnahmen],Haushaltsbuch2[Kategorie],N$4,Haushaltsbuch2[Datum],\">\"&B51,Haushaltsbuch2[Datum],\"<=\"&B52)","v":0},{"$f":"SUMIFS(Haushaltsbuch2[Einnahmen],Haushaltsbuch2[Kategorie],O$4,Haushaltsbuch2[Datum],\">\"&B51,Haushaltsbuch2[Datum],\"<=\"&B52)","v":0},{"$f":"SUMIFS(Haushaltsbuch2[Einnahmen],Haushaltsbuch2[Kategorie],P$4,Haushaltsbuch2[Datum],\">\"&B51,Haushaltsbuch2[Datum],\"<=\"&B52)","v":0},{"$f":"SUMIFS(Haushaltsbuch2[Einnahmen],Haushaltsbuch2[Kategorie],Q$4,Haushaltsbuch2[Datum],\">\"&B51,Haushaltsbuch2[Datum],\"<=\"&B52)","v":0},{"$f":"SUMIFS(Haushaltsbuch2[Einnahmen],Haushaltsbuch2[Kategorie],R$4,Haushaltsbuch2[Datum],\">\"&B51,Haushaltsbuch2[Datum],\"<=\"&B52)","v":0},null,null,null,null,null,null,null,null,null,null,null,null,null,null,null,null,null,null,{"$f":"SUMIFS(Haushaltsbuch2[Ausgaben],Haushaltsbuch2[Kategorie],AK$4,Haushaltsbuch2[Datum],\">\"&B51,Haushaltsbuch2[Datum],\"<=\"&B52)","v":0},null,null,{"$f":"SUMIFS(Dividenden[Betrag in EUR],Dividenden[Datum],\">\"&B51,Dividenden[Datum],\"<=\"&B52)","v":0},{"$f":"SUMIFS(Optionen[G/V (Netto)],Optionen[Datum],\">\"&B51,Optionen[Datum],\"<=\"&B52)","v":0},null,0,0,null,0,0,null,{"$f":"SUMIFS(Haushaltsbuch2[Einnahmen],Haushaltsbuch2[Datum],\">\"&B51,Haushaltsbuch2[Datum],\"<=\"&B52)+AN52+AO52","v":0},null,0,null,{"$f":"SUMIFS(Haushaltsbuch2[Ausgaben],Haushaltsbuch2[Datum],\">\"&B51,Haushaltsbuch2[Datum],\"<=\"&B52)","v":0}]
[null,27088,null,null,null,null,null,null,null,null,null,null,{"$f":"SUMIFS(Haushaltsbuch2[Einnahmen],Haushaltsbuch2[Kategorie],M$4,Haushaltsbuch2[Datum],\">\"&B52,Haushaltsbuch2[Datum],\"<=\"&B53)","v":0},{"$f":"SUMIFS(Haushaltsbuch2[Einnahmen],Haushaltsbuch2[Kategorie],N$4,Haushaltsbuch2[Datum],\">\"&B52,Haushaltsbuch2[Datum],\"<=\"&B53)","v":0},{"$f":"SUMIFS(Haushaltsbuch2[Einnahmen],Haushaltsbuch2[Kategorie],O$4,Haushaltsbuch2[Datum],\">\"&B52,Haushaltsbuch2[Datum],\"<=\"&B53)","v":0},{"$f":"SUMIFS(Haushaltsbuch2[Einnahmen],Haushaltsbuch2[Kategorie],P$4,Haushaltsbuch2[Datum],\">\"&B52,Haushaltsbuch2[Datum],\"<=\"&B53)","v":0},{"$f":"SUMIFS(Haushaltsbuch2[Einnahmen],Haushaltsbuch2[Kategorie],Q$4,Haushaltsbuch2[Datum],\">\"&B52,Haushaltsbuch2[Datum],\"<=\"&B53)","v":0},{"$f":"SUMIFS(Haushaltsbuch2[Einnahmen],Haushaltsbuch2[Kategorie],R$4,Haushaltsbuch2[Datum],\">\"&B52,Haushaltsbuch2[Datum],\"<=\"&B53)","v":0},null,null,null,null,null,null,null,null,null,null,null,null,null,null,null,null,null,null,{"$f":"SUMIFS(Haushaltsbuch2[Ausgaben],Haushaltsbuch2[Kategorie],AK$4,Haushaltsbuch2[Datum],\">\"&B52,Haushaltsbuch2[Datum],\"<=\"&B53)","v":0},null,null,{"$f":"SUMIFS(Dividenden[Betrag in EUR],Dividenden[Datum],\">\"&B52,Dividenden[Datum],\"<=\"&B53)","v":0},{"$f":"SUMIFS(Optionen[G/V (Netto)],Optionen[Datum],\">\"&B52,Optionen[Datum],\"<=\"&B53)","v":0},null,0,0,null,0,0,null,{"$f":"SUMIFS(Haushaltsbuch2[Einnahmen],Haushaltsbuch2[Datum],\">\"&B52,Haushaltsbuch2[Datum],\"<=\"&B53)+AN53+AO53","v":0},null,0,null,{"$f":"SUMIFS(Haushaltsbuch2[Ausgaben],Haushaltsbuch2[Datum],\">\"&B52,Haushaltsbuch2[Datum],\"<=\"&B53)","v":0}]
[null,27119,null,null,null,null,null,null,null,null,null,null,{"$f":"SUMIFS(Haushaltsbuch2[Einnahmen],Haushaltsbuch2[Kategorie],M$4,Haushaltsbuch2[Datum],\">\"&B53,Haushaltsbuch2[Datum],\"<=\"&B54)","v":0},{"$f":"SUMIFS(Haushaltsbuch2[Einnahmen],Haushaltsbuch2[Kategorie],N$4,Haushaltsbuch2[Datum],\">\"&B53,Haushaltsbuch2[Datum],\"<=\"&B54)","v":0},{"$f":"SUMIFS(Haushaltsbuch2[Einnahmen],Haushaltsbuch2[Kategorie],O$4,Haushaltsbuch2[Datum],\">\"&B53,Haushaltsbuch2[Datum],\"<=\"&B54)","v":0},{"$f":"SUMIFS(Haushaltsbuch2[Einnahmen],Haushaltsbuch2[Kategorie],P$4,Haushaltsbuch2[Datum],\">\"&B53,Haushaltsbuch2[Datum],\"<=\"&B54)","v":0},{"$f":"SUMIFS(Haushaltsbuch2[Einnahmen],Haushaltsbuch2[Kategorie],Q$4,Haushaltsbuch2[Datum],\">\"&B53,Haushaltsbuch2[Datum],\"<=\"&B54)","v":0},{"$f":"SUMIFS(Haushaltsbuch2[Einnahmen],Haushaltsbuch2[Kategorie],R$4,Haushaltsbuch2[Datum],\">\"&B53,Haushaltsbuch2[Datum],\"<=\"&B54)","v":0},null,null,null,null,null,null,null,null,null,null,null,null,null,null,null,null,null,null,{"$f":"SUMIFS(Haushaltsbuch2[Ausgaben],Haushaltsbuch2[Kategorie],AK$4,Haushaltsbuch2[Datum],\">\"&B53,Haushaltsbuch2[Datum],\"<=\"&B54)","v":0},null,null,{"$f":"SUMIFS(Dividenden[Betrag in EUR],Dividenden[Datum],\">\"&B53,Dividenden[Datum],\"<=\"&B54)","v":0},{"$f":"SUMIFS(Optionen[G/V (Netto)],Optionen[Datum],\">\"&B53,Optionen[Datum],\"<=\"&B54)","v":0},null,0,0,null,0,0,null,{"$f":"SUMIFS(Haushaltsbuch2[Einnahmen],Haushaltsbuch2[Datum],\">\"&B53,Haushaltsbuch2[Datum],\"<=\"&B54)+AN54+AO54","v":0},null,0,null,{"$f":"SUMIFS(Haushaltsbuch2[Ausgaben],Haushaltsbuch2[Datum],\">\"&B53,Haushaltsbuch2[Datum],\"<=\"&B54)","v":0}]
[null,27149,null,null,null,null,null,null,null,null,null,null,{"$f":"SUMIFS(Haushaltsbuch2[Einnahmen],Haushaltsbuch2[Kategorie],M$4,Haushaltsbuch2[Datum],\">\"&B54,Haushaltsbuch2[Datum],\"<=\"&B55)","v":0},{"$f":"SUMIFS(Haushaltsbuch2[Einnahmen],Haushaltsbuch2[Kategorie],N$4,Haushaltsbuch2[Datum],\">\"&B54,Haushaltsbuch2[Datum],\"<=\"&B55)","v":0},{"$f":"SUMIFS(Haushaltsbuch2[Einnahmen],Haushaltsbuch2[Kategorie],O$4,Haushaltsbuch2[Datum],\">\"&B54,Haushaltsbuch2[Datum],\"<=\"&B55)","v":0},{"$f":"SUMIFS(Haushaltsbuch2[Einnahmen],Haushaltsbuch2[Kategorie],P$4,Haushaltsbuch2[Datum],\">\"&B54,Haushaltsbuch2[Datum],\"<=\"&B55)","v":0},{"$f":"SUMIFS(Haushaltsbuch2[Einnahmen],Haushaltsbuch2[Kategorie],Q$4,Haushaltsbuch2[Datum],\">\"&B54,Haushaltsbuch2[Datum],\"<=\"&B55)","v":0},{"$f":"SUMIFS(Haushaltsbuch2[Einnahmen],Haushaltsbuch2[Kategorie],R$4,Haushaltsbuch2[Datum],\">\"&B54,Haushaltsbuch2[Datum],\"<=\"&B55)","v":0},null,null,null,null,null,null,null,null,null,null,null,null,null,null,null,null,null,null,{"$f":"SUMIFS(Haushaltsbuch2[Ausgaben],Haushaltsbuch2[Kategorie],AK$4,Haushaltsbuch2[Datum],\">\"&B54,Haushaltsbuch2[Datum],\"<=\"&B55)","v":0},null,null,{"$f":"SUMIFS(Dividenden[Betrag in EUR],Dividenden[Datum],\">\"&B54,Dividenden[Datum],\"<=\"&B55)","v":0},{"$f":"SUMIFS(Optionen[G/V (Netto)],Optionen[Datum],\">\"&B54,Optionen[Datum],\"<=\"&B55)","v":0},null,0,0,null,0,0,null,{"$f":"SUMIFS(Haushaltsbuch2[Einnahmen],Haushaltsbuch2[Datum],\">\"&B54,Haushaltsbuch2[Datum],\"<=\"&B55)+AN55+AO55","v":0},null,0,null,{"$f":"SUMIFS(Haushaltsbuch2[Ausgaben],Haushaltsbuch2[Datum],\">\"&B54,Haushaltsbuch2[Datum],\"<=\"&B55)","v":0}]
[null,27180,null,null,null,null,null,null,null,null,null,null,{"$f":"SUMIFS(Haushaltsbuch2[Einnahmen],Haushaltsbuch2[Kategorie],M$4,Haushaltsbuch2[Datum],\">\"&B55,Haushaltsbuch2[Datum],\"<=\"&B56)","v":0},{"$f":"SUMIFS(Haushaltsbuch2[Einnahmen],Haushaltsbuch2[Kategorie],N$4,Haushaltsbuch2[Datum],\">\"&B55,Haushaltsbuch2[Datum],\"<=\"&B56)","v":0},{"$f":"SUMIFS(Haushaltsbuch2[Einnahmen],Haushaltsbuch2[Kategorie],O$4,Haushaltsbuch2[Datum],\">\"&B55,Haushaltsbuch2[Datum],\"<=\"&B56)","v":0},{"$f":"SUMIFS(Haushaltsbuch2[Einnahmen],Haushaltsbuch2[Kategorie],P$4,Haushaltsbuch2[Datum],\">\"&B55,Haushaltsbuch2[Datum],\"<=\"&B56)","v":0},{"$f":"SUMIFS(Haushaltsbuch2[Einnahmen],Haushaltsbuch2[Kategorie],Q$4,Haushaltsbuch2[Datum],\">\"&B55,Haushaltsbuch2[Datum],\"<=\"&B56)","v":0},{"$f":"SUMIFS(Haushaltsbuch2[Einnahmen],Haushaltsbuch2[Kategorie],R$4,Haushaltsbuch2[Datum],\">\"&B55,Haushaltsbuch2[Datum],\"<=\"&B56)","v":0},null,null,null,null,null,null,null,null,null,null,null,null,null,null,null,null,null,null,{"$f":"SUMIFS(Haushaltsbuch2[Ausgaben],Haushaltsbuch2[Kategorie],AK$4,Haushaltsbuch2[Datum],\">\"&B55,Haushaltsbuch2[Datum],\"<=\"&B56)","v":0},null,null,{"$f":"SUMIFS(Dividenden[Betrag in EUR],Dividenden[Datum],\">\"&B55,Dividenden[Datum],\"<=\"&B56)","v":0},{"$f":"SUMIFS(Optionen[G/V (Netto)],Optionen[Datum],\">\"&B55,Optionen[Datum],\"<=\"&B56)","v":0},null,0,0,null,0,0,null,{"$f":"SUMIFS(Haushaltsbuch2[Einnahmen],Haushaltsbuch2[Datum],\">\"&B55,Haushaltsbuch2[Datum],\"<=\"&B56)+AN56+AO56","v":0},null,0,null,{"$f":"SUMIFS(Haushaltsbuch2[Ausgaben],Haushaltsbuch2[Datum],\">\"&B55,Haushaltsbuch2[Datum],\"<=\"&B56)","v":0}]
[null,27210,null,null,null,null,null,null,null,null,null,null,{"$f":"SUMIFS(Haushaltsbuch2[Einnahmen],Haushaltsbuch2[Kategorie],M$4,Haushaltsbuch2[Datum],\">\"&B56,Haushaltsbuch2[Datum],\"<=\"&B57)","v":0},{"$f":"SUMIFS(Haushaltsbuch2[Einnahmen],Haushaltsbuch2[Kategorie],N$4,Haushaltsbuch2[Datum],\">\"&B56,Haushaltsbuch2[Datum],\"<=\"&B57)","v":0},{"$f":"SUMIFS(Haushaltsbuch2[Einnahmen],Haushaltsbuch2[Kategorie],O$4,Haushaltsbuch2[Datum],\">\"&B56,Haushaltsbuch2[Datum],\"<=\"&B57)","v":0},{"$f":"SUMIFS(Haushaltsbuch2[Einnahmen],Haushaltsbuch2[Kategorie],P$4,Haushaltsbuch2[Datum],\">\"&B56,Haushaltsbuch2[Datum],\"<=\"&B57)","v":0},{"$f":"SUMIFS(Haushaltsbuch2[Einnahmen],Haushaltsbuch2[Kategorie],Q$4,Haushaltsbuch2[Datum],\">\"&B56,Haushaltsbuch2[Datum],\"<=\"&B57)","v":0},{"$f":"SUMIFS(Haushaltsbuch2[Einnahmen],Haushaltsbuch2[Kategorie],R$4,Haushaltsbuch2[Datum],\">\"&B56,Haushaltsbuch2[Datum],\"<=\"&B57)","v":0},null,null,null,null,null,null,null,null,null,null,null,null,null,null,null,null,null,null,{"$f":"SUMIFS(Haushaltsbuch2[Ausgaben],Haushaltsbuch2[Kategorie],AK$4,Haushaltsbuch2[Datum],\">\"&B56,Haushaltsbuch2[Datum],\"<=\"&B57)","v":0},null,null,{"$f":"SUMIFS(Dividenden[Betrag in EUR],Dividenden[Datum],\">\"&B56,Dividenden[Datum],\"<=\"&B57)","v":0},{"$f":"SUMIFS(Optionen[G/V (Netto)],Optionen[Datum],\">\"&B56,Optionen[Datum],\"<=\"&B57)","v":0},null,0,0,null,0,0,null,{"$f":"SUMIFS(Haushaltsbuch2[Einnahmen],Haushaltsbuch2[Datum],\">\"&B56,Haushaltsbuch2[Datum],\"<=\"&B57)+AN57+AO57","v":0},null,0,null,{"$f":"SUMIFS(Haushaltsbuch2[Ausgaben],Haushaltsbuch2[Datum],\">\"&B56,Haushaltsbuch2[Datum],\"<=\"&B57)","v":0}]
[null,27241,null,null,null,null,null,null,null,null,null,null,{"$f":"SUMIFS(Haushaltsbuch2[Einnahmen],Haushaltsbuch2[Kategorie],M$4,Haushaltsbuch2[Datum],\">\"&B57,Haushaltsbuch2[Datum],\"<=\"&B58)","v":0},{"$f":"SUMIFS(Haushaltsbuch2[Einnahmen],Haushaltsbuch2[Kategorie],N$4,Haushaltsbuch2[Datum],\">\"&B57,Haushaltsbuch2[Datum],\"<=\"&B58)","v":0},{"$f":"SUMIFS(Haushaltsbuch2[Einnahmen],Haushaltsbuch2[Kategorie],O$4,Haushaltsbuch2[Datum],\">\"&B57,Haushaltsbuch2[Datum],\"<=\"&B58)","v":0},{"$f":"SUMIFS(Haushaltsbuch2[Einnahmen],Haushaltsbuch2[Kategorie],P$4,Haushaltsbuch2[Datum],\">\"&B57,Haushaltsbuch2[Datum],\"<=\"&B58)","v":0},{"$f":"SUMIFS(Haushaltsbuch2[Einnahmen],Haushaltsbuch2[Kategorie],Q$4,Haushaltsbuch2[Datum],\">\"&B57,Haushaltsbuch2[Datum],\"<=\"&B58)","v":0},{"$f":"SUMIFS(Haushaltsbuch2[Einnahmen],Haushaltsbuch2[Kategorie],R$4,Haushaltsbuch2[Datum],\">\"&B57,Haushaltsbuch2[Datum],\"<=\"&B58)","v":0},null,null,null,null,null,null,null,null,null,null,null,null,null,null,null,null,null,null,{"$f":"SUMIFS(Haushaltsbuch2[Ausgaben],Haushaltsbuch2[Kategorie],AK$4,Haushaltsbuch2[Datum],\">\"&B57,Haushaltsbuch2[Datum],\"<=\"&B58)","v":0},null,null,{"$f":"SUMIFS(Dividenden[Betrag in EUR],Dividenden[Datum],\">\"&B57,Dividenden[Datum],\"<=\"&B58)","v":0},{"$f":"SUMIFS(Optionen[G/V (Netto)],Optionen[Datum],\">\"&B57,Optionen[Datum],\"<=\"&B58)","v":0},null,0,0,null,0,0,null,{"$f":"SUMIFS(Haushaltsbuch2[Einnahmen],Haushaltsbuch2[Datum],\">\"&B57,Haushaltsbuch2[Datum],\"<=\"&B58)+AN58+AO58","v":0},null,0,null,{"$f":"SUMIFS(Haushaltsbuch2[Ausgaben],Haushaltsbuch2[Datum],\">\"&B57,Haushaltsbuch2[Datum],\"<=\"&B58)","v":0}]
[null,27272,null,null,null,null,null,null,null,null,null,null,{"$f":"SUMIFS(Haushaltsbuch2[Einnahmen],Haushaltsbuch2[Kategorie],M$4,Haushaltsbuch2[Datum],\">\"&B58,Haushaltsbuch2[Datum],\"<=\"&B59)","v":0},{"$f":"SUMIFS(Haushaltsbuch2[Einnahmen],Haushaltsbuch2[Kategorie],N$4,Haushaltsbuch2[Datum],\">\"&B58,Haushaltsbuch2[Datum],\"<=\"&B59)","v":0},{"$f":"SUMIFS(Haushaltsbuch2[Einnahmen],Haushaltsbuch2[Kategorie],O$4,Haushaltsbuch2[Datum],\">\"&B58,Haushaltsbuch2[Datum],\"<=\"&B59)","v":0},{"$f":"SUMIFS(Haushaltsbuch2[Einnahmen],Haushaltsbuch2[Kategorie],P$4,Haushaltsbuch2[Datum],\">\"&B58,Haushaltsbuch2[Datum],\"<=\"&B59)","v":0},{"$f":"SUMIFS(Haushaltsbuch2[Einnahmen],Haushaltsbuch2[Kategorie],Q$4,Haushaltsbuch2[Datum],\">\"&B58,Haushaltsbuch2[Datum],\"<=\"&B59)","v":0},{"$f":"SUMIFS(Haushaltsbuch2[Einnahmen],Haushaltsbuch2[Kategorie],R$4,Haushaltsbuch2[Datum],\">\"&B58,Haushaltsbuch2[Datum],\"<=\"&B59)","v":0},null,null,null,null,null,null,null,null,null,null,null,null,null,null,null,null,null,null,{"$f":"SUMIFS(Haushaltsbuch2[Ausgaben],Haushaltsbuch2[Kategorie],AK$4,Haushaltsbuch2[Datum],\">\"&B58,Haushaltsbuch2[Datum],\"<=\"&B59)","v":0},null,null,{"$f":"SUMIFS(Dividenden[Betrag in EUR],Dividenden[Datum],\">\"&B58,Dividenden[Datum],\"<=\"&B59)","v":0},{"$f":"SUMIFS(Optionen[G/V (Netto)],Optionen[Datum],\">\"&B58,Optionen[Datum],\"<=\"&B59)","v":0},null,0,0,null,0,0,null,{"$f":"SUMIFS(Haushaltsbuch2[Einnahmen],Haushaltsbuch2[Datum],\">\"&B58,Haushaltsbuch2[Datum],\"<=\"&B59)+AN59+AO59","v":0},null,0,null,{"$f":"SUMIFS(Haushaltsbuch2[Ausgaben],Haushaltsbuch2[Datum],\">\"&B58,Haushaltsbuch2[Datum],\"<=\"&B59)","v":0}]
[null,27302,null,null,null,null,null,null,null,null,null,null,{"$f":"SUMIFS(Haushaltsbuch2[Einnahmen],Haushaltsbuch2[Kategorie],M$4,Haushaltsbuch2[Datum],\">\"&B59,Haushaltsbuch2[Datum],\"<=\"&B60)","v":0},{"$f":"SUMIFS(Haushaltsbuch2[Einnahmen],Haushaltsbuch2[Kategorie],N$4,Haushaltsbuch2[Datum],\">\"&B59,Haushaltsbuch2[Datum],\"<=\"&B60)","v":0},{"$f":"SUMIFS(Haushaltsbuch2[Einnahmen],Haushaltsbuch2[Kategorie],O$4,Haushaltsbuch2[Datum],\">\"&B59,Haushaltsbuch2[Datum],\"<=\"&B60)","v":0},{"$f":"SUMIFS(Haushaltsbuch2[Einnahmen],Haushaltsbuch2[Kategorie],P$4,Haushaltsbuch2[Datum],\">\"&B59,Haushaltsbuch2[Datum],\"<=\"&B60)","v":0},{"$f":"SUMIFS(Haushaltsbuch2[Einnahmen],Haushaltsbuch2[Kategorie],Q$4,Haushaltsbuch2[Datum],\">\"&B59,Haushaltsbuch2[Datum],\"<=\"&B60)","v":0},{"$f":"SUMIFS(Haushaltsbuch2[Einnahmen],Haushaltsbuch2[Kategorie],R$4,Haushaltsbuch2[Datum],\">\"&B59,Haushaltsbuch2[Datum],\"<=\"&B60)","v":0},null,null,null,null,null,null,null,null,null,null,null,null,null,null,null,null,null,null,{"$f":"SUMIFS(Haushaltsbuch2[Ausgaben],Haushaltsbuch2[Kategorie],AK$4,Haushaltsbuch2[Datum],\">\"&B59,Haushaltsbuch2[Datum],\"<=\"&B60)","v":0},null,null,{"$f":"SUMIFS(Dividenden[Betrag in EUR],Dividenden[Datum],\">\"&B59,Dividenden[Datum],\"<=\"&B60)","v":0},{"$f":"SUMIFS(Optionen[G/V (Netto)],Optionen[Datum],\">\"&B59,Optionen[Datum],\"<=\"&B60)","v":0},null,0,0,null,0,0,null,{"$f":"SUMIFS(Haushaltsbuch2[Einnahmen],Haushaltsbuch2[Datum],\">\"&B59,Haushaltsbuch2[Datum],\"<=\"&B60)+AN60+AO60","v":0},null,0,null,{"$f":"SUMIFS(Haushaltsbuch2[Ausgaben],Haushaltsbuch2[Datum],\">\"&B59,Haushaltsbuch2[Datum],\"<=\"&B60)","v":0}]
[null,27333,null,null,null,null,null,null,null,null,null,null,{"$f":"SUMIFS(Haushaltsbuch2[Einnahmen],Haushaltsbuch2[Kategorie],M$4,Haushaltsbuch2[Datum],\">\"&B60,Haushaltsbuch2[Datum],\"<=\"&B61)","v":0},{"$f":"SUMIFS(Haushaltsbuch2[Einnahmen],Haushaltsbuch2[Kategorie],N$4,Haushaltsbuch2[Datum],\">\"&B60,Haushaltsbuch2[Datum],\"<=\"&B61)","v":0},{"$f":"SUMIFS(Haushaltsbuch2[Einnahmen],Haushaltsbuch2[Kategorie],O$4,Haushaltsbuch2[Datum],\">\"&B60,Haushaltsbuch2[Datum],\"<=\"&B61)","v":0},{"$f":"SUMIFS(Haushaltsbuch2[Einnahmen],Haushaltsbuch2[Kategorie],P$4,Haushaltsbuch2[Datum],\">\"&B60,Haushaltsbuch2[Datum],\"<=\"&B61)","v":0},{"$f":"SUMIFS(Haushaltsbuch2[Einnahmen],Haushaltsbuch2[Kategorie],Q$4,Haushaltsbuch2[Datum],\">\"&B60,Haushaltsbuch2[Datum],\"<=\"&B61)","v":0},{"$f":"SUMIFS(Haushaltsbuch2[Einnahmen],Haushaltsbuch2[Kategorie],R$4,Haushaltsbuch2[Datum],\">\"&B60,Haushaltsbuch2[Datum],\"<=\"&B61)","v":0},null,null,null,null,null,null,null,null,null,null,null,null,null,null,null,null,null,null,{"$f":"SUMIFS(Haushaltsbuch2[Ausgaben],Haushaltsbuch2[Kategorie],AK$4,Haushaltsbuch2[Datum],\">\"&B60,Haushaltsbuch2[Datum],\"<=\"&B61)","v":0},null,null,{"$f":"SUMIFS(Dividenden[Betrag in EUR],Dividenden[Datum],\">\"&B60,Dividenden[Datum],\"<=\"&B61)","v":0},{"$f":"SUMIFS(Optionen[G/V (Netto)],Optionen[Datum],\">\"&B60,Optionen[Datum],\"<=\"&B61)","v":0},null,0,0,null,0,0,null,{"$f":"SUMIFS(Haushaltsbuch2[Einnahmen],Haushaltsbuch2[Datum],\">\"&B60,Haushaltsbuch2[Datum],\"<=\"&B61)+AN61+AO61","v":0},null,0,null,{"$f":"SUMIFS(Haushaltsbuch2[Ausgaben],Haushaltsbuch2[Datum],\">\"&B60,Haushaltsbuch2[Datum],\"<=\"&B61)","v":0}]
[null,27363,null,null,null,null,null,null,null,null,null,null,{"$f":"SUMIFS(Haushaltsbuch2[Einnahmen],Haushaltsbuch2[Kategorie],M$4,Haushaltsbuch2[Datum],\">\"&B61,Haushaltsbuch2[Datum],\"<=\"&B62)","v":0},{"$f":"SUMIFS(Haushaltsbuch2[Einnahmen],Haushaltsbuch2[Kategorie],N$4,Haushaltsbuch2[Datum],\">\"&B61,Haushaltsbuch2[Datum],\"<=\"&B62)","v":0},{"$f":"SUMIFS(Haushaltsbuch2[Einnahmen],Haushaltsbuch2[Kategorie],O$4,Haushaltsbuch2[Datum],\">\"&B61,Haushaltsbuch2[Datum],\"<=\"&B62)","v":0},{"$f":"SUMIFS(Haushaltsbuch2[Einnahmen],Haushaltsbuch2[Kategorie],P$4,Haushaltsbuch2[Datum],\">\"&B61,Haushaltsbuch2[Datum],\"<=\"&B62)","v":0},{"$f":"SUMIFS(Haushaltsbuch2[Einnahmen],Haushaltsbuch2[Kategorie],Q$4,Haushaltsbuch2[Datum],\">\"&B61,Haushaltsbuch2[Datum],\"<=\"&B62)","v":0},{"$f":"SUMIFS(Haushaltsbuch2[Einnahmen],Haushaltsbuch2[Kategorie],R$4,Haushaltsbuch2[Datum],\">\"&B61,Haushaltsbuch2[Datum],\"<=\"&B62)","v":0},null,null,null,null,null,null,null,null,null,null,null,null,null,null,null,null,null,null,{"$f":"SUMIFS(Haushaltsbuch2[Ausgaben],Haushaltsbuch2[Kategorie],AK$4,Haushaltsbuch2[Datum],\">\"&B61,Haushaltsbuch2[Datum],\"<=\"&B62)","v":0},null,null,{"$f":"SUMIFS(Dividenden[Betrag in EUR],Dividenden[Datum],\">\"&B61,Dividenden[Datum],\"<=\"&B62)","v":0},{"$f":"SUMIFS(Optionen[G/V (Netto)],Optionen[Datum],\">\"&B61,Optionen[Datum],\"<=\"&B62)","v":0},null,0,0,null,0,0,null,{"$f":"SUMIFS(Haushaltsbuch2[Einnahmen],Haushaltsbuch2[Datum],\">\"&B61,Haushaltsbuch2[Datum],\"<=\"&B62)+AN62+AO62","v":0},null,0,null,{"$f":"SUMIFS(Haushaltsbuch2[Ausgaben],Haushaltsbuch2[Datum],\">\"&B61,Haushaltsbuch2[Datum],\"<=\"&B62)","v":0}]
[null,27394,null,null,null,null,null,null,null,null,null,null,{"$f":"SUMIFS(Haushaltsbuch2[Einnahmen],Haushaltsbuch2[Kategorie],M$4,Haushaltsbuch2[Datum],\">\"&B62,Haushaltsbuch2[Datum],\"<=\"&B63)","v":0},{"$f":"SUMIFS(Haushaltsbuch2[Einnahmen],Haushaltsbuch2[Kategorie],N$4,Haushaltsbuch2[Datum],\">\"&B62,Haushaltsbuch2[Datum],\"<=\"&B63)","v":0},{"$f":"SUMIFS(Haushaltsbuch2[Einnahmen],Haushaltsbuch2[Kategorie],O$4,Haushaltsbuch2[Datum],\">\"&B62,Haushaltsbuch2[Datum],\"<=\"&B63)","v":0},{"$f":"SUMIFS(Haushaltsbuch2[Einnahmen],Haushaltsbuch2[Kategorie],P$4,Haushaltsbuch2[Datum],\">\"&B62,Haushaltsbuch2[Datum],\"<=\"&B63)","v":0},{"$f":"SUMIFS(Haushaltsbuch2[Einnahmen],Haushaltsbuch2[Kategorie],Q$4,Haushaltsbuch2[Datum],\">\"&B62,Haushaltsbuch2[Datum],\"<=\"&B63)","v":0},{"$f":"SUMIFS(Haushaltsbuch2[Einnahmen],Haushaltsbuch2[Kategorie],R$4,Haushaltsbuch2[Datum],\">\"&B62,Haushaltsbuch2[Datum],\"<=\"&B63)","v":0},null,null,null,null,null,null,null,null,null,null,null,null,null,null,null,null,null,null,{"$f":"SUMIFS(Haushaltsbuch2[Ausgaben],Haushaltsbuch2[Kategorie],AK$4,Haushaltsbuch2[Datum],\">\"&B62,Haushaltsbuch2[Datum],\"<=\"&B63)","v":0},null,null,{"$f":"SUMIFS(Dividenden[Betrag in EUR],Dividenden[Datum],\">\"&B62,Dividenden[Datum],\"<=\"&B63)","v":0},{"$f":"SUMIFS(Optionen[G/V (Netto)],Optionen[Datum],\">\"&B62,Optionen[Datum],\"<=\"&B63)","v":0},null,0,0,null,0,0,null,{"$f":"SUMIFS(Haushaltsbuch2[Einnahmen],Haushaltsbuch2[Datum],\">\"&B62,Haushaltsbuch2[Datum],\"<=\"&B63)+AN63+AO63","v":0},null,0,null,{"$f":"SUMIFS(Haushaltsbuch2[Ausgaben],Haushaltsbuch2[Datum],\">\"&B62,Haushaltsbuch2[Datum],\"<=\"&B63)","v":0}]
[null,27425,null,null,null,null,null,null,null,null,null,null,{"$f":"SUMIFS(Haushaltsbuch2[Einnahmen],Haushaltsbuch2[Kategorie],M$4,Haushaltsbuch2[Datum],\">\"&B63,Haushaltsbuch2[Datum],\"<=\"&B64)","v":0},{"$f":"SUMIFS(Haushaltsbuch2[Einnahmen],Haushaltsbuch2[Kategorie],N$4,Haushaltsbuch2[Datum],\">\"&B63,Haushaltsbuch2[Datum],\"<=\"&B64)","v":0},{"$f":"SUMIFS(Haushaltsbuch2[Einnahmen],Haushaltsbuch2[Kategorie],O$4,Haushaltsbuch2[Datum],\">\"&B63,Haushaltsbuch2[Datum],\"<=\"&B64)","v":0},{"$f":"SUMIFS(Haushaltsbuch2[Einnahmen],Haushaltsbuch2[Kategorie],P$4,Haushaltsbuch2[Datum],\">\"&B63,Haushaltsbuch2[Datum],\"<=\"&B64)","v":0},{"$f":"SUMIFS(Haushaltsbuch2[Einnahmen],Haushaltsbuch2[Kategorie],Q$4,Haushaltsbuch2[Datum],\">\"&B63,Haushaltsbuch2[Datum],\"<=\"&B64)","v":0},{"$f":"SUMIFS(Haushaltsbuch2[Einnahmen],Haushaltsbuch2[Kategorie],R$4,Haushaltsbuch2[Datum],\">\"&B63,Haushaltsbuch2[Datum],\"<=\"&B64)","v":0},null,null,null,null,null,null,null,null,null,null,null,null,null,null,null,null,null,null,{"$f":"SUMIFS(Haushaltsbuch2[Ausgaben],Haushaltsbuch2[Kategorie],AK$4,Haushaltsbuch2[Datum],\">\"&B63,Haushaltsbuch2[Datum],\"<=\"&B64)","v":0},null,null,{"$f":"SUMIFS(Dividenden[Betrag in EUR],Dividenden[Datum],\">\"&B63,Dividenden[Datum],\"<=\"&B64)","v":0},{"$f":"SUMIFS(Optionen[G/V (Netto)],Optionen[Datum],\">\"&B63,Optionen[Datum],\"<=\"&B64)","v":0},null,0,0,null,0,0,null,{"$f":"SUMIFS(Haushaltsbuch2[Einnahmen],Haushaltsbuch2[Datum],\">\"&B63,Haushaltsbuch2[Datum],\"<=\"&B64)+AN64+AO64","v":0},null,0,null,{"$f":"SUMIFS(Haushaltsbuch2[Ausgaben],Haushaltsbuch2[Datum],\">\"&B63,Haushaltsbuch2[Datum],\"<=\"&B64)","v":0}]
[null,27453,null,null,null,null,null,null,null,null,null,null,{"$f":"SUMIFS(Haushaltsbuch2[Einnahmen],Haushaltsbuch2[Kategorie],M$4,Haushaltsbuch2[Datum],\">\"&B64,Haushaltsbuch2[Datum],\"<=\"&B65)","v":0},{"$f":"SUMIFS(Haushaltsbuch2[Einnahmen],Haushaltsbuch2[Kategorie],N$4,Haushaltsbuch2[Datum],\">\"&B64,Haushaltsbuch2[Datum],\"<=\"&B65)","v":0},{"$f":"SUMIFS(Haushaltsbuch2[Einnahmen],Haushaltsbuch2[Kategorie],O$4,Haushaltsbuch2[Datum],\">\"&B64,Haushaltsbuch2[Datum],\"<=\"&B65)","v":0},{"$f":"SUMIFS(Haushaltsbuch2[Einnahmen],Haushaltsbuch2[Kategorie],P$4,Haushaltsbuch2[Datum],\">\"&B64,Haushaltsbuch2[Datum],\"<=\"&B65)","v":0},{"$f":"SUMIFS(Haushaltsbuch2[Einnahmen],Haushaltsbuch2[Kategorie],Q$4,Haushaltsbuch2[Datum],\">\"&B64,Haushaltsbuch2[Datum],\"<=\"&B65)","v":0},{"$f":"SUMIFS(Haushaltsbuch2[Einnahmen],Haushaltsbuch2[Kategorie],R$4,Haushaltsbuch2[Datum],\">\"&B64,Haushaltsbuch2[Datum],\"<=\"&B65)","v":0},null,null,null,null,null,null,null,null,null,null,null,null,null,null,null,null,null,null,{"$f":"SUMIFS(Haushaltsbuch2[Ausgaben],Haushaltsbuch2[Kategorie],AK$4,Haushaltsbuch2[Datum],\">\"&B64,Haushaltsbuch2[Datum],\"<=\"&B65)","v":0},null,null,{"$f":"SUMIFS(Dividenden[Betrag in EUR],Dividenden[Datum],\">\"&B64,Dividenden[Datum],\"<=\"&B65)","v":0},{"$f":"SUMIFS(Optionen[G/V (Netto)],Optionen[Datum],\">\"&B64,Optionen[Datum],\"<=\"&B65)","v":0},null,0,0,null,0,0,null,{"$f":"SUMIFS(Haushaltsbuch2[Einnahmen],Haushaltsbuch2[Datum],\">\"&B64,Haushaltsbuch2[Datum],\"<=\"&B65)+AN65+AO65","v":0},null,0,null,{"$f":"SUMIFS(Haushaltsbuch2[Ausgaben],Haushaltsbuch2[Datum],\">\"&B64,Haushaltsbuch2[Datum],\"<=\"&B65)","v":0}]
[null,27484,null,null,null,null,null,null,null,null,null,null,{"$f":"SUMIFS(Haushaltsbuch2[Einnahmen],Haushaltsbuch2[Kategorie],M$4,Haushaltsbuch2[Datum],\">\"&B65,Haushaltsbuch2[Datum],\"<=\"&B66)","v":0},{"$f":"SUMIFS(Haushaltsbuch2[Einnahmen],Haushaltsbuch2[Kategorie],N$4,Haushaltsbuch2[Datum],\">\"&B65,Haushaltsbuch2[Datum],\"<=\"&B66)","v":0},{"$f":"SUMIFS(Haushaltsbuch2[Einnahmen],Haushaltsbuch2[Kategorie],O$4,Haushaltsbuch2[Datum],\">\"&B65,Haushaltsbuch2[Datum],\"<=\"&B66)","v":0},{"$f":"SUMIFS(Haushaltsbuch2[Einnahmen],Haushaltsbuch2[Kategorie],P$4,Haushaltsbuch2[Datum],\">\"&B65,Haushaltsbuch2[Datum],\"<=\"&B66)","v":0},{"$f":"SUMIFS(Haushaltsbuch2[Einnahmen],Haushaltsbuch2[Kategorie],Q$4,Haushaltsbuch2[Datum],\">\"&B65,Haushaltsbuch2[Datum],\"<=\"&B66)","v":0},{"$f":"SUMIFS(Haushaltsbuch2[Einnahmen],Haushaltsbuch2[Kategorie],R$4,Haushaltsbuch2[Datum],\">\"&B65,Haushaltsbuch2[Datum],\"<=\"&B66)","v":0},null,null,null,null,null,null,null,null,null,null,null,null,null,null,null,null,null,null,{"$f":"SUMIFS(Haushaltsbuch2[Ausgaben],Haushaltsbuch2[Kategorie],AK$4,Haushaltsbuch2[Datum],\">\"&B65,Haushaltsbuch2[Datum],\"<=\"&B66)","v":0},null,null,{"$f":"SUMIFS(Dividenden[Betrag in EUR],Dividenden[Datum],\">\"&B65,Dividenden[Datum],\"<=\"&B66)","v":0},{"$f":"SUMIFS(Optionen[G/V (Netto)],Optionen[Datum],\">\"&B65,Optionen[Datum],\"<=\"&B66)","v":0},null,0,0,null,0,0,null,{"$f":"SUMIFS(Haushaltsbuch2[Einnahmen],Haushaltsbuch2[Datum],\">\"&B65,Haushaltsbuch2[Datum],\"<=\"&B66)+AN66+AO66","v":0},null,0,null,{"$f":"SUMIFS(Haushaltsbuch2[Ausgaben],Haushaltsbuch2[Datum],\">\"&B65,Haushaltsbuch2[Datum],\"<=\"&B66)","v":0}]
[null,27514,null,null,null,null,null,null,null,null,null,null,{"$f":"SUMIFS(Haushaltsbuch2[Einnahmen],Haushaltsbuch2[Kategorie],M$4,Haushaltsbuch2[Datum],\">\"&B66,Haushaltsbuch2[Datum],\"<=\"&B67)","v":0},{"$f":"SUMIFS(Haushaltsbuch2[Einnahmen],Haushaltsbuch2[Kategorie],N$4,Haushaltsbuch2[Datum],\">\"&B66,Haushaltsbuch2[Datum],\"<=\"&B67)","v":0},{"$f":"SUMIFS(Haushaltsbuch2[Einnahmen],Haushaltsbuch2[Kategorie],O$4,Haushaltsbuch2[Datum],\">\"&B66,Haushaltsbuch2[Datum],\"<=\"&B67)","v":0},{"$f":"SUMIFS(Haushaltsbuch2[Einnahmen],Haushaltsbuch2[Kategorie],P$4,Haushaltsbuch2[Datum],\">\"&B66,Haushaltsbuch2[Datum],\"<=\"&B67)","v":0},{"$f":"SUMIFS(Haushaltsbuch2[Einnahmen],Haushaltsbuch2[Kategorie],Q$4,Haushaltsbuch2[Datum],\">\"&B66,Haushaltsbuch2[Datum],\"<=\"&B67)","v":0},{"$f":"SUMIFS(Haushaltsbuch2[Einnahmen],Haushaltsbuch2[Kategorie],R$4,Haushaltsbuch2[Datum],\">\"&B66,Haushaltsbuch2[Datum],\"<=\"&B67)","v":0},null,null,null,null,null,null,null,null,null,null,null,null,null,null,null,null,null,null,{"$f":"SUMIFS(Haushaltsbuch2[Ausgaben],Haushaltsbuch2[Kategorie],AK$4,Haushaltsbuch2[Datum],\">\"&B66,Haushaltsbuch2[Datum],\"<=\"&B67)","v":0},null,null,{"$f":"SUMIFS(Dividenden[Betrag in EUR],Dividenden[Datum],\">\"&B66,Dividenden[Datum],\"<=\"&B67)","v":0},{"$f":"SUMIFS(Optionen[G/V (Netto)],Optionen[Datum],\">\"&B66,Optionen[Datum],\"<=\"&B67)","v":0},null,0,0,null,0,0,null,{"$f":"SUMIFS(Haushaltsbuch2[Einnahmen],Haushaltsbuch2[Datum],\">\"&B66,Haushaltsbuch2[Datum],\"<=\"&B67)+AN67+AO67","v":0},null,0,null,{"$f":"SUMIFS(Haushaltsbuch2[Ausgaben],Haushaltsbuch2[Datum],\">\"&B66,Haushaltsbuch2[Datum],\"<=\"&B67)","v":0}]
[null,27545,null,null,null,null,null,null,null,null,null,null,{"$f":"SUMIFS(Haushaltsbuch2[Einnahmen],Haushaltsbuch2[Kategorie],M$4,Haushaltsbuch2[Datum],\">\"&B67,Haushaltsbuch2[Datum],\"<=\"&B68)","v":0},{"$f":"SUMIFS(Haushaltsbuch2[Einnahmen],Haushaltsbuch2[Kategorie],N$4,Haushaltsbuch2[Datum],\">\"&B67,Haushaltsbuch2[Datum],\"<=\"&B68)","v":0},{"$f":"SUMIFS(Haushaltsbuch2[Einnahmen],Haushaltsbuch2[Kategorie],O$4,Haushaltsbuch2[Datum],\">\"&B67,Haushaltsbuch2[Datum],\"<=\"&B68)","v":0},{"$f":"SUMIFS(Haushaltsbuch2[Einnahmen],Haushaltsbuch2[Kategorie],P$4,Haushaltsbuch2[Datum],\">\"&B67,Haushaltsbuch2[Datum],\"<=\"&B68)","v":0},{"$f":"SUMIFS(Haushaltsbuch2[Einnahmen],Haushaltsbuch2[Kategorie],Q$4,Haushaltsbuch2[Datum],\">\"&B67,Haushaltsbuch2[Datum],\"<=\"&B68)","v":0},{"$f":"SUMIFS(Haushaltsbuch2[Einnahmen],Haushaltsbuch2[Kategorie],R$4,Haushaltsbuch2[Datum],\">\"&B67,Haushaltsbuch2[Datum],\"<=\"&B68)","v":0},null,null,null,null,null,null,null,null,null,null,null,null,null,null,null,null,null,null,{"$f":"SUMIFS(Haushaltsbuch2[Ausgaben],Haushaltsbuch2[Kategorie],AK$4,Haushaltsbuch2[Datum],\">\"&B67,Haushaltsbuch2[Datum],\"<=\"&B68)","v":0},null,null,{"$f":"SUMIFS(Dividenden[Betrag in EUR],Dividenden[Datum],\">\"&B67,Dividenden[Datum],\"<=\"&B68)","v":0},{"$f":"SUMIFS(Optionen[G/V (Netto)],Optionen[Datum],\">\"&B67,Optionen[Datum],\"<=\"&B68)","v":0},null,0,0,null,0,0,null,{"$f":"SUMIFS(Haushaltsbuch2[Einnahmen],Haushaltsbuch2[Datum],\">\"&B67,Haushaltsbuch2[Datum],\"<=\"&B68)+AN68+AO68","v":0},null,0,null,{"$f":"SUMIFS(Haushaltsbuch2[Ausgaben],Haushaltsbuch2[Datum],\">\"&B67,Haushaltsbuch2[Datum],\"<=\"&B68)","v":0}]
[null,27575,null,null,null,null,null,null,null,null,null,null,{"$f":"SUMIFS(Haushaltsbuch2[Einnahmen],Haushaltsbuch2[Kategorie],M$4,Haushaltsbuch2[Datum],\">\"&B68,Haushaltsbuch2[Datum],\"<=\"&B69)","v":0},{"$f":"SUMIFS(Haushaltsbuch2[Einnahmen],Haushaltsbuch2[Kategorie],N$4,Haushaltsbuch2[Datum],\">\"&B68,Haushaltsbuch2[Datum],\"<=\"&B69)","v":0},{"$f":"SUMIFS(Haushaltsbuch2[Einnahmen],Haushaltsbuch2[Kategorie],O$4,Haushaltsbuch2[Datum],\">\"&B68,Haushaltsbuch2[Datum],\"<=\"&B69)","v":0},{"$f":"SUMIFS(Haushaltsbuch2[Einnahmen],Haushaltsbuch2[Kategorie],P$4,Haushaltsbuch2[Datum],\">\"&B68,Haushaltsbuch2[Datum],\"<=\"&B69)","v":0},{"$f":"SUMIFS(Haushaltsbuch2[Einnahmen],Haushaltsbuch2[Kategorie],Q$4,Haushaltsbuch2[Datum],\">\"&B68,Haushaltsbuch2[Datum],\"<=\"&B69)","v":0},{"$f":"SUMIFS(Haushaltsbuch2[Einnahmen],Haushaltsbuch2[Kategorie],R$4,Haushaltsbuch2[Datum],\">\"&B68,Haushaltsbuch2[Datum],\"<=\"&B69)","v":0},null,null,null,null,null,null,null,null,null,null,null,null,null,null,null,null,null,null,{"$f":"SUMIFS(Haushaltsbuch2[Ausgaben],Haushaltsbuch2[Kategorie],AK$4,Haushaltsbuch2[Datum],\">\"&B68,Haushaltsbuch2[Datum],\"<=\"&B69)","v":0},null,null,{"$f":"SUMIFS(Dividenden[Betrag in EUR],Dividenden[Datum],\">\"&B68,Dividenden[Datum],\"<=\"&B69)","v":0},{"$f":"SUMIFS(Optionen[G/V (Netto)],Optionen[Datum],\">\"&B68,Optionen[Datum],\"<=\"&B69)","v":0},null,0,0,null,0,0,null,{"$f":"SUMIFS(Haushaltsbuch2[Einnahmen],Haushaltsbuch2[Datum],\">\"&B68,Haushaltsbuch2[Datum],\"<=\"&B69)+AN69+AO69","v":0},null,0,null,{"$f":"SUMIFS(Haushaltsbuch2[Ausgaben],Haushaltsbuch2[Datum],\">\"&B68,Haushaltsbuch2[Datum],\"<=\"&B69)","v":0}]
[null,27606,null,null,null,null,null,null,null,null,null,null,{"$f":"SUMIFS(Haushaltsbuch2[Einnahmen],Haushaltsbuch2[Kategorie],M$4,Haushaltsbuch2[Datum],\">\"&B69,Haushaltsbuch2[Datum],\"<=\"&B70)","v":0},{"$f":"SUMIFS(Haushaltsbuch2[Einnahmen],Haushaltsbuch2[Kategorie],N$4,Haushaltsbuch2[Datum],\">\"&B69,Haushaltsbuch2[Datum],\"<=\"&B70)","v":0},{"$f":"SUMIFS(Haushaltsbuch2[Einnahmen],Haushaltsbuch2[Kategorie],O$4,Haushaltsbuch2[Datum],\">\"&B69,Haushaltsbuch2[Datum],\"<=\"&B70)","v":0},{"$f":"SUMIFS(Haushaltsbuch2[Einnahmen],Haushaltsbuch2[Kategorie],P$4,Haushaltsbuch2[Datum],\">\"&B69,Haushaltsbuch2[Datum],\"<=\"&B70)","v":0},{"$f":"SUMIFS(Haushaltsbuch2[Einnahmen],Haushaltsbuch2[Kategorie],Q$4,Haushaltsbuch2[Datum],\">\"&B69,Haushaltsbuch2[Datum],\"<=\"&B70)","v":0},{"$f":"SUMIFS(Haushaltsbuch2[Einnahmen],Haushaltsbuch2[Kategorie],R$4,Haushaltsbuch2[Datum],\">\"&B69,Haushaltsbuch2[Datum],\"<=\"&B70)","v":0},null,null,null,null,null,null,null,null,null,null,null,null,null,null,null,null,null,null,{"$f":"SUMIFS(Haushaltsbuch2[Ausgaben],Haushaltsbuch2[Kategorie],AK$4,Haushaltsbuch2[Datum],\">\"&B69,Haushaltsbuch2[Datum],\"<=\"&B70)","v":0},null,null,{"$f":"SUMIFS(Dividenden[Betrag in EUR],Dividenden[Datum],\">\"&B69,Dividenden[Datum],\"<=\"&B70)","v":0},{"$f":"SUMIFS(Optionen[G/V (Netto)],Optionen[Datum],\">\"&B69,Optionen[Datum],\"<=\"&B70)","v":0},null,{"$f":"N70+AN70","v":0},{"$f":"O70+AO70","v":0},null,{"$f":"M70+SUM(P70:R70)+SUM(AQ70:AR70)","v":0},0,null,{"$f":"SUMIFS(Haushaltsbuch2[Einnahmen],Haushaltsbuch2[Datum],\">\"&B69,Haushaltsbuch2[Datum],\"<=\"&B70)+AN70+AO70","v":0},null,0,null,{"$f":"SUMIFS(Haushaltsbuch2[Ausgaben],Haushaltsbuch2[Datum],\">\"&B69,Haushaltsbuch2[Datum],\"<=\"&B70)","v":0}]
[null,{"$f":"EOMONTH(B70,1)","v":27637},null,null,null,null,null,null,null,null,null,null,{"$f":"SUMIFS(Haushaltsbuch2[Einnahmen],Haushaltsbuch2[Kategorie],M$4,Haushaltsbuch2[Datum],\">\"&B70,Haushaltsbuch2[Datum],\"<=\"&B71)","v":0},{"$f":"SUMIFS(Haushaltsbuch2[Einnahmen],Haushaltsbuch2[Kategorie],N$4,Haushaltsbuch2[Datum],\">\"&B70,Haushaltsbuch2[Datum],\"<=\"&B71)","v":0},{"$f":"SUMIFS(Haushaltsbuch2[Einnahmen],Haushaltsbuch2[Kategorie],O$4,Haushaltsbuch2[Datum],\">\"&B70,Haushaltsbuch2[Datum],\"<=\"&B71)","v":0},{"$f":"SUMIFS(Haushaltsbuch2[Einnahmen],Haushaltsbuch2[Kategorie],P$4,Haushaltsbuch2[Datum],\">\"&B70,Haushaltsbuch2[Datum],\"<=\"&B71)","v":0},{"$f":"SUMIFS(Haushaltsbuch2[Einnahmen],Haushaltsbuch2[Kategorie],Q$4,Haushaltsbuch2[Datum],\">\"&B70,Haushaltsbuch2[Datum],\"<=\"&B71)","v":0},{"$f":"SUMIFS(Haushaltsbuch2[Einnahmen],Haushaltsbuch2[Kategorie],R$4,Haushaltsbuch2[Datum],\">\"&B70,Haushaltsbuch2[Datum],\"<=\"&B71)","v":0},null,null,null,null,null,null,null,null,null,null,null,null,null,null,null,null,null,null,{"$f":"SUMIFS(Haushaltsbuch2[Ausgaben],Haushaltsbuch2[Kategorie],AK$4,Haushaltsbuch2[Datum],\">\"&B70,Haushaltsbuch2[Datum],\"<=\"&B71)","v":0},null,null,{"$f":"SUMIFS(Dividenden[Betrag in EUR],Dividenden[Datum],\">\"&B70,Dividenden[Datum],\"<=\"&B71)","v":0},{"$f":"SUMIFS(Optionen[G/V (Netto)],Optionen[Datum],\">\"&B70,Optionen[Datum],\"<=\"&B71)","v":0},null,0,0,null,0,0,null,{"$f":"SUMIFS(Haushaltsbuch2[Einnahmen],Haushaltsbuch2[Datum],\">\"&B70,Haushaltsbuch2[Datum],\"<=\"&B71)+AN71+AO71","v":0},null,0,null,{"$f":"SUMIFS(Haushaltsbuch2[Ausgaben],Haushaltsbuch2[Datum],\">\"&B70,Haushaltsbuch2[Datum],\"<=\"&B71)","v":0}]
[null,27667,null,null,null,null,null,null,null,null,null,null,{"$f":"SUMIFS(Haushaltsbuch2[Einnahmen],Haushaltsbuch2[Kategorie],M$4,Haushaltsbuch2[Datum],\">\"&B71,Haushaltsbuch2[Datum],\"<=\"&B72)","v":0},{"$f":"SUMIFS(Haushaltsbuch2[Einnahmen],Haushaltsbuch2[Kategorie],N$4,Haushaltsbuch2[Datum],\">\"&B71,Haushaltsbuch2[Datum],\"<=\"&B72)","v":0},{"$f":"SUMIFS(Haushaltsbuch2[Einnahmen],Haushaltsbuch2[Kategorie],O$4,Haushaltsbuch2[Datum],\">\"&B71,Haushaltsbuch2[Datum],\"<=\"&B72)","v":0},{"$f":"SUMIFS(Haushaltsbuch2[Einnahmen],Haushaltsbuch2[Kategorie],P$4,Haushaltsbuch2[Datum],\">\"&B71,Haushaltsbuch2[Datum],\"<=\"&B72)","v":0},{"$f":"SUMIFS(Haushaltsbuch2[Einnahmen],Haushaltsbuch2[Kategorie],Q$4,Haushaltsbuch2[Datum],\">\"&B71,Haushaltsbuch2[Datum],\"<=\"&B72)","v":0},{"$f":"SUMIFS(Haushaltsbuch2[Einnahmen],Haushaltsbuch2[Kategorie],R$4,Haushaltsbuch2[Datum],\">\"&B71,Haushaltsbuch2[Datum],\"<=\"&B72)","v":0},null,null,null,null,null,null,null,null,null,null,null,null,null,null,null,null,null,null,{"$f":"SUMIFS(Haushaltsbuch2[Ausgaben],Haushaltsbuch2[Kategorie],AK$4,Haushaltsbuch2[Datum],\">\"&B71,Haushaltsbuch2[Datum],\"<=\"&B72)","v":0},null,null,{"$f":"SUMIFS(Dividenden[Betrag in EUR],Dividenden[Datum],\">\"&B71,Dividenden[Datum],\"<=\"&B72)","v":0},{"$f":"SUMIFS(Optionen[G/V (Netto)],Optionen[Datum],\">\"&B71,Optionen[Datum],\"<=\"&B72)","v":0},null,0,0,null,0,0,null,{"$f":"SUMIFS(Haushaltsbuch2[Einnahmen],Haushaltsbuch2[Datum],\">\"&B71,Haushaltsbuch2[Datum],\"<=\"&B72)+AN72+AO72","v":0},null,0,null,{"$f":"SUMIFS(Haushaltsbuch2[Ausgaben],Haushaltsbuch2[Datum],\">\"&B71,Haushaltsbuch2[Datum],\"<=\"&B72)","v":0}]
[null,27698,null,null,null,null,null,null,null,null,null,null,{"$f":"SUMIFS(Haushaltsbuch2[Einnahmen],Haushaltsbuch2[Kategorie],M$4,Haushaltsbuch2[Datum],\">\"&B72,Haushaltsbuch2[Datum],\"<=\"&B73)","v":0},{"$f":"SUMIFS(Haushaltsbuch2[Einnahmen],Haushaltsbuch2[Kategorie],N$4,Haushaltsbuch2[Datum],\">\"&B72,Haushaltsbuch2[Datum],\"<=\"&B73)","v":0},{"$f":"SUMIFS(Haushaltsbuch2[Einnahmen],Haushaltsbuch2[Kategorie],O$4,Haushaltsbuch2[Datum],\">\"&B72,Haushaltsbuch2[Datum],\"<=\"&B73)","v":0},{"$f":"SUMIFS(Haushaltsbuch2[Einnahmen],Haushaltsbuch2[Kategorie],P$4,Haushaltsbuch2[Datum],\">\"&B72,Haushaltsbuch2[Datum],\"<=\"&B73)","v":0},{"$f":"SUMIFS(Haushaltsbuch2[Einnahmen],Haushaltsbuch2[Kategorie],Q$4,Haushaltsbuch2[Datum],\">\"&B72,Haushaltsbuch2[Datum],\"<=\"&B73)","v":0},{"$f":"SUMIFS(Haushaltsbuch2[Einnahmen],Haushaltsbuch2[Kategorie],R$4,Haushaltsbuch2[Datum],\">\"&B72,Haushaltsbuch2[Datum],\"<=\"&B73)","v":0},null,null,null,null,null,null,null,null,null,null,null,null,null,null,null,null,null,null,{"$f":"SUMIFS(Haushaltsbuch2[Ausgaben],Haushaltsbuch2[Kategorie],AK$4,Haushaltsbuch2[Datum],\">\"&B72,Haushaltsbuch2[Datum],\"<=\"&B73)","v":0},null,null,{"$f":"SUMIFS(Dividenden[Betrag in EUR],Dividenden[Datum],\">\"&B72,Dividenden[Datum],\"<=\"&B73)","v":0},{"$f":"SUMIFS(Optionen[G/V (Netto)],Optionen[Datum],\">\"&B72,Optionen[Datum],\"<=\"&B73)","v":0},null,0,0,null,0,0,null,{"$f":"SUMIFS(Haushaltsbuch2[Einnahmen],Haushaltsbuch2[Datum],\">\"&B72,Haushaltsbuch2[Datum],\"<=\"&B73)+AN73+AO73","v":0},null,0,null,{"$f":"SUMIFS(Haushaltsbuch2[Ausgaben],Haushaltsbuch2[Datum],\">\"&B72,Haushaltsbuch2[Datum],\"<=\"&B73)","v":0}]
[null,27728,null,null,null,null,null,null,null,null,null,null,{"$f":"SUMIFS(Haushaltsbuch2[Einnahmen],Haushaltsbuch2[Kategorie],M$4,Haushaltsbuch2[Datum],\">\"&B73,Haushaltsbuch2[Datum],\"<=\"&B74)","v":0},{"$f":"SUMIFS(Haushaltsbuch2[Einnahmen],Haushaltsbuch2[Kategorie],N$4,Haushaltsbuch2[Datum],\">\"&B73,Haushaltsbuch2[Datum],\"<=\"&B74)","v":0},{"$f":"SUMIFS(Haushaltsbuch2[Einnahmen],Haushaltsbuch2[Kategorie],O$4,Haushaltsbuch2[Datum],\">\"&B73,Haushaltsbuch2[Datum],\"<=\"&B74)","v":0},{"$f":"SUMIFS(Haushaltsbuch2[Einnahmen],Haushaltsbuch2[Kategorie],P$4,Haushaltsbuch2[Datum],\">\"&B73,Haushaltsbuch2[Datum],\"<=\"&B74)","v":0},{"$f":"SUMIFS(Haushaltsbuch2[Einnahmen],Haushaltsbuch2[Kategorie],Q$4,Haushaltsbuch2[Datum],\">\"&B73,Haushaltsbuch2[Datum],\"<=\"&B74)","v":0},{"$f":"SUMIFS(Haushaltsbuch2[Einnahmen],Haushaltsbuch2[Kategorie],R$4,Haushaltsbuch2[Datum],\">\"&B73,Haushaltsbuch2[Datum],\"<=\"&B74)","v":0},null,null,null,null,null,null,null,null,null,null,null,null,null,null,null,null,null,null,{"$f":"SUMIFS(Haushaltsbuch2[Ausgaben],Haushaltsbuch2[Kategorie],AK$4,Haushaltsbuch2[Datum],\">\"&B73,Haushaltsbuch2[Datum],\"<=\"&B74)","v":0},null,null,{"$f":"SUMIFS(Dividenden[Betrag in EUR],Dividenden[Datum],\">\"&B73,Dividenden[Datum],\"<=\"&B74)","v":0},{"$f":"SUMIFS(Optionen[G/V (Netto)],Optionen[Datum],\">\"&B73,Optionen[Datum],\"<=\"&B74)","v":0},null,0,0,null,0,0,null,{"$f":"SUMIFS(Haushaltsbuch2[Einnahmen],Haushaltsbuch2[Datum],\">\"&B73,Haushaltsbuch2[Datum],\"<=\"&B74)+AN74+AO74","v":0},null,0,null,{"$f":"SUMIFS(Haushaltsbuch2[Ausgaben],Haushaltsbuch2[Datum],\">\"&B73,Haushaltsbuch2[Datum],\"<=\"&B74)","v":0}]
[null,27759,null,null,null,null,null,null,null,null,null,null,{"$f":"SUMIFS(Haushaltsbuch2[Einnahmen],Haushaltsbuch2[Kategorie],M$4,Haushaltsbuch2[Datum],\">\"&B74,Haushaltsbuch2[Datum],\"<=\"&B75)","v":0},{"$f":"SUMIFS(Haushaltsbuch2[Einnahmen],Haushaltsbuch2[Kategorie],N$4,Haushaltsbuch2[Datum],\">\"&B74,Haushaltsbuch2[Datum],\"<=\"&B75)","v":0},{"$f":"SUMIFS(Haushaltsbuch2[Einnahmen],Haushaltsbuch2[Kategorie],O$4,Haushaltsbuch2[Datum],\">\"&B74,Haushaltsbuch2[Datum],\"<=\"&B75)","v":0},{"$f":"SUMIFS(Haushaltsbuch2[Einnahmen],Haushaltsbuch2[Kategorie],P$4,Haushaltsbuch2[Datum],\">\"&B74,Haushaltsbuch2[Datum],\"<=\"&B75)","v":0},{"$f":"SUMIFS(Haushaltsbuch2[Einnahmen],Haushaltsbuch2[Kategorie],Q$4,Haushaltsbuch2[Datum],\">\"&B74,Haushaltsbuch2[Datum],\"<=\"&B75)","v":0},{"$f":"SUMIFS(Haushaltsbuch2[Einnahmen],Haushaltsbuch2[Kategorie],R$4,Haushaltsbuch2[Datum],\">\"&B74,Haushaltsbuch2[Datum],\"<=\"&B75)","v":0},null,null,null,null,null,null,null,null,null,null,null,null,null,null,null,null,null,null,{"$f":"SUMIFS(Haushaltsbuch2[Ausgaben],Haushaltsbuch2[Kategorie],AK$4,Haushaltsbuch2[Datum],\">\"&B74,Haushaltsbuch2[Datum],\"<=\"&B75)","v":0},null,null,{"$f":"SUMIFS(Dividenden[Betrag in EUR],Dividenden[Datum],\">\"&B74,Dividenden[Datum],\"<=\"&B75)","v":0},{"$f":"SUMIFS(Optionen[G/V (Netto)],Optionen[Datum],\">\"&B74,Optionen[Datum],\"<=\"&B75)","v":0},null,0,0,null,0,0,null,{"$f":"SUMIFS(Haushaltsbuch2[Einnahmen],Haushaltsbuch2[Datum],\">\"&B74,Haushaltsbuch2[Datum],\"<=\"&B75)+AN75+AO75","v":0},null,0,null,{"$f":"SUMIFS(Haushaltsbuch2[Ausgaben],Haushaltsbuch2[Datum],\">\"&B74,Haushaltsbuch2[Datum],\"<=\"&B75)","v":0}]
[null,27790,null,null,null,null,null,null,null,null,null,null,{"$f":"SUMIFS(Haushaltsbuch2[Einnahmen],Haushaltsbuch2[Kategorie],M$4,Haushaltsbuch2[Datum],\">\"&B75,Haushaltsbuch2[Datum],\"<=\"&B76)","v":0},{"$f":"SUMIFS(Haushaltsbuch2[Einnahmen],Haushaltsbuch2[Kategorie],N$4,Haushaltsbuch2[Datum],\">\"&B75,Haushaltsbuch2[Datum],\"<=\"&B76)","v":0},{"$f":"SUMIFS(Haushaltsbuch2[Einnahmen],Haushaltsbuch2[Kategorie],O$4,Haushaltsbuch2[Datum],\">\"&B75,Haushaltsbuch2[Datum],\"<=\"&B76)","v":0},{"$f":"SUMIFS(Haushaltsbuch2[Einnahmen],Haushaltsbuch2[Kategorie],P$4,Haushaltsbuch2[Datum],\">\"&B75,Haushaltsbuch2[Datum],\"<=\"&B76)","v":0},{"$f":"SUMIFS(Haushaltsbuch2[Einnahmen],Haushaltsbuch2[Kategorie],Q$4,Haushaltsbuch2[Datum],\">\"&B75,Haushaltsbuch2[Datum],\"<=\"&B76)","v":0},{"$f":"SUMIFS(Haushaltsbuch2[Einnahmen],Haushaltsbuch2[Kategorie],R$4,Haushaltsbuch2[Datum],\">\"&B75,Haushaltsbuch2[Datum],\"<=\"&B76)","v":0},null,null,null,null,null,null,null,null,null,null,null,null,null,null,null,null,null,null,{"$f":"SUMIFS(Haushaltsbuch2[Ausgaben],Haushaltsbuch2[Kategorie],AK$4,Haushaltsbuch2[Datum],\">\"&B75,Haushaltsbuch2[Datum],\"<=\"&B76)","v":0},null,null,{"$f":"SUMIFS(Dividenden[Betrag in EUR],Dividenden[Datum],\">\"&B75,Dividenden[Datum],\"<=\"&B76)","v":0},{"$f":"SUMIFS(Optionen[G/V (Netto)],Optionen[Datum],\">\"&B75,Optionen[Datum],\"<=\"&B76)","v":0},null,0,0,null,0,0,null,{"$f":"SUMIFS(Haushaltsbuch2[Einnahmen],Haushaltsbuch2[Datum],\">\"&B75,Haushaltsbuch2[Datum],\"<=\"&B76)+AN76+AO76","v":0},null,0,null,{"$f":"SUMIFS(Haushaltsbuch2[Ausgaben],Haushaltsbuch2[Datum],\">\"&B75,Haushaltsbuch2[Datum],\"<=\"&B76)","v":0}]
[null,27819,null,null,null,null,null,null,null,null,null,null,{"$f":"SUMIFS(Haushaltsbuch2[Einnahmen],Haushaltsbuch2[Kategorie],M$4,Haushaltsbuch2[Datum],\">\"&B76,Haushaltsbuch2[Datum],\"<=\"&B77)","v":0},{"$f":"SUMIFS(Haushaltsbuch2[Einnahmen],Haushaltsbuch2[Kategorie],N$4,Haushaltsbuch2[Datum],\">\"&B76,Haushaltsbuch2[Datum],\"<=\"&B77)","v":0},{"$f":"SUMIFS(Haushaltsbuch2[Einnahmen],Haushaltsbuch2[Kategorie],O$4,Haushaltsbuch2[Datum],\">\"&B76,Haushaltsbuch2[Datum],\"<=\"&B77)","v":0},{"$f":"SUMIFS(Haushaltsbuch2[Einnahmen],Haushaltsbuch2[Kategorie],P$4,Haushaltsbuch2[Datum],\">\"&B76,Haushaltsbuch2[Datum],\"<=\"&B77)","v":0},{"$f":"SUMIFS(Haushaltsbuch2[Einnahmen],Haushaltsbuch2[Kategorie],Q$4,Haushaltsbuch2[Datum],\">\"&B76,Haushaltsbuch2[Datum],\"<=\"&B77)","v":0},{"$f":"SUMIFS(Haushaltsbuch2[Einnahmen],Haushaltsbuch2[Kategorie],R$4,Haushaltsbuch2[Datum],\">\"&B76,Haushaltsbuch2[Datum],\"<=\"&B77)","v":0},null,null,null,null,null,null,null,null,null,null,null,null,null,null,null,null,null,null,{"$f":"SUMIFS(Haushaltsbuch2[Ausgaben],Haushaltsbuch2[Kategorie],AK$4,Haushaltsbuch2[Datum],\">\"&B76,Haushaltsbuch2[Datum],\"<=\"&B77)","v":0},null,null,{"$f":"SUMIFS(Dividenden[Betrag in EUR],Dividenden[Datum],\">\"&B76,Dividenden[Datum],\"<=\"&B77)","v":0},{"$f":"SUMIFS(Optionen[G/V (Netto)],Optionen[Datum],\">\"&B76,Optionen[Datum],\"<=\"&B77)","v":0},null,0,0,null,0,0,null,{"$f":"SUMIFS(Haushaltsbuch2[Einnahmen],Haushaltsbuch2[Datum],\">\"&B76,Haushaltsbuch2[Datum],\"<=\"&B77)+AN77+AO77","v":0},null,0,null,{"$f":"SUMIFS(Haushaltsbuch2[Ausgaben],Haushaltsbuch2[Datum],\">\"&B76,Haushaltsbuch2[Datum],\"<=\"&B77)","v":0}]
[null,27850,null,null,null,null,null,null,null,null,null,null,{"$f":"SUMIFS(Haushaltsbuch2[Einnahmen],Haushaltsbuch2[Kategorie],M$4,Haushaltsbuch2[Datum],\">\"&B77,Haushaltsbuch2[Datum],\"<=\"&B78)","v":0},{"$f":"SUMIFS(Haushaltsbuch2[Einnahmen],Haushaltsbuch2[Kategorie],N$4,Haushaltsbuch2[Datum],\">\"&B77,Haushaltsbuch2[Datum],\"<=\"&B78)","v":0},{"$f":"SUMIFS(Haushaltsbuch2[Einnahmen],Haushaltsbuch2[Kategorie],O$4,Haushaltsbuch2[Datum],\">\"&B77,Haushaltsbuch2[Datum],\"<=\"&B78)","v":0},{"$f":"SUMIFS(Haushaltsbuch2[Einnahmen],Haushaltsbuch2[Kategorie],P$4,Haushaltsbuch2[Datum],\">\"&B77,Haushaltsbuch2[Datum],\"<=\"&B78)","v":0},{"$f":"SUMIFS(Haushaltsbuch2[Einnahmen],Haushaltsbuch2[Kategorie],Q$4,Haushaltsbuch2[Datum],\">\"&B77,Haushaltsbuch2[Datum],\"<=\"&B78)","v":0},{"$f":"SUMIFS(Haushaltsbuch2[Einnahmen],Haushaltsbuch2[Kategorie],R$4,Haushaltsbuch2[Datum],\">\"&B77,Haushaltsbuch2[Datum],\"<=\"&B78)","v":0},null,null,null,null,null,null,null,null,null,null,null,null,null,null,null,null,null,null,{"$f":"SUMIFS(Haushaltsbuch2[Ausgaben],Haushaltsbuch2[Kategorie],AK$4,Haushaltsbuch2[Datum],\">\"&B77,Haushaltsbuch2[Datum],\"<=\"&B78)","v":0},null,null,{"$f":"SUMIFS(Dividenden[Betrag in EUR],Dividenden[Datum],\">\"&B77,Dividenden[Datum],\"<=\"&B78)","v":0},{"$f":"SUMIFS(Optionen[G/V (Netto)],Optionen[Datum],\">\"&B77,Optionen[Datum],\"<=\"&B78)","v":0},null,0,0,null,0,0,null,{"$f":"SUMIFS(Haushaltsbuch2[Einnahmen],Haushaltsbuch2[Datum],\">\"&B77,Haushaltsbuch2[Datum],\"<=\"&B78)+AN78+AO78","v":0},null,0,null,{"$f":"SUMIFS(Haushaltsbuch2[Ausgaben],Haushaltsbuch2[Datum],\">\"&B77,Haushaltsbuch2[Datum],\"<=\"&B78)","v":0}]
[null,27880,null,null,null,null,null,null,null,null,null,null,{"$f":"SUMIFS(Haushaltsbuch2[Einnahmen],Haushaltsbuch2[Kategorie],M$4,Haushaltsbuch2[Datum],\">\"&B78,Haushaltsbuch2[Datum],\"<=\"&B79)","v":0},{"$f":"SUMIFS(Haushaltsbuch2[Einnahmen],Haushaltsbuch2[Kategorie],N$4,Haushaltsbuch2[Datum],\">\"&B78,Haushaltsbuch2[Datum],\"<=\"&B79)","v":0},{"$f":"SUMIFS(Haushaltsbuch2[Einnahmen],Haushaltsbuch2[Kategorie],O$4,Haushaltsbuch2[Datum],\">\"&B78,Haushaltsbuch2[Datum],\"<=\"&B79)","v":0},{"$f":"SUMIFS(Haushaltsbuch2[Einnahmen],Haushaltsbuch2[Kategorie],P$4,Haushaltsbuch2[Datum],\">\"&B78,Haushaltsbuch2[Datum],\"<=\"&B79)","v":0},{"$f":"SUMIFS(Haushaltsbuch2[Einnahmen],Haushaltsbuch2[Kategorie],Q$4,Haushaltsbuch2[Datum],\">\"&B78,Haushaltsbuch2[Datum],\"<=\"&B79)","v":0},{"$f":"SUMIFS(Haushaltsbuch2[Einnahmen],Haushaltsbuch2[Kategorie],R$4,Haushaltsbuch2[Datum],\">\"&B78,Haushaltsbuch2[Datum],\"<=\"&B79)","v":0},null,null,null,null,null,null,null,null,null,null,null,null,null,null,null,null,null,null,{"$f":"SUMIFS(Haushaltsbuch2[Ausgaben],Haushaltsbuch2[Kategorie],AK$4,Haushaltsbuch2[Datum],\">\"&B78,Haushaltsbuch2[Datum],\"<=\"&B79)","v":0},null,null,{"$f":"SUMIFS(Dividenden[Betrag in EUR],Dividenden[Datum],\">\"&B78,Dividenden[Datum],\"<=\"&B79)","v":0},{"$f":"SUMIFS(Optionen[G/V (Netto)],Optionen[Datum],\">\"&B78,Optionen[Datum],\"<=\"&B79)","v":0},null,0,0,null,0,0,null,{"$f":"SUMIFS(Haushaltsbuch2[Einnahmen],Haushaltsbuch2[Datum],\">\"&B78,Haushaltsbuch2[Datum],\"<=\"&B79)+AN79+AO79","v":0},null,0,null,{"$f":"SUMIFS(Haushaltsbuch2[Ausgaben],Haushaltsbuch2[Datum],\">\"&B78,Haushaltsbuch2[Datum],\"<=\"&B79)","v":0}]
[null,27911,null,null,null,null,null,null,null,null,null,null,{"$f":"SUMIFS(Haushaltsbuch2[Einnahmen],Haushaltsbuch2[Kategorie],M$4,Haushaltsbuch2[Datum],\">\"&B79,Haushaltsbuch2[Datum],\"<=\"&B80)","v":0},{"$f":"SUMIFS(Haushaltsbuch2[Einnahmen],Haushaltsbuch2[Kategorie],N$4,Haushaltsbuch2[Datum],\">\"&B79,Haushaltsbuch2[Datum],\"<=\"&B80)","v":0},{"$f":"SUMIFS(Haushaltsbuch2[Einnahmen],Haushaltsbuch2[Kategorie],O$4,Haushaltsbuch2[Datum],\">\"&B79,Haushaltsbuch2[Datum],\"<=\"&B80)","v":0},{"$f":"SUMIFS(Haushaltsbuch2[Einnahmen],Haushaltsbuch2[Kategorie],P$4,Haushaltsbuch2[Datum],\">\"&B79,Haushaltsbuch2[Datum],\"<=\"&B80)","v":0},{"$f":"SUMIFS(Haushaltsbuch2[Einnahmen],Haushaltsbuch2[Kategorie],Q$4,Haushaltsbuch2[Datum],\">\"&B79,Haushaltsbuch2[Datum],\"<=\"&B80)","v":0},{"$f":"SUMIFS(Haushaltsbuch2[Einnahmen],Haushaltsbuch2[Kategorie],R$4,Haushaltsbuch2[Datum],\">\"&B79,Haushaltsbuch2[Datum],\"<=\"&B80)","v":0},null,null,null,null,null,null,null,null,null,null,null,null,null,null,null,null,null,null,{"$f":"SUMIFS(Haushaltsbuch2[Ausgaben],Haushaltsbuch2[Kategorie],AK$4,Haushaltsbuch2[Datum],\">\"&B79,Haushaltsbuch2[Datum],\"<=\"&B80)","v":0},null,null,{"$f":"SUMIFS(Dividenden[Betrag in EUR],Dividenden[Datum],\">\"&B79,Dividenden[Datum],\"<=\"&B80)","v":0},{"$f":"SUMIFS(Optionen[G/V (Netto)],Optionen[Datum],\">\"&B79,Optionen[Datum],\"<=\"&B80)","v":0},null,0,0,null,0,0,null,{"$f":"SUMIFS(Haushaltsbuch2[Einnahmen],Haushaltsbuch2[Datum],\">\"&B79,Haushaltsbuch2[Datum],\"<=\"&B80)+AN80+AO80","v":0},null,0,null,{"$f":"SUMIFS(Haushaltsbuch2[Ausgaben],Haushaltsbuch2[Datum],\">\"&B79,Haushaltsbuch2[Datum],\"<=\"&B80)","v":0}]
[null,27941,null,null,null,null,null,null,null,null,null,null,{"$f":"SUMIFS(Haushaltsbuch2[Einnahmen],Haushaltsbuch2[Kategorie],M$4,Haushaltsbuch2[Datum],\">\"&B80,Haushaltsbuch2[Datum],\"<=\"&B81)","v":0},{"$f":"SUMIFS(Haushaltsbuch2[Einnahmen],Haushaltsbuch2[Kategorie],N$4,Haushaltsbuch2[Datum],\">\"&B80,Haushaltsbuch2[Datum],\"<=\"&B81)","v":0},{"$f":"SUMIFS(Haushaltsbuch2[Einnahmen],Haushaltsbuch2[Kategorie],O$4,Haushaltsbuch2[Datum],\">\"&B80,Haushaltsbuch2[Datum],\"<=\"&B81)","v":0},{"$f":"SUMIFS(Haushaltsbuch2[Einnahmen],Haushaltsbuch2[Kategorie],P$4,Haushaltsbuch2[Datum],\">\"&B80,Haushaltsbuch2[Datum],\"<=\"&B81)","v":0},{"$f":"SUMIFS(Haushaltsbuch2[Einnahmen],Haushaltsbuch2[Kategorie],Q$4,Haushaltsbuch2[Datum],\">\"&B80,Haushaltsbuch2[Datum],\"<=\"&B81)","v":0},{"$f":"SUMIFS(Haushaltsbuch2[Einnahmen],Haushaltsbuch2[Kategorie],R$4,Haushaltsbuch2[Datum],\">\"&B80,Haushaltsbuch2[Datum],\"<=\"&B81)","v":0},null,null,null,null,null,null,null,null,null,null,null,null,null,null,null,null,null,null,{"$f":"SUMIFS(Haushaltsbuch2[Ausgaben],Haushaltsbuch2[Kategorie],AK$4,Haushaltsbuch2[Datum],\">\"&B80,Haushaltsbuch2[Datum],\"<=\"&B81)","v":0},null,null,{"$f":"SUMIFS(Dividenden[Betrag in EUR],Dividenden[Datum],\">\"&B80,Dividenden[Datum],\"<=\"&B81)","v":0},{"$f":"SUMIFS(Optionen[G/V (Netto)],Optionen[Datum],\">\"&B80,Optionen[Datum],\"<=\"&B81)","v":0},null,0,0,null,0,0,null,{"$f":"SUMIFS(Haushaltsbuch2[Einnahmen],Haushaltsbuch2[Datum],\">\"&B80,Haushaltsbuch2[Datum],\"<=\"&B81)+AN81+AO81","v":0},null,0,null,{"$f":"SUMIFS(Haushaltsbuch2[Ausgaben],Haushaltsbuch2[Datum],\">\"&B80,Haushaltsbuch2[Datum],\"<=\"&B81)","v":0}]
[null,27972,null,null,null,null,null,null,null,null,null,null,{"$f":"SUMIFS(Haushaltsbuch2[Einnahmen],Haushaltsbuch2[Kategorie],M$4,Haushaltsbuch2[Datum],\">\"&B81,Haushaltsbuch2[Datum],\"<=\"&B82)","v":0},{"$f":"SUMIFS(Haushaltsbuch2[Einnahmen],Haushaltsbuch2[Kategorie],N$4,Haushaltsbuch2[Datum],\">\"&B81,Haushaltsbuch2[Datum],\"<=\"&B82)","v":0},{"$f":"SUMIFS(Haushaltsbuch2[Einnahmen],Haushaltsbuch2[Kategorie],O$4,Haushaltsbuch2[Datum],\">\"&B81,Haushaltsbuch2[Datum],\"<=\"&B82)","v":0},{"$f":"SUMIFS(Haushaltsbuch2[Einnahmen],Haushaltsbuch2[Kategorie],P$4,Haushaltsbuch2[Datum],\">\"&B81,Haushaltsbuch2[Datum],\"<=\"&B82)","v":0},{"$f":"SUMIFS(Haushaltsbuch2[Einnahmen],Haushaltsbuch2[Kategorie],Q$4,Haushaltsbuch2[Datum],\">\"&B81,Haushaltsbuch2[Datum],\"<=\"&B82)","v":0},{"$f":"SUMIFS(Haushaltsbuch2[Einnahmen],Haushaltsbuch2[Kategorie],R$4,Haushaltsbuch2[Datum],\">\"&B81,Haushaltsbuch2[Datum],\"<=\"&B82)","v":0},null,null,null,null,null,null,null,null,null,null,null,null,null,null,null,null,null,null,{"$f":"SUMIFS(Haushaltsbuch2[Ausgaben],Haushaltsbuch2[Kategorie],AK$4,Haushaltsbuch2[Datum],\">\"&B81,Haushaltsbuch2[Datum],\"<=\"&B82)","v":0},null,null,{"$f":"SUMIFS(Dividenden[Betrag in EUR],Dividenden[Datum],\">\"&B81,Dividenden[Datum],\"<=\"&B82)","v":0},{"$f":"SUMIFS(Optionen[G/V (Netto)],Optionen[Datum],\">\"&B81,Optionen[Datum],\"<=\"&B82)","v":0},null,0,0,null,0,{"$f":"AVERAGE(AT71:AT82)","v":0},null,{"$f":"SUMIFS(Haushaltsbuch2[Einnahmen],Haushaltsbuch2[Datum],\">\"&B81,Haushaltsbuch2[Datum],\"<=\"&B82)+AN82+AO82","v":0},null,{"$f":"AVERAGE(AK71:AK82)","v":0},null,{"$f":"SUMIFS(Haushaltsbuch2[Ausgaben],Haushaltsbuch2[Datum],\">\"&B81,Haushaltsbuch2[Datum],\"<=\"&B82)","v":0}]
[null,28003,null,null,null,null,null,null,null,null,null,null,{"$f":"SUMIFS(Haushaltsbuch2[Einnahmen],Haushaltsbuch2[Kategorie],M$4,Haushaltsbuch2[Datum],\">\"&B82,Haushaltsbuch2[Datum],\"<=\"&B83)","v":0},{"$f":"SUMIFS(Haushaltsbuch2[Einnahmen],Haushaltsbuch2[Kategorie],N$4,Haushaltsbuch2[Datum],\">\"&B82,Haushaltsbuch2[Datum],\"<=\"&B83)","v":0},{"$f":"SUMIFS(Haushaltsbuch2[Einnahmen],Haushaltsbuch2[Kategorie],O$4,Haushaltsbuch2[Datum],\">\"&B82,Haushaltsbuch2[Datum],\"<=\"&B83)","v":0},{"$f":"SUMIFS(Haushaltsbuch2[Einnahmen],Haushaltsbuch2[Kategorie],P$4,Haushaltsbuch2[Datum],\">\"&B82,Haushaltsbuch2[Datum],\"<=\"&B83)","v":0},{"$f":"SUMIFS(Haushaltsbuch2[Einnahmen],Haushaltsbuch2[Kategorie],Q$4,Haushaltsbuch2[Datum],\">\"&B82,Haushaltsbuch2[Datum],\"<=\"&B83)","v":0},{"$f":"SUMIFS(Haushaltsbuch2[Einnahmen],Haushaltsbuch2[Kategorie],R$4,Haushaltsbuch2[Datum],\">\"&B82,Haushaltsbuch2[Datum],\"<=\"&B83)","v":0},null,null,null,null,null,null,null,null,null,null,null,null,null,null,null,null,null,null,{"$f":"SUMIFS(Haushaltsbuch2[Ausgaben],Haushaltsbuch2[Kategorie],AK$4,Haushaltsbuch2[Datum],\">\"&B82,Haushaltsbuch2[Datum],\"<=\"&B83)","v":0},null,null,{"$f":"SUMIFS(Dividenden[Betrag in EUR],Dividenden[Datum],\">\"&B82,Dividenden[Datum],\"<=\"&B83)","v":0},{"$f":"SUMIFS(Optionen[G/V (Netto)],Optionen[Datum],\">\"&B82,Optionen[Datum],\"<=\"&B83)","v":0},null,0,0,null,0,0,null,{"$f":"SUMIFS(Haushaltsbuch2[Einnahmen],Haushaltsbuch2[Datum],\">\"&B82,Haushaltsbuch2[Datum],\"<=\"&B83)+AN83+AO83","v":0},null,0,null,{"$f":"SUMIFS(Haushaltsbuch2[Ausgaben],Haushaltsbuch2[Datum],\">\"&B82,Haushaltsbuch2[Datum],\"<=\"&B83)","v":0}]
[null,28033,null,null,null,null,null,null,null,null,null,null,{"$f":"SUMIFS(Haushaltsbuch2[Einnahmen],Haushaltsbuch2[Kategorie],M$4,Haushaltsbuch2[Datum],\">\"&B83,Haushaltsbuch2[Datum],\"<=\"&B84)","v":0},{"$f":"SUMIFS(Haushaltsbuch2[Einnahmen],Haushaltsbuch2[Kategorie],N$4,Haushaltsbuch2[Datum],\">\"&B83,Haushaltsbuch2[Datum],\"<=\"&B84)","v":0},{"$f":"SUMIFS(Haushaltsbuch2[Einnahmen],Haushaltsbuch2[Kategorie],O$4,Haushaltsbuch2[Datum],\">\"&B83,Haushaltsbuch2[Datum],\"<=\"&B84)","v":0},{"$f":"SUMIFS(Haushaltsbuch2[Einnahmen],Haushaltsbuch2[Kategorie],P$4,Haushaltsbuch2[Datum],\">\"&B83,Haushaltsbuch2[Datum],\"<=\"&B84)","v":0},{"$f":"SUMIFS(Haushaltsbuch2[Einnahmen],Haushaltsbuch2[Kategorie],Q$4,Haushaltsbuch2[Datum],\">\"&B83,Haushaltsbuch2[Datum],\"<=\"&B84)","v":0},{"$f":"SUMIFS(Haushaltsbuch2[Einnahmen],Haushaltsbuch2[Kategorie],R$4,Haushaltsbuch2[Datum],\">\"&B83,Haushaltsbuch2[Datum],\"<=\"&B84)","v":0},null,null,null,null,null,null,null,null,null,null,null,null,null,null,null,null,null,null,{"$f":"SUMIFS(Haushaltsbuch2[Ausgaben],Haushaltsbuch2[Kategorie],AK$4,Haushaltsbuch2[Datum],\">\"&B83,Haushaltsbuch2[Datum],\"<=\"&B84)","v":0},null,null,{"$f":"SUMIFS(Dividenden[Betrag in EUR],Dividenden[Datum],\">\"&B83,Dividenden[Datum],\"<=\"&B84)","v":0},{"$f":"SUMIFS(Optionen[G/V (Netto)],Optionen[Datum],\">\"&B83,Optionen[Datum],\"<=\"&B84)","v":0},null,0,0,null,0,0,null,{"$f":"SUMIFS(Haushaltsbuch2[Einnahmen],Haushaltsbuch2[Datum],\">\"&B83,Haushaltsbuch2[Datum],\"<=\"&B84)+AN84+AO84","v":0},null,0,null,{"$f":"SUMIFS(Haushaltsbuch2[Ausgaben],Haushaltsbuch2[Datum],\">\"&B83,Haushaltsbuch2[Datum],\"<=\"&B84)","v":0}]
[null,28064,null,null,null,null,null,null,null,null,null,null,{"$f":"SUMIFS(Haushaltsbuch2[Einnahmen],Haushaltsbuch2[Kategorie],M$4,Haushaltsbuch2[Datum],\">\"&B84,Haushaltsbuch2[Datum],\"<=\"&B85)","v":0},{"$f":"SUMIFS(Haushaltsbuch2[Einnahmen],Haushaltsbuch2[Kategorie],N$4,Haushaltsbuch2[Datum],\">\"&B84,Haushaltsbuch2[Datum],\"<=\"&B85)","v":0},{"$f":"SUMIFS(Haushaltsbuch2[Einnahmen],Haushaltsbuch2[Kategorie],O$4,Haushaltsbuch2[Datum],\">\"&B84,Haushaltsbuch2[Datum],\"<=\"&B85)","v":0},{"$f":"SUMIFS(Haushaltsbuch2[Einnahmen],Haushaltsbuch2[Kategorie],P$4,Haushaltsbuch2[Datum],\">\"&B84,Haushaltsbuch2[Datum],\"<=\"&B85)","v":0},{"$f":"SUMIFS(Haushaltsbuch2[Einnahmen],Haushaltsbuch2[Kategorie],Q$4,Haushaltsbuch2[Datum],\">\"&B84,Haushaltsbuch2[Datum],\"<=\"&B85)","v":0},{"$f":"SUMIFS(Haushaltsbuch2[Einnahmen],Haushaltsbuch2[Kategorie],R$4,Haushaltsbuch2[Datum],\">\"&B84,Haushaltsbuch2[Datum],\"<=\"&B85)","v":0},null,null,null,null,null,null,null,null,null,null,null,null,null,null,null,null,null,null,{"$f":"SUMIFS(Haushaltsbuch2[Ausgaben],Haushaltsbuch2[Kategorie],AK$4,Haushaltsbuch2[Datum],\">\"&B84,Haushaltsbuch2[Datum],\"<=\"&B85)","v":0},null,null,{"$f":"SUMIFS(Dividenden[Betrag in EUR],Dividenden[Datum],\">\"&B84,Dividenden[Datum],\"<=\"&B85)","v":0},{"$f":"SUMIFS(Optionen[G/V (Netto)],Optionen[Datum],\">\"&B84,Optionen[Datum],\"<=\"&B85)","v":0},null,0,0,null,0,0,null,{"$f":"SUMIFS(Haushaltsbuch2[Einnahmen],Haushaltsbuch2[Datum],\">\"&B84,Haushaltsbuch2[Datum],\"<=\"&B85)+AN85+AO85","v":0},null,0,null,{"$f":"SUMIFS(Haushaltsbuch2[Ausgaben],Haushaltsbuch2[Datum],\">\"&B84,Haushaltsbuch2[Datum],\"<=\"&B85)","v":0}]
[null,28094,null,null,null,null,null,null,null,null,null,null,{"$f":"SUMIFS(Haushaltsbuch2[Einnahmen],Haushaltsbuch2[Kategorie],M$4,Haushaltsbuch2[Datum],\">\"&B85,Haushaltsbuch2[Datum],\"<=\"&B86)","v":0},{"$f":"SUMIFS(Haushaltsbuch2[Einnahmen],Haushaltsbuch2[Kategorie],N$4,Haushaltsbuch2[Datum],\">\"&B85,Haushaltsbuch2[Datum],\"<=\"&B86)","v":0},{"$f":"SUMIFS(Haushaltsbuch2[Einnahmen],Haushaltsbuch2[Kategorie],O$4,Haushaltsbuch2[Datum],\">\"&B85,Haushaltsbuch2[Datum],\"<=\"&B86)","v":0},{"$f":"SUMIFS(Haushaltsbuch2[Einnahmen],Haushaltsbuch2[Kategorie],P$4,Haushaltsbuch2[Datum],\">\"&B85,Haushaltsbuch2[Datum],\"<=\"&B86)","v":0},{"$f":"SUMIFS(Haushaltsbuch2[Einnahmen],Haushaltsbuch2[Kategorie],Q$4,Haushaltsbuch2[Datum],\">\"&B85,Haushaltsbuch2[Datum],\"<=\"&B86)","v":0},{"$f":"SUMIFS(Haushaltsbuch2[Einnahmen],Haushaltsbuch2[Kategorie],R$4,Haushaltsbuch2[Datum],\">\"&B85,Haushaltsbuch2[Datum],\"<=\"&B86)","v":0},null,null,null,null,null,null,null,null,null,null,null,null,null,null,null,null,null,null,{"$f":"SUMIFS(Haushaltsbuch2[Ausgaben],Haushaltsbuch2[Kategorie],AK$4,Haushaltsbuch2[Datum],\">\"&B85,Haushaltsbuch2[Datum],\"<=\"&B86)","v":0},null,null,{"$f":"SUMIFS(Dividenden[Betrag in EUR],Dividenden[Datum],\">\"&B85,Dividenden[Datum],\"<=\"&B86)","v":0},{"$f":"SUMIFS(Optionen[G/V (Netto)],Optionen[Datum],\">\"&B85,Optionen[Datum],\"<=\"&B86)","v":0},null,0,0,null,0,0,null,{"$f":"SUMIFS(Haushaltsbuch2[Einnahmen],Haushaltsbuch2[Datum],\">\"&B85,Haushaltsbuch2[Datum],\"<=\"&B86)+AN86+AO86","v":0},null,0,null,{"$f":"SUMIFS(Haushaltsbuch2[Ausgaben],Haushaltsbuch2[Datum],\">\"&B85,Haushaltsbuch2[Datum],\"<=\"&B86)","v":0}]
[null,28125,null,null,null,null,null,null,null,null,null,null,{"$f":"SUMIFS(Haushaltsbuch2[Einnahmen],Haushaltsbuch2[Kategorie],M$4,Haushaltsbuch2[Datum],\">\"&B86,Haushaltsbuch2[Datum],\"<=\"&B87)","v":0},{"$f":"SUMIFS(Haushaltsbuch2[Einnahmen],Haushaltsbuch2[Kategorie],N$4,Haushaltsbuch2[Datum],\">\"&B86,Haushaltsbuch2[Datum],\"<=\"&B87)","v":0},{"$f":"SUMIFS(Haushaltsbuch2[Einnahmen],Haushaltsbuch2[Kategorie],O$4,Haushaltsbuch2[Datum],\">\"&B86,Haushaltsbuch2[Datum],\"<=\"&B87)","v":0},{"$f":"SUMIFS(Haushaltsbuch2[Einnahmen],Haushaltsbuch2[Kategorie],P$4,Haushaltsbuch2[Datum],\">\"&B86,Haushaltsbuch2[Datum],\"<=\"&B87)","v":0},{"$f":"SUMIFS(Haushaltsbuch2[Einnahmen],Haushaltsbuch2[Kategorie],Q$4,Haushaltsbuch2[Datum],\">\"&B86,Haushaltsbuch2[Datum],\"<=\"&B87)","v":0},{"$f":"SUMIFS(Haushaltsbuch2[Einnahmen],Haushaltsbuch2[Kategorie],R$4,Haushaltsbuch2[Datum],\">\"&B86,Haushaltsbuch2[Datum],\"<=\"&B87)","v":0},null,null,null,null,null,null,null,null,null,null,null,null,null,null,null,null,null,null,{"$f":"SUMIFS(Haushaltsbuch2[Ausgaben],Haushaltsbuch2[Kategorie],AK$4,Haushaltsbuch2[Datum],\">\"&B86,Haushaltsbuch2[Datum],\"<=\"&B87)","v":0},null,null,{"$f":"SUMIFS(Dividenden[Betrag in EUR],Dividenden[Datum],\">\"&B86,Dividenden[Datum],\"<=\"&B87)","v":0},{"$f":"SUMIFS(Optionen[G/V (Netto)],Optionen[Datum],\">\"&B86,Optionen[Datum],\"<=\"&B87)","v":0},null,0,0,null,0,0,null,{"$f":"SUMIFS(Haushaltsbuch2[Einnahmen],Haushaltsbuch2[Datum],\">\"&B86,Haushaltsbuch2[Datum],\"<=\"&B87)+AN87+AO87","v":0},null,0,null,{"$f":"SUMIFS(Haushaltsbuch2[Ausgaben],Haushaltsbuch2[Datum],\">\"&B86,Haushaltsbuch2[Datum],\"<=\"&B87)","v":0}]
[null,28156,null,null,null,null,null,null,null,null,null,null,{"$f":"SUMIFS(Haushaltsbuch2[Einnahmen],Haushaltsbuch2[Kategorie],M$4,Haushaltsbuch2[Datum],\">\"&B87,Haushaltsbuch2[Datum],\"<=\"&B88)","v":0},{"$f":"SUMIFS(Haushaltsbuch2[Einnahmen],Haushaltsbuch2[Kategorie],N$4,Haushaltsbuch2[Datum],\">\"&B87,Haushaltsbuch2[Datum],\"<=\"&B88)","v":0},{"$f":"SUMIFS(Haushaltsbuch2[Einnahmen],Haushaltsbuch2[Kategorie],O$4,Haushaltsbuch2[Datum],\">\"&B87,Haushaltsbuch2[Datum],\"<=\"&B88)","v":0},{"$f":"SUMIFS(Haushaltsbuch2[Einnahmen],Haushaltsbuch2[Kategorie],P$4,Haushaltsbuch2[Datum],\">\"&B87,Haushaltsbuch2[Datum],\"<=\"&B88)","v":0},{"$f":"SUMIFS(Haushaltsbuch2[Einnahmen],Haushaltsbuch2[Kategorie],Q$4,Haushaltsbuch2[Datum],\">\"&B87,Haushaltsbuch2[Datum],\"<=\"&B88)","v":0},{"$f":"SUMIFS(Haushaltsbuch2[Einnahmen],Haushaltsbuch2[Kategorie],R$4,Haushaltsbuch2[Datum],\">\"&B87,Haushaltsbuch2[Datum],\"<=\"&B88)","v":0},null,null,null,null,null,null,null,null,null,null,null,null,null,null,null,null,null,null,{"$f":"SUMIFS(Haushaltsbuch2[Ausgaben],Haushaltsbuch2[Kategorie],AK$4,Haushaltsbuch2[Datum],\">\"&B87,Haushaltsbuch2[Datum],\"<=\"&B88)","v":0},null,null,{"$f":"SUMIFS(Dividenden[Betrag in EUR],Dividenden[Datum],\">\"&B87,Dividenden[Datum],\"<=\"&B88)","v":0},{"$f":"SUMIFS(Optionen[G/V (Netto)],Optionen[Datum],\">\"&B87,Optionen[Datum],\"<=\"&B88)","v":0},null,0,0,null,0,0,null,{"$f":"SUMIFS(Haushaltsbuch2[Einnahmen],Haushaltsbuch2[Datum],\">\"&B87,Haushaltsbuch2[Datum],\"<=\"&B88)+AN88+AO88","v":0},null,0,null,{"$f":"SUMIFS(Haushaltsbuch2[Ausgaben],Haushaltsbuch2[Datum],\">\"&B87,Haushaltsbuch2[Datum],\"<=\"&B88)","v":0}]
[null,28184,null,null,null,null,null,null,null,null,null,null,{"$f":"SUMIFS(Haushaltsbuch2[Einnahmen],Haushaltsbuch2[Kategorie],M$4,Haushaltsbuch2[Datum],\">\"&B88,Haushaltsbuch2[Datum],\"<=\"&B89)","v":0},{"$f":"SUMIFS(Haushaltsbuch2[Einnahmen],Haushaltsbuch2[Kategorie],N$4,Haushaltsbuch2[Datum],\">\"&B88,Haushaltsbuch2[Datum],\"<=\"&B89)","v":0},{"$f":"SUMIFS(Haushaltsbuch2[Einnahmen],Haushaltsbuch2[Kategorie],O$4,Haushaltsbuch2[Datum],\">\"&B88,Haushaltsbuch2[Datum],\"<=\"&B89)","v":0},{"$f":"SUMIFS(Haushaltsbuch2[Einnahmen],Haushaltsbuch2[Kategorie],P$4,Haushaltsbuch2[Datum],\">\"&B88,Haushaltsbuch2[Datum],\"<=\"&B89)","v":0},{"$f":"SUMIFS(Haushaltsbuch2[Einnahmen],Haushaltsbuch2[Kategorie],Q$4,Haushaltsbuch2[Datum],\">\"&B88,Haushaltsbuch2[Datum],\"<=\"&B89)","v":0},{"$f":"SUMIFS(Haushaltsbuch2[Einnahmen],Haushaltsbuch2[Kategorie],R$4,Haushaltsbuch2[Datum],\">\"&B88,Haushaltsbuch2[Datum],\"<=\"&B89)","v":0},null,null,null,null,null,null,null,null,null,null,null,null,null,null,null,null,null,null,{"$f":"SUMIFS(Haushaltsbuch2[Ausgaben],Haushaltsbuch2[Kategorie],AK$4,Haushaltsbuch2[Datum],\">\"&B88,Haushaltsbuch2[Datum],\"<=\"&B89)","v":0},null,null,{"$f":"SUMIFS(Dividenden[Betrag in EUR],Dividenden[Datum],\">\"&B88,Dividenden[Datum],\"<=\"&B89)","v":0},{"$f":"SUMIFS(Optionen[G/V (Netto)],Optionen[Datum],\">\"&B88,Optionen[Datum],\"<=\"&B89)","v":0},null,0,0,null,0,0,null,{"$f":"SUMIFS(Haushaltsbuch2[Einnahmen],Haushaltsbuch2[Datum],\">\"&B88,Haushaltsbuch2[Datum],\"<=\"&B89)+AN89+AO89","v":0},null,0,null,{"$f":"SUMIFS(Haushaltsbuch2[Ausgaben],Haushaltsbuch2[Datum],\">\"&B88,Haushaltsbuch2[Datum],\"<=\"&B89)","v":0}]
[null,28215,null,null,null,null,null,null,null,null,null,null,{"$f":"SUMIFS(Haushaltsbuch2[Einnahmen],Haushaltsbuch2[Kategorie],M$4,Haushaltsbuch2[Datum],\">\"&B89,Haushaltsbuch2[Datum],\"<=\"&B90)","v":0},{"$f":"SUMIFS(Haushaltsbuch2[Einnahmen],Haushaltsbuch2[Kategorie],N$4,Haushaltsbuch2[Datum],\">\"&B89,Haushaltsbuch2[Datum],\"<=\"&B90)","v":0},{"$f":"SUMIFS(Haushaltsbuch2[Einnahmen],Haushaltsbuch2[Kategorie],O$4,Haushaltsbuch2[Datum],\">\"&B89,Haushaltsbuch2[Datum],\"<=\"&B90)","v":0},{"$f":"SUMIFS(Haushaltsbuch2[Einnahmen],Haushaltsbuch2[Kategorie],P$4,Haushaltsbuch2[Datum],\">\"&B89,Haushaltsbuch2[Datum],\"<=\"&B90)","v":0},{"$f":"SUMIFS(Haushaltsbuch2[Einnahmen],Haushaltsbuch2[Kategorie],Q$4,Haushaltsbuch2[Datum],\">\"&B89,Haushaltsbuch2[Datum],\"<=\"&B90)","v":0},{"$f":"SUMIFS(Haushaltsbuch2[Einnahmen],Haushaltsbuch2[Kategorie],R$4,Haushaltsbuch2[Datum],\">\"&B89,Haushaltsbuch2[Datum],\"<=\"&B90)","v":0},null,null,null,null,null,null,null,null,null,null,null,null,null,null,null,null,null,null,{"$f":"SUMIFS(Haushaltsbuch2[Ausgaben],Haushaltsbuch2[Kategorie],AK$4,Haushaltsbuch2[Datum],\">\"&B89,Haushaltsbuch2[Datum],\"<=\"&B90)","v":0},null,null,{"$f":"SUMIFS(Dividenden[Betrag in EUR],Dividenden[Datum],\">\"&B89,Dividenden[Datum],\"<=\"&B90)","v":0},{"$f":"SUMIFS(Optionen[G/V (Netto)],Optionen[Datum],\">\"&B89,Optionen[Datum],\"<=\"&B90)","v":0},null,0,0,null,0,0,null,{"$f":"SUMIFS(Haushaltsbuch2[Einnahmen],Haushaltsbuch2[Datum],\">\"&B89,Haushaltsbuch2[Datum],\"<=\"&B90)+AN90+AO90","v":0},null,0,null,{"$f":"SUMIFS(Haushaltsbuch2[Ausgaben],Haushaltsbuch2[Datum],\">\"&B89,Haushaltsbuch2[Datum],\"<=\"&B90)","v":0}]
[null,28245,null,null,null,null,null,null,null,null,null,null,{"$f":"SUMIFS(Haushaltsbuch2[Einnahmen],Haushaltsbuch2[Kategorie],M$4,Haushaltsbuch2[Datum],\">\"&B90,Haushaltsbuch2[Datum],\"<=\"&B91)","v":0},{"$f":"SUMIFS(Haushaltsbuch2[Einnahmen],Haushaltsbuch2[Kategorie],N$4,Haushaltsbuch2[Datum],\">\"&B90,Haushaltsbuch2[Datum],\"<=\"&B91)","v":0},{"$f":"SUMIFS(Haushaltsbuch2[Einnahmen],Haushaltsbuch2[Kategorie],O$4,Haushaltsbuch2[Datum],\">\"&B90,Haushaltsbuch2[Datum],\"<=\"&B91)","v":0},{"$f":"SUMIFS(Haushaltsbuch2[Einnahmen],Haushaltsbuch2[Kategorie],P$4,Haushaltsbuch2[Datum],\">\"&B90,Haushaltsbuch2[Datum],\"<=\"&B91)","v":0},{"$f":"SUMIFS(Haushaltsbuch2[Einnahmen],Haushaltsbuch2[Kategorie],Q$4,Haushaltsbuch2[Datum],\">\"&B90,Haushaltsbuch2[Datum],\"<=\"&B91)","v":0},{"$f":"SUMIFS(Haushaltsbuch2[Einnahmen],Haushaltsbuch2[Kategorie],R$4,Haushaltsbuch2[Datum],\">\"&B90,Haushaltsbuch2[Datum],\"<=\"&B91)","v":0},null,null,null,null,null,null,null,null,null,null,null,null,null,null,null,null,null,null,{"$f":"SUMIFS(Haushaltsbuch2[Ausgaben],Haushaltsbuch2[Kategorie],AK$4,Haushaltsbuch2[Datum],\">\"&B90,Haushaltsbuch2[Datum],\"<=\"&B91)","v":0},null,null,{"$f":"SUMIFS(Dividenden[Betrag in EUR],Dividenden[Datum],\">\"&B90,Dividenden[Datum],\"<=\"&B91)","v":0},{"$f":"SUMIFS(Optionen[G/V (Netto)],Optionen[Datum],\">\"&B90,Optionen[Datum],\"<=\"&B91)","v":0},null,0,0,null,0,0,null,{"$f":"SUMIFS(Haushaltsbuch2[Einnahmen],Haushaltsbuch2[Datum],\">\"&B90,Haushaltsbuch2[Datum],\"<=\"&B91)+AN91+AO91","v":0},null,0,null,{"$f":"SUMIFS(Haushaltsbuch2[Ausgaben],Haushaltsbuch2[Datum],\">\"&B90,Haushaltsbuch2[Datum],\"<=\"&B91)","v":0}]
[null,28276,null,null,null,null,null,null,null,null,null,null,{"$f":"SUMIFS(Haushaltsbuch2[Einnahmen],Haushaltsbuch2[Kategorie],M$4,Haushaltsbuch2[Datum],\">\"&B91,Haushaltsbuch2[Datum],\"<=\"&B92)","v":0},{"$f":"SUMIFS(Haushaltsbuch2[Einnahmen],Haushaltsbuch2[Kategorie],N$4,Haushaltsbuch2[Datum],\">\"&B91,Haushaltsbuch2[Datum],\"<=\"&B92)","v":0},{"$f":"SUMIFS(Haushaltsbuch2[Einnahmen],Haushaltsbuch2[Kategorie],O$4,Haushaltsbuch2[Datum],\">\"&B91,Haushaltsbuch2[Datum],\"<=\"&B92)","v":0},{"$f":"SUMIFS(Haushaltsbuch2[Einnahmen],Haushaltsbuch2[Kategorie],P$4,Haushaltsbuch2[Datum],\">\"&B91,Haushaltsbuch2[Datum],\"<=\"&B92)","v":0},{"$f":"SUMIFS(Haushaltsbuch2[Einnahmen],Haushaltsbuch2[Kategorie],Q$4,Haushaltsbuch2[Datum],\">\"&B91,Haushaltsbuch2[Datum],\"<=\"&B92)","v":0},{"$f":"SUMIFS(Haushaltsbuch2[Einnahmen],Haushaltsbuch2[Kategorie],R$4,Haushaltsbuch2[Datum],\">\"&B91,Haushaltsbuch2[Datum],\"<=\"&B92)","v":0},null,null,null,null,null,null,null,null,null,null,null,null,null,null,null,null,null,null,{"$f":"SUMIFS(Haushaltsbuch2[Ausgaben],Haushaltsbuch2[Kategorie],AK$4,Haushaltsbuch2[Datum],\">\"&B91,Haushaltsbuch2[Datum],\"<=\"&B92)","v":0},null,null,{"$f":"SUMIFS(Dividenden[Betrag in EUR],Dividenden[Datum],\">\"&B91,Dividenden[Datum],\"<=\"&B92)","v":0},{"$f":"SUMIFS(Optionen[G/V (Netto)],Optionen[Datum],\">\"&B91,Optionen[Datum],\"<=\"&B92)","v":0},null,0,0,null,0,0,null,{"$f":"SUMIFS(Haushaltsbuch2[Einnahmen],Haushaltsbuch2[Datum],\">\"&B91,Haushaltsbuch2[Datum],\"<=\"&B92)+AN92+AO92","v":0},null,0,null,{"$f":"SUMIFS(Haushaltsbuch2[Ausgaben],Haushaltsbuch2[Datum],\">\"&B91,Haushaltsbuch2[Datum],\"<=\"&B92)","v":0}]
[null,28306,null,null,null,null,null,null,null,null,null,null,{"$f":"SUMIFS(Haushaltsbuch2[Einnahmen],Haushaltsbuch2[Kategorie],M$4,Haushaltsbuch2[Datum],\">\"&B92,Haushaltsbuch2[Datum],\"<=\"&B93)","v":0},{"$f":"SUMIFS(Haushaltsbuch2[Einnahmen],Haushaltsbuch2[Kategorie],N$4,Haushaltsbuch2[Datum],\">\"&B92,Haushaltsbuch2[Datum],\"<=\"&B93)","v":0},{"$f":"SUMIFS(Haushaltsbuch2[Einnahmen],Haushaltsbuch2[Kategorie],O$4,Haushaltsbuch2[Datum],\">\"&B92,Haushaltsbuch2[Datum],\"<=\"&B93)","v":0},{"$f":"SUMIFS(Haushaltsbuch2[Einnahmen],Haushaltsbuch2[Kategorie],P$4,Haushaltsbuch2[Datum],\">\"&B92,Haushaltsbuch2[Datum],\"<=\"&B93)","v":0},{"$f":"SUMIFS(Haushaltsbuch2[Einnahmen],Haushaltsbuch2[Kategorie],Q$4,Haushaltsbuch2[Datum],\">\"&B92,Haushaltsbuch2[Datum],\"<=\"&B93)","v":0},{"$f":"SUMIFS(Haushaltsbuch2[Einnahmen],Haushaltsbuch2[Kategorie],R$4,Haushaltsbuch2[Datum],\">\"&B92,Haushaltsbuch2[Datum],\"<=\"&B93)","v":0},null,null,null,null,null,null,null,null,null,null,null,null,null,null,null,null,null,null,{"$f":"SUMIFS(Haushaltsbuch2[Ausgaben],Haushaltsbuch2[Kategorie],AK$4,Haushaltsbuch2[Datum],\">\"&B92,Haushaltsbuch2[Datum],\"<=\"&B93)","v":0},null,null,{"$f":"SUMIFS(Dividenden[Betrag in EUR],Dividenden[Datum],\">\"&B92,Dividenden[Datum],\"<=\"&B93)","v":0},{"$f":"SUMIFS(Optionen[G/V (Netto)],Optionen[Datum],\">\"&B92,Optionen[Datum],\"<=\"&B93)","v":0},null,0,0,null,0,0,null,{"$f":"SUMIFS(Haushaltsbuch2[Einnahmen],Haushaltsbuch2[Datum],\">\"&B92,Haushaltsbuch2[Datum],\"<=\"&B93)+AN93+AO93","v":0},null,0,null,{"$f":"SUMIFS(Haushaltsbuch2[Ausgaben],Haushaltsbuch2[Datum],\">\"&B92,Haushaltsbuch2[Datum],\"<=\"&B93)","v":0}]
[null,28337,null,null,null,null,null,null,null,null,null,null,{"$f":"SUMIFS(Haushaltsbuch2[Einnahmen],Haushaltsbuch2[Kategorie],M$4,Haushaltsbuch2[Datum],\">\"&B93,Haushaltsbuch2[Datum],\"<=\"&B94)","v":0},{"$f":"SUMIFS(Haushaltsbuch2[Einnahmen],Haushaltsbuch2[Kategorie],N$4,Haushaltsbuch2[Datum],\">\"&B93,Haushaltsbuch2[Datum],\"<=\"&B94)","v":0},{"$f":"SUMIFS(Haushaltsbuch2[Einnahmen],Haushaltsbuch2[Kategorie],O$4,Haushaltsbuch2[Datum],\">\"&B93,Haushaltsbuch2[Datum],\"<=\"&B94)","v":0},{"$f":"SUMIFS(Haushaltsbuch2[Einnahmen],Haushaltsbuch2[Kategorie],P$4,Haushaltsbuch2[Datum],\">\"&B93,Haushaltsbuch2[Datum],\"<=\"&B94)","v":0},{"$f":"SUMIFS(Haushaltsbuch2[Einnahmen],Haushaltsbuch2[Kategorie],Q$4,Haushaltsbuch2[Datum],\">\"&B93,Haushaltsbuch2[Datum],\"<=\"&B94)","v":0},{"$f":"SUMIFS(Haushaltsbuch2[Einnahmen],Haushaltsbuch2[Kategorie],R$4,Haushaltsbuch2[Datum],\">\"&B93,Haushaltsbuch2[Datum],\"<=\"&B94)","v":0},null,null,null,null,null,null,null,null,null,null,null,null,null,null,null,null,null,null,{"$f":"SUMIFS(Haushaltsbuch2[Ausgaben],Haushaltsbuch2[Kategorie],AK$4,Haushaltsbuch2[Datum],\">\"&B93,Haushaltsbuch2[Datum],\"<=\"&B94)","v":0},null,null,{"$f":"SUMIFS(Dividenden[Betrag in EUR],Dividenden[Datum],\">\"&B93,Dividenden[Datum],\"<=\"&B94)","v":0},{"$f":"SUMIFS(Optionen[G/V (Netto)],Optionen[Datum],\">\"&B93,Optionen[Datum],\"<=\"&B94)","v":0},null,0,0,null,0,0,null,{"$f":"SUMIFS(Haushaltsbuch2[Einnahmen],Haushaltsbuch2[Datum],\">\"&B93,Haushaltsbuch2[Datum],\"<=\"&B94)+AN94+AO94","v":0},null,0,null,{"$f":"SUMIFS(Haushaltsbuch2[Ausgaben],Haushaltsbuch2[Datum],\">\"&B93,Haushaltsbuch2[Datum],\"<=\"&B94)","v":0}]
[null,28368,null,null,null,null,null,null,null,null,null,null,{"$f":"SUMIFS(Haushaltsbuch2[Einnahmen],Haushaltsbuch2[Kategorie],M$4,Haushaltsbuch2[Datum],\">\"&B94,Haushaltsbuch2[Datum],\"<=\"&B95)","v":0},{"$f":"SUMIFS(Haushaltsbuch2[Einnahmen],Haushaltsbuch2[Kategorie],N$4,Haushaltsbuch2[Datum],\">\"&B94,Haushaltsbuch2[Datum],\"<=\"&B95)","v":0},{"$f":"SUMIFS(Haushaltsbuch2[Einnahmen],Haushaltsbuch2[Kategorie],O$4,Haushaltsbuch2[Datum],\">\"&B94,Haushaltsbuch2[Datum],\"<=\"&B95)","v":0},{"$f":"SUMIFS(Haushaltsbuch2[Einnahmen],Haushaltsbuch2[Kategorie],P$4,Haushaltsbuch2[Datum],\">\"&B94,Haushaltsbuch2[Datum],\"<=\"&B95)","v":0},{"$f":"SUMIFS(Haushaltsbuch2[Einnahmen],Haushaltsbuch2[Kategorie],Q$4,Haushaltsbuch2[Datum],\">\"&B94,Haushaltsbuch2[Datum],\"<=\"&B95)","v":0},{"$f":"SUMIFS(Haushaltsbuch2[Einnahmen],Haushaltsbuch2[Kategorie],R$4,Haushaltsbuch2[Datum],\">\"&B94,Haushaltsbuch2[Datum],\"<=\"&B95)","v":0},null,null,null,null,null,null,null,null,null,null,null,null,null,null,null,null,null,null,{"$f":"SUMIFS(Haushaltsbuch2[Ausgaben],Haushaltsbuch2[Kategorie],AK$4,Haushaltsbuch2[Datum],\">\"&B94,Haushaltsbuch2[Datum],\"<=\"&B95)","v":0},null,null,{"$f":"SUMIFS(Dividenden[Betrag in EUR],Dividenden[Datum],\">\"&B94,Dividenden[Datum],\"<=\"&B95)","v":0},{"$f":"SUMIFS(Optionen[G/V (Netto)],Optionen[Datum],\">\"&B94,Optionen[Datum],\"<=\"&B95)","v":0},null,0,0,null,0,0,null,{"$f":"SUMIFS(Haushaltsbuch2[Einnahmen],Haushaltsbuch2[Datum],\">\"&B94,Haushaltsbuch2[Datum],\"<=\"&B95)+AN95+AO95","v":0},null,0,null,{"$f":"SUMIFS(Haushaltsbuch2[Ausgaben],Haushaltsbuch2[Datum],\">\"&B94,Haushaltsbuch2[Datum],\"<=\"&B95)","v":0}]
[null,28398,null,null,null,null,null,null,null,null,null,null,{"$f":"SUMIFS(Haushaltsbuch2[Einnahmen],Haushaltsbuch2[Kategorie],M$4,Haushaltsbuch2[Datum],\">\"&B95,Haushaltsbuch2[Datum],\"<=\"&B96)","v":0},{"$f":"SUMIFS(Haushaltsbuch2[Einnahmen],Haushaltsbuch2[Kategorie],N$4,Haushaltsbuch2[Datum],\">\"&B95,Haushaltsbuch2[Datum],\"<=\"&B96)","v":0},{"$f":"SUMIFS(Haushaltsbuch2[Einnahmen],Haushaltsbuch2[Kategorie],O$4,Haushaltsbuch2[Datum],\">\"&B95,Haushaltsbuch2[Datum],\"<=\"&B96)","v":0},{"$f":"SUMIFS(Haushaltsbuch2[Einnahmen],Haushaltsbuch2[Kategorie],P$4,Haushaltsbuch2[Datum],\">\"&B95,Haushaltsbuch2[Datum],\"<=\"&B96)","v":0},{"$f":"SUMIFS(Haushaltsbuch2[Einnahmen],Haushaltsbuch2[Kategorie],Q$4,Haushaltsbuch2[Datum],\">\"&B95,Haushaltsbuch2[Datum],\"<=\"&B96)","v":0},{"$f":"SUMIFS(Haushaltsbuch2[Einnahmen],Haushaltsbuch2[Kategorie],R$4,Haushaltsbuch2[Datum],\">\"&B95,Haushaltsbuch2[Datum],\"<=\"&B96)","v":0},null,null,null,null,null,null,null,null,null,null,null,null,null,null,null,null,null,null,{"$f":"SUMIFS(Haushaltsbuch2[Ausgaben],Haushaltsbuch2[Kategorie],AK$4,Haushaltsbuch2[Datum],\">\"&B95,Haushaltsbuch2[Datum],\"<=\"&B96)","v":0},null,null,{"$f":"SUMIFS(Dividenden[Betrag in EUR],Dividenden[Datum],\">\"&B95,Dividenden[Datum],\"<=\"&B96)","v":0},{"$f":"SUMIFS(Optionen[G/V (Netto)],Optionen[Datum],\">\"&B95,Optionen[Datum],\"<=\"&B96)","v":0},null,0,0,null,0,0,null,{"$f":"SUMIFS(Haushaltsbuch2[Einnahmen],Haushaltsbuch2[Datum],\">\"&B95,Haushaltsbuch2[Datum],\"<=\"&B96)+AN96+AO96","v":0},null,0,null,{"$f":"SUMIFS(Haushaltsbuch2[Ausgaben],Haushaltsbuch2[Datum],\">\"&B95,Haushaltsbuch2[Datum],\"<=\"&B96)","v":0}]
[null,28429,null,null,null,null,null,null,null,null,null,null,{"$f":"SUMIFS(Haushaltsbuch2[Einnahmen],Haushaltsbuch2[Kategorie],M$4,Haushaltsbuch2[Datum],\">\"&B96,Haushaltsbuch2[Datum],\"<=\"&B97)","v":0},{"$f":"SUMIFS(Haushaltsbuch2[Einnahmen],Haushaltsbuch2[Kategorie],N$4,Haushaltsbuch2[Datum],\">\"&B96,Haushaltsbuch2[Datum],\"<=\"&B97)","v":0},{"$f":"SUMIFS(Haushaltsbuch2[Einnahmen],Haushaltsbuch2[Kategorie],O$4,Haushaltsbuch2[Datum],\">\"&B96,Haushaltsbuch2[Datum],\"<=\"&B97)","v":0},{"$f":"SUMIFS(Haushaltsbuch2[Einnahmen],Haushaltsbuch2[Kategorie],P$4,Haushaltsbuch2[Datum],\">\"&B96,Haushaltsbuch2[Datum],\"<=\"&B97)","v":0},{"$f":"SUMIFS(Haushaltsbuch2[Einnahmen],Haushaltsbuch2[Kategorie],Q$4,Haushaltsbuch2[Datum],\">\"&B96,Haushaltsbuch2[Datum],\"<=\"&B97)","v":0},{"$f":"SUMIFS(Haushaltsbuch2[Einnahmen],Haushaltsbuch2[Kategorie],R$4,Haushaltsbuch2[Datum],\">\"&B96,Haushaltsbuch2[Datum],\"<=\"&B97)","v":0},null,null,null,null,null,null,null,null,null,null,null,null,null,null,null,null,null,null,{"$f":"SUMIFS(Haushaltsbuch2[Ausgaben],Haushaltsbuch2[Kategorie],AK$4,Haushaltsbuch2[Datum],\">\"&B96,Haushaltsbuch2[Datum],\"<=\"&B97)","v":0},null,null,{"$f":"SUMIFS(Dividenden[Betrag in EUR],Dividenden[Datum],\">\"&B96,Dividenden[Datum],\"<=\"&B97)","v":0},{"$f":"SUMIFS(Optionen[G/V (Netto)],Optionen[Datum],\">\"&B96,Optionen[Datum],\"<=\"&B97)","v":0},null,0,0,null,0,0,null,{"$f":"SUMIFS(Haushaltsbuch2[Einnahmen],Haushaltsbuch2[Datum],\">\"&B96,Haushaltsbuch2[Datum],\"<=\"&B97)+AN97+AO97","v":0},null,0,null,{"$f":"SUMIFS(Haushaltsbuch2[Ausgaben],Haushaltsbuch2[Datum],\">\"&B96,Haushaltsbuch2[Datum],\"<=\"&B97)","v":0}]
[null,28459,null,null,null,null,null,null,null,null,null,null,{"$f":"SUMIFS(Haushaltsbuch2[Einnahmen],Haushaltsbuch2[Kategorie],M$4,Haushaltsbuch2[Datum],\">\"&B97,Haushaltsbuch2[Datum],\"<=\"&B98)","v":0},{"$f":"SUMIFS(Haushaltsbuch2[Einnahmen],Haushaltsbuch2[Kategorie],N$4,Haushaltsbuch2[Datum],\">\"&B97,Haushaltsbuch2[Datum],\"<=\"&B98)","v":0},{"$f":"SUMIFS(Haushaltsbuch2[Einnahmen],Haushaltsbuch2[Kategorie],O$4,Haushaltsbuch2[Datum],\">\"&B97,Haushaltsbuch2[Datum],\"<=\"&B98)","v":0},{"$f":"SUMIFS(Haushaltsbuch2[Einnahmen],Haushaltsbuch2[Kategorie],P$4,Haushaltsbuch2[Datum],\">\"&B97,Haushaltsbuch2[Datum],\"<=\"&B98)","v":0},{"$f":"SUMIFS(Haushaltsbuch2[Einnahmen],Haushaltsbuch2[Kategorie],Q$4,Haushaltsbuch2[Datum],\">\"&B97,Haushaltsbuch2[Datum],\"<=\"&B98)","v":0},{"$f":"SUMIFS(Haushaltsbuch2[Einnahmen],Haushaltsbuch2[Kategorie],R$4,Haushaltsbuch2[Datum],\">\"&B97,Haushaltsbuch2[Datum],\"<=\"&B98)","v":0},null,null,null,null,null,null,null,null,null,null,null,null,null,null,null,null,null,null,{"$f":"SUMIFS(Haushaltsbuch2[Ausgaben],Haushaltsbuch2[Kategorie],AK$4,Haushaltsbuch2[Datum],\">\"&B97,Haushaltsbuch2[Datum],\"<=\"&B98)","v":0},null,null,{"$f":"SUMIFS(Dividenden[Betrag in EUR],Dividenden[Datum],\">\"&B97,Dividenden[Datum],\"<=\"&B98)","v":0},{"$f":"SUMIFS(Optionen[G/V (Netto)],Optionen[Datum],\">\"&B97,Optionen[Datum],\"<=\"&B98)","v":0},null,0,0,null,0,0,null,{"$f":"SUMIFS(Haushaltsbuch2[Einnahmen],Haushaltsbuch2[Datum],\">\"&B97,Haushaltsbuch2[Datum],\"<=\"&B98)+AN98+AO98","v":0},null,0,null,{"$f":"SUMIFS(Haushaltsbuch2[Ausgaben],Haushaltsbuch2[Datum],\">\"&B97,Haushaltsbuch2[Datum],\"<=\"&B98)","v":0}]
[null,28490,null,null,null,null,null,null,null,null,null,null,{"$f":"SUMIFS(Haushaltsbuch2[Einnahmen],Haushaltsbuch2[Kategorie],M$4,Haushaltsbuch2[Datum],\">\"&B98,Haushaltsbuch2[Datum],\"<=\"&B99)","v":0},{"$f":"SUMIFS(Haushaltsbuch2[Einnahmen],Haushaltsbuch2[Kategorie],N$4,Haushaltsbuch2[Datum],\">\"&B98,Haushaltsbuch2[Datum],\"<=\"&B99)","v":0},{"$f":"SUMIFS(Haushaltsbuch2[Einnahmen],Haushaltsbuch2[Kategorie],O$4,Haushaltsbuch2[Datum],\">\"&B98,Haushaltsbuch2[Datum],\"<=\"&B99)","v":0},{"$f":"SUMIFS(Haushaltsbuch2[Einnahmen],Haushaltsbuch2[Kategorie],P$4,Haushaltsbuch2[Datum],\">\"&B98,Haushaltsbuch2[Datum],\"<=\"&B99)","v":0},{"$f":"SUMIFS(Haushaltsbuch2[Einnahmen],Haushaltsbuch2[Kategorie],Q$4,Haushaltsbuch2[Datum],\">\"&B98,Haushaltsbuch2[Datum],\"<=\"&B99)","v":0},{"$f":"SUMIFS(Haushaltsbuch2[Einnahmen],Haushaltsbuch2[Kategorie],R$4,Haushaltsbuch2[Datum],\">\"&B98,Haushaltsbuch2[Datum],\"<=\"&B99)","v":0},null,null,null,null,null,null,null,null,null,null,null,null,null,null,null,null,null,null,{"$f":"SUMIFS(Haushaltsbuch2[Ausgaben],Haushaltsbuch2[Kategorie],AK$4,Haushaltsbuch2[Datum],\">\"&B98,Haushaltsbuch2[Datum],\"<=\"&B99)","v":0},null,null,{"$f":"SUMIFS(Dividenden[Betrag in EUR],Dividenden[Datum],\">\"&B98,Dividenden[Datum],\"<=\"&B99)","v":0},{"$f":"SUMIFS(Optionen[G/V (Netto)],Optionen[Datum],\">\"&B98,Optionen[Datum],\"<=\"&B99)","v":0},null,0,0,null,0,0,null,{"$f":"SUMIFS(Haushaltsbuch2[Einnahmen],Haushaltsbuch2[Datum],\">\"&B98,Haushaltsbuch2[Datum],\"<=\"&B99)+AN99+AO99","v":0},null,0,null,{"$f":"SUMIFS(Haushaltsbuch2[Ausgaben],Haushaltsbuch2[Datum],\">\"&B98,Haushaltsbuch2[Datum],\"<=\"&B99)","v":0}]
[null,28521,null,null,null,null,null,null,null,null,null,null,{"$f":"SUMIFS(Haushaltsbuch2[Einnahmen],Haushaltsbuch2[Kategorie],M$4,Haushaltsbuch2[Datum],\">\"&B99,Haushaltsbuch2[Datum],\"<=\"&B100)","v":0},{"$f":"SUMIFS(Haushaltsbuch2[Einnahmen],Haushaltsbuch2[Kategorie],N$4,Haushaltsbuch2[Datum],\">\"&B99,Haushaltsbuch2[Datum],\"<=\"&B100)","v":0},{"$f":"SUMIFS(Haushaltsbuch2[Einnahmen],Haushaltsbuch2[Kategorie],O$4,Haushaltsbuch2[Datum],\">\"&B99,Haushaltsbuch2[Datum],\"<=\"&B100)","v":0},{"$f":"SUMIFS(Haushaltsbuch2[Einnahmen],Haushaltsbuch2[Kategorie],P$4,Haushaltsbuch2[Datum],\">\"&B99,Haushaltsbuch2[Datum],\"<=\"&B100)","v":0},{"$f":"SUMIFS(Haushaltsbuch2[Einnahmen],Haushaltsbuch2[Kategorie],Q$4,Haushaltsbuch2[Datum],\">\"&B99,Haushaltsbuch2[Datum],\"<=\"&B100)","v":0},{"$f":"SUMIFS(Haushaltsbuch2[Einnahmen],Haushaltsbuch2[Kategorie],R$4,Haushaltsbuch2[Datum],\">\"&B99,Haushaltsbuch2[Datum],\"<=\"&B100)","v":0},null,null,null,null,null,null,null,null,null,null,null,null,null,null,null,null,null,null,{"$f":"SUMIFS(Haushaltsbuch2[Ausgaben],Haushaltsbuch2[Kategorie],AK$4,Haushaltsbuch2[Datum],\">\"&B99,Haushaltsbuch2[Datum],\"<=\"&B100)","v":0},null,null,{"$f":"SUMIFS(Dividenden[Betrag in EUR],Dividenden[Datum],\">\"&B99,Dividenden[Datum],\"<=\"&B100)","v":0},{"$f":"SUMIFS(Optionen[G/V (Netto)],Optionen[Datum],\">\"&B99,Optionen[Datum],\"<=\"&B100)","v":0},null,0,0,null,0,0,null,{"$f":"SUMIFS(Haushaltsbuch2[Einnahmen],Haushaltsbuch2[Datum],\">\"&B99,Haushaltsbuch2[Datum],\"<=\"&B100)+AN100+AO100","v":0},null,0,null,{"$f":"SUMIFS(Haushaltsbuch2[Ausgaben],Haushaltsbuch2[Datum],\">\"&B99,Haushaltsbuch2[Datum],\"<=\"&B100)","v":0}]
[null,28549,null,null,null,null,null,null,null,null,null,null,{"$f":"SUMIFS(Haushaltsbuch2[Einnahmen],Haushaltsbuch2[Kategorie],M$4,Haushaltsbuch2[Datum],\">\"&B100,Haushaltsbuch2[Datum],\"<=\"&B101)","v":0},{"$f":"SUMIFS(Haushaltsbuch2[Einnahmen],Haushaltsbuch2[Kategorie],N$4,Haushaltsbuch2[Datum],\">\"&B100,Haushaltsbuch2[Datum],\"<=\"&B101)","v":0},{"$f":"SUMIFS(Haushaltsbuch2[Einnahmen],Haushaltsbuch2[Kategorie],O$4,Haushaltsbuch2[Datum],\">\"&B100,Haushaltsbuch2[Datum],\"<=\"&B101)","v":0},{"$f":"SUMIFS(Haushaltsbuch2[Einnahmen],Haushaltsbuch2[Kategorie],P$4,Haushaltsbuch2[Datum],\">\"&B100,Haushaltsbuch2[Datum],\"<=\"&B101)","v":0},{"$f":"SUMIFS(Haushaltsbuch2[Einnahmen],Haushaltsbuch2[Kategorie],Q$4,Haushaltsbuch2[Datum],\">\"&B100,Haushaltsbuch2[Datum],\"<=\"&B101)","v":0},{"$f":"SUMIFS(Haushaltsbuch2[Einnahmen],Haushaltsbuch2[Kategorie],R$4,Haushaltsbuch2[Datum],\">\"&B100,Haushaltsbuch2[Datum],\"<=\"&B101)","v":0},null,null,null,null,null,null,null,null,null,null,null,null,null,null,null,null,null,null,{"$f":"SUMIFS(Haushaltsbuch2[Ausgaben],Haushaltsbuch2[Kategorie],AK$4,Haushaltsbuch2[Datum],\">\"&B100,Haushaltsbuch2[Datum],\"<=\"&B101)","v":0},null,null,{"$f":"SUMIFS(Dividenden[Betrag in EUR],Dividenden[Datum],\">\"&B100,Dividenden[Datum],\"<=\"&B101)","v":0},{"$f":"SUMIFS(Optionen[G/V (Netto)],Optionen[Datum],\">\"&B100,Optionen[Datum],\"<=\"&B101)","v":0},null,0,0,null,0,0,null,{"$f":"SUMIFS(Haushaltsbuch2[Einnahmen],Haushaltsbuch2[Datum],\">\"&B100,Haushaltsbuch2[Datum],\"<=\"&B101)+AN101+AO101","v":0},null,0,null,{"$f":"SUMIFS(Haushaltsbuch2[Ausgaben],Haushaltsbuch2[Datum],\">\"&B100,Haushaltsbuch2[Datum],\"<=\"&B101)","v":0}]
[null,28580,null,null,null,null,null,null,null,null,null,null,{"$f":"SUMIFS(Haushaltsbuch2[Einnahmen],Haushaltsbuch2[Kategorie],M$4,Haushaltsbuch2[Datum],\">\"&B101,Haushaltsbuch2[Datum],\"<=\"&B102)","v":0},{"$f":"SUMIFS(Haushaltsbuch2[Einnahmen],Haushaltsbuch2[Kategorie],N$4,Haushaltsbuch2[Datum],\">\"&B101,Haushaltsbuch2[Datum],\"<=\"&B102)","v":0},{"$f":"SUMIFS(Haushaltsbuch2[Einnahmen],Haushaltsbuch2[Kategorie],O$4,Haushaltsbuch2[Datum],\">\"&B101,Haushaltsbuch2[Datum],\"<=\"&B102)","v":0},{"$f":"SUMIFS(Haushaltsbuch2[Einnahmen],Haushaltsbuch2[Kategorie],P$4,Haushaltsbuch2[Datum],\">\"&B101,Haushaltsbuch2[Datum],\"<=\"&B102)","v":0},{"$f":"SUMIFS(Haushaltsbuch2[Einnahmen],Haushaltsbuch2[Kategorie],Q$4,Haushaltsbuch2[Datum],\">\"&B101,Haushaltsbuch2[Datum],\"<=\"&B102)","v":0},{"$f":"SUMIFS(Haushaltsbuch2[Einnahmen],Haushaltsbuch2[Kategorie],R$4,Haushaltsbuch2[Datum],\">\"&B101,Haushaltsbuch2[Datum],\"<=\"&B102)","v":0},null,null,null,null,null,null,null,null,null,null,null,null,null,null,null,null,null,null,{"$f":"SUMIFS(Haushaltsbuch2[Ausgaben],Haushaltsbuch2[Kategorie],AK$4,Haushaltsbuch2[Datum],\">\"&B101,Haushaltsbuch2[Datum],\"<=\"&B102)","v":0},null,null,{"$f":"SUMIFS(Dividenden[Betrag in EUR],Dividenden[Datum],\">\"&B101,Dividenden[Datum],\"<=\"&B102)","v":0},{"$f":"SUMIFS(Optionen[G/V (Netto)],Optionen[Datum],\">\"&B101,Optionen[Datum],\"<=\"&B102)","v":0},null,0,0,null,0,0,null,{"$f":"SUMIFS(Haushaltsbuch2[Einnahmen],Haushaltsbuch2[Datum],\">\"&B101,Haushaltsbuch2[Datum],\"<=\"&B102)+AN102+AO102","v":0},null,0,null,{"$f":"SUMIFS(Haushaltsbuch2[Ausgaben],Haushaltsbuch2[Datum],\">\"&B101,Haushaltsbuch2[Datum],\"<=\"&B102)","v":0}]
[null,28610,null,null,null,null,null,null,null,null,null,null,{"$f":"SUMIFS(Haushaltsbuch2[Einnahmen],Haushaltsbuch2[Kategorie],M$4,Haushaltsbuch2[Datum],\">\"&B102,Haushaltsbuch2[Datum],\"<=\"&B103)","v":0},{"$f":"SUMIFS(Haushaltsbuch2[Einnahmen],Haushaltsbuch2[Kategorie],N$4,Haushaltsbuch2[Datum],\">\"&B102,Haushaltsbuch2[Datum],\"<=\"&B103)","v":0},{"$f":"SUMIFS(Haushaltsbuch2[Einnahmen],Haushaltsbuch2[Kategorie],O$4,Haushaltsbuch2[Datum],\">\"&B102,Haushaltsbuch2[Datum],\"<=\"&B103)","v":0},{"$f":"SUMIFS(Haushaltsbuch2[Einnahmen],Haushaltsbuch2[Kategorie],P$4,Haushaltsbuch2[Datum],\">\"&B102,Haushaltsbuch2[Datum],\"<=\"&B103)","v":0},{"$f":"SUMIFS(Haushaltsbuch2[Einnahmen],Haushaltsbuch2[Kategorie],Q$4,Haushaltsbuch2[Datum],\">\"&B102,Haushaltsbuch2[Datum],\"<=\"&B103)","v":0},{"$f":"SUMIFS(Haushaltsbuch2[Einnahmen],Haushaltsbuch2[Kategorie],R$4,Haushaltsbuch2[Datum],\">\"&B102,Haushaltsbuch2[Datum],\"<=\"&B103)","v":0},null,null,null,null,null,null,null,null,null,null,null,null,null,null,null,null,null,null,{"$f":"SUMIFS(Haushaltsbuch2[Ausgaben],Haushaltsbuch2[Kategorie],AK$4,Haushaltsbuch2[Datum],\">\"&B102,Haushaltsbuch2[Datum],\"<=\"&B103)","v":0},null,null,{"$f":"SUMIFS(Dividenden[Betrag in EUR],Dividenden[Datum],\">\"&B102,Dividenden[Datum],\"<=\"&B103)","v":0},{"$f":"SUMIFS(Optionen[G/V (Netto)],Optionen[Datum],\">\"&B102,Optionen[Datum],\"<=\"&B103)","v":0},null,0,0,null,0,0,null,{"$f":"SUMIFS(Haushaltsbuch2[Einnahmen],Haushaltsbuch2[Datum],\">\"&B102,Haushaltsbuch2[Datum],\"<=\"&B103)+AN103+AO103","v":0},null,0,null,{"$f":"SUMIFS(Haushaltsbuch2[Ausgaben],Haushaltsbuch2[Datum],\">\"&B102,Haushaltsbuch2[Datum],\"<=\"&B103)","v":0}]
[null,28641,null,null,null,null,null,null,null,null,null,null,{"$f":"SUMIFS(Haushaltsbuch2[Einnahmen],Haushaltsbuch2[Kategorie],M$4,Haushaltsbuch2[Datum],\">\"&B103,Haushaltsbuch2[Datum],\"<=\"&B104)","v":0},{"$f":"SUMIFS(Haushaltsbuch2[Einnahmen],Haushaltsbuch2[Kategorie],N$4,Haushaltsbuch2[Datum],\">\"&B103,Haushaltsbuch2[Datum],\"<=\"&B104)","v":0},{"$f":"SUMIFS(Haushaltsbuch2[Einnahmen],Haushaltsbuch2[Kategorie],O$4,Haushaltsbuch2[Datum],\">\"&B103,Haushaltsbuch2[Datum],\"<=\"&B104)","v":0},{"$f":"SUMIFS(Haushaltsbuch2[Einnahmen],Haushaltsbuch2[Kategorie],P$4,Haushaltsbuch2[Datum],\">\"&B103,Haushaltsbuch2[Datum],\"<=\"&B104)","v":0},{"$f":"SUMIFS(Haushaltsbuch2[Einnahmen],Haushaltsbuch2[Kategorie],Q$4,Haushaltsbuch2[Datum],\">\"&B103,Haushaltsbuch2[Datum],\"<=\"&B104)","v":0},{"$f":"SUMIFS(Haushaltsbuch2[Einnahmen],Haushaltsbuch2[Kategorie],R$4,Haushaltsbuch2[Datum],\">\"&B103,Haushaltsbuch2[Datum],\"<=\"&B104)","v":0},null,null,null,null,null,null,null,null,null,null,null,null,null,null,null,null,null,null,{"$f":"SUMIFS(Haushaltsbuch2[Ausgaben],Haushaltsbuch2[Kategorie],AK$4,Haushaltsbuch2[Datum],\">\"&B103,Haushaltsbuch2[Datum],\"<=\"&B104)","v":0},null,null,{"$f":"SUMIFS(Dividenden[Betrag in EUR],Dividenden[Datum],\">\"&B103,Dividenden[Datum],\"<=\"&B104)","v":0},{"$f":"SUMIFS(Optionen[G/V (Netto)],Optionen[Datum],\">\"&B103,Optionen[Datum],\"<=\"&B104)","v":0},null,0,0,null,0,0,null,{"$f":"SUMIFS(Haushaltsbuch2[Einnahmen],Haushaltsbuch2[Datum],\">\"&B103,Haushaltsbuch2[Datum],\"<=\"&B104)+AN104+AO104","v":0},null,0,null,{"$f":"SUMIFS(Haushaltsbuch2[Ausgaben],Haushaltsbuch2[Datum],\">\"&B103,Haushaltsbuch2[Datum],\"<=\"&B104)","v":0}]
[null,28671,null,null,null,null,null,null,null,null,null,null,{"$f":"SUMIFS(Haushaltsbuch2[Einnahmen],Haushaltsbuch2[Kategorie],M$4,Haushaltsbuch2[Datum],\">\"&B104,Haushaltsbuch2[Datum],\"<=\"&B105)","v":0},{"$f":"SUMIFS(Haushaltsbuch2[Einnahmen],Haushaltsbuch2[Kategorie],N$4,Haushaltsbuch2[Datum],\">\"&B104,Haushaltsbuch2[Datum],\"<=\"&B105)","v":0},{"$f":"SUMIFS(Haushaltsbuch2[Einnahmen],Haushaltsbuch2[Kategorie],O$4,Haushaltsbuch2[Datum],\">\"&B104,Haushaltsbuch2[Datum],\"<=\"&B105)","v":0},{"$f":"SUMIFS(Haushaltsbuch2[Einnahmen],Haushaltsbuch2[Kategorie],P$4,Haushaltsbuch2[Datum],\">\"&B104,Haushaltsbuch2[Datum],\"<=\"&B105)","v":0},{"$f":"SUMIFS(Haushaltsbuch2[Einnahmen],Haushaltsbuch2[Kategorie],Q$4,Haushaltsbuch2[Datum],\">\"&B104,Haushaltsbuch2[Datum],\"<=\"&B105)","v":0},{"$f":"SUMIFS(Haushaltsbuch2[Einnahmen],Haushaltsbuch2[Kategorie],R$4,Haushaltsbuch2[Datum],\">\"&B104,Haushaltsbuch2[Datum],\"<=\"&B105)","v":0},null,null,null,null,null,null,null,null,null,null,null,null,null,null,null,null,null,null,{"$f":"SUMIFS(Haushaltsbuch2[Ausgaben],Haushaltsbuch2[Kategorie],AK$4,Haushaltsbuch2[Datum],\">\"&B104,Haushaltsbuch2[Datum],\"<=\"&B105)","v":0},null,null,{"$f":"SUMIFS(Dividenden[Betrag in EUR],Dividenden[Datum],\">\"&B104,Dividenden[Datum],\"<=\"&B105)","v":0},{"$f":"SUMIFS(Optionen[G/V (Netto)],Optionen[Datum],\">\"&B104,Optionen[Datum],\"<=\"&B105)","v":0},null,0,0,null,0,0,null,{"$f":"SUMIFS(Haushaltsbuch2[Einnahmen],Haushaltsbuch2[Datum],\">\"&B104,Haushaltsbuch2[Datum],\"<=\"&B105)+AN105+AO105","v":0},null,0,null,{"$f":"SUMIFS(Haushaltsbuch2[Ausgaben],Haushaltsbuch2[Datum],\">\"&B104,Haushaltsbuch2[Datum],\"<=\"&B105)","v":0}]
[null,28702,null,null,null,null,null,null,null,null,null,null,{"$f":"SUMIFS(Haushaltsbuch2[Einnahmen],Haushaltsbuch2[Kategorie],M$4,Haushaltsbuch2[Datum],\">\"&B105,Haushaltsbuch2[Datum],\"<=\"&B106)","v":0},{"$f":"SUMIFS(Haushaltsbuch2[Einnahmen],Haushaltsbuch2[Kategorie],N$4,Haushaltsbuch2[Datum],\">\"&B105,Haushaltsbuch2[Datum],\"<=\"&B106)","v":0},{"$f":"SUMIFS(Haushaltsbuch2[Einnahmen],Haushaltsbuch2[Kategorie],O$4,Haushaltsbuch2[Datum],\">\"&B105,Haushaltsbuch2[Datum],\"<=\"&B106)","v":0},{"$f":"SUMIFS(Haushaltsbuch2[Einnahmen],Haushaltsbuch2[Kategorie],P$4,Haushaltsbuch2[Datum],\">\"&B105,Haushaltsbuch2[Datum],\"<=\"&B106)","v":0},{"$f":"SUMIFS(Haushaltsbuch2[Einnahmen],Haushaltsbuch2[Kategorie],Q$4,Haushaltsbuch2[Datum],\">\"&B105,Haushaltsbuch2[Datum],\"<=\"&B106)","v":0},{"$f":"SUMIFS(Haushaltsbuch2[Einnahmen],Haushaltsbuch2[Kategorie],R$4,Haushaltsbuch2[Datum],\">\"&B105,Haushaltsbuch2[Datum],\"<=\"&B106)","v":0},null,null,null,null,null,null,null,null,null,null,null,null,null,null,null,null,null,null,{"$f":"SUMIFS(Haushaltsbuch2[Ausgaben],Haushaltsbuch2[Kategorie],AK$4,Haushaltsbuch2[Datum],\">\"&B105,Haushaltsbuch2[Datum],\"<=\"&B106)","v":0},null,null,{"$f":"SUMIFS(Dividenden[Betrag in EUR],Dividenden[Datum],\">\"&B105,Dividenden[Datum],\"<=\"&B106)","v":0},{"$f":"SUMIFS(Optionen[G/V (Netto)],Optionen[Datum],\">\"&B105,Optionen[Datum],\"<=\"&B106)","v":0},null,0,0,null,0,0,null,{"$f":"SUMIFS(Haushaltsbuch2[Einnahmen],Haushaltsbuch2[Datum],\">\"&B105,Haushaltsbuch2[Datum],\"<=\"&B106)+AN106+AO106","v":0},null,0,null,{"$f":"SUMIFS(Haushaltsbuch2[Ausgaben],Haushaltsbuch2[Datum],\">\"&B105,Haushaltsbuch2[Datum],\"<=\"&B106)","v":0}]
[null,28733,null,null,null,null,null,null,null,null,null,null,{"$f":"SUMIFS(Haushaltsbuch2[Einnahmen],Haushaltsbuch2[Kategorie],M$4,Haushaltsbuch2[Datum],\">\"&B106,Haushaltsbuch2[Datum],\"<=\"&B107)","v":0},{"$f":"SUMIFS(Haushaltsbuch2[Einnahmen],Haushaltsbuch2[Kategorie],N$4,Haushaltsbuch2[Datum],\">\"&B106,Haushaltsbuch2[Datum],\"<=\"&B107)","v":0},{"$f":"SUMIFS(Haushaltsbuch2[Einnahmen],Haushaltsbuch2[Kategorie],O$4,Haushaltsbuch2[Datum],\">\"&B106,Haushaltsbuch2[Datum],\"<=\"&B107)","v":0},{"$f":"SUMIFS(Haushaltsbuch2[Einnahmen],Haushaltsbuch2[Kategorie],P$4,Haushaltsbuch2[Datum],\">\"&B106,Haushaltsbuch2[Datum],\"<=\"&B107)","v":0},{"$f":"SUMIFS(Haushaltsbuch2[Einnahmen],Haushaltsbuch2[Kategorie],Q$4,Haushaltsbuch2[Datum],\">\"&B106,Haushaltsbuch2[Datum],\"<=\"&B107)","v":0},{"$f":"SUMIFS(Haushaltsbuch2[Einnahmen],Haushaltsbuch2[Kategorie],R$4,Haushaltsbuch2[Datum],\">\"&B106,Haushaltsbuch2[Datum],\"<=\"&B107)","v":0},null,null,null,null,null,null,null,null,null,null,null,null,null,null,null,null,null,null,{"$f":"SUMIFS(Haushaltsbuch2[Ausgaben],Haushaltsbuch2[Kategorie],AK$4,Haushaltsbuch2[Datum],\">\"&B106,Haushaltsbuch2[Datum],\"<=\"&B107)","v":0},null,null,{"$f":"SUMIFS(Dividenden[Betrag in EUR],Dividenden[Datum],\">\"&B106,Dividenden[Datum],\"<=\"&B107)","v":0},{"$f":"SUMIFS(Optionen[G/V (Netto)],Optionen[Datum],\">\"&B106,Optionen[Datum],\"<=\"&B107)","v":0},null,0,0,null,0,0,null,{"$f":"SUMIFS(Haushaltsbuch2[Einnahmen],Haushaltsbuch2[Datum],\">\"&B106,Haushaltsbuch2[Datum],\"<=\"&B107)+AN107+AO107","v":0},null,0,null,{"$f":"SUMIFS(Haushaltsbuch2[Ausgaben],Haushaltsbuch2[Datum],\">\"&B106,Haushaltsbuch2[Datum],\"<=\"&B107)","v":0}]
[null,28763,null,null,null,null,null,null,null,null,null,null,{"$f":"SUMIFS(Haushaltsbuch2[Einnahmen],Haushaltsbuch2[Kategorie],M$4,Haushaltsbuch2[Datum],\">\"&B107,Haushaltsbuch2[Datum],\"<=\"&B108)","v":0},{"$f":"SUMIFS(Haushaltsbuch2[Einnahmen],Haushaltsbuch2[Kategorie],N$4,Haushaltsbuch2[Datum],\">\"&B107,Haushaltsbuch2[Datum],\"<=\"&B108)","v":0},{"$f":"SUMIFS(Haushaltsbuch2[Einnahmen],Haushaltsbuch2[Kategorie],O$4,Haushaltsbuch2[Datum],\">\"&B107,Haushaltsbuch2[Datum],\"<=\"&B108)","v":0},{"$f":"SUMIFS(Haushaltsbuch2[Einnahmen],Haushaltsbuch2[Kategorie],P$4,Haushaltsbuch2[Datum],\">\"&B107,Haushaltsbuch2[Datum],\"<=\"&B108)","v":0},{"$f":"SUMIFS(Haushaltsbuch2[Einnahmen],Haushaltsbuch2[Kategorie],Q$4,Haushaltsbuch2[Datum],\">\"&B107,Haushaltsbuch2[Datum],\"<=\"&B108)","v":0},{"$f":"SUMIFS(Haushaltsbuch2[Einnahmen],Haushaltsbuch2[Kategorie],R$4,Haushaltsbuch2[Datum],\">\"&B107,Haushaltsbuch2[Datum],\"<=\"&B108)","v":0},null,null,null,null,null,null,null,null,null,null,null,null,null,null,null,null,null,null,{"$f":"SUMIFS(Haushaltsbuch2[Ausgaben],Haushaltsbuch2[Kategorie],AK$4,Haushaltsbuch2[Datum],\">\"&B107,Haushaltsbuch2[Datum],\"<=\"&B108)","v":0},null,null,{"$f":"SUMIFS(Dividenden[Betrag in EUR],Dividenden[Datum],\">\"&B107,Dividenden[Datum],\"<=\"&B108)","v":0},{"$f":"SUMIFS(Optionen[G/V (Netto)],Optionen[Datum],\">\"&B107,Optionen[Datum],\"<=\"&B108)","v":0},null,0,0,null,0,0,null,{"$f":"SUMIFS(Haushaltsbuch2[Einnahmen],Haushaltsbuch2[Datum],\">\"&B107,Haushaltsbuch2[Datum],\"<=\"&B108)+AN108+AO108","v":0},null,0,null,{"$f":"SUMIFS(Haushaltsbuch2[Ausgaben],Haushaltsbuch2[Datum],\">\"&B107,Haushaltsbuch2[Datum],\"<=\"&B108)","v":0}]
[null,28794,null,null,null,null,null,null,null,null,null,null,{"$f":"SUMIFS(Haushaltsbuch2[Einnahmen],Haushaltsbuch2[Kategorie],M$4,Haushaltsbuch2[Datum],\">\"&B108,Haushaltsbuch2[Datum],\"<=\"&B109)","v":0},{"$f":"SUMIFS(Haushaltsbuch2[Einnahmen],Haushaltsbuch2[Kategorie],N$4,Haushaltsbuch2[Datum],\">\"&B108,Haushaltsbuch2[Datum],\"<=\"&B109)","v":0},{"$f":"SUMIFS(Haushaltsbuch2[Einnahmen],Haushaltsbuch2[Kategorie],O$4,Haushaltsbuch2[Datum],\">\"&B108,Haushaltsbuch2[Datum],\"<=\"&B109)","v":0},{"$f":"SUMIFS(Haushaltsbuch2[Einnahmen],Haushaltsbuch2[Kategorie],P$4,Haushaltsbuch2[Datum],\">\"&B108,Haushaltsbuch2[Datum],\"<=\"&B109)","v":0},{"$f":"SUMIFS(Haushaltsbuch2[Einnahmen],Haushaltsbuch2[Kategorie],Q$4,Haushaltsbuch2[Datum],\">\"&B108,Haushaltsbuch2[Datum],\"<=\"&B109)","v":0},{"$f":"SUMIFS(Haushaltsbuch2[Einnahmen],Haushaltsbuch2[Kategorie],R$4,Haushaltsbuch2[Datum],\">\"&B108,Haushaltsbuch2[Datum],\"<=\"&B109)","v":0},null,null,null,null,null,null,null,null,null,null,null,null,null,null,null,null,null,null,{"$f":"SUMIFS(Haushaltsbuch2[Ausgaben],Haushaltsbuch2[Kategorie],AK$4,Haushaltsbuch2[Datum],\">\"&B108,Haushaltsbuch2[Datum],\"<=\"&B109)","v":0},null,null,{"$f":"SUMIFS(Dividenden[Betrag in EUR],Dividenden[Datum],\">\"&B108,Dividenden[Datum],\"<=\"&B109)","v":0},{"$f":"SUMIFS(Optionen[G/V (Netto)],Optionen[Datum],\">\"&B108,Optionen[Datum],\"<=\"&B109)","v":0},null,0,0,null,0,0,null,{"$f":"SUMIFS(Haushaltsbuch2[Einnahmen],Haushaltsbuch2[Datum],\">\"&B108,Haushaltsbuch2[Datum],\"<=\"&B109)+AN109+AO109","v":0},null,0,null,{"$f":"SUMIFS(Haushaltsbuch2[Ausgaben],Haushaltsbuch2[Datum],\">\"&B108,Haushaltsbuch2[Datum],\"<=\"&B109)","v":0}]
[null,28824,null,null,null,null,null,null,null,null,null,null,{"$f":"SUMIFS(Haushaltsbuch2[Einnahmen],Haushaltsbuch2[Kategorie],M$4,Haushaltsbuch2[Datum],\">\"&B109,Haushaltsbuch2[Datum],\"<=\"&B110)","v":0},{"$f":"SUMIFS(Haushaltsbuch2[Einnahmen],Haushaltsbuch2[Kategorie],N$4,Haushaltsbuch2[Datum],\">\"&B109,Haushaltsbuch2[Datum],\"<=\"&B110)","v":0},{"$f":"SUMIFS(Haushaltsbuch2[Einnahmen],Haushaltsbuch2[Kategorie],O$4,Haushaltsbuch2[Datum],\">\"&B109,Haushaltsbuch2[Datum],\"<=\"&B110)","v":0},{"$f":"SUMIFS(Haushaltsbuch2[Einnahmen],Haushaltsbuch2[Kategorie],P$4,Haushaltsbuch2[Datum],\">\"&B109,Haushaltsbuch2[Datum],\"<=\"&B110)","v":0},{"$f":"SUMIFS(Haushaltsbuch2[Einnahmen],Haushaltsbuch2[Kategorie],Q$4,Haushaltsbuch2[Datum],\">\"&B109,Haushaltsbuch2[Datum],\"<=\"&B110)","v":0},{"$f":"SUMIFS(Haushaltsbuch2[Einnahmen],Haushaltsbuch2[Kategorie],R$4,Haushaltsbuch2[Datum],\">\"&B109,Haushaltsbuch2[Datum],\"<=\"&B110)","v":0},null,null,null,null,null,null,null,null,null,null,null,null,null,null,null,null,null,null,{"$f":"SUMIFS(Haushaltsbuch2[Ausgaben],Haushaltsbuch2[Kategorie],AK$4,Haushaltsbuch2[Datum],\">\"&B109,Haushaltsbuch2[Datum],\"<=\"&B110)","v":0},null,null,{"$f":"SUMIFS(Dividenden[Betrag in EUR],Dividenden[Datum],\">\"&B109,Dividenden[Datum],\"<=\"&B110)","v":0},{"$f":"SUMIFS(Optionen[G/V (Netto)],Optionen[Datum],\">\"&B109,Optionen[Datum],\"<=\"&B110)","v":0},null,0,0,null,0,0,null,{"$f":"SUMIFS(Haushaltsbuch2[Einnahmen],Haushaltsbuch2[Datum],\">\"&B109,Haushaltsbuch2[Datum],\"<=\"&B110)+AN110+AO110","v":0},null,0,null,{"$f":"SUMIFS(Haushaltsbuch2[Ausgaben],Haushaltsbuch2[Datum],\">\"&B109,Haushaltsbuch2[Datum],\"<=\"&B110)","v":0}]
[null,28855,null,null,null,null,null,null,null,null,null,null,{"$f":"SUMIFS(Haushaltsbuch2[Einnahmen],Haushaltsbuch2[Kategorie],M$4,Haushaltsbuch2[Datum],\">\"&B110,Haushaltsbuch2[Datum],\"<=\"&B111)","v":0},{"$f":"SUMIFS(Haushaltsbuch2[Einnahmen],Haushaltsbuch2[Kategorie],N$4,Haushaltsbuch2[Datum],\">\"&B110,Haushaltsbuch2[Datum],\"<=\"&B111)","v":0},{"$f":"SUMIFS(Haushaltsbuch2[Einnahmen],Haushaltsbuch2[Kategorie],O$4,Haushaltsbuch2[Datum],\">\"&B110,Haushaltsbuch2[Datum],\"<=\"&B111)","v":0},{"$f":"SUMIFS(Haushaltsbuch2[Einnahmen],Haushaltsbuch2[Kategorie],P$4,Haushaltsbuch2[Datum],\">\"&B110,Haushaltsbuch2[Datum],\"<=\"&B111)","v":0},{"$f":"SUMIFS(Haushaltsbuch2[Einnahmen],Haushaltsbuch2[Kategorie],Q$4,Haushaltsbuch2[Datum],\">\"&B110,Haushaltsbuch2[Datum],\"<=\"&B111)","v":0},{"$f":"SUMIFS(Haushaltsbuch2[Einnahmen],Haushaltsbuch2[Kategorie],R$4,Haushaltsbuch2[Datum],\">\"&B110,Haushaltsbuch2[Datum],\"<=\"&B111)","v":0},null,null,null,null,null,null,null,null,null,null,null,null,null,null,null,null,null,null,{"$f":"SUMIFS(Haushaltsbuch2[Ausgaben],Haushaltsbuch2[Kategorie],AK$4,Haushaltsbuch2[Datum],\">\"&B110,Haushaltsbuch2[Datum],\"<=\"&B111)","v":0},null,null,{"$f":"SUMIFS(Dividenden[Betrag in EUR],Dividenden[Datum],\">\"&B110,Dividenden[Datum],\"<=\"&B111)","v":0},{"$f":"SUMIFS(Optionen[G/V (Netto)],Optionen[Datum],\">\"&B110,Optionen[Datum],\"<=\"&B111)","v":0},null,0,0,null,0,0,null,{"$f":"SUMIFS(Haushaltsbuch2[Einnahmen],Haushaltsbuch2[Datum],\">\"&B110,Haushaltsbuch2[Datum],\"<=\"&B111)+AN111+AO111","v":0},null,0,null,{"$f":"SUMIFS(Haushaltsbuch2[Ausgaben],Haushaltsbuch2[Datum],\">\"&B110,Haushaltsbuch2[Datum],\"<=\"&B111)","v":0}]
[null,28886,null,null,null,null,null,null,null,null,null,null,{"$f":"SUMIFS(Haushaltsbuch2[Einnahmen],Haushaltsbuch2[Kategorie],M$4,Haushaltsbuch2[Datum],\">\"&B111,Haushaltsbuch2[Datum],\"<=\"&B112)","v":0},{"$f":"SUMIFS(Haushaltsbuch2[Einnahmen],Haushaltsbuch2[Kategorie],N$4,Haushaltsbuch2[Datum],\">\"&B111,Haushaltsbuch2[Datum],\"<=\"&B112)","v":0},{"$f":"SUMIFS(Haushaltsbuch2[Einnahmen],Haushaltsbuch2[Kategorie],O$4,Haushaltsbuch2[Datum],\">\"&B111,Haushaltsbuch2[Datum],\"<=\"&B112)","v":0},{"$f":"SUMIFS(Haushaltsbuch2[Einnahmen],Haushaltsbuch2[Kategorie],P$4,Haushaltsbuch2[Datum],\">\"&B111,Haushaltsbuch2[Datum],\"<=\"&B112)","v":0},{"$f":"SUMIFS(Haushaltsbuch2[Einnahmen],Haushaltsbuch2[Kategorie],Q$4,Haushaltsbuch2[Datum],\">\"&B111,Haushaltsbuch2[Datum],\"<=\"&B112)","v":0},{"$f":"SUMIFS(Haushaltsbuch2[Einnahmen],Haushaltsbuch2[Kategorie],R$4,Haushaltsbuch2[Datum],\">\"&B111,Haushaltsbuch2[Datum],\"<=\"&B112)","v":0},null,null,null,null,null,null,null,null,null,null,null,null,null,null,null,null,null,null,{"$f":"SUMIFS(Haushaltsbuch2[Ausgaben],Haushaltsbuch2[Kategorie],AK$4,Haushaltsbuch2[Datum],\">\"&B111,Haushaltsbuch2[Datum],\"<=\"&B112)","v":0},null,null,{"$f":"SUMIFS(Dividenden[Betrag in EUR],Dividenden[Datum],\">\"&B111,Dividenden[Datum],\"<=\"&B112)","v":0},{"$f":"SUMIFS(Optionen[G/V (Netto)],Optionen[Datum],\">\"&B111,Optionen[Datum],\"<=\"&B112)","v":0},null,0,0,null,0,0,null,{"$f":"SUMIFS(Haushaltsbuch2[Einnahmen],Haushaltsbuch2[Datum],\">\"&B111,Haushaltsbuch2[Datum],\"<=\"&B112)+AN112+AO112","v":0},null,0,null,{"$f":"SUMIFS(Haushaltsbuch2[Ausgaben],Haushaltsbuch2[Datum],\">\"&B111,Haushaltsbuch2[Datum],\"<=\"&B112)","v":0}]
[null,28914,null,null,null,null,null,null,null,null,null,null,{"$f":"SUMIFS(Haushaltsbuch2[Einnahmen],Haushaltsbuch2[Kategorie],M$4,Haushaltsbuch2[Datum],\">\"&B112,Haushaltsbuch2[Datum],\"<=\"&B113)","v":0},{"$f":"SUMIFS(Haushaltsbuch2[Einnahmen],Haushaltsbuch2[Kategorie],N$4,Haushaltsbuch2[Datum],\">\"&B112,Haushaltsbuch2[Datum],\"<=\"&B113)","v":0},{"$f":"SUMIFS(Haushaltsbuch2[Einnahmen],Haushaltsbuch2[Kategorie],O$4,Haushaltsbuch2[Datum],\">\"&B112,Haushaltsbuch2[Datum],\"<=\"&B113)","v":0},{"$f":"SUMIFS(Haushaltsbuch2[Einnahmen],Haushaltsbuch2[Kategorie],P$4,Haushaltsbuch2[Datum],\">\"&B112,Haushaltsbuch2[Datum],\"<=\"&B113)","v":0},{"$f":"SUMIFS(Haushaltsbuch2[Einnahmen],Haushaltsbuch2[Kategorie],Q$4,Haushaltsbuch2[Datum],\">\"&B112,Haushaltsbuch2[Datum],\"<=\"&B113)","v":0},{"$f":"SUMIFS(Haushaltsbuch2[Einnahmen],Haushaltsbuch2[Kategorie],R$4,Haushaltsbuch2[Datum],\">\"&B112,Haushaltsbuch2[Datum],\"<=\"&B113)","v":0},null,null,null,null,null,null,null,null,null,null,null,null,null,null,null,null,null,null,{"$f":"SUMIFS(Haushaltsbuch2[Ausgaben],Haushaltsbuch2[Kategorie],AK$4,Haushaltsbuch2[Datum],\">\"&B112,Haushaltsbuch2[Datum],\"<=\"&B113)","v":0},null,null,{"$f":"SUMIFS(Dividenden[Betrag in EUR],Dividenden[Datum],\">\"&B112,Dividenden[Datum],\"<=\"&B113)","v":0},{"$f":"SUMIFS(Optionen[G/V (Netto)],Optionen[Datum],\">\"&B112,Optionen[Datum],\"<=\"&B113)","v":0},null,0,0,null,0,0,null,{"$f":"SUMIFS(Haushaltsbuch2[Einnahmen],Haushaltsbuch2[Datum],\">\"&B112,Haushaltsbuch2[Datum],\"<=\"&B113)+AN113+AO113","v":0},null,0,null,{"$f":"SUMIFS(Haushaltsbuch2[Ausgaben],Haushaltsbuch2[Datum],\">\"&B112,Haushaltsbuch2[Datum],\"<=\"&B113)","v":0}]
[null,28945,null,null,null,null,null,null,null,null,null,null,{"$f":"SUMIFS(Haushaltsbuch2[Einnahmen],Haushaltsbuch2[Kategorie],M$4,Haushaltsbuch2[Datum],\">\"&B113,Haushaltsbuch2[Datum],\"<=\"&B114)","v":0},{"$f":"SUMIFS(Haushaltsbuch2[Einnahmen],Haushaltsbuch2[Kategorie],N$4,Haushaltsbuch2[Datum],\">\"&B113,Haushaltsbuch2[Datum],\"<=\"&B114)","v":0},{"$f":"SUMIFS(Haushaltsbuch2[Einnahmen],Haushaltsbuch2[Kategorie],O$4,Haushaltsbuch2[Datum],\">\"&B113,Haushaltsbuch2[Datum],\"<=\"&B114)","v":0},{"$f":"SUMIFS(Haushaltsbuch2[Einnahmen],Haushaltsbuch2[Kategorie],P$4,Haushaltsbuch2[Datum],\">\"&B113,Haushaltsbuch2[Datum],\"<=\"&B114)","v":0},{"$f":"SUMIFS(Haushaltsbuch2[Einnahmen],Haushaltsbuch2[Kategorie],Q$4,Haushaltsbuch2[Datum],\">\"&B113,Haushaltsbuch2[Datum],\"<=\"&B114)","v":0},{"$f":"SUMIFS(Haushaltsbuch2[Einnahmen],Haushaltsbuch2[Kategorie],R$4,Haushaltsbuch2[Datum],\">\"&B113,Haushaltsbuch2[Datum],\"<=\"&B114)","v":0},null,null,null,null,null,null,null,null,null,null,null,null,null,null,null,null,null,null,{"$f":"SUMIFS(Haushaltsbuch2[Ausgaben],Haushaltsbuch2[Kategorie],AK$4,Haushaltsbuch2[Datum],\">\"&B113,Haushaltsbuch2[Datum],\"<=\"&B114)","v":0},null,null,{"$f":"SUMIFS(Dividenden[Betrag in EUR],Dividenden[Datum],\">\"&B113,Dividenden[Datum],\"<=\"&B114)","v":0},{"$f":"SUMIFS(Optionen[G/V (Netto)],Optionen[Datum],\">\"&B113,Optionen[Datum],\"<=\"&B114)","v":0},null,0,0,null,0,0,null,{"$f":"SUMIFS(Haushaltsbuch2[Einnahmen],Haushaltsbuch2[Datum],\">\"&B113,Haushaltsbuch2[Datum],\"<=\"&B114)+AN114+AO114","v":0},null,0,null,{"$f":"SUMIFS(Haushaltsbuch2[Ausgaben],Haushaltsbuch2[Datum],\">\"&B113,Haushaltsbuch2[Datum],\"<=\"&B114)","v":0}]
[null,28975,null,null,null,null,null,null,null,null,null,null,{"$f":"SUMIFS(Haushaltsbuch2[Einnahmen],Haushaltsbuch2[Kategorie],M$4,Haushaltsbuch2[Datum],\">\"&B114,Haushaltsbuch2[Datum],\"<=\"&B115)","v":0},{"$f":"SUMIFS(Haushaltsbuch2[Einnahmen],Haushaltsbuch2[Kategorie],N$4,Haushaltsbuch2[Datum],\">\"&B114,Haushaltsbuch2[Datum],\"<=\"&B115)","v":0},{"$f":"SUMIFS(Haushaltsbuch2[Einnahmen],Haushaltsbuch2[Kategorie],O$4,Haushaltsbuch2[Datum],\">\"&B114,Haushaltsbuch2[Datum],\"<=\"&B115)","v":0},{"$f":"SUMIFS(Haushaltsbuch2[Einnahmen],Haushaltsbuch2[Kategorie],P$4,Haushaltsbuch2[Datum],\">\"&B114,Haushaltsbuch2[Datum],\"<=\"&B115)","v":0},{"$f":"SUMIFS(Haushaltsbuch2[Einnahmen],Haushaltsbuch2[Kategorie],Q$4,Haushaltsbuch2[Datum],\">\"&B114,Haushaltsbuch2[Datum],\"<=\"&B115)","v":0},{"$f":"SUMIFS(Haushaltsbuch2[Einnahmen],Haushaltsbuch2[Kategorie],R$4,Haushaltsbuch2[Datum],\">\"&B114,Haushaltsbuch2[Datum],\"<=\"&B115)","v":0},null,null,null,null,null,null,null,null,null,null,null,null,null,null,null,null,null,null,{"$f":"SUMIFS(Haushaltsbuch2[Ausgaben],Haushaltsbuch2[Kategorie],AK$4,Haushaltsbuch2[Datum],\">\"&B114,Haushaltsbuch2[Datum],\"<=\"&B115)","v":0},null,null,{"$f":"SUMIFS(Dividenden[Betrag in EUR],Dividenden[Datum],\">\"&B114,Dividenden[Datum],\"<=\"&B115)","v":0},{"$f":"SUMIFS(Optionen[G/V (Netto)],Optionen[Datum],\">\"&B114,Optionen[Datum],\"<=\"&B115)","v":0},null,0,0,null,0,0,null,{"$f":"SUMIFS(Haushaltsbuch2[Einnahmen],Haushaltsbuch2[Datum],\">\"&B114,Haushaltsbuch2[Datum],\"<=\"&B115)+AN115+AO115","v":0},null,0,null,{"$f":"SUMIFS(Haushaltsbuch2[Ausgaben],Haushaltsbuch2[Datum],\">\"&B114,Haushaltsbuch2[Datum],\"<=\"&B115)","v":0}]
[null,29006,null,null,null,null,null,null,null,null,null,null,{"$f":"SUMIFS(Haushaltsbuch2[Einnahmen],Haushaltsbuch2[Kategorie],M$4,Haushaltsbuch2[Datum],\">\"&B115,Haushaltsbuch2[Datum],\"<=\"&B116)","v":0},{"$f":"SUMIFS(Haushaltsbuch2[Einnahmen],Haushaltsbuch2[Kategorie],N$4,Haushaltsbuch2[Datum],\">\"&B115,Haushaltsbuch2[Datum],\"<=\"&B116)","v":0},{"$f":"SUMIFS(Haushaltsbuch2[Einnahmen],Haushaltsbuch2[Kategorie],O$4,Haushaltsbuch2[Datum],\">\"&B115,Haushaltsbuch2[Datum],\"<=\"&B116)","v":0},{"$f":"SUMIFS(Haushaltsbuch2[Einnahmen],Haushaltsbuch2[Kategorie],P$4,Haushaltsbuch2[Datum],\">\"&B115,Haushaltsbuch2[Datum],\"<=\"&B116)","v":0},{"$f":"SUMIFS(Haushaltsbuch2[Einnahmen],Haushaltsbuch2[Kategorie],Q$4,Haushaltsbuch2[Datum],\">\"&B115,Haushaltsbuch2[Datum],\"<=\"&B116)","v":0},{"$f":"SUMIFS(Haushaltsbuch2[Einnahmen],Haushaltsbuch2[Kategorie],R$4,Haushaltsbuch2[Datum],\">\"&B115,Haushaltsbuch2[Datum],\"<=\"&B116)","v":0},null,null,null,null,null,null,null,null,null,null,null,null,null,null,null,null,null,null,{"$f":"SUMIFS(Haushaltsbuch2[Ausgaben],Haushaltsbuch2[Kategorie],AK$4,Haushaltsbuch2[Datum],\">\"&B115,Haushaltsbuch2[Datum],\"<=\"&B116)","v":0},null,null,{"$f":"SUMIFS(Dividenden[Betrag in EUR],Dividenden[Datum],\">\"&B115,Dividenden[Datum],\"<=\"&B116)","v":0},{"$f":"SUMIFS(Optionen[G/V (Netto)],Optionen[Datum],\">\"&B115,Optionen[Datum],\"<=\"&B116)","v":0},null,0,0,null,0,0,null,{"$f":"SUMIFS(Haushaltsbuch2[Einnahmen],Haushaltsbuch2[Datum],\">\"&B115,Haushaltsbuch2[Datum],\"<=\"&B116)+AN116+AO116","v":0},null,0,null,{"$f":"SUMIFS(Haushaltsbuch2[Ausgaben],Haushaltsbuch2[Datum],\">\"&B115,Haushaltsbuch2[Datum],\"<=\"&B116)","v":0}]
[null,29036,null,null,null,null,null,null,null,null,null,null,{"$f":"SUMIFS(Haushaltsbuch2[Einnahmen],Haushaltsbuch2[Kategorie],M$4,Haushaltsbuch2[Datum],\">\"&B116,Haushaltsbuch2[Datum],\"<=\"&B117)","v":0},{"$f":"SUMIFS(Haushaltsbuch2[Einnahmen],Haushaltsbuch2[Kategorie],N$4,Haushaltsbuch2[Datum],\">\"&B116,Haushaltsbuch2[Datum],\"<=\"&B117)","v":0},{"$f":"SUMIFS(Haushaltsbuch2[Einnahmen],Haushaltsbuch2[Kategorie],O$4,Haushaltsbuch2[Datum],\">\"&B116,Haushaltsbuch2[Datum],\"<=\"&B117)","v":0},{"$f":"SUMIFS(Haushaltsbuch2[Einnahmen],Haushaltsbuch2[Kategorie],P$4,Haushaltsbuch2[Datum],\">\"&B116,Haushaltsbuch2[Datum],\"<=\"&B117)","v":0},{"$f":"SUMIFS(Haushaltsbuch2[Einnahmen],Haushaltsbuch2[Kategorie],Q$4,Haushaltsbuch2[Datum],\">\"&B116,Haushaltsbuch2[Datum],\"<=\"&B117)","v":0},{"$f":"SUMIFS(Haushaltsbuch2[Einnahmen],Haushaltsbuch2[Kategorie],R$4,Haushaltsbuch2[Datum],\">\"&B116,Haushaltsbuch2[Datum],\"<=\"&B117)","v":0},null,null,null,null,null,null,null,null,null,null,null,null,null,null,null,null,null,null,{"$f":"SUMIFS(Haushaltsbuch2[Ausgaben],Haushaltsbuch2[Kategorie],AK$4,Haushaltsbuch2[Datum],\">\"&B116,Haushaltsbuch2[Datum],\"<=\"&B117)","v":0},null,null,{"$f":"SUMIFS(Dividenden[Betrag in EUR],Dividenden[Datum],\">\"&B116,Dividenden[Datum],\"<=\"&B117)","v":0},{"$f":"SUMIFS(Optionen[G/V (Netto)],Optionen[Datum],\">\"&B116,Optionen[Datum],\"<=\"&B117)","v":0},null,0,0,null,0,0,null,{"$f":"SUMIFS(Haushaltsbuch2[Einnahmen],Haushaltsbuch2[Datum],\">\"&B116,Haushaltsbuch2[Datum],\"<=\"&B117)+AN117+AO117","v":0},null,0,null,{"$f":"SUMIFS(Haushaltsbuch2[Ausgaben],Haushaltsbuch2[Datum],\">\"&B116,Haushaltsbuch2[Datum],\"<=\"&B117)","v":0}]
[null,29067,null,null,null,null,null,null,null,null,null,null,{"$f":"SUMIFS(Haushaltsbuch2[Einnahmen],Haushaltsbuch2[Kategorie],M$4,Haushaltsbuch2[Datum],\">\"&B117,Haushaltsbuch2[Datum],\"<=\"&B118)","v":0},{"$f":"SUMIFS(Haushaltsbuch2[Einnahmen],Haushaltsbuch2[Kategorie],N$4,Haushaltsbuch2[Datum],\">\"&B117,Haushaltsbuch2[Datum],\"<=\"&B118)","v":0},{"$f":"SUMIFS(Haushaltsbuch2[Einnahmen],Haushaltsbuch2[Kategorie],O$4,Haushaltsbuch2[Datum],\">\"&B117,Haushaltsbuch2[Datum],\"<=\"&B118)","v":0},{"$f":"SUMIFS(Haushaltsbuch2[Einnahmen],Haushaltsbuch2[Kategorie],P$4,Haushaltsbuch2[Datum],\">\"&B117,Haushaltsbuch2[Datum],\"<=\"&B118)","v":0},{"$f":"SUMIFS(Haushaltsbuch2[Einnahmen],Haushaltsbuch2[Kategorie],Q$4,Haushaltsbuch2[Datum],\">\"&B117,Haushaltsbuch2[Datum],\"<=\"&B118)","v":0},{"$f":"SUMIFS(Haushaltsbuch2[Einnahmen],Haushaltsbuch2[Kategorie],R$4,Haushaltsbuch2[Datum],\">\"&B117,Haushaltsbuch2[Datum],\"<=\"&B118)","v":0},null,null,null,null,null,null,null,null,null,null,null,null,null,null,null,null,null,null,{"$f":"SUMIFS(Haushaltsbuch2[Ausgaben],Haushaltsbuch2[Kategorie],AK$4,Haushaltsbuch2[Datum],\">\"&B117,Haushaltsbuch2[Datum],\"<=\"&B118)","v":0},null,null,{"$f":"SUMIFS(Dividenden[Betrag in EUR],Dividenden[Datum],\">\"&B117,Dividenden[Datum],\"<=\"&B118)","v":0},{"$f":"SUMIFS(Optionen[G/V (Netto)],Optionen[Datum],\">\"&B117,Optionen[Datum],\"<=\"&B118)","v":0},null,0,0,null,0,0,null,{"$f":"SUMIFS(Haushaltsbuch2[Einnahmen],Haushaltsbuch2[Datum],\">\"&B117,Haushaltsbuch2[Datum],\"<=\"&B118)+AN118+AO118","v":0},null,0,null,{"$f":"SUMIFS(Haushaltsbuch2[Ausgaben],Haushaltsbuch2[Datum],\">\"&B117,Haushaltsbuch2[Datum],\"<=\"&B118)","v":0}]
[null,29098,null,null,null,null,null,null,null,null,null,null,{"$f":"SUMIFS(Haushaltsbuch2[Einnahmen],Haushaltsbuch2[Kategorie],M$4,Haushaltsbuch2[Datum],\">\"&B118,Haushaltsbuch2[Datum],\"<=\"&B119)","v":0},{"$f":"SUMIFS(Haushaltsbuch2[Einnahmen],Haushaltsbuch2[Kategorie],N$4,Haushaltsbuch2[Datum],\">\"&B118,Haushaltsbuch2[Datum],\"<=\"&B119)","v":0},{"$f":"SUMIFS(Haushaltsbuch2[Einnahmen],Haushaltsbuch2[Kategorie],O$4,Haushaltsbuch2[Datum],\">\"&B118,Haushaltsbuch2[Datum],\"<=\"&B119)","v":0},{"$f":"SUMIFS(Haushaltsbuch2[Einnahmen],Haushaltsbuch2[Kategorie],P$4,Haushaltsbuch2[Datum],\">\"&B118,Haushaltsbuch2[Datum],\"<=\"&B119)","v":0},{"$f":"SUMIFS(Haushaltsbuch2[Einnahmen],Haushaltsbuch2[Kategorie],Q$4,Haushaltsbuch2[Datum],\">\"&B118,Haushaltsbuch2[Datum],\"<=\"&B119)","v":0},{"$f":"SUMIFS(Haushaltsbuch2[Einnahmen],Haushaltsbuch2[Kategorie],R$4,Haushaltsbuch2[Datum],\">\"&B118,Haushaltsbuch2[Datum],\"<=\"&B119)","v":0},null,null,null,null,null,null,null,null,null,null,null,null,null,null,null,null,null,null,{"$f":"SUMIFS(Haushaltsbuch2[Ausgaben],Haushaltsbuch2[Kategorie],AK$4,Haushaltsbuch2[Datum],\">\"&B118,Haushaltsbuch2[Datum],\"<=\"&B119)","v":0},null,null,{"$f":"SUMIFS(Dividenden[Betrag in EUR],Dividenden[Datum],\">\"&B118,Dividenden[Datum],\"<=\"&B119)","v":0},{"$f":"SUMIFS(Optionen[G/V (Netto)],Optionen[Datum],\">\"&B118,Optionen[Datum],\"<=\"&B119)","v":0},null,0,0,null,0,0,null,{"$f":"SUMIFS(Haushaltsbuch2[Einnahmen],Haushaltsbuch2[Datum],\">\"&B118,Haushaltsbuch2[Datum],\"<=\"&B119)+AN119+AO119","v":0},null,0,null,{"$f":"SUMIFS(Haushaltsbuch2[Ausgaben],Haushaltsbuch2[Datum],\">\"&B118,Haushaltsbuch2[Datum],\"<=\"&B119)","v":0}]
[null,29128,null,null,null,null,null,null,null,null,null,null,{"$f":"SUMIFS(Haushaltsbuch2[Einnahmen],Haushaltsbuch2[Kategorie],M$4,Haushaltsbuch2[Datum],\">\"&B119,Haushaltsbuch2[Datum],\"<=\"&B120)","v":0},{"$f":"SUMIFS(Haushaltsbuch2[Einnahmen],Haushaltsbuch2[Kategorie],N$4,Haushaltsbuch2[Datum],\">\"&B119,Haushaltsbuch2[Datum],\"<=\"&B120)","v":0},{"$f":"SUMIFS(Haushaltsbuch2[Einnahmen],Haushaltsbuch2[Kategorie],O$4,Haushaltsbuch2[Datum],\">\"&B119,Haushaltsbuch2[Datum],\"<=\"&B120)","v":0},{"$f":"SUMIFS(Haushaltsbuch2[Einnahmen],Haushaltsbuch2[Kategorie],P$4,Haushaltsbuch2[Datum],\">\"&B119,Haushaltsbuch2[Datum],\"<=\"&B120)","v":0},{"$f":"SUMIFS(Haushaltsbuch2[Einnahmen],Haushaltsbuch2[Kategorie],Q$4,Haushaltsbuch2[Datum],\">\"&B119,Haushaltsbuch2[Datum],\"<=\"&B120)","v":0},{"$f":"SUMIFS(Haushaltsbuch2[Einnahmen],Haushaltsbuch2[Kategorie],R$4,Haushaltsbuch2[Datum],\">\"&B119,Haushaltsbuch2[Datum],\"<=\"&B120)","v":0},null,null,null,null,null,null,null,null,null,null,null,null,null,null,null,null,null,null,{"$f":"SUMIFS(Haushaltsbuch2[Ausgaben],Haushaltsbuch2[Kategorie],AK$4,Haushaltsbuch2[Datum],\">\"&B119,Haushaltsbuch2[Datum],\"<=\"&B120)","v":0},null,null,{"$f":"SUMIFS(Dividenden[Betrag in EUR],Dividenden[Datum],\">\"&B119,Dividenden[Datum],\"<=\"&B120)","v":0},{"$f":"SUMIFS(Optionen[G/V (Netto)],Optionen[Datum],\">\"&B119,Optionen[Datum],\"<=\"&B120)","v":0},null,0,0,null,0,0,null,{"$f":"SUMIFS(Haushaltsbuch2[Einnahmen],Haushaltsbuch2[Datum],\">\"&B119,Haushaltsbuch2[Datum],\"<=\"&B120)+AN120+AO120","v":0},null,0,null,{"$f":"SUMIFS(Haushaltsbuch2[Ausgaben],Haushaltsbuch2[Datum],\">\"&B119,Haushaltsbuch2[Datum],\"<=\"&B120)","v":0}]
[null,29159,null,null,null,null,null,null,null,null,null,null,{"$f":"SUMIFS(Haushaltsbuch2[Einnahmen],Haushaltsbuch2[Kategorie],M$4,Haushaltsbuch2[Datum],\">\"&B120,Haushaltsbuch2[Datum],\"<=\"&B121)","v":0},{"$f":"SUMIFS(Haushaltsbuch2[Einnahmen],Haushaltsbuch2[Kategorie],N$4,Haushaltsbuch2[Datum],\">\"&B120,Haushaltsbuch2[Datum],\"<=\"&B121)","v":0},{"$f":"SUMIFS(Haushaltsbuch2[Einnahmen],Haushaltsbuch2[Kategorie],O$4,Haushaltsbuch2[Datum],\">\"&B120,Haushaltsbuch2[Datum],\"<=\"&B121)","v":0},{"$f":"SUMIFS(Haushaltsbuch2[Einnahmen],Haushaltsbuch2[Kategorie],P$4,Haushaltsbuch2[Datum],\">\"&B120,Haushaltsbuch2[Datum],\"<=\"&B121)","v":0},{"$f":"SUMIFS(Haushaltsbuch2[Einnahmen],Haushaltsbuch2[Kategorie],Q$4,Haushaltsbuch2[Datum],\">\"&B120,Haushaltsbuch2[Datum],\"<=\"&B121)","v":0},{"$f":"SUMIFS(Haushaltsbuch2[Einnahmen],Haushaltsbuch2[Kategorie],R$4,Haushaltsbuch2[Datum],\">\"&B120,Haushaltsbuch2[Datum],\"<=\"&B121)","v":0},null,null,null,null,null,null,null,null,null,null,null,null,null,null,null,null,null,null,{"$f":"SUMIFS(Haushaltsbuch2[Ausgaben],Haushaltsbuch2[Kategorie],AK$4,Haushaltsbuch2[Datum],\">\"&B120,Haushaltsbuch2[Datum],\"<=\"&B121)","v":0},null,null,{"$f":"SUMIFS(Dividenden[Betrag in EUR],Dividenden[Datum],\">\"&B120,Dividenden[Datum],\"<=\"&B121)","v":0},{"$f":"SUMIFS(Optionen[G/V (Netto)],Optionen[Datum],\">\"&B120,Optionen[Datum],\"<=\"&B121)","v":0},null,0,0,null,0,0,null,{"$f":"SUMIFS(Haushaltsbuch2[Einnahmen],Haushaltsbuch2[Datum],\">\"&B120,Haushaltsbuch2[Datum],\"<=\"&B121)+AN121+AO121","v":0},null,0,null,{"$f":"SUMIFS(Haushaltsbuch2[Ausgaben],Haushaltsbuch2[Datum],\">\"&B120,Haushaltsbuch2[Datum],\"<=\"&B121)","v":0}]
[null,29189,null,null,null,null,null,null,null,null,null,null,{"$f":"SUMIFS(Haushaltsbuch2[Einnahmen],Haushaltsbuch2[Kategorie],M$4,Haushaltsbuch2[Datum],\">\"&B121,Haushaltsbuch2[Datum],\"<=\"&B122)","v":0},{"$f":"SUMIFS(Haushaltsbuch2[Einnahmen],Haushaltsbuch2[Kategorie],N$4,Haushaltsbuch2[Datum],\">\"&B121,Haushaltsbuch2[Datum],\"<=\"&B122)","v":0},{"$f":"SUMIFS(Haushaltsbuch2[Einnahmen],Haushaltsbuch2[Kategorie],O$4,Haushaltsbuch2[Datum],\">\"&B121,Haushaltsbuch2[Datum],\"<=\"&B122)","v":0},{"$f":"SUMIFS(Haushaltsbuch2[Einnahmen],Haushaltsbuch2[Kategorie],P$4,Haushaltsbuch2[Datum],\">\"&B121,Haushaltsbuch2[Datum],\"<=\"&B122)","v":0},{"$f":"SUMIFS(Haushaltsbuch2[Einnahmen],Haushaltsbuch2[Kategorie],Q$4,Haushaltsbuch2[Datum],\">\"&B121,Haushaltsbuch2[Datum],\"<=\"&B122)","v":0},{"$f":"SUMIFS(Haushaltsbuch2[Einnahmen],Haushaltsbuch2[Kategorie],R$4,Haushaltsbuch2[Datum],\">\"&B121,Haushaltsbuch2[Datum],\"<=\"&B122)","v":0},null,null,null,null,null,null,null,null,null,null,null,null,null,null,null,null,null,null,{"$f":"SUMIFS(Haushaltsbuch2[Ausgaben],Haushaltsbuch2[Kategorie],AK$4,Haushaltsbuch2[Datum],\">\"&B121,Haushaltsbuch2[Datum],\"<=\"&B122)","v":0},null,null,{"$f":"SUMIFS(Dividenden[Betrag in EUR],Dividenden[Datum],\">\"&B121,Dividenden[Datum],\"<=\"&B122)","v":0},{"$f":"SUMIFS(Optionen[G/V (Netto)],Optionen[Datum],\">\"&B121,Optionen[Datum],\"<=\"&B122)","v":0},null,0,0,null,0,0,null,{"$f":"SUMIFS(Haushaltsbuch2[Einnahmen],Haushaltsbuch2[Datum],\">\"&B121,Haushaltsbuch2[Datum],\"<=\"&B122)+AN122+AO122","v":0},null,0,null,{"$f":"SUMIFS(Haushaltsbuch2[Ausgaben],Haushaltsbuch2[Datum],\">\"&B121,Haushaltsbuch2[Datum],\"<=\"&B122)","v":0}]
[null,29220,null,null,null,null,null,null,null,null,null,null,{"$f":"SUMIFS(Haushaltsbuch2[Einnahmen],Haushaltsbuch2[Kategorie],M$4,Haushaltsbuch2[Datum],\">\"&B122,Haushaltsbuch2[Datum],\"<=\"&B123)","v":0},{"$f":"SUMIFS(Haushaltsbuch2[Einnahmen],Haushaltsbuch2[Kategorie],N$4,Haushaltsbuch2[Datum],\">\"&B122,Haushaltsbuch2[Datum],\"<=\"&B123)","v":0},{"$f":"SUMIFS(Haushaltsbuch2[Einnahmen],Haushaltsbuch2[Kategorie],O$4,Haushaltsbuch2[Datum],\">\"&B122,Haushaltsbuch2[Datum],\"<=\"&B123)","v":0},{"$f":"SUMIFS(Haushaltsbuch2[Einnahmen],Haushaltsbuch2[Kategorie],P$4,Haushaltsbuch2[Datum],\">\"&B122,Haushaltsbuch2[Datum],\"<=\"&B123)","v":0},{"$f":"SUMIFS(Haushaltsbuch2[Einnahmen],Haushaltsbuch2[Kategorie],Q$4,Haushaltsbuch2[Datum],\">\"&B122,Haushaltsbuch2[Datum],\"<=\"&B123)","v":0},{"$f":"SUMIFS(Haushaltsbuch2[Einnahmen],Haushaltsbuch2[Kategorie],R$4,Haushaltsbuch2[Datum],\">\"&B122,Haushaltsbuch2[Datum],\"<=\"&B123)","v":0},null,null,null,null,null,null,null,null,null,null,null,null,null,null,null,null,null,null,{"$f":"SUMIFS(Haushaltsbuch2[Ausgaben],Haushaltsbuch2[Kategorie],AK$4,Haushaltsbuch2[Datum],\">\"&B122,Haushaltsbuch2[Datum],\"<=\"&B123)","v":0},null,null,{"$f":"SUMIFS(Dividenden[Betrag in EUR],Dividenden[Datum],\">\"&B122,Dividenden[Datum],\"<=\"&B123)","v":0},{"$f":"SUMIFS(Optionen[G/V (Netto)],Optionen[Datum],\">\"&B122,Optionen[Datum],\"<=\"&B123)","v":0},null,0,0,null,0,0,null,{"$f":"SUMIFS(Haushaltsbuch2[Einnahmen],Haushaltsbuch2[Datum],\">\"&B122,Haushaltsbuch2[Datum],\"<=\"&B123)+AN123+AO123","v":0},null,0,null,{"$f":"SUMIFS(Haushaltsbuch2[Ausgaben],Haushaltsbuch2[Datum],\">\"&B122,Haushaltsbuch2[Datum],\"<=\"&B123)","v":0}]
[null,29251,null,null,null,null,null,null,null,null,null,null,{"$f":"SUMIFS(Haushaltsbuch2[Einnahmen],Haushaltsbuch2[Kategorie],M$4,Haushaltsbuch2[Datum],\">\"&B123,Haushaltsbuch2[Datum],\"<=\"&B124)","v":0},{"$f":"SUMIFS(Haushaltsbuch2[Einnahmen],Haushaltsbuch2[Kategorie],N$4,Haushaltsbuch2[Datum],\">\"&B123,Haushaltsbuch2[Datum],\"<=\"&B124)","v":0},{"$f":"SUMIFS(Haushaltsbuch2[Einnahmen],Haushaltsbuch2[Kategorie],O$4,Haushaltsbuch2[Datum],\">\"&B123,Haushaltsbuch2[Datum],\"<=\"&B124)","v":0},{"$f":"SUMIFS(Haushaltsbuch2[Einnahmen],Haushaltsbuch2[Kategorie],P$4,Haushaltsbuch2[Datum],\">\"&B123,Haushaltsbuch2[Datum],\"<=\"&B124)","v":0},{"$f":"SUMIFS(Haushaltsbuch2[Einnahmen],Haushaltsbuch2[Kategorie],Q$4,Haushaltsbuch2[Datum],\">\"&B123,Haushaltsbuch2[Datum],\"<=\"&B124)","v":0},{"$f":"SUMIFS(Haushaltsbuch2[Einnahmen],Haushaltsbuch2[Kategorie],R$4,Haushaltsbuch2[Datum],\">\"&B123,Haushaltsbuch2[Datum],\"<=\"&B124)","v":0},null,null,null,null,null,null,null,null,null,null,null,null,null,null,null,null,null,null,{"$f":"SUMIFS(Haushaltsbuch2[Ausgaben],Haushaltsbuch2[Kategorie],AK$4,Haushaltsbuch2[Datum],\">\"&B123,Haushaltsbuch2[Datum],\"<=\"&B124)","v":0},null,null,{"$f":"SUMIFS(Dividenden[Betrag in EUR],Dividenden[Datum],\">\"&B123,Dividenden[Datum],\"<=\"&B124)","v":0},{"$f":"SUMIFS(Optionen[G/V (Netto)],Optionen[Datum],\">\"&B123,Optionen[Datum],\"<=\"&B124)","v":0},null,0,0,null,0,0,null,{"$f":"SUMIFS(Haushaltsbuch2[Einnahmen],Haushaltsbuch2[Datum],\">\"&B123,Haushaltsbuch2[Datum],\"<=\"&B124)+AN124+AO124","v":0},null,0,null,{"$f":"SUMIFS(Haushaltsbuch2[Ausgaben],Haushaltsbuch2[Datum],\">\"&B123,Haushaltsbuch2[Datum],\"<=\"&B124)","v":0}]
[null,29280,null,null,null,null,null,null,null,null,null,null,{"$f":"SUMIFS(Haushaltsbuch2[Einnahmen],Haushaltsbuch2[Kategorie],M$4,Haushaltsbuch2[Datum],\">\"&B124,Haushaltsbuch2[Datum],\"<=\"&B125)","v":0},{"$f":"SUMIFS(Haushaltsbuch2[Einnahmen],Haushaltsbuch2[Kategorie],N$4,Haushaltsbuch2[Datum],\">\"&B124,Haushaltsbuch2[Datum],\"<=\"&B125)","v":0},{"$f":"SUMIFS(Haushaltsbuch2[Einnahmen],Haushaltsbuch2[Kategorie],O$4,Haushaltsbuch2[Datum],\">\"&B124,Haushaltsbuch2[Datum],\"<=\"&B125)","v":0},{"$f":"SUMIFS(Haushaltsbuch2[Einnahmen],Haushaltsbuch2[Kategorie],P$4,Haushaltsbuch2[Datum],\">\"&B124,Haushaltsbuch2[Datum],\"<=\"&B125)","v":0},{"$f":"SUMIFS(Haushaltsbuch2[Einnahmen],Haushaltsbuch2[Kategorie],Q$4,Haushaltsbuch2[Datum],\">\"&B124,Haushaltsbuch2[Datum],\"<=\"&B125)","v":0},{"$f":"SUMIFS(Haushaltsbuch2[Einnahmen],Haushaltsbuch2[Kategorie],R$4,Haushaltsbuch2[Datum],\">\"&B124,Haushaltsbuch2[Datum],\"<=\"&B125)","v":0},null,null,null,null,null,null,null,null,null,null,null,null,null,null,null,null,null,null,{"$f":"SUMIFS(Haushaltsbuch2[Ausgaben],Haushaltsbuch2[Kategorie],AK$4,Haushaltsbuch2[Datum],\">\"&B124,Haushaltsbuch2[Datum],\"<=\"&B125)","v":0},null,null,{"$f":"SUMIFS(Dividenden[Betrag in EUR],Dividenden[Datum],\">\"&B124,Dividenden[Datum],\"<=\"&B125)","v":0},{"$f":"SUMIFS(Optionen[G/V (Netto)],Optionen[Datum],\">\"&B124,Optionen[Datum],\"<=\"&B125)","v":0},null,0,0,null,0,0,null,{"$f":"SUMIFS(Haushaltsbuch2[Einnahmen],Haushaltsbuch2[Datum],\">\"&B124,Haushaltsbuch2[Datum],\"<=\"&B125)+AN125+AO125","v":0},null,0,null,{"$f":"SUMIFS(Haushaltsbuch2[Ausgaben],Haushaltsbuch2[Datum],\">\"&B124,Haushaltsbuch2[Datum],\"<=\"&B125)","v":0}]
[null,29311,null,null,null,null,null,null,null,null,null,null,{"$f":"SUMIFS(Haushaltsbuch2[Einnahmen],Haushaltsbuch2[Kategorie],M$4,Haushaltsbuch2[Datum],\">\"&B125,Haushaltsbuch2[Datum],\"<=\"&B126)","v":0},{"$f":"SUMIFS(Haushaltsbuch2[Einnahmen],Haushaltsbuch2[Kategorie],N$4,Haushaltsbuch2[Datum],\">\"&B125,Haushaltsbuch2[Datum],\"<=\"&B126)","v":0},{"$f":"SUMIFS(Haushaltsbuch2[Einnahmen],Haushaltsbuch2[Kategorie],O$4,Haushaltsbuch2[Datum],\">\"&B125,Haushaltsbuch2[Datum],\"<=\"&B126)","v":0},{"$f":"SUMIFS(Haushaltsbuch2[Einnahmen],Haushaltsbuch2[Kategorie],P$4,Haushaltsbuch2[Datum],\">\"&B125,Haushaltsbuch2[Datum],\"<=\"&B126)","v":0},{"$f":"SUMIFS(Haushaltsbuch2[Einnahmen],Haushaltsbuch2[Kategorie],Q$4,Haushaltsbuch2[Datum],\">\"&B125,Haushaltsbuch2[Datum],\"<=\"&B126)","v":0},{"$f":"SUMIFS(Haushaltsbuch2[Einnahmen],Haushaltsbuch2[Kategorie],R$4,Haushaltsbuch2[Datum],\">\"&B125,Haushaltsbuch2[Datum],\"<=\"&B126)","v":0},null,null,null,null,null,null,null,null,null,null,null,null,null,null,null,null,null,null,{"$f":"SUMIFS(Haushaltsbuch2[Ausgaben],Haushaltsbuch2[Kategorie],AK$4,Haushaltsbuch2[Datum],\">\"&B125,Haushaltsbuch2[Datum],\"<=\"&B126)","v":0},null,null,{"$f":"SUMIFS(Dividenden[Betrag in EUR],Dividenden[Datum],\">\"&B125,Dividenden[Datum],\"<=\"&B126)","v":0},{"$f":"SUMIFS(Optionen[G/V (Netto)],Optionen[Datum],\">\"&B125,Optionen[Datum],\"<=\"&B126)","v":0},null,0,0,null,0,0,null,{"$f":"SUMIFS(Haushaltsbuch2[Einnahmen],Haushaltsbuch2[Datum],\">\"&B125,Haushaltsbuch2[Datum],\"<=\"&B126)+AN126+AO126","v":0},null,0,null,{"$f":"SUMIFS(Haushaltsbuch2[Ausgaben],Haushaltsbuch2[Datum],\">\"&B125,Haushaltsbuch2[Datum],\"<=\"&B126)","v":0}]
[null,29341,null,null,null,null,null,null,null,null,null,null,{"$f":"SUMIFS(Haushaltsbuch2[Einnahmen],Haushaltsbuch2[Kategorie],M$4,Haushaltsbuch2[Datum],\">\"&B126,Haushaltsbuch2[Datum],\"<=\"&B127)","v":0},{"$f":"SUMIFS(Haushaltsbuch2[Einnahmen],Haushaltsbuch2[Kategorie],N$4,Haushaltsbuch2[Datum],\">\"&B126,Haushaltsbuch2[Datum],\"<=\"&B127)","v":0},{"$f":"SUMIFS(Haushaltsbuch2[Einnahmen],Haushaltsbuch2[Kategorie],O$4,Haushaltsbuch2[Datum],\">\"&B126,Haushaltsbuch2[Datum],\"<=\"&B127)","v":0},{"$f":"SUMIFS(Haushaltsbuch2[Einnahmen],Haushaltsbuch2[Kategorie],P$4,Haushaltsbuch2[Datum],\">\"&B126,Haushaltsbuch2[Datum],\"<=\"&B127)","v":0},{"$f":"SUMIFS(Haushaltsbuch2[Einnahmen],Haushaltsbuch2[Kategorie],Q$4,Haushaltsbuch2[Datum],\">\"&B126,Haushaltsbuch2[Datum],\"<=\"&B127)","v":0},{"$f":"SUMIFS(Haushaltsbuch2[Einnahmen],Haushaltsbuch2[Kategorie],R$4,Haushaltsbuch2[Datum],\">\"&B126,Haushaltsbuch2[Datum],\"<=\"&B127)","v":0},null,null,null,null,null,null,null,null,null,null,null,null,null,null,null,null,null,null,{"$f":"SUMIFS(Haushaltsbuch2[Ausgaben],Haushaltsbuch2[Kategorie],AK$4,Haushaltsbuch2[Datum],\">\"&B126,Haushaltsbuch2[Datum],\"<=\"&B127)","v":0},null,null,{"$f":"SUMIFS(Dividenden[Betrag in EUR],Dividenden[Datum],\">\"&B126,Dividenden[Datum],\"<=\"&B127)","v":0},{"$f":"SUMIFS(Optionen[G/V (Netto)],Optionen[Datum],\">\"&B126,Optionen[Datum],\"<=\"&B127)","v":0},null,0,0,null,0,0,null,{"$f":"SUMIFS(Haushaltsbuch2[Einnahmen],Haushaltsbuch2[Datum],\">\"&B126,Haushaltsbuch2[Datum],\"<=\"&B127)+AN127+AO127","v":0},null,0,null,{"$f":"SUMIFS(Haushaltsbuch2[Ausgaben],Haushaltsbuch2[Datum],\">\"&B126,Haushaltsbuch2[Datum],\"<=\"&B127)","v":0}]
[null,29372,null,null,null,null,null,null,null,null,null,null,{"$f":"SUMIFS(Haushaltsbuch2[Einnahmen],Haushaltsbuch2[Kategorie],M$4,Haushaltsbuch2[Datum],\">\"&B127,Haushaltsbuch2[Datum],\"<=\"&B128)","v":0},{"$f":"SUMIFS(Haushaltsbuch2[Einnahmen],Haushaltsbuch2[Kategorie],N$4,Haushaltsbuch2[Datum],\">\"&B127,Haushaltsbuch2[Datum],\"<=\"&B128)","v":0},{"$f":"SUMIFS(Haushaltsbuch2[Einnahmen],Haushaltsbuch2[Kategorie],O$4,Haushaltsbuch2[Datum],\">\"&B127,Haushaltsbuch2[Datum],\"<=\"&B128)","v":0},{"$f":"SUMIFS(Haushaltsbuch2[Einnahmen],Haushaltsbuch2[Kategorie],P$4,Haushaltsbuch2[Datum],\">\"&B127,Haushaltsbuch2[Datum],\"<=\"&B128)","v":0},{"$f":"SUMIFS(Haushaltsbuch2[Einnahmen],Haushaltsbuch2[Kategorie],Q$4,Haushaltsbuch2[Datum],\">\"&B127,Haushaltsbuch2[Datum],\"<=\"&B128)","v":0},{"$f":"SUMIFS(Haushaltsbuch2[Einnahmen],Haushaltsbuch2[Kategorie],R$4,Haushaltsbuch2[Datum],\">\"&B127,Haushaltsbuch2[Datum],\"<=\"&B128)","v":0},null,null,null,null,null,null,null,null,null,null,null,null,null,null,null,null,null,null,{"$f":"SUMIFS(Haushaltsbuch2[Ausgaben],Haushaltsbuch2[Kategorie],AK$4,Haushaltsbuch2[Datum],\">\"&B127,Haushaltsbuch2[Datum],\"<=\"&B128)","v":0},null,null,{"$f":"SUMIFS(Dividenden[Betrag in EUR],Dividenden[Datum],\">\"&B127,Dividenden[Datum],\"<=\"&B128)","v":0},{"$f":"SUMIFS(Optionen[G/V (Netto)],Optionen[Datum],\">\"&B127,Optionen[Datum],\"<=\"&B128)","v":0},null,0,0,null,0,0,null,{"$f":"SUMIFS(Haushaltsbuch2[Einnahmen],Haushaltsbuch2[Datum],\">\"&B127,Haushaltsbuch2[Datum],\"<=\"&B128)+AN128+AO128","v":0},null,0,null,{"$f":"SUMIFS(Haushaltsbuch2[Ausgaben],Haushaltsbuch2[Datum],\">\"&B127,Haushaltsbuch2[Datum],\"<=\"&B128)","v":0}]
[null,29402,null,null,null,null,null,null,null,null,null,null,{"$f":"SUMIFS(Haushaltsbuch2[Einnahmen],Haushaltsbuch2[Kategorie],M$4,Haushaltsbuch2[Datum],\">\"&B128,Haushaltsbuch2[Datum],\"<=\"&B129)","v":0},{"$f":"SUMIFS(Haushaltsbuch2[Einnahmen],Haushaltsbuch2[Kategorie],N$4,Haushaltsbuch2[Datum],\">\"&B128,Haushaltsbuch2[Datum],\"<=\"&B129)","v":0},{"$f":"SUMIFS(Haushaltsbuch2[Einnahmen],Haushaltsbuch2[Kategorie],O$4,Haushaltsbuch2[Datum],\">\"&B128,Haushaltsbuch2[Datum],\"<=\"&B129)","v":0},{"$f":"SUMIFS(Haushaltsbuch2[Einnahmen],Haushaltsbuch2[Kategorie],P$4,Haushaltsbuch2[Datum],\">\"&B128,Haushaltsbuch2[Datum],\"<=\"&B129)","v":0},{"$f":"SUMIFS(Haushaltsbuch2[Einnahmen],Haushaltsbuch2[Kategorie],Q$4,Haushaltsbuch2[Datum],\">\"&B128,Haushaltsbuch2[Datum],\"<=\"&B129)","v":0},{"$f":"SUMIFS(Haushaltsbuch2[Einnahmen],Haushaltsbuch2[Kategorie],R$4,Haushaltsbuch2[Datum],\">\"&B128,Haushaltsbuch2[Datum],\"<=\"&B129)","v":0},null,null,null,null,null,null,null,null,null,null,null,null,null,null,null,null,null,null,{"$f":"SUMIFS(Haushaltsbuch2[Ausgaben],Haushaltsbuch2[Kategorie],AK$4,Haushaltsbuch2[Datum],\">\"&B128,Haushaltsbuch2[Datum],\"<=\"&B129)","v":0},null,null,{"$f":"SUMIFS(Dividenden[Betrag in EUR],Dividenden[Datum],\">\"&B128,Dividenden[Datum],\"<=\"&B129)","v":0},{"$f":"SUMIFS(Optionen[G/V (Netto)],Optionen[Datum],\">\"&B128,Optionen[Datum],\"<=\"&B129)","v":0},null,0,0,null,0,0,null,{"$f":"SUMIFS(Haushaltsbuch2[Einnahmen],Haushaltsbuch2[Datum],\">\"&B128,Haushaltsbuch2[Datum],\"<=\"&B129)+AN129+AO129","v":0},null,0,null,{"$f":"SUMIFS(Haushaltsbuch2[Ausgaben],Haushaltsbuch2[Datum],\">\"&B128,Haushaltsbuch2[Datum],\"<=\"&B129)","v":0}]
[null,29433,null,null,null,null,null,null,null,null,null,null,{"$f":"SUMIFS(Haushaltsbuch2[Einnahmen],Haushaltsbuch2[Kategorie],M$4,Haushaltsbuch2[Datum],\">\"&B129,Haushaltsbuch2[Datum],\"<=\"&B130)","v":0},{"$f":"SUMIFS(Haushaltsbuch2[Einnahmen],Haushaltsbuch2[Kategorie],N$4,Haushaltsbuch2[Datum],\">\"&B129,Haushaltsbuch2[Datum],\"<=\"&B130)","v":0},{"$f":"SUMIFS(Haushaltsbuch2[Einnahmen],Haushaltsbuch2[Kategorie],O$4,Haushaltsbuch2[Datum],\">\"&B129,Haushaltsbuch2[Datum],\"<=\"&B130)","v":0},{"$f":"SUMIFS(Haushaltsbuch2[Einnahmen],Haushaltsbuch2[Kategorie],P$4,Haushaltsbuch2[Datum],\">\"&B129,Haushaltsbuch2[Datum],\"<=\"&B130)","v":0},{"$f":"SUMIFS(Haushaltsbuch2[Einnahmen],Haushaltsbuch2[Kategorie],Q$4,Haushaltsbuch2[Datum],\">\"&B129,Haushaltsbuch2[Datum],\"<=\"&B130)","v":0},{"$f":"SUMIFS(Haushaltsbuch2[Einnahmen],Haushaltsbuch2[Kategorie],R$4,Haushaltsbuch2[Datum],\">\"&B129,Haushaltsbuch2[Datum],\"<=\"&B130)","v":0},null,null,null,null,null,null,null,null,null,null,null,null,null,null,null,null,null,null,{"$f":"SUMIFS(Haushaltsbuch2[Ausgaben],Haushaltsbuch2[Kategorie],AK$4,Haushaltsbuch2[Datum],\">\"&B129,Haushaltsbuch2[Datum],\"<=\"&B130)","v":0},null,null,{"$f":"SUMIFS(Dividenden[Betrag in EUR],Dividenden[Datum],\">\"&B129,Dividenden[Datum],\"<=\"&B130)","v":0},{"$f":"SUMIFS(Optionen[G/V (Netto)],Optionen[Datum],\">\"&B129,Optionen[Datum],\"<=\"&B130)","v":0},null,0,0,null,0,0,null,{"$f":"SUMIFS(Haushaltsbuch2[Einnahmen],Haushaltsbuch2[Datum],\">\"&B129,Haushaltsbuch2[Datum],\"<=\"&B130)+AN130+AO130","v":0},null,0,null,{"$f":"SUMIFS(Haushaltsbuch2[Ausgaben],Haushaltsbuch2[Datum],\">\"&B129,Haushaltsbuch2[Datum],\"<=\"&B130)","v":0}]
[null,29464,null,null,null,null,null,null,null,null,null,null,{"$f":"SUMIFS(Haushaltsbuch2[Einnahmen],Haushaltsbuch2[Kategorie],M$4,Haushaltsbuch2[Datum],\">\"&B130,Haushaltsbuch2[Datum],\"<=\"&B131)","v":0},{"$f":"SUMIFS(Haushaltsbuch2[Einnahmen],Haushaltsbuch2[Kategorie],N$4,Haushaltsbuch2[Datum],\">\"&B130,Haushaltsbuch2[Datum],\"<=\"&B131)","v":0},{"$f":"SUMIFS(Haushaltsbuch2[Einnahmen],Haushaltsbuch2[Kategorie],O$4,Haushaltsbuch2[Datum],\">\"&B130,Haushaltsbuch2[Datum],\"<=\"&B131)","v":0},{"$f":"SUMIFS(Haushaltsbuch2[Einnahmen],Haushaltsbuch2[Kategorie],P$4,Haushaltsbuch2[Datum],\">\"&B130,Haushaltsbuch2[Datum],\"<=\"&B131)","v":0},{"$f":"SUMIFS(Haushaltsbuch2[Einnahmen],Haushaltsbuch2[Kategorie],Q$4,Haushaltsbuch2[Datum],\">\"&B130,Haushaltsbuch2[Datum],\"<=\"&B131)","v":0},{"$f":"SUMIFS(Haushaltsbuch2[Einnahmen],Haushaltsbuch2[Kategorie],R$4,Haushaltsbuch2[Datum],\">\"&B130,Haushaltsbuch2[Datum],\"<=\"&B131)","v":0},null,null,null,null,null,null,null,null,null,null,null,null,null,null,null,null,null,null,{"$f":"SUMIFS(Haushaltsbuch2[Ausgaben],Haushaltsbuch2[Kategorie],AK$4,Haushaltsbuch2[Datum],\">\"&B130,Haushaltsbuch2[Datum],\"<=\"&B131)","v":0},null,null,{"$f":"SUMIFS(Dividenden[Betrag in EUR],Dividenden[Datum],\">\"&B130,Dividenden[Datum],\"<=\"&B131)","v":0},{"$f":"SUMIFS(Optionen[G/V (Netto)],Optionen[Datum],\">\"&B130,Optionen[Datum],\"<=\"&B131)","v":0},null,0,0,null,0,0,null,{"$f":"SUMIFS(Haushaltsbuch2[Einnahmen],Haushaltsbuch2[Datum],\">\"&B130,Haushaltsbuch2[Datum],\"<=\"&B131)+AN131+AO131","v":0},null,0,null,{"$f":"SUMIFS(Haushaltsbuch2[Ausgaben],Haushaltsbuch2[Datum],\">\"&B130,Haushaltsbuch2[Datum],\"<=\"&B131)","v":0}]
[null,29494,null,null,null,null,null,null,null,null,null,null,{"$f":"SUMIFS(Haushaltsbuch2[Einnahmen],Haushaltsbuch2[Kategorie],M$4,Haushaltsbuch2[Datum],\">\"&B131,Haushaltsbuch2[Datum],\"<=\"&B132)","v":0},{"$f":"SUMIFS(Haushaltsbuch2[Einnahmen],Haushaltsbuch2[Kategorie],N$4,Haushaltsbuch2[Datum],\">\"&B131,Haushaltsbuch2[Datum],\"<=\"&B132)","v":0},{"$f":"SUMIFS(Haushaltsbuch2[Einnahmen],Haushaltsbuch2[Kategorie],O$4,Haushaltsbuch2[Datum],\">\"&B131,Haushaltsbuch2[Datum],\"<=\"&B132)","v":0},{"$f":"SUMIFS(Haushaltsbuch2[Einnahmen],Haushaltsbuch2[Kategorie],P$4,Haushaltsbuch2[Datum],\">\"&B131,Haushaltsbuch2[Datum],\"<=\"&B132)","v":0},{"$f":"SUMIFS(Haushaltsbuch2[Einnahmen],Haushaltsbuch2[Kategorie],Q$4,Haushaltsbuch2[Datum],\">\"&B131,Haushaltsbuch2[Datum],\"<=\"&B132)","v":0},{"$f":"SUMIFS(Haushaltsbuch2[Einnahmen],Haushaltsbuch2[Kategorie],R$4,Haushaltsbuch2[Datum],\">\"&B131,Haushaltsbuch2[Datum],\"<=\"&B132)","v":0},null,null,null,null,null,null,null,null,null,null,null,null,null,null,null,null,null,null,{"$f":"SUMIFS(Haushaltsbuch2[Ausgaben],Haushaltsbuch2[Kategorie],AK$4,Haushaltsbuch2[Datum],\">\"&B131,Haushaltsbuch2[Datum],\"<=\"&B132)","v":0},null,null,{"$f":"SUMIFS(Dividenden[Betrag in EUR],Dividenden[Datum],\">\"&B131,Dividenden[Datum],\"<=\"&B132)","v":0},{"$f":"SUMIFS(Optionen[G/V (Netto)],Optionen[Datum],\">\"&B131,Optionen[Datum],\"<=\"&B132)","v":0},null,0,0,null,0,0,null,{"$f":"SUMIFS(Haushaltsbuch2[Einnahmen],Haushaltsbuch2[Datum],\">\"&B131,Haushaltsbuch2[Datum],\"<=\"&B132)+AN132+AO132","v":0},null,0,null,{"$f":"SUMIFS(Haushaltsbuch2[Ausgaben],Haushaltsbuch2[Datum],\">\"&B131,Haushaltsbuch2[Datum],\"<=\"&B132)","v":0}]
[null,29525,null,null,null,null,null,null,null,null,null,null,{"$f":"SUMIFS(Haushaltsbuch2[Einnahmen],Haushaltsbuch2[Kategorie],M$4,Haushaltsbuch2[Datum],\">\"&B132,Haushaltsbuch2[Datum],\"<=\"&B133)","v":0},{"$f":"SUMIFS(Haushaltsbuch2[Einnahmen],Haushaltsbuch2[Kategorie],N$4,Haushaltsbuch2[Datum],\">\"&B132,Haushaltsbuch2[Datum],\"<=\"&B133)","v":0},{"$f":"SUMIFS(Haushaltsbuch2[Einnahmen],Haushaltsbuch2[Kategorie],O$4,Haushaltsbuch2[Datum],\">\"&B132,Haushaltsbuch2[Datum],\"<=\"&B133)","v":0},{"$f":"SUMIFS(Haushaltsbuch2[Einnahmen],Haushaltsbuch2[Kategorie],P$4,Haushaltsbuch2[Datum],\">\"&B132,Haushaltsbuch2[Datum],\"<=\"&B133)","v":0},{"$f":"SUMIFS(Haushaltsbuch2[Einnahmen],Haushaltsbuch2[Kategorie],Q$4,Haushaltsbuch2[Datum],\">\"&B132,Haushaltsbuch2[Datum],\"<=\"&B133)","v":0},{"$f":"SUMIFS(Haushaltsbuch2[Einnahmen],Haushaltsbuch2[Kategorie],R$4,Haushaltsbuch2[Datum],\">\"&B132,Haushaltsbuch2[Datum],\"<=\"&B133)","v":0},null,null,null,null,null,null,null,null,null,null,null,null,null,null,null,null,null,null,{"$f":"SUMIFS(Haushaltsbuch2[Ausgaben],Haushaltsbuch2[Kategorie],AK$4,Haushaltsbuch2[Datum],\">\"&B132,Haushaltsbuch2[Datum],\"<=\"&B133)","v":0},null,null,{"$f":"SUMIFS(Dividenden[Betrag in EUR],Dividenden[Datum],\">\"&B132,Dividenden[Datum],\"<=\"&B133)","v":0},{"$f":"SUMIFS(Optionen[G/V (Netto)],Optionen[Datum],\">\"&B132,Optionen[Datum],\"<=\"&B133)","v":0},null,0,0,null,0,0,null,{"$f":"SUMIFS(Haushaltsbuch2[Einnahmen],Haushaltsbuch2[Datum],\">\"&B132,Haushaltsbuch2[Datum],\"<=\"&B133)+AN133+AO133","v":0},null,0,null,{"$f":"SUMIFS(Haushaltsbuch2[Ausgaben],Haushaltsbuch2[Datum],\">\"&B132,Haushaltsbuch2[Datum],\"<=\"&B133)","v":0}]
[null,29555,null,null,null,null,null,null,null,null,null,null,{"$f":"SUMIFS(Haushaltsbuch2[Einnahmen],Haushaltsbuch2[Kategorie],M$4,Haushaltsbuch2[Datum],\">\"&B133,Haushaltsbuch2[Datum],\"<=\"&B134)","v":0},{"$f":"SUMIFS(Haushaltsbuch2[Einnahmen],Haushaltsbuch2[Kategorie],N$4,Haushaltsbuch2[Datum],\">\"&B133,Haushaltsbuch2[Datum],\"<=\"&B134)","v":0},{"$f":"SUMIFS(Haushaltsbuch2[Einnahmen],Haushaltsbuch2[Kategorie],O$4,Haushaltsbuch2[Datum],\">\"&B133,Haushaltsbuch2[Datum],\"<=\"&B134)","v":0},{"$f":"SUMIFS(Haushaltsbuch2[Einnahmen],Haushaltsbuch2[Kategorie],P$4,Haushaltsbuch2[Datum],\">\"&B133,Haushaltsbuch2[Datum],\"<=\"&B134)","v":0},{"$f":"SUMIFS(Haushaltsbuch2[Einnahmen],Haushaltsbuch2[Kategorie],Q$4,Haushaltsbuch2[Datum],\">\"&B133,Haushaltsbuch2[Datum],\"<=\"&B134)","v":0},{"$f":"SUMIFS(Haushaltsbuch2[Einnahmen],Haushaltsbuch2[Kategorie],R$4,Haushaltsbuch2[Datum],\">\"&B133,Haushaltsbuch2[Datum],\"<=\"&B134)","v":0},null,null,null,null,null,null,null,null,null,null,null,null,null,null,null,null,null,null,{"$f":"SUMIFS(Haushaltsbuch2[Ausgaben],Haushaltsbuch2[Kategorie],AK$4,Haushaltsbuch2[Datum],\">\"&B133,Haushaltsbuch2[Datum],\"<=\"&B134)","v":0},null,null,{"$f":"SUMIFS(Dividenden[Betrag in EUR],Dividenden[Datum],\">\"&B133,Dividenden[Datum],\"<=\"&B134)","v":0},{"$f":"SUMIFS(Optionen[G/V (Netto)],Optionen[Datum],\">\"&B133,Optionen[Datum],\"<=\"&B134)","v":0},null,{"$f":"N134+AN134","v":0},{"$f":"O134+AO134","v":0},null,{"$f":"M134+SUM(P134:R134)+SUM(AQ134:AR134)","v":0},0,null,{"$f":"SUMIFS(Haushaltsbuch2[Einnahmen],Haushaltsbuch2[Datum],\">\"&B133,Haushaltsbuch2[Datum],\"<=\"&B134)+AN134+AO134","v":0},null,0,null,{"$f":"SUMIFS(Haushaltsbuch2[Ausgaben],Haushaltsbuch2[Datum],\">\"&B133,Haushaltsbuch2[Datum],\"<=\"&B134)","v":0}]
[null,{"$f":"EOMONTH(B134,1)","v":29586},null,null,null,null,null,null,null,null,null,null,{"$f":"SUMIFS(Haushaltsbuch2[Einnahmen],Haushaltsbuch2[Kategorie],M$4,Haushaltsbuch2[Datum],\">\"&B134,Haushaltsbuch2[Datum],\"<=\"&B135)","v":0},{"$f":"SUMIFS(Haushaltsbuch2[Einnahmen],Haushaltsbuch2[Kategorie],N$4,Haushaltsbuch2[Datum],\">\"&B134,Haushaltsbuch2[Datum],\"<=\"&B135)","v":0},{"$f":"SUMIFS(Haushaltsbuch2[Einnahmen],Haushaltsbuch2[Kategorie],O$4,Haushaltsbuch2[Datum],\">\"&B134,Haushaltsbuch2[Datum],\"<=\"&B135)","v":0},{"$f":"SUMIFS(Haushaltsbuch2[Einnahmen],Haushaltsbuch2[Kategorie],P$4,Haushaltsbuch2[Datum],\">\"&B134,Haushaltsbuch2[Datum],\"<=\"&B135)","v":0},{"$f":"SUMIFS(Haushaltsbuch2[Einnahmen],Haushaltsbuch2[Kategorie],Q$4,Haushaltsbuch2[Datum],\">\"&B134,Haushaltsbuch2[Datum],\"<=\"&B135)","v":0},{"$f":"SUMIFS(Haushaltsbuch2[Einnahmen],Haushaltsbuch2[Kategorie],R$4,Haushaltsbuch2[Datum],\">\"&B134,Haushaltsbuch2[Datum],\"<=\"&B135)","v":0},null,null,null,null,null,null,null,null,null,null,null,null,null,null,null,null,null,null,{"$f":"SUMIFS(Haushaltsbuch2[Ausgaben],Haushaltsbuch2[Kategorie],AK$4,Haushaltsbuch2[Datum],\">\"&B134,Haushaltsbuch2[Datum],\"<=\"&B135)","v":0},null,null,{"$f":"SUMIFS(Dividenden[Betrag in EUR],Dividenden[Datum],\">\"&B134,Dividenden[Datum],\"<=\"&B135)","v":0},{"$f":"SUMIFS(Optionen[G/V (Netto)],Optionen[Datum],\">\"&B134,Optionen[Datum],\"<=\"&B135)","v":0},null,0,0,null,0,0,null,{"$f":"SUMIFS(Haushaltsbuch2[Einnahmen],Haushaltsbuch2[Datum],\">\"&B134,Haushaltsbuch2[Datum],\"<=\"&B135)+AN135+AO135","v":0},null,0,null,{"$f":"SUMIFS(Haushaltsbuch2[Ausgaben],Haushaltsbuch2[Datum],\">\"&B134,Haushaltsbuch2[Datum],\"<=\"&B135)","v":0}]
[null,29617,null,null,null,null,null,null,null,null,null,null,{"$f":"SUMIFS(Haushaltsbuch2[Einnahmen],Haushaltsbuch2[Kategorie],M$4,Haushaltsbuch2[Datum],\">\"&B135,Haushaltsbuch2[Datum],\"<=\"&B136)","v":0},{"$f":"SUMIFS(Haushaltsbuch2[Einnahmen],Haushaltsbuch2[Kategorie],N$4,Haushaltsbuch2[Datum],\">\"&B135,Haushaltsbuch2[Datum],\"<=\"&B136)","v":0},{"$f":"SUMIFS(Haushaltsbuch2[Einnahmen],Haushaltsbuch2[Kategorie],O$4,Haushaltsbuch2[Datum],\">\"&B135,Haushaltsbuch2[Datum],\"<=\"&B136)","v":0},{"$f":"SUMIFS(Haushaltsbuch2[Einnahmen],Haushaltsbuch2[Kategorie],P$4,Haushaltsbuch2[Datum],\">\"&B135,Haushaltsbuch2[Datum],\"<=\"&B136)","v":0},{"$f":"SUMIFS(Haushaltsbuch2[Einnahmen],Haushaltsbuch2[Kategorie],Q$4,Haushaltsbuch2[Datum],\">\"&B135,Haushaltsbuch2[Datum],\"<=\"&B136)","v":0},{"$f":"SUMIFS(Haushaltsbuch2[Einnahmen],Haushaltsbuch2[Kategorie],R$4,Haushaltsbuch2[Datum],\">\"&B135,Haushaltsbuch2[Datum],\"<=\"&B136)","v":0},null,null,null,null,null,null,null,null,null,null,null,null,null,null,null,null,null,null,{"$f":"SUMIFS(Haushaltsbuch2[Ausgaben],Haushaltsbuch2[Kategorie],AK$4,Haushaltsbuch2[Datum],\">\"&B135,Haushaltsbuch2[Datum],\"<=\"&B136)","v":0},null,null,{"$f":"SUMIFS(Dividenden[Betrag in EUR],Dividenden[Datum],\">\"&B135,Dividenden[Datum],\"<=\"&B136)","v":0},{"$f":"SUMIFS(Optionen[G/V (Netto)],Optionen[Datum],\">\"&B135,Optionen[Datum],\"<=\"&B136)","v":0},null,0,0,null,0,0,null,{"$f":"SUMIFS(Haushaltsbuch2[Einnahmen],Haushaltsbuch2[Datum],\">\"&B135,Haushaltsbuch2[Datum],\"<=\"&B136)+AN136+AO136","v":0},null,0,null,{"$f":"SUMIFS(Haushaltsbuch2[Ausgaben],Haushaltsbuch2[Datum],\">\"&B135,Haushaltsbuch2[Datum],\"<=\"&B136)","v":0}]
[null,29645,null,null,null,null,null,null,null,null,null,null,{"$f":"SUMIFS(Haushaltsbuch2[Einnahmen],Haushaltsbuch2[Kategorie],M$4,Haushaltsbuch2[Datum],\">\"&B136,Haushaltsbuch2[Datum],\"<=\"&B137)","v":0},{"$f":"SUMIFS(Haushaltsbuch2[Einnahmen],Haushaltsbuch2[Kategorie],N$4,Haushaltsbuch2[Datum],\">\"&B136,Haushaltsbuch2[Datum],\"<=\"&B137)","v":0},{"$f":"SUMIFS(Haushaltsbuch2[Einnahmen],Haushaltsbuch2[Kategorie],O$4,Haushaltsbuch2[Datum],\">\"&B136,Haushaltsbuch2[Datum],\"<=\"&B137)","v":0},{"$f":"SUMIFS(Haushaltsbuch2[Einnahmen],Haushaltsbuch2[Kategorie],P$4,Haushaltsbuch2[Datum],\">\"&B136,Haushaltsbuch2[Datum],\"<=\"&B137)","v":0},{"$f":"SUMIFS(Haushaltsbuch2[Einnahmen],Haushaltsbuch2[Kategorie],Q$4,Haushaltsbuch2[Datum],\">\"&B136,Haushaltsbuch2[Datum],\"<=\"&B137)","v":0},{"$f":"SUMIFS(Haushaltsbuch2[Einnahmen],Haushaltsbuch2[Kategorie],R$4,Haushaltsbuch2[Datum],\">\"&B136,Haushaltsbuch2[Datum],\"<=\"&B137)","v":0},null,null,null,null,null,null,null,null,null,null,null,null,null,null,null,null,null,null,{"$f":"SUMIFS(Haushaltsbuch2[Ausgaben],Haushaltsbuch2[Kategorie],AK$4,Haushaltsbuch2[Datum],\">\"&B136,Haushaltsbuch2[Datum],\"<=\"&B137)","v":0},null,null,{"$f":"SUMIFS(Dividenden[Betrag in EUR],Dividenden[Datum],\">\"&B136,Dividenden[Datum],\"<=\"&B137)","v":0},{"$f":"SUMIFS(Optionen[G/V (Netto)],Optionen[Datum],\">\"&B136,Optionen[Datum],\"<=\"&B137)","v":0},null,0,0,null,0,0,null,{"$f":"SUMIFS(Haushaltsbuch2[Einnahmen],Haushaltsbuch2[Datum],\">\"&B136,Haushaltsbuch2[Datum],\"<=\"&B137)+AN137+AO137","v":0},null,0,null,{"$f":"SUMIFS(Haushaltsbuch2[Ausgaben],Haushaltsbuch2[Datum],\">\"&B136,Haushaltsbuch2[Datum],\"<=\"&B137)","v":0}]
[null,29676,null,null,null,null,null,null,null,null,null,null,{"$f":"SUMIFS(Haushaltsbuch2[Einnahmen],Haushaltsbuch2[Kategorie],M$4,Haushaltsbuch2[Datum],\">\"&B137,Haushaltsbuch2[Datum],\"<=\"&B138)","v":0},{"$f":"SUMIFS(Haushaltsbuch2[Einnahmen],Haushaltsbuch2[Kategorie],N$4,Haushaltsbuch2[Datum],\">\"&B137,Haushaltsbuch2[Datum],\"<=\"&B138)","v":0},{"$f":"SUMIFS(Haushaltsbuch2[Einnahmen],Haushaltsbuch2[Kategorie],O$4,Haushaltsbuch2[Datum],\">\"&B137,Haushaltsbuch2[Datum],\"<=\"&B138)","v":0},{"$f":"SUMIFS(Haushaltsbuch2[Einnahmen],Haushaltsbuch2[Kategorie],P$4,Haushaltsbuch2[Datum],\">\"&B137,Haushaltsbuch2[Datum],\"<=\"&B138)","v":0},{"$f":"SUMIFS(Haushaltsbuch2[Einnahmen],Haushaltsbuch2[Kategorie],Q$4,Haushaltsbuch2[Datum],\">\"&B137,Haushaltsbuch2[Datum],\"<=\"&B138)","v":0},{"$f":"SUMIFS(Haushaltsbuch2[Einnahmen],Haushaltsbuch2[Kategorie],R$4,Haushaltsbuch2[Datum],\">\"&B137,Haushaltsbuch2[Datum],\"<=\"&B138)","v":0},null,null,null,null,null,null,null,null,null,null,null,null,null,null,null,null,null,null,{"$f":"SUMIFS(Haushaltsbuch2[Ausgaben],Haushaltsbuch2[Kategorie],AK$4,Haushaltsbuch2[Datum],\">\"&B137,Haushaltsbuch2[Datum],\"<=\"&B138)","v":0},null,null,{"$f":"SUMIFS(Dividenden[Betrag in EUR],Dividenden[Datum],\">\"&B137,Dividenden[Datum],\"<=\"&B138)","v":0},{"$f":"SUMIFS(Optionen[G/V (Netto)],Optionen[Datum],\">\"&B137,Optionen[Datum],\"<=\"&B138)","v":0},null,0,0,null,0,0,null,{"$f":"SUMIFS(Haushaltsbuch2[Einnahmen],Haushaltsbuch2[Datum],\">\"&B137,Haushaltsbuch2[Datum],\"<=\"&B138)+AN138+AO138","v":0},null,0,null,{"$f":"SUMIFS(Haushaltsbuch2[Ausgaben],Haushaltsbuch2[Datum],\">\"&B137,Haushaltsbuch2[Datum],\"<=\"&B138)","v":0}]
[null,29706,null,null,null,null,null,null,null,null,null,null,{"$f":"SUMIFS(Haushaltsbuch2[Einnahmen],Haushaltsbuch2[Kategorie],M$4,Haushaltsbuch2[Datum],\">\"&B138,Haushaltsbuch2[Datum],\"<=\"&B139)","v":0},{"$f":"SUMIFS(Haushaltsbuch2[Einnahmen],Haushaltsbuch2[Kategorie],N$4,Haushaltsbuch2[Datum],\">\"&B138,Haushaltsbuch2[Datum],\"<=\"&B139)","v":0},{"$f":"SUMIFS(Haushaltsbuch2[Einnahmen],Haushaltsbuch2[Kategorie],O$4,Haushaltsbuch2[Datum],\">\"&B138,Haushaltsbuch2[Datum],\"<=\"&B139)","v":0},{"$f":"SUMIFS(Haushaltsbuch2[Einnahmen],Haushaltsbuch2[Kategorie],P$4,Haushaltsbuch2[Datum],\">\"&B138,Haushaltsbuch2[Datum],\"<=\"&B139)","v":0},{"$f":"SUMIFS(Haushaltsbuch2[Einnahmen],Haushaltsbuch2[Kategorie],Q$4,Haushaltsbuch2[Datum],\">\"&B138,Haushaltsbuch2[Datum],\"<=\"&B139)","v":0},{"$f":"SUMIFS(Haushaltsbuch2[Einnahmen],Haushaltsbuch2[Kategorie],R$4,Haushaltsbuch2[Datum],\">\"&B138,Haushaltsbuch2[Datum],\"<=\"&B139)","v":0},null,null,null,null,null,null,null,null,null,null,null,null,null,null,null,null,null,null,{"$f":"SUMIFS(Haushaltsbuch2[Ausgaben],Haushaltsbuch2[Kategorie],AK$4,Haushaltsbuch2[Datum],\">\"&B138,Haushaltsbuch2[Datum],\"<=\"&B139)","v":0},null,null,{"$f":"SUMIFS(Dividenden[Betrag in EUR],Dividenden[Datum],\">\"&B138,Dividenden[Datum],\"<=\"&B139)","v":0},{"$f":"SUMIFS(Optionen[G/V (Netto)],Optionen[Datum],\">\"&B138,Optionen[Datum],\"<=\"&B139)","v":0},null,0,0,null,0,0,null,{"$f":"SUMIFS(Haushaltsbuch2[Einnahmen],Haushaltsbuch2[Datum],\">\"&B138,Haushaltsbuch2[Datum],\"<=\"&B139)+AN139+AO139","v":0},null,0,null,{"$f":"SUMIFS(Haushaltsbuch2[Ausgaben],Haushaltsbuch2[Datum],\">\"&B138,Haushaltsbuch2[Datum],\"<=\"&B139)","v":0}]
[null,29737,null,null,null,null,null,null,null,null,null,null,{"$f":"SUMIFS(Haushaltsbuch2[Einnahmen],Haushaltsbuch2[Kategorie],M$4,Haushaltsbuch2[Datum],\">\"&B139,Haushaltsbuch2[Datum],\"<=\"&B140)","v":0},{"$f":"SUMIFS(Haushaltsbuch2[Einnahmen],Haushaltsbuch2[Kategorie],N$4,Haushaltsbuch2[Datum],\">\"&B139,Haushaltsbuch2[Datum],\"<=\"&B140)","v":0},{"$f":"SUMIFS(Haushaltsbuch2[Einnahmen],Haushaltsbuch2[Kategorie],O$4,Haushaltsbuch2[Datum],\">\"&B139,Haushaltsbuch2[Datum],\"<=\"&B140)","v":0},{"$f":"SUMIFS(Haushaltsbuch2[Einnahmen],Haushaltsbuch2[Kategorie],P$4,Haushaltsbuch2[Datum],\">\"&B139,Haushaltsbuch2[Datum],\"<=\"&B140)","v":0},{"$f":"SUMIFS(Haushaltsbuch2[Einnahmen],Haushaltsbuch2[Kategorie],Q$4,Haushaltsbuch2[Datum],\">\"&B139,Haushaltsbuch2[Datum],\"<=\"&B140)","v":0},{"$f":"SUMIFS(Haushaltsbuch2[Einnahmen],Haushaltsbuch2[Kategorie],R$4,Haushaltsbuch2[Datum],\">\"&B139,Haushaltsbuch2[Datum],\"<=\"&B140)","v":0},null,null,null,null,null,null,null,null,null,null,null,null,null,null,null,null,null,null,{"$f":"SUMIFS(Haushaltsbuch2[Ausgaben],Haushaltsbuch2[Kategorie],AK$4,Haushaltsbuch2[Datum],\">\"&B139,Haushaltsbuch2[Datum],\"<=\"&B140)","v":0},null,null,{"$f":"SUMIFS(Dividenden[Betrag in EUR],Dividenden[Datum],\">\"&B139,Dividenden[Datum],\"<=\"&B140)","v":0},{"$f":"SUMIFS(Optionen[G/V (Netto)],Optionen[Datum],\">\"&B139,Optionen[Datum],\"<=\"&B140)","v":0},null,0,0,null,0,0,null,{"$f":"SUMIFS(Haushaltsbuch2[Einnahmen],Haushaltsbuch2[Datum],\">\"&B139,Haushaltsbuch2[Datum],\"<=\"&B140)+AN140+AO140","v":0},null,0,null,{"$f":"SUMIFS(Haushaltsbuch2[Ausgaben],Haushaltsbuch2[Datum],\">\"&B139,Haushaltsbuch2[Datum],\"<=\"&B140)","v":0}]
[null,29767,null,null,null,null,null,null,null,null,null,null,{"$f":"SUMIFS(Haushaltsbuch2[Einnahmen],Haushaltsbuch2[Kategorie],M$4,Haushaltsbuch2[Datum],\">\"&B140,Haushaltsbuch2[Datum],\"<=\"&B141)","v":0},{"$f":"SUMIFS(Haushaltsbuch2[Einnahmen],Haushaltsbuch2[Kategorie],N$4,Haushaltsbuch2[Datum],\">\"&B140,Haushaltsbuch2[Datum],\"<=\"&B141)","v":0},{"$f":"SUMIFS(Haushaltsbuch2[Einnahmen],Haushaltsbuch2[Kategorie],O$4,Haushaltsbuch2[Datum],\">\"&B140,Haushaltsbuch2[Datum],\"<=\"&B141)","v":0},{"$f":"SUMIFS(Haushaltsbuch2[Einnahmen],Haushaltsbuch2[Kategorie],P$4,Haushaltsbuch2[Datum],\">\"&B140,Haushaltsbuch2[Datum],\"<=\"&B141)","v":0},{"$f":"SUMIFS(Haushaltsbuch2[Einnahmen],Haushaltsbuch2[Kategorie],Q$4,Haushaltsbuch2[Datum],\">\"&B140,Haushaltsbuch2[Datum],\"<=\"&B141)","v":0},{"$f":"SUMIFS(Haushaltsbuch2[Einnahmen],Haushaltsbuch2[Kategorie],R$4,Haushaltsbuch2[Datum],\">\"&B140,Haushaltsbuch2[Datum],\"<=\"&B141)","v":0},null,null,null,null,null,null,null,null,null,null,null,null,null,null,null,null,null,null,{"$f":"SUMIFS(Haushaltsbuch2[Ausgaben],Haushaltsbuch2[Kategorie],AK$4,Haushaltsbuch2[Datum],\">\"&B140,Haushaltsbuch2[Datum],\"<=\"&B141)","v":0},null,null,{"$f":"SUMIFS(Dividenden[Betrag in EUR],Dividenden[Datum],\">\"&B140,Dividenden[Datum],\"<=\"&B141)","v":0},{"$f":"SUMIFS(Optionen[G/V (Netto)],Optionen[Datum],\">\"&B140,Optionen[Datum],\"<=\"&B141)","v":0},null,0,0,null,0,0,null,{"$f":"SUMIFS(Haushaltsbuch2[Einnahmen],Haushaltsbuch2[Datum],\">\"&B140,Haushaltsbuch2[Datum],\"<=\"&B141)+AN141+AO141","v":0},null,0,null,{"$f":"SUMIFS(Haushaltsbuch2[Ausgaben],Haushaltsbuch2[Datum],\">\"&B140,Haushaltsbuch2[Datum],\"<=\"&B141)","v":0}]
[null,29798,null,null,null,null,null,null,null,null,null,null,{"$f":"SUMIFS(Haushaltsbuch2[Einnahmen],Haushaltsbuch2[Kategorie],M$4,Haushaltsbuch2[Datum],\">\"&B141,Haushaltsbuch2[Datum],\"<=\"&B142)","v":0},{"$f":"SUMIFS(Haushaltsbuch2[Einnahmen],Haushaltsbuch2[Kategorie],N$4,Haushaltsbuch2[Datum],\">\"&B141,Haushaltsbuch2[Datum],\"<=\"&B142)","v":0},{"$f":"SUMIFS(Haushaltsbuch2[Einnahmen],Haushaltsbuch2[Kategorie],O$4,Haushaltsbuch2[Datum],\">\"&B141,Haushaltsbuch2[Datum],\"<=\"&B142)","v":0},{"$f":"SUMIFS(Haushaltsbuch2[Einnahmen],Haushaltsbuch2[Kategorie],P$4,Haushaltsbuch2[Datum],\">\"&B141,Haushaltsbuch2[Datum],\"<=\"&B142)","v":0},{"$f":"SUMIFS(Haushaltsbuch2[Einnahmen],Haushaltsbuch2[Kategorie],Q$4,Haushaltsbuch2[Datum],\">\"&B141,Haushaltsbuch2[Datum],\"<=\"&B142)","v":0},{"$f":"SUMIFS(Haushaltsbuch2[Einnahmen],Haushaltsbuch2[Kategorie],R$4,Haushaltsbuch2[Datum],\">\"&B141,Haushaltsbuch2[Datum],\"<=\"&B142)","v":0},null,null,null,null,null,null,null,null,null,null,null,null,null,null,null,null,null,null,{"$f":"SUMIFS(Haushaltsbuch2[Ausgaben],Haushaltsbuch2[Kategorie],AK$4,Haushaltsbuch2[Datum],\">\"&B141,Haushaltsbuch2[Datum],\"<=\"&B142)","v":0},null,null,{"$f":"SUMIFS(Dividenden[Betrag in EUR],Dividenden[Datum],\">\"&B141,Dividenden[Datum],\"<=\"&B142)","v":0},{"$f":"SUMIFS(Optionen[G/V (Netto)],Optionen[Datum],\">\"&B141,Optionen[Datum],\"<=\"&B142)","v":0},null,0,0,null,0,0,null,{"$f":"SUMIFS(Haushaltsbuch2[Einnahmen],Haushaltsbuch2[Datum],\">\"&B141,Haushaltsbuch2[Datum],\"<=\"&B142)+AN142+AO142","v":0},null,0,null,{"$f":"SUMIFS(Haushaltsbuch2[Ausgaben],Haushaltsbuch2[Datum],\">\"&B141,Haushaltsbuch2[Datum],\"<=\"&B142)","v":0}]
[null,29829,null,null,null,null,null,null,null,null,null,null,{"$f":"SUMIFS(Haushaltsbuch2[Einnahmen],Haushaltsbuch2[Kategorie],M$4,Haushaltsbuch2[Datum],\">\"&B142,Haushaltsbuch2[Datum],\"<=\"&B143)","v":0},{"$f":"SUMIFS(Haushaltsbuch2[Einnahmen],Haushaltsbuch2[Kategorie],N$4,Haushaltsbuch2[Datum],\">\"&B142,Haushaltsbuch2[Datum],\"<=\"&B143)","v":0},{"$f":"SUMIFS(Haushaltsbuch2[Einnahmen],Haushaltsbuch2[Kategorie],O$4,Haushaltsbuch2[Datum],\">\"&B142,Haushaltsbuch2[Datum],\"<=\"&B143)","v":0},{"$f":"SUMIFS(Haushaltsbuch2[Einnahmen],Haushaltsbuch2[Kategorie],P$4,Haushaltsbuch2[Datum],\">\"&B142,Haushaltsbuch2[Datum],\"<=\"&B143)","v":0},{"$f":"SUMIFS(Haushaltsbuch2[Einnahmen],Haushaltsbuch2[Kategorie],Q$4,Haushaltsbuch2[Datum],\">\"&B142,Haushaltsbuch2[Datum],\"<=\"&B143)","v":0},{"$f":"SUMIFS(Haushaltsbuch2[Einnahmen],Haushaltsbuch2[Kategorie],R$4,Haushaltsbuch2[Datum],\">\"&B142,Haushaltsbuch2[Datum],\"<=\"&B143)","v":0},null,null,null,null,null,null,null,null,null,null,null,null,null,null,null,null,null,null,{"$f":"SUMIFS(Haushaltsbuch2[Ausgaben],Haushaltsbuch2[Kategorie],AK$4,Haushaltsbuch2[Datum],\">\"&B142,Haushaltsbuch2[Datum],\"<=\"&B143)","v":0},null,null,{"$f":"SUMIFS(Dividenden[Betrag in EUR],Dividenden[Datum],\">\"&B142,Dividenden[Datum],\"<=\"&B143)","v":0},{"$f":"SUMIFS(Optionen[G/V (Netto)],Optionen[Datum],\">\"&B142,Optionen[Datum],\"<=\"&B143)","v":0},null,0,0,null,0,0,null,{"$f":"SUMIFS(Haushaltsbuch2[Einnahmen],Haushaltsbuch2[Datum],\">\"&B142,Haushaltsbuch2[Datum],\"<=\"&B143)+AN143+AO143","v":0},null,0,null,{"$f":"SUMIFS(Haushaltsbuch2[Ausgaben],Haushaltsbuch2[Datum],\">\"&B142,Haushaltsbuch2[Datum],\"<=\"&B143)","v":0}]
[null,29859,null,null,null,null,null,null,null,null,null,null,{"$f":"SUMIFS(Haushaltsbuch2[Einnahmen],Haushaltsbuch2[Kategorie],M$4,Haushaltsbuch2[Datum],\">\"&B143,Haushaltsbuch2[Datum],\"<=\"&B144)","v":0},{"$f":"SUMIFS(Haushaltsbuch2[Einnahmen],Haushaltsbuch2[Kategorie],N$4,Haushaltsbuch2[Datum],\">\"&B143,Haushaltsbuch2[Datum],\"<=\"&B144)","v":0},{"$f":"SUMIFS(Haushaltsbuch2[Einnahmen],Haushaltsbuch2[Kategorie],O$4,Haushaltsbuch2[Datum],\">\"&B143,Haushaltsbuch2[Datum],\"<=\"&B144)","v":0},{"$f":"SUMIFS(Haushaltsbuch2[Einnahmen],Haushaltsbuch2[Kategorie],P$4,Haushaltsbuch2[Datum],\">\"&B143,Haushaltsbuch2[Datum],\"<=\"&B144)","v":0},{"$f":"SUMIFS(Haushaltsbuch2[Einnahmen],Haushaltsbuch2[Kategorie],Q$4,Haushaltsbuch2[Datum],\">\"&B143,Haushaltsbuch2[Datum],\"<=\"&B144)","v":0},{"$f":"SUMIFS(Haushaltsbuch2[Einnahmen],Haushaltsbuch2[Kategorie],R$4,Haushaltsbuch2[Datum],\">\"&B143,Haushaltsbuch2[Datum],\"<=\"&B144)","v":0},null,null,null,null,null,null,null,null,null,null,null,null,null,null,null,null,null,null,{"$f":"SUMIFS(Haushaltsbuch2[Ausgaben],Haushaltsbuch2[Kategorie],AK$4,Haushaltsbuch2[Datum],\">\"&B143,Haushaltsbuch2[Datum],\"<=\"&B144)","v":0},null,null,{"$f":"SUMIFS(Dividenden[Betrag in EUR],Dividenden[Datum],\">\"&B143,Dividenden[Datum],\"<=\"&B144)","v":0},{"$f":"SUMIFS(Optionen[G/V (Netto)],Optionen[Datum],\">\"&B143,Optionen[Datum],\"<=\"&B144)","v":0},null,0,0,null,0,0,null,{"$f":"SUMIFS(Haushaltsbuch2[Einnahmen],Haushaltsbuch2[Datum],\">\"&B143,Haushaltsbuch2[Datum],\"<=\"&B144)+AN144+AO144","v":0},null,0,null,{"$f":"SUMIFS(Haushaltsbuch2[Ausgaben],Haushaltsbuch2[Datum],\">\"&B143,Haushaltsbuch2[Datum],\"<=\"&B144)","v":0}]
[null,29890,null,null,null,null,null,null,null,null,null,null,{"$f":"SUMIFS(Haushaltsbuch2[Einnahmen],Haushaltsbuch2[Kategorie],M$4,Haushaltsbuch2[Datum],\">\"&B144,Haushaltsbuch2[Datum],\"<=\"&B145)","v":0},{"$f":"SUMIFS(Haushaltsbuch2[Einnahmen],Haushaltsbuch2[Kategorie],N$4,Haushaltsbuch2[Datum],\">\"&B144,Haushaltsbuch2[Datum],\"<=\"&B145)","v":0},{"$f":"SUMIFS(Haushaltsbuch2[Einnahmen],Haushaltsbuch2[Kategorie],O$4,Haushaltsbuch2[Datum],\">\"&B144,Haushaltsbuch2[Datum],\"<=\"&B145)","v":0},{"$f":"SUMIFS(Haushaltsbuch2[Einnahmen],Haushaltsbuch2[Kategorie],P$4,Haushaltsbuch2[Datum],\">\"&B144,Haushaltsbuch2[Datum],\"<=\"&B145)","v":0},{"$f":"SUMIFS(Haushaltsbuch2[Einnahmen],Haushaltsbuch2[Kategorie],Q$4,Haushaltsbuch2[Datum],\">\"&B144,Haushaltsbuch2[Datum],\"<=\"&B145)","v":0},{"$f":"SUMIFS(Haushaltsbuch2[Einnahmen],Haushaltsbuch2[Kategorie],R$4,Haushaltsbuch2[Datum],\">\"&B144,Haushaltsbuch2[Datum],\"<=\"&B145)","v":0},null,null,null,null,null,null,null,null,null,null,null,null,null,null,null,null,null,null,{"$f":"SUMIFS(Haushaltsbuch2[Ausgaben],Haushaltsbuch2[Kategorie],AK$4,Haushaltsbuch2[Datum],\">\"&B144,Haushaltsbuch2[Datum],\"<=\"&B145)","v":0},null,null,{"$f":"SUMIFS(Dividenden[Betrag in EUR],Dividenden[Datum],\">\"&B144,Dividenden[Datum],\"<=\"&B145)","v":0},{"$f":"SUMIFS(Optionen[G/V (Netto)],Optionen[Datum],\">\"&B144,Optionen[Datum],\"<=\"&B145)","v":0},null,0,0,null,0,0,null,{"$f":"SUMIFS(Haushaltsbuch2[Einnahmen],Haushaltsbuch2[Datum],\">\"&B144,Haushaltsbuch2[Datum],\"<=\"&B145)+AN145+AO145","v":0},null,0,null,{"$f":"SUMIFS(Haushaltsbuch2[Ausgaben],Haushaltsbuch2[Datum],\">\"&B144,Haushaltsbuch2[Datum],\"<=\"&B145)","v":0}]
[null,29920,null,null,null,null,null,null,null,null,null,null,{"$f":"SUMIFS(Haushaltsbuch2[Einnahmen],Haushaltsbuch2[Kategorie],M$4,Haushaltsbuch2[Datum],\">\"&B145,Haushaltsbuch2[Datum],\"<=\"&B146)","v":0},{"$f":"SUMIFS(Haushaltsbuch2[Einnahmen],Haushaltsbuch2[Kategorie],N$4,Haushaltsbuch2[Datum],\">\"&B145,Haushaltsbuch2[Datum],\"<=\"&B146)","v":0},{"$f":"SUMIFS(Haushaltsbuch2[Einnahmen],Haushaltsbuch2[Kategorie],O$4,Haushaltsbuch2[Datum],\">\"&B145,Haushaltsbuch2[Datum],\"<=\"&B146)","v":0},{"$f":"SUMIFS(Haushaltsbuch2[Einnahmen],Haushaltsbuch2[Kategorie],P$4,Haushaltsbuch2[Datum],\">\"&B145,Haushaltsbuch2[Datum],\"<=\"&B146)","v":0},{"$f":"SUMIFS(Haushaltsbuch2[Einnahmen],Haushaltsbuch2[Kategorie],Q$4,Haushaltsbuch2[Datum],\">\"&B145,Haushaltsbuch2[Datum],\"<=\"&B146)","v":0},{"$f":"SUMIFS(Haushaltsbuch2[Einnahmen],Haushaltsbuch2[Kategorie],R$4,Haushaltsbuch2[Datum],\">\"&B145,Haushaltsbuch2[Datum],\"<=\"&B146)","v":0},null,null,null,null,null,null,null,null,null,null,null,null,null,null,null,null,null,null,{"$f":"SUMIFS(Haushaltsbuch2[Ausgaben],Haushaltsbuch2[Kategorie],AK$4,Haushaltsbuch2[Datum],\">\"&B145,Haushaltsbuch2[Datum],\"<=\"&B146)","v":0},null,null,{"$f":"SUMIFS(Dividenden[Betrag in EUR],Dividenden[Datum],\">\"&B145,Dividenden[Datum],\"<=\"&B146)","v":0},{"$f":"SUMIFS(Optionen[G/V (Netto)],Optionen[Datum],\">\"&B145,Optionen[Datum],\"<=\"&B146)","v":0},null,0,0,null,0,{"$f":"AVERAGE(AT135:AT146)","v":0},null,{"$f":"SUMIFS(Haushaltsbuch2[Einnahmen],Haushaltsbuch2[Datum],\">\"&B145,Haushaltsbuch2[Datum],\"<=\"&B146)+AN146+AO146","v":0},null,{"$f":"AVERAGE(AK135:AK146)","v":0},null,{"$f":"SUMIFS(Haushaltsbuch2[Ausgaben],Haushaltsbuch2[Datum],\">\"&B145,Haushaltsbuch2[Datum],\"<=\"&B146)","v":0}]
[null,29951,null,null,null,null,null,null,null,null,null,null,{"$f":"SUMIFS(Haushaltsbuch2[Einnahmen],Haushaltsbuch2[Kategorie],M$4,Haushaltsbuch2[Datum],\">\"&B146,Haushaltsbuch2[Datum],\"<=\"&B147)","v":0},{"$f":"SUMIFS(Haushaltsbuch2[Einnahmen],Haushaltsbuch2[Kategorie],N$4,Haushaltsbuch2[Datum],\">\"&B146,Haushaltsbuch2[Datum],\"<=\"&B147)","v":0},{"$f":"SUMIFS(Haushaltsbuch2[Einnahmen],Haushaltsbuch2[Kategorie],O$4,Haushaltsbuch2[Datum],\">\"&B146,Haushaltsbuch2[Datum],\"<=\"&B147)","v":0},{"$f":"SUMIFS(Haushaltsbuch2[Einnahmen],Haushaltsbuch2[Kategorie],P$4,Haushaltsbuch2[Datum],\">\"&B146,Haushaltsbuch2[Datum],\"<=\"&B147)","v":0},{"$f":"SUMIFS(Haushaltsbuch2[Einnahmen],Haushaltsbuch2[Kategorie],Q$4,Haushaltsbuch2[Datum],\">\"&B146,Haushaltsbuch2[Datum],\"<=\"&B147)","v":0},{"$f":"SUMIFS(Haushaltsbuch2[Einnahmen],Haushaltsbuch2[Kategorie],R$4,Haushaltsbuch2[Datum],\">\"&B146,Haushaltsbuch2[Datum],\"<=\"&B147)","v":0},null,null,null,null,null,null,null,null,null,null,null,null,null,null,null,null,null,null,{"$f":"SUMIFS(Haushaltsbuch2[Ausgaben],Haushaltsbuch2[Kategorie],AK$4,Haushaltsbuch2[Datum],\">\"&B146,Haushaltsbuch2[Datum],\"<=\"&B147)","v":0},null,null,{"$f":"SUMIFS(Dividenden[Betrag in EUR],Dividenden[Datum],\">\"&B146,Dividenden[Datum],\"<=\"&B147)","v":0},{"$f":"SUMIFS(Optionen[G/V (Netto)],Optionen[Datum],\">\"&B146,Optionen[Datum],\"<=\"&B147)","v":0},null,0,0,null,0,0,null,{"$f":"SUMIFS(Haushaltsbuch2[Einnahmen],Haushaltsbuch2[Datum],\">\"&B146,Haushaltsbuch2[Datum],\"<=\"&B147)+AN147+AO147","v":0},null,0,null,{"$f":"SUMIFS(Haushaltsbuch2[Ausgaben],Haushaltsbuch2[Datum],\">\"&B146,Haushaltsbuch2[Datum],\"<=\"&B147)","v":0}]
[null,29982,null,null,null,null,null,null,null,null,null,null,{"$f":"SUMIFS(Haushaltsbuch2[Einnahmen],Haushaltsbuch2[Kategorie],M$4,Haushaltsbuch2[Datum],\">\"&B147,Haushaltsbuch2[Datum],\"<=\"&B148)","v":0},{"$f":"SUMIFS(Haushaltsbuch2[Einnahmen],Haushaltsbuch2[Kategorie],N$4,Haushaltsbuch2[Datum],\">\"&B147,Haushaltsbuch2[Datum],\"<=\"&B148)","v":0},{"$f":"SUMIFS(Haushaltsbuch2[Einnahmen],Haushaltsbuch2[Kategorie],O$4,Haushaltsbuch2[Datum],\">\"&B147,Haushaltsbuch2[Datum],\"<=\"&B148)","v":0},{"$f":"SUMIFS(Haushaltsbuch2[Einnahmen],Haushaltsbuch2[Kategorie],P$4,Haushaltsbuch2[Datum],\">\"&B147,Haushaltsbuch2[Datum],\"<=\"&B148)","v":0},{"$f":"SUMIFS(Haushaltsbuch2[Einnahmen],Haushaltsbuch2[Kategorie],Q$4,Haushaltsbuch2[Datum],\">\"&B147,Haushaltsbuch2[Datum],\"<=\"&B148)","v":0},{"$f":"SUMIFS(Haushaltsbuch2[Einnahmen],Haushaltsbuch2[Kategorie],R$4,Haushaltsbuch2[Datum],\">\"&B147,Haushaltsbuch2[Datum],\"<=\"&B148)","v":0},null,null,null,null,null,null,null,null,null,null,null,null,null,null,null,null,null,null,{"$f":"SUMIFS(Haushaltsbuch2[Ausgaben],Haushaltsbuch2[Kategorie],AK$4,Haushaltsbuch2[Datum],\">\"&B147,Haushaltsbuch2[Datum],\"<=\"&B148)","v":0},null,null,{"$f":"SUMIFS(Dividenden[Betrag in EUR],Dividenden[Datum],\">\"&B147,Dividenden[Datum],\"<=\"&B148)","v":0},{"$f":"SUMIFS(Optionen[G/V (Netto)],Optionen[Datum],\">\"&B147,Optionen[Datum],\"<=\"&B148)","v":0},null,0,0,null,0,0,null,{"$f":"SUMIFS(Haushaltsbuch2[Einnahmen],Haushaltsbuch2[Datum],\">\"&B147,Haushaltsbuch2[Datum],\"<=\"&B148)+AN148+AO148","v":0},null,0,null,{"$f":"SUMIFS(Haushaltsbuch2[Ausgaben],Haushaltsbuch2[Datum],\">\"&B147,Haushaltsbuch2[Datum],\"<=\"&B148)","v":0}]
[null,30010,null,null,null,null,null,null,null,null,null,null,{"$f":"SUMIFS(Haushaltsbuch2[Einnahmen],Haushaltsbuch2[Kategorie],M$4,Haushaltsbuch2[Datum],\">\"&B148,Haushaltsbuch2[Datum],\"<=\"&B149)","v":0},{"$f":"SUMIFS(Haushaltsbuch2[Einnahmen],Haushaltsbuch2[Kategorie],N$4,Haushaltsbuch2[Datum],\">\"&B148,Haushaltsbuch2[Datum],\"<=\"&B149)","v":0},{"$f":"SUMIFS(Haushaltsbuch2[Einnahmen],Haushaltsbuch2[Kategorie],O$4,Haushaltsbuch2[Datum],\">\"&B148,Haushaltsbuch2[Datum],\"<=\"&B149)","v":0},{"$f":"SUMIFS(Haushaltsbuch2[Einnahmen],Haushaltsbuch2[Kategorie],P$4,Haushaltsbuch2[Datum],\">\"&B148,Haushaltsbuch2[Datum],\"<=\"&B149)","v":0},{"$f":"SUMIFS(Haushaltsbuch2[Einnahmen],Haushaltsbuch2[Kategorie],Q$4,Haushaltsbuch2[Datum],\">\"&B148,Haushaltsbuch2[Datum],\"<=\"&B149)","v":0},{"$f":"SUMIFS(Haushaltsbuch2[Einnahmen],Haushaltsbuch2[Kategorie],R$4,Haushaltsbuch2[Datum],\">\"&B148,Haushaltsbuch2[Datum],\"<=\"&B149)","v":0},null,null,null,null,null,null,null,null,null,null,null,null,null,null,null,null,null,null,{"$f":"SUMIFS(Haushaltsbuch2[Ausgaben],Haushaltsbuch2[Kategorie],AK$4,Haushaltsbuch2[Datum],\">\"&B148,Haushaltsbuch2[Datum],\"<=\"&B149)","v":0},null,null,{"$f":"SUMIFS(Dividenden[Betrag in EUR],Dividenden[Datum],\">\"&B148,Dividenden[Datum],\"<=\"&B149)","v":0},{"$f":"SUMIFS(Optionen[G/V (Netto)],Optionen[Datum],\">\"&B148,Optionen[Datum],\"<=\"&B149)","v":0},null,0,0,null,0,0,null,{"$f":"SUMIFS(Haushaltsbuch2[Einnahmen],Haushaltsbuch2[Datum],\">\"&B148,Haushaltsbuch2[Datum],\"<=\"&B149)+AN149+AO149","v":0},null,0,null,{"$f":"SUMIFS(Haushaltsbuch2[Ausgaben],Haushaltsbuch2[Datum],\">\"&B148,Haushaltsbuch2[Datum],\"<=\"&B149)","v":0}]
[null,30041,null,null,null,null,null,null,null,null,null,null,{"$f":"SUMIFS(Haushaltsbuch2[Einnahmen],Haushaltsbuch2[Kategorie],M$4,Haushaltsbuch2[Datum],\">\"&B149,Haushaltsbuch2[Datum],\"<=\"&B150)","v":0},{"$f":"SUMIFS(Haushaltsbuch2[Einnahmen],Haushaltsbuch2[Kategorie],N$4,Haushaltsbuch2[Datum],\">\"&B149,Haushaltsbuch2[Datum],\"<=\"&B150)","v":0},{"$f":"SUMIFS(Haushaltsbuch2[Einnahmen],Haushaltsbuch2[Kategorie],O$4,Haushaltsbuch2[Datum],\">\"&B149,Haushaltsbuch2[Datum],\"<=\"&B150)","v":0},{"$f":"SUMIFS(Haushaltsbuch2[Einnahmen],Haushaltsbuch2[Kategorie],P$4,Haushaltsbuch2[Datum],\">\"&B149,Haushaltsbuch2[Datum],\"<=\"&B150)","v":0},{"$f":"SUMIFS(Haushaltsbuch2[Einnahmen],Haushaltsbuch2[Kategorie],Q$4,Haushaltsbuch2[Datum],\">\"&B149,Haushaltsbuch2[Datum],\"<=\"&B150)","v":0},{"$f":"SUMIFS(Haushaltsbuch2[Einnahmen],Haushaltsbuch2[Kategorie],R$4,Haushaltsbuch2[Datum],\">\"&B149,Haushaltsbuch2[Datum],\"<=\"&B150)","v":0},null,null,null,null,null,null,null,null,null,null,null,null,null,null,null,null,null,null,{"$f":"SUMIFS(Haushaltsbuch2[Ausgaben],Haushaltsbuch2[Kategorie],AK$4,Haushaltsbuch2[Datum],\">\"&B149,Haushaltsbuch2[Datum],\"<=\"&B150)","v":0},null,null,{"$f":"SUMIFS(Dividenden[Betrag in EUR],Dividenden[Datum],\">\"&B149,Dividenden[Datum],\"<=\"&B150)","v":0},{"$f":"SUMIFS(Optionen[G/V (Netto)],Optionen[Datum],\">\"&B149,Optionen[Datum],\"<=\"&B150)","v":0},null,0,0,null,0,0,null,{"$f":"SUMIFS(Haushaltsbuch2[Einnahmen],Haushaltsbuch2[Datum],\">\"&B149,Haushaltsbuch2[Datum],\"<=\"&B150)+AN150+AO150","v":0},null,0,null,{"$f":"SUMIFS(Haushaltsbuch2[Ausgaben],Haushaltsbuch2[Datum],\">\"&B149,Haushaltsbuch2[Datum],\"<=\"&B150)","v":0}]
[null,30071,null,null,null,null,null,null,null,null,null,null,{"$f":"SUMIFS(Haushaltsbuch2[Einnahmen],Haushaltsbuch2[Kategorie],M$4,Haushaltsbuch2[Datum],\">\"&B150,Haushaltsbuch2[Datum],\"<=\"&B151)","v":0},{"$f":"SUMIFS(Haushaltsbuch2[Einnahmen],Haushaltsbuch2[Kategorie],N$4,Haushaltsbuch2[Datum],\">\"&B150,Haushaltsbuch2[Datum],\"<=\"&B151)","v":0},{"$f":"SUMIFS(Haushaltsbuch2[Einnahmen],Haushaltsbuch2[Kategorie],O$4,Haushaltsbuch2[Datum],\">\"&B150,Haushaltsbuch2[Datum],\"<=\"&B151)","v":0},{"$f":"SUMIFS(Haushaltsbuch2[Einnahmen],Haushaltsbuch2[Kategorie],P$4,Haushaltsbuch2[Datum],\">\"&B150,Haushaltsbuch2[Datum],\"<=\"&B151)","v":0},{"$f":"SUMIFS(Haushaltsbuch2[Einnahmen],Haushaltsbuch2[Kategorie],Q$4,Haushaltsbuch2[Datum],\">\"&B150,Haushaltsbuch2[Datum],\"<=\"&B151)","v":0},{"$f":"SUMIFS(Haushaltsbuch2[Einnahmen],Haushaltsbuch2[Kategorie],R$4,Haushaltsbuch2[Datum],\">\"&B150,Haushaltsbuch2[Datum],\"<=\"&B151)","v":0},null,null,null,null,null,null,null,null,null,null,null,null,null,null,null,null,null,null,{"$f":"SUMIFS(Haushaltsbuch2[Ausgaben],Haushaltsbuch2[Kategorie],AK$4,Haushaltsbuch2[Datum],\">\"&B150,Haushaltsbuch2[Datum],\"<=\"&B151)","v":0},null,null,{"$f":"SUMIFS(Dividenden[Betrag in EUR],Dividenden[Datum],\">\"&B150,Dividenden[Datum],\"<=\"&B151)","v":0},{"$f":"SUMIFS(Optionen[G/V (Netto)],Optionen[Datum],\">\"&B150,Optionen[Datum],\"<=\"&B151)","v":0},null,0,0,null,0,0,null,{"$f":"SUMIFS(Haushaltsbuch2[Einnahmen],Haushaltsbuch2[Datum],\">\"&B150,Haushaltsbuch2[Datum],\"<=\"&B151)+AN151+AO151","v":0},null,0,null,{"$f":"SUMIFS(Haushaltsbuch2[Ausgaben],Haushaltsbuch2[Datum],\">\"&B150,Haushaltsbuch2[Datum],\"<=\"&B151)","v":0}]
[null,30102,null,null,null,null,null,null,null,null,null,null,{"$f":"SUMIFS(Haushaltsbuch2[Einnahmen],Haushaltsbuch2[Kategorie],M$4,Haushaltsbuch2[Datum],\">\"&B151,Haushaltsbuch2[Datum],\"<=\"&B152)","v":0},{"$f":"SUMIFS(Haushaltsbuch2[Einnahmen],Haushaltsbuch2[Kategorie],N$4,Haushaltsbuch2[Datum],\">\"&B151,Haushaltsbuch2[Datum],\"<=\"&B152)","v":0},{"$f":"SUMIFS(Haushaltsbuch2[Einnahmen],Haushaltsbuch2[Kategorie],O$4,Haushaltsbuch2[Datum],\">\"&B151,Haushaltsbuch2[Datum],\"<=\"&B152)","v":0},{"$f":"SUMIFS(Haushaltsbuch2[Einnahmen],Haushaltsbuch2[Kategorie],P$4,Haushaltsbuch2[Datum],\">\"&B151,Haushaltsbuch2[Datum],\"<=\"&B152)","v":0},{"$f":"SUMIFS(Haushaltsbuch2[Einnahmen],Haushaltsbuch2[Kategorie],Q$4,Haushaltsbuch2[Datum],\">\"&B151,Haushaltsbuch2[Datum],\"<=\"&B152)","v":0},{"$f":"SUMIFS(Haushaltsbuch2[Einnahmen],Haushaltsbuch2[Kategorie],R$4,Haushaltsbuch2[Datum],\">\"&B151,Haushaltsbuch2[Datum],\"<=\"&B152)","v":0},null,null,null,null,null,null,null,null,null,null,null,null,null,null,null,null,null,null,{"$f":"SUMIFS(Haushaltsbuch2[Ausgaben],Haushaltsbuch2[Kategorie],AK$4,Haushaltsbuch2[Datum],\">\"&B151,Haushaltsbuch2[Datum],\"<=\"&B152)","v":0},null,null,{"$f":"SUMIFS(Dividenden[Betrag in EUR],Dividenden[Datum],\">\"&B151,Dividenden[Datum],\"<=\"&B152)","v":0},{"$f":"SUMIFS(Optionen[G/V (Netto)],Optionen[Datum],\">\"&B151,Optionen[Datum],\"<=\"&B152)","v":0},null,0,0,null,0,0,null,{"$f":"SUMIFS(Haushaltsbuch2[Einnahmen],Haushaltsbuch2[Datum],\">\"&B151,Haushaltsbuch2[Datum],\"<=\"&B152)+AN152+AO152","v":0},null,0,null,{"$f":"SUMIFS(Haushaltsbuch2[Ausgaben],Haushaltsbuch2[Datum],\">\"&B151,Haushaltsbuch2[Datum],\"<=\"&B152)","v":0}]
[null,30132,null,null,null,null,null,null,null,null,null,null,{"$f":"SUMIFS(Haushaltsbuch2[Einnahmen],Haushaltsbuch2[Kategorie],M$4,Haushaltsbuch2[Datum],\">\"&B152,Haushaltsbuch2[Datum],\"<=\"&B153)","v":0},{"$f":"SUMIFS(Haushaltsbuch2[Einnahmen],Haushaltsbuch2[Kategorie],N$4,Haushaltsbuch2[Datum],\">\"&B152,Haushaltsbuch2[Datum],\"<=\"&B153)","v":0},{"$f":"SUMIFS(Haushaltsbuch2[Einnahmen],Haushaltsbuch2[Kategorie],O$4,Haushaltsbuch2[Datum],\">\"&B152,Haushaltsbuch2[Datum],\"<=\"&B153)","v":0},{"$f":"SUMIFS(Haushaltsbuch2[Einnahmen],Haushaltsbuch2[Kategorie],P$4,Haushaltsbuch2[Datum],\">\"&B152,Haushaltsbuch2[Datum],\"<=\"&B153)","v":0},{"$f":"SUMIFS(Haushaltsbuch2[Einnahmen],Haushaltsbuch2[Kategorie],Q$4,Haushaltsbuch2[Datum],\">\"&B152,Haushaltsbuch2[Datum],\"<=\"&B153)","v":0},{"$f":"SUMIFS(Haushaltsbuch2[Einnahmen],Haushaltsbuch2[Kategorie],R$4,Haushaltsbuch2[Datum],\">\"&B152,Haushaltsbuch2[Datum],\"<=\"&B153)","v":0},null,null,null,null,null,null,null,null,null,null,null,null,null,null,null,null,null,null,{"$f":"SUMIFS(Haushaltsbuch2[Ausgaben],Haushaltsbuch2[Kategorie],AK$4,Haushaltsbuch2[Datum],\">\"&B152,Haushaltsbuch2[Datum],\"<=\"&B153)","v":0},null,null,{"$f":"SUMIFS(Dividenden[Betrag in EUR],Dividenden[Datum],\">\"&B152,Dividenden[Datum],\"<=\"&B153)","v":0},{"$f":"SUMIFS(Optionen[G/V (Netto)],Optionen[Datum],\">\"&B152,Optionen[Datum],\"<=\"&B153)","v":0},null,0,0,null,0,0,null,{"$f":"SUMIFS(Haushaltsbuch2[Einnahmen],Haushaltsbuch2[Datum],\">\"&B152,Haushaltsbuch2[Datum],\"<=\"&B153)+AN153+AO153","v":0},null,0,null,{"$f":"SUMIFS(Haushaltsbuch2[Ausgaben],Haushaltsbuch2[Datum],\">\"&B152,Haushaltsbuch2[Datum],\"<=\"&B153)","v":0}]
[null,30163,null,null,null,null,null,null,null,null,null,null,{"$f":"SUMIFS(Haushaltsbuch2[Einnahmen],Haushaltsbuch2[Kategorie],M$4,Haushaltsbuch2[Datum],\">\"&B153,Haushaltsbuch2[Datum],\"<=\"&B154)","v":0},{"$f":"SUMIFS(Haushaltsbuch2[Einnahmen],Haushaltsbuch2[Kategorie],N$4,Haushaltsbuch2[Datum],\">\"&B153,Haushaltsbuch2[Datum],\"<=\"&B154)","v":0},{"$f":"SUMIFS(Haushaltsbuch2[Einnahmen],Haushaltsbuch2[Kategorie],O$4,Haushaltsbuch2[Datum],\">\"&B153,Haushaltsbuch2[Datum],\"<=\"&B154)","v":0},{"$f":"SUMIFS(Haushaltsbuch2[Einnahmen],Haushaltsbuch2[Kategorie],P$4,Haushaltsbuch2[Datum],\">\"&B153,Haushaltsbuch2[Datum],\"<=\"&B154)","v":0},{"$f":"SUMIFS(Haushaltsbuch2[Einnahmen],Haushaltsbuch2[Kategorie],Q$4,Haushaltsbuch2[Datum],\">\"&B153,Haushaltsbuch2[Datum],\"<=\"&B154)","v":0},{"$f":"SUMIFS(Haushaltsbuch2[Einnahmen],Haushaltsbuch2[Kategorie],R$4,Haushaltsbuch2[Datum],\">\"&B153,Haushaltsbuch2[Datum],\"<=\"&B154)","v":0},null,null,null,null,null,null,null,null,null,null,null,null,null,null,null,null,null,null,{"$f":"SUMIFS(Haushaltsbuch2[Ausgaben],Haushaltsbuch2[Kategorie],AK$4,Haushaltsbuch2[Datum],\">\"&B153,Haushaltsbuch2[Datum],\"<=\"&B154)","v":0},null,null,{"$f":"SUMIFS(Dividenden[Betrag in EUR],Dividenden[Datum],\">\"&B153,Dividenden[Datum],\"<=\"&B154)","v":0},{"$f":"SUMIFS(Optionen[G/V (Netto)],Optionen[Datum],\">\"&B153,Optionen[Datum],\"<=\"&B154)","v":0},null,0,0,null,0,0,null,{"$f":"SUMIFS(Haushaltsbuch2[Einnahmen],Haushaltsbuch2[Datum],\">\"&B153,Haushaltsbuch2[Datum],\"<=\"&B154)+AN154+AO154","v":0},null,0,null,{"$f":"SUMIFS(Haushaltsbuch2[Ausgaben],Haushaltsbuch2[Datum],\">\"&B153,Haushaltsbuch2[Datum],\"<=\"&B154)","v":0}]
[null,30194,null,null,null,null,null,null,null,null,null,null,{"$f":"SUMIFS(Haushaltsbuch2[Einnahmen],Haushaltsbuch2[Kategorie],M$4,Haushaltsbuch2[Datum],\">\"&B154,Haushaltsbuch2[Datum],\"<=\"&B155)","v":0},{"$f":"SUMIFS(Haushaltsbuch2[Einnahmen],Haushaltsbuch2[Kategorie],N$4,Haushaltsbuch2[Datum],\">\"&B154,Haushaltsbuch2[Datum],\"<=\"&B155)","v":0},{"$f":"SUMIFS(Haushaltsbuch2[Einnahmen],Haushaltsbuch2[Kategorie],O$4,Haushaltsbuch2[Datum],\">\"&B154,Haushaltsbuch2[Datum],\"<=\"&B155)","v":0},{"$f":"SUMIFS(Haushaltsbuch2[Einnahmen],Haushaltsbuch2[Kategorie],P$4,Haushaltsbuch2[Datum],\">\"&B154,Haushaltsbuch2[Datum],\"<=\"&B155)","v":0},{"$f":"SUMIFS(Haushaltsbuch2[Einnahmen],Haushaltsbuch2[Kategorie],Q$4,Haushaltsbuch2[Datum],\">\"&B154,Haushaltsbuch2[Datum],\"<=\"&B155)","v":0},{"$f":"SUMIFS(Haushaltsbuch2[Einnahmen],Haushaltsbuch2[Kategorie],R$4,Haushaltsbuch2[Datum],\">\"&B154,Haushaltsbuch2[Datum],\"<=\"&B155)","v":0},null,null,null,null,null,null,null,null,null,null,null,null,null,null,null,null,null,null,{"$f":"SUMIFS(Haushaltsbuch2[Ausgaben],Haushaltsbuch2[Kategorie],AK$4,Haushaltsbuch2[Datum],\">\"&B154,Haushaltsbuch2[Datum],\"<=\"&B155)","v":0},null,null,{"$f":"SUMIFS(Dividenden[Betrag in EUR],Dividenden[Datum],\">\"&B154,Dividenden[Datum],\"<=\"&B155)","v":0},{"$f":"SUMIFS(Optionen[G/V (Netto)],Optionen[Datum],\">\"&B154,Optionen[Datum],\"<=\"&B155)","v":0},null,0,0,null,0,0,null,{"$f":"SUMIFS(Haushaltsbuch2[Einnahmen],Haushaltsbuch2[Datum],\">\"&B154,Haushaltsbuch2[Datum],\"<=\"&B155)+AN155+AO155","v":0},null,0,null,{"$f":"SUMIFS(Haushaltsbuch2[Ausgaben],Haushaltsbuch2[Datum],\">\"&B154,Haushaltsbuch2[Datum],\"<=\"&B155)","v":0}]
[null,30224,null,null,null,null,null,null,null,null,null,null,{"$f":"SUMIFS(Haushaltsbuch2[Einnahmen],Haushaltsbuch2[Kategorie],M$4,Haushaltsbuch2[Datum],\">\"&B155,Haushaltsbuch2[Datum],\"<=\"&B156)","v":0},{"$f":"SUMIFS(Haushaltsbuch2[Einnahmen],Haushaltsbuch2[Kategorie],N$4,Haushaltsbuch2[Datum],\">\"&B155,Haushaltsbuch2[Datum],\"<=\"&B156)","v":0},{"$f":"SUMIFS(Haushaltsbuch2[Einnahmen],Haushaltsbuch2[Kategorie],O$4,Haushaltsbuch2[Datum],\">\"&B155,Haushaltsbuch2[Datum],\"<=\"&B156)","v":0},{"$f":"SUMIFS(Haushaltsbuch2[Einnahmen],Haushaltsbuch2[Kategorie],P$4,Haushaltsbuch2[Datum],\">\"&B155,Haushaltsbuch2[Datum],\"<=\"&B156)","v":0},{"$f":"SUMIFS(Haushaltsbuch2[Einnahmen],Haushaltsbuch2[Kategorie],Q$4,Haushaltsbuch2[Datum],\">\"&B155,Haushaltsbuch2[Datum],\"<=\"&B156)","v":0},{"$f":"SUMIFS(Haushaltsbuch2[Einnahmen],Haushaltsbuch2[Kategorie],R$4,Haushaltsbuch2[Datum],\">\"&B155,Haushaltsbuch2[Datum],\"<=\"&B156)","v":0},null,null,null,null,null,null,null,null,null,null,null,null,null,null,null,null,null,null,{"$f":"SUMIFS(Haushaltsbuch2[Ausgaben],Haushaltsbuch2[Kategorie],AK$4,Haushaltsbuch2[Datum],\">\"&B155,Haushaltsbuch2[Datum],\"<=\"&B156)","v":0},null,null,{"$f":"SUMIFS(Dividenden[Betrag in EUR],Dividenden[Datum],\">\"&B155,Dividenden[Datum],\"<=\"&B156)","v":0},{"$f":"SUMIFS(Optionen[G/V (Netto)],Optionen[Datum],\">\"&B155,Optionen[Datum],\"<=\"&B156)","v":0},null,0,0,null,0,0,null,{"$f":"SUMIFS(Haushaltsbuch2[Einnahmen],Haushaltsbuch2[Datum],\">\"&B155,Haushaltsbuch2[Datum],\"<=\"&B156)+AN156+AO156","v":0},null,0,null,{"$f":"SUMIFS(Haushaltsbuch2[Ausgaben],Haushaltsbuch2[Datum],\">\"&B155,Haushaltsbuch2[Datum],\"<=\"&B156)","v":0}]
[null,30255,null,null,null,null,null,null,null,null,null,null,{"$f":"SUMIFS(Haushaltsbuch2[Einnahmen],Haushaltsbuch2[Kategorie],M$4,Haushaltsbuch2[Datum],\">\"&B156,Haushaltsbuch2[Datum],\"<=\"&B157)","v":0},{"$f":"SUMIFS(Haushaltsbuch2[Einnahmen],Haushaltsbuch2[Kategorie],N$4,Haushaltsbuch2[Datum],\">\"&B156,Haushaltsbuch2[Datum],\"<=\"&B157)","v":0},{"$f":"SUMIFS(Haushaltsbuch2[Einnahmen],Haushaltsbuch2[Kategorie],O$4,Haushaltsbuch2[Datum],\">\"&B156,Haushaltsbuch2[Datum],\"<=\"&B157)","v":0},{"$f":"SUMIFS(Haushaltsbuch2[Einnahmen],Haushaltsbuch2[Kategorie],P$4,Haushaltsbuch2[Datum],\">\"&B156,Haushaltsbuch2[Datum],\"<=\"&B157)","v":0},{"$f":"SUMIFS(Haushaltsbuch2[Einnahmen],Haushaltsbuch2[Kategorie],Q$4,Haushaltsbuch2[Datum],\">\"&B156,Haushaltsbuch2[Datum],\"<=\"&B157)","v":0},{"$f":"SUMIFS(Haushaltsbuch2[Einnahmen],Haushaltsbuch2[Kategorie],R$4,Haushaltsbuch2[Datum],\">\"&B156,Haushaltsbuch2[Datum],\"<=\"&B157)","v":0},null,null,null,null,null,null,null,null,null,null,null,null,null,null,null,null,null,null,{"$f":"SUMIFS(Haushaltsbuch2[Ausgaben],Haushaltsbuch2[Kategorie],AK$4,Haushaltsbuch2[Datum],\">\"&B156,Haushaltsbuch2[Datum],\"<=\"&B157)","v":0},null,null,{"$f":"SUMIFS(Dividenden[Betrag in EUR],Dividenden[Datum],\">\"&B156,Dividenden[Datum],\"<=\"&B157)","v":0},{"$f":"SUMIFS(Optionen[G/V (Netto)],Optionen[Datum],\">\"&B156,Optionen[Datum],\"<=\"&B157)","v":0},null,0,0,null,0,0,null,{"$f":"SUMIFS(Haushaltsbuch2[Einnahmen],Haushaltsbuch2[Datum],\">\"&B156,Haushaltsbuch2[Datum],\"<=\"&B157)+AN157+AO157","v":0},null,0,null,{"$f":"SUMIFS(Haushaltsbuch2[Ausgaben],Haushaltsbuch2[Datum],\">\"&B156,Haushaltsbuch2[Datum],\"<=\"&B157)","v":0}]
[null,30285,null,null,null,null,null,null,null,null,null,null,{"$f":"SUMIFS(Haushaltsbuch2[Einnahmen],Haushaltsbuch2[Kategorie],M$4,Haushaltsbuch2[Datum],\">\"&B157,Haushaltsbuch2[Datum],\"<=\"&B158)","v":0},{"$f":"SUMIFS(Haushaltsbuch2[Einnahmen],Haushaltsbuch2[Kategorie],N$4,Haushaltsbuch2[Datum],\">\"&B157,Haushaltsbuch2[Datum],\"<=\"&B158)","v":0},{"$f":"SUMIFS(Haushaltsbuch2[Einnahmen],Haushaltsbuch2[Kategorie],O$4,Haushaltsbuch2[Datum],\">\"&B157,Haushaltsbuch2[Datum],\"<=\"&B158)","v":0},{"$f":"SUMIFS(Haushaltsbuch2[Einnahmen],Haushaltsbuch2[Kategorie],P$4,Haushaltsbuch2[Datum],\">\"&B157,Haushaltsbuch2[Datum],\"<=\"&B158)","v":0},{"$f":"SUMIFS(Haushaltsbuch2[Einnahmen],Haushaltsbuch2[Kategorie],Q$4,Haushaltsbuch2[Datum],\">\"&B157,Haushaltsbuch2[Datum],\"<=\"&B158)","v":0},{"$f":"SUMIFS(Haushaltsbuch2[Einnahmen],Haushaltsbuch2[Kategorie],R$4,Haushaltsbuch2[Datum],\">\"&B157,Haushaltsbuch2[Datum],\"<=\"&B158)","v":0},null,null,null,null,null,null,null,null,null,null,null,null,null,null,null,null,null,null,{"$f":"SUMIFS(Haushaltsbuch2[Ausgaben],Haushaltsbuch2[Kategorie],AK$4,Haushaltsbuch2[Datum],\">\"&B157,Haushaltsbuch2[Datum],\"<=\"&B158)","v":0},null,null,{"$f":"SUMIFS(Dividenden[Betrag in EUR],Dividenden[Datum],\">\"&B157,Dividenden[Datum],\"<=\"&B158)","v":0},{"$f":"SUMIFS(Optionen[G/V (Netto)],Optionen[Datum],\">\"&B157,Optionen[Datum],\"<=\"&B158)","v":0},null,0,0,null,0,0,null,{"$f":"SUMIFS(Haushaltsbuch2[Einnahmen],Haushaltsbuch2[Datum],\">\"&B157,Haushaltsbuch2[Datum],\"<=\"&B158)+AN158+AO158","v":0},null,0,null,{"$f":"SUMIFS(Haushaltsbuch2[Ausgaben],Haushaltsbuch2[Datum],\">\"&B157,Haushaltsbuch2[Datum],\"<=\"&B158)","v":0}]
[null,30316,null,null,null,null,null,null,null,null,null,null,{"$f":"SUMIFS(Haushaltsbuch2[Einnahmen],Haushaltsbuch2[Kategorie],M$4,Haushaltsbuch2[Datum],\">\"&B158,Haushaltsbuch2[Datum],\"<=\"&B159)","v":0},{"$f":"SUMIFS(Haushaltsbuch2[Einnahmen],Haushaltsbuch2[Kategorie],N$4,Haushaltsbuch2[Datum],\">\"&B158,Haushaltsbuch2[Datum],\"<=\"&B159)","v":0},{"$f":"SUMIFS(Haushaltsbuch2[Einnahmen],Haushaltsbuch2[Kategorie],O$4,Haushaltsbuch2[Datum],\">\"&B158,Haushaltsbuch2[Datum],\"<=\"&B159)","v":0},{"$f":"SUMIFS(Haushaltsbuch2[Einnahmen],Haushaltsbuch2[Kategorie],P$4,Haushaltsbuch2[Datum],\">\"&B158,Haushaltsbuch2[Datum],\"<=\"&B159)","v":0},{"$f":"SUMIFS(Haushaltsbuch2[Einnahmen],Haushaltsbuch2[Kategorie],Q$4,Haushaltsbuch2[Datum],\">\"&B158,Haushaltsbuch2[Datum],\"<=\"&B159)","v":0},{"$f":"SUMIFS(Haushaltsbuch2[Einnahmen],Haushaltsbuch2[Kategorie],R$4,Haushaltsbuch2[Datum],\">\"&B158,Haushaltsbuch2[Datum],\"<=\"&B159)","v":0},null,null,null,null,null,null,null,null,null,null,null,null,null,null,null,null,null,null,{"$f":"SUMIFS(Haushaltsbuch2[Ausgaben],Haushaltsbuch2[Kategorie],AK$4,Haushaltsbuch2[Datum],\">\"&B158,Haushaltsbuch2[Datum],\"<=\"&B159)","v":0},null,null,{"$f":"SUMIFS(Dividenden[Betrag in EUR],Dividenden[Datum],\">\"&B158,Dividenden[Datum],\"<=\"&B159)","v":0},{"$f":"SUMIFS(Optionen[G/V (Netto)],Optionen[Datum],\">\"&B158,Optionen[Datum],\"<=\"&B159)","v":0},null,0,0,null,0,0,null,{"$f":"SUMIFS(Haushaltsbuch2[Einnahmen],Haushaltsbuch2[Datum],\">\"&B158,Haushaltsbuch2[Datum],\"<=\"&B159)+AN159+AO159","v":0},null,0,null,{"$f":"SUMIFS(Haushaltsbuch2[Ausgaben],Haushaltsbuch2[Datum],\">\"&B158,Haushaltsbuch2[Datum],\"<=\"&B159)","v":0}]
[null,30347,null,null,null,null,null,null,null,null,null,null,{"$f":"SUMIFS(Haushaltsbuch2[Einnahmen],Haushaltsbuch2[Kategorie],M$4,Haushaltsbuch2[Datum],\">\"&B159,Haushaltsbuch2[Datum],\"<=\"&B160)","v":0},{"$f":"SUMIFS(Haushaltsbuch2[Einnahmen],Haushaltsbuch2[Kategorie],N$4,Haushaltsbuch2[Datum],\">\"&B159,Haushaltsbuch2[Datum],\"<=\"&B160)","v":0},{"$f":"SUMIFS(Haushaltsbuch2[Einnahmen],Haushaltsbuch2[Kategorie],O$4,Haushaltsbuch2[Datum],\">\"&B159,Haushaltsbuch2[Datum],\"<=\"&B160)","v":0},{"$f":"SUMIFS(Haushaltsbuch2[Einnahmen],Haushaltsbuch2[Kategorie],P$4,Haushaltsbuch2[Datum],\">\"&B159,Haushaltsbuch2[Datum],\"<=\"&B160)","v":0},{"$f":"SUMIFS(Haushaltsbuch2[Einnahmen],Haushaltsbuch2[Kategorie],Q$4,Haushaltsbuch2[Datum],\">\"&B159,Haushaltsbuch2[Datum],\"<=\"&B160)","v":0},{"$f":"SUMIFS(Haushaltsbuch2[Einnahmen],Haushaltsbuch2[Kategorie],R$4,Haushaltsbuch2[Datum],\">\"&B159,Haushaltsbuch2[Datum],\"<=\"&B160)","v":0},null,null,null,null,null,null,null,null,null,null,null,null,null,null,null,null,null,null,{"$f":"SUMIFS(Haushaltsbuch2[Ausgaben],Haushaltsbuch2[Kategorie],AK$4,Haushaltsbuch2[Datum],\">\"&B159,Haushaltsbuch2[Datum],\"<=\"&B160)","v":0},null,null,{"$f":"SUMIFS(Dividenden[Betrag in EUR],Dividenden[Datum],\">\"&B159,Dividenden[Datum],\"<=\"&B160)","v":0},{"$f":"SUMIFS(Optionen[G/V (Netto)],Optionen[Datum],\">\"&B159,Optionen[Datum],\"<=\"&B160)","v":0},null,0,0,null,0,0,null,{"$f":"SUMIFS(Haushaltsbuch2[Einnahmen],Haushaltsbuch2[Datum],\">\"&B159,Haushaltsbuch2[Datum],\"<=\"&B160)+AN160+AO160","v":0},null,0,null,{"$f":"SUMIFS(Haushaltsbuch2[Ausgaben],Haushaltsbuch2[Datum],\">\"&B159,Haushaltsbuch2[Datum],\"<=\"&B160)","v":0}]
[null,30375,null,null,null,null,null,null,null,null,null,null,{"$f":"SUMIFS(Haushaltsbuch2[Einnahmen],Haushaltsbuch2[Kategorie],M$4,Haushaltsbuch2[Datum],\">\"&B160,Haushaltsbuch2[Datum],\"<=\"&B161)","v":0},{"$f":"SUMIFS(Haushaltsbuch2[Einnahmen],Haushaltsbuch2[Kategorie],N$4,Haushaltsbuch2[Datum],\">\"&B160,Haushaltsbuch2[Datum],\"<=\"&B161)","v":0},{"$f":"SUMIFS(Haushaltsbuch2[Einnahmen],Haushaltsbuch2[Kategorie],O$4,Haushaltsbuch2[Datum],\">\"&B160,Haushaltsbuch2[Datum],\"<=\"&B161)","v":0},{"$f":"SUMIFS(Haushaltsbuch2[Einnahmen],Haushaltsbuch2[Kategorie],P$4,Haushaltsbuch2[Datum],\">\"&B160,Haushaltsbuch2[Datum],\"<=\"&B161)","v":0},{"$f":"SUMIFS(Haushaltsbuch2[Einnahmen],Haushaltsbuch2[Kategorie],Q$4,Haushaltsbuch2[Datum],\">\"&B160,Haushaltsbuch2[Datum],\"<=\"&B161)","v":0},{"$f":"SUMIFS(Haushaltsbuch2[Einnahmen],Haushaltsbuch2[Kategorie],R$4,Haushaltsbuch2[Datum],\">\"&B160,Haushaltsbuch2[Datum],\"<=\"&B161)","v":0},null,null,null,null,null,null,null,null,null,null,null,null,null,null,null,null,null,null,{"$f":"SUMIFS(Haushaltsbuch2[Ausgaben],Haushaltsbuch2[Kategorie],AK$4,Haushaltsbuch2[Datum],\">\"&B160,Haushaltsbuch2[Datum],\"<=\"&B161)","v":0},null,null,{"$f":"SUMIFS(Dividenden[Betrag in EUR],Dividenden[Datum],\">\"&B160,Dividenden[Datum],\"<=\"&B161)","v":0},{"$f":"SUMIFS(Optionen[G/V (Netto)],Optionen[Datum],\">\"&B160,Optionen[Datum],\"<=\"&B161)","v":0},null,0,0,null,0,0,null,{"$f":"SUMIFS(Haushaltsbuch2[Einnahmen],Haushaltsbuch2[Datum],\">\"&B160,Haushaltsbuch2[Datum],\"<=\"&B161)+AN161+AO161","v":0},null,0,null,{"$f":"SUMIFS(Haushaltsbuch2[Ausgaben],Haushaltsbuch2[Datum],\">\"&B160,Haushaltsbuch2[Datum],\"<=\"&B161)","v":0}]
[null,30406,null,null,null,null,null,null,null,null,null,null,{"$f":"SUMIFS(Haushaltsbuch2[Einnahmen],Haushaltsbuch2[Kategorie],M$4,Haushaltsbuch2[Datum],\">\"&B161,Haushaltsbuch2[Datum],\"<=\"&B162)","v":0},{"$f":"SUMIFS(Haushaltsbuch2[Einnahmen],Haushaltsbuch2[Kategorie],N$4,Haushaltsbuch2[Datum],\">\"&B161,Haushaltsbuch2[Datum],\"<=\"&B162)","v":0},{"$f":"SUMIFS(Haushaltsbuch2[Einnahmen],Haushaltsbuch2[Kategorie],O$4,Haushaltsbuch2[Datum],\">\"&B161,Haushaltsbuch2[Datum],\"<=\"&B162)","v":0},{"$f":"SUMIFS(Haushaltsbuch2[Einnahmen],Haushaltsbuch2[Kategorie],P$4,Haushaltsbuch2[Datum],\">\"&B161,Haushaltsbuch2[Datum],\"<=\"&B162)","v":0},{"$f":"SUMIFS(Haushaltsbuch2[Einnahmen],Haushaltsbuch2[Kategorie],Q$4,Haushaltsbuch2[Datum],\">\"&B161,Haushaltsbuch2[Datum],\"<=\"&B162)","v":0},{"$f":"SUMIFS(Haushaltsbuch2[Einnahmen],Haushaltsbuch2[Kategorie],R$4,Haushaltsbuch2[Datum],\">\"&B161,Haushaltsbuch2[Datum],\"<=\"&B162)","v":0},null,null,null,null,null,null,null,null,null,null,null,null,null,null,null,null,null,null,{"$f":"SUMIFS(Haushaltsbuch2[Ausgaben],Haushaltsbuch2[Kategorie],AK$4,Haushaltsbuch2[Datum],\">\"&B161,Haushaltsbuch2[Datum],\"<=\"&B162)","v":0},null,null,{"$f":"SUMIFS(Dividenden[Betrag in EUR],Dividenden[Datum],\">\"&B161,Dividenden[Datum],\"<=\"&B162)","v":0},{"$f":"SUMIFS(Optionen[G/V (Netto)],Optionen[Datum],\">\"&B161,Optionen[Datum],\"<=\"&B162)","v":0},null,0,0,null,0,0,null,{"$f":"SUMIFS(Haushaltsbuch2[Einnahmen],Haushaltsbuch2[Datum],\">\"&B161,Haushaltsbuch2[Datum],\"<=\"&B162)+AN162+AO162","v":0},null,0,null,{"$f":"SUMIFS(Haushaltsbuch2[Ausgaben],Haushaltsbuch2[Datum],\">\"&B161,Haushaltsbuch2[Datum],\"<=\"&B162)","v":0}]
[null,30436,null,null,null,null,null,null,null,null,null,null,{"$f":"SUMIFS(Haushaltsbuch2[Einnahmen],Haushaltsbuch2[Kategorie],M$4,Haushaltsbuch2[Datum],\">\"&B162,Haushaltsbuch2[Datum],\"<=\"&B163)","v":0},{"$f":"SUMIFS(Haushaltsbuch2[Einnahmen],Haushaltsbuch2[Kategorie],N$4,Haushaltsbuch2[Datum],\">\"&B162,Haushaltsbuch2[Datum],\"<=\"&B163)","v":0},{"$f":"SUMIFS(Haushaltsbuch2[Einnahmen],Haushaltsbuch2[Kategorie],O$4,Haushaltsbuch2[Datum],\">\"&B162,Haushaltsbuch2[Datum],\"<=\"&B163)","v":0},{"$f":"SUMIFS(Haushaltsbuch2[Einnahmen],Haushaltsbuch2[Kategorie],P$4,Haushaltsbuch2[Datum],\">\"&B162,Haushaltsbuch2[Datum],\"<=\"&B163)","v":0},{"$f":"SUMIFS(Haushaltsbuch2[Einnahmen],Haushaltsbuch2[Kategorie],Q$4,Haushaltsbuch2[Datum],\">\"&B162,Haushaltsbuch2[Datum],\"<=\"&B163)","v":0},{"$f":"SUMIFS(Haushaltsbuch2[Einnahmen],Haushaltsbuch2[Kategorie],R$4,Haushaltsbuch2[Datum],\">\"&B162,Haushaltsbuch2[Datum],\"<=\"&B163)","v":0},null,null,null,null,null,null,null,null,null,null,null,null,null,null,null,null,null,null,{"$f":"SUMIFS(Haushaltsbuch2[Ausgaben],Haushaltsbuch2[Kategorie],AK$4,Haushaltsbuch2[Datum],\">\"&B162,Haushaltsbuch2[Datum],\"<=\"&B163)","v":0},null,null,{"$f":"SUMIFS(Dividenden[Betrag in EUR],Dividenden[Datum],\">\"&B162,Dividenden[Datum],\"<=\"&B163)","v":0},{"$f":"SUMIFS(Optionen[G/V (Netto)],Optionen[Datum],\">\"&B162,Optionen[Datum],\"<=\"&B163)","v":0},null,0,0,null,0,0,null,{"$f":"SUMIFS(Haushaltsbuch2[Einnahmen],Haushaltsbuch2[Datum],\">\"&B162,Haushaltsbuch2[Datum],\"<=\"&B163)+AN163+AO163","v":0},null,0,null,{"$f":"SUMIFS(Haushaltsbuch2[Ausgaben],Haushaltsbuch2[Datum],\">\"&B162,Haushaltsbuch2[Datum],\"<=\"&B163)","v":0}]
[null,30467,null,null,null,null,null,null,null,null,null,null,{"$f":"SUMIFS(Haushaltsbuch2[Einnahmen],Haushaltsbuch2[Kategorie],M$4,Haushaltsbuch2[Datum],\">\"&B163,Haushaltsbuch2[Datum],\"<=\"&B164)","v":0},{"$f":"SUMIFS(Haushaltsbuch2[Einnahmen],Haushaltsbuch2[Kategorie],N$4,Haushaltsbuch2[Datum],\">\"&B163,Haushaltsbuch2[Datum],\"<=\"&B164)","v":0},{"$f":"SUMIFS(Haushaltsbuch2[Einnahmen],Haushaltsbuch2[Kategorie],O$4,Haushaltsbuch2[Datum],\">\"&B163,Haushaltsbuch2[Datum],\"<=\"&B164)","v":0},{"$f":"SUMIFS(Haushaltsbuch2[Einnahmen],Haushaltsbuch2[Kategorie],P$4,Haushaltsbuch2[Datum],\">\"&B163,Haushaltsbuch2[Datum],\"<=\"&B164)","v":0},{"$f":"SUMIFS(Haushaltsbuch2[Einnahmen],Haushaltsbuch2[Kategorie],Q$4,Haushaltsbuch2[Datum],\">\"&B163,Haushaltsbuch2[Datum],\"<=\"&B164)","v":0},{"$f":"SUMIFS(Haushaltsbuch2[Einnahmen],Haushaltsbuch2[Kategorie],R$4,Haushaltsbuch2[Datum],\">\"&B163,Haushaltsbuch2[Datum],\"<=\"&B164)","v":0},null,null,null,null,null,null,null,null,null,null,null,null,null,null,null,null,null,null,{"$f":"SUMIFS(Haushaltsbuch2[Ausgaben],Haushaltsbuch2[Kategorie],AK$4,Haushaltsbuch2[Datum],\">\"&B163,Haushaltsbuch2[Datum],\"<=\"&B164)","v":0},null,null,{"$f":"SUMIFS(Dividenden[Betrag in EUR],Dividenden[Datum],\">\"&B163,Dividenden[Datum],\"<=\"&B164)","v":0},{"$f":"SUMIFS(Optionen[G/V (Netto)],Optionen[Datum],\">\"&B163,Optionen[Datum],\"<=\"&B164)","v":0},null,0,0,null,0,0,null,{"$f":"SUMIFS(Haushaltsbuch2[Einnahmen],Haushaltsbuch2[Datum],\">\"&B163,Haushaltsbuch2[Datum],\"<=\"&B164)+AN164+AO164","v":0},null,0,null,{"$f":"SUMIFS(Haushaltsbuch2[Ausgaben],Haushaltsbuch2[Datum],\">\"&B163,Haushaltsbuch2[Datum],\"<=\"&B164)","v":0}]
[null,30497,null,null,null,null,null,null,null,null,null,null,{"$f":"SUMIFS(Haushaltsbuch2[Einnahmen],Haushaltsbuch2[Kategorie],M$4,Haushaltsbuch2[Datum],\">\"&B164,Haushaltsbuch2[Datum],\"<=\"&B165)","v":0},{"$f":"SUMIFS(Haushaltsbuch2[Einnahmen],Haushaltsbuch2[Kategorie],N$4,Haushaltsbuch2[Datum],\">\"&B164,Haushaltsbuch2[Datum],\"<=\"&B165)","v":0},{"$f":"SUMIFS(Haushaltsbuch2[Einnahmen],Haushaltsbuch2[Kategorie],O$4,Haushaltsbuch2[Datum],\">\"&B164,Haushaltsbuch2[Datum],\"<=\"&B165)","v":0},{"$f":"SUMIFS(Haushaltsbuch2[Einnahmen],Haushaltsbuch2[Kategorie],P$4,Haushaltsbuch2[Datum],\">\"&B164,Haushaltsbuch2[Datum],\"<=\"&B165)","v":0},{"$f":"SUMIFS(Haushaltsbuch2[Einnahmen],Haushaltsbuch2[Kategorie],Q$4,Haushaltsbuch2[Datum],\">\"&B164,Haushaltsbuch2[Datum],\"<=\"&B165)","v":0},{"$f":"SUMIFS(Haushaltsbuch2[Einnahmen],Haushaltsbuch2[Kategorie],R$4,Haushaltsbuch2[Datum],\">\"&B164,Haushaltsbuch2[Datum],\"<=\"&B165)","v":0},null,null,null,null,null,null,null,null,null,null,null,null,null,null,null,null,null,null,{"$f":"SUMIFS(Haushaltsbuch2[Ausgaben],Haushaltsbuch2[Kategorie],AK$4,Haushaltsbuch2[Datum],\">\"&B164,Haushaltsbuch2[Datum],\"<=\"&B165)","v":0},null,null,{"$f":"SUMIFS(Dividenden[Betrag in EUR],Dividenden[Datum],\">\"&B164,Dividenden[Datum],\"<=\"&B165)","v":0},{"$f":"SUMIFS(Optionen[G/V (Netto)],Optionen[Datum],\">\"&B164,Optionen[Datum],\"<=\"&B165)","v":0},null,0,0,null,0,0,null,{"$f":"SUMIFS(Haushaltsbuch2[Einnahmen],Haushaltsbuch2[Datum],\">\"&B164,Haushaltsbuch2[Datum],\"<=\"&B165)+AN165+AO165","v":0},null,0,null,{"$f":"SUMIFS(Haushaltsbuch2[Ausgaben],Haushaltsbuch2[Datum],\">\"&B164,Haushaltsbuch2[Datum],\"<=\"&B165)","v":0}]
[null,30528,null,null,null,null,null,null,null,null,null,null,{"$f":"SUMIFS(Haushaltsbuch2[Einnahmen],Haushaltsbuch2[Kategorie],M$4,Haushaltsbuch2[Datum],\">\"&B165,Haushaltsbuch2[Datum],\"<=\"&B166)","v":0},{"$f":"SUMIFS(Haushaltsbuch2[Einnahmen],Haushaltsbuch2[Kategorie],N$4,Haushaltsbuch2[Datum],\">\"&B165,Haushaltsbuch2[Datum],\"<=\"&B166)","v":0},{"$f":"SUMIFS(Haushaltsbuch2[Einnahmen],Haushaltsbuch2[Kategorie],O$4,Haushaltsbuch2[Datum],\">\"&B165,Haushaltsbuch2[Datum],\"<=\"&B166)","v":0},{"$f":"SUMIFS(Haushaltsbuch2[Einnahmen],Haushaltsbuch2[Kategorie],P$4,Haushaltsbuch2[Datum],\">\"&B165,Haushaltsbuch2[Datum],\"<=\"&B166)","v":0},{"$f":"SUMIFS(Haushaltsbuch2[Einnahmen],Haushaltsbuch2[Kategorie],Q$4,Haushaltsbuch2[Datum],\">\"&B165,Haushaltsbuch2[Datum],\"<=\"&B166)","v":0},{"$f":"SUMIFS(Haushaltsbuch2[Einnahmen],Haushaltsbuch2[Kategorie],R$4,Haushaltsbuch2[Datum],\">\"&B165,Haushaltsbuch2[Datum],\"<=\"&B166)","v":0},null,null,null,null,null,null,null,null,null,null,null,null,null,null,null,null,null,null,{"$f":"SUMIFS(Haushaltsbuch2[Ausgaben],Haushaltsbuch2[Kategorie],AK$4,Haushaltsbuch2[Datum],\">\"&B165,Haushaltsbuch2[Datum],\"<=\"&B166)","v":0},null,null,{"$f":"SUMIFS(Dividenden[Betrag in EUR],Dividenden[Datum],\">\"&B165,Dividenden[Datum],\"<=\"&B166)","v":0},{"$f":"SUMIFS(Optionen[G/V (Netto)],Optionen[Datum],\">\"&B165,Optionen[Datum],\"<=\"&B166)","v":0},null,0,0,null,0,0,null,{"$f":"SUMIFS(Haushaltsbuch2[Einnahmen],Haushaltsbuch2[Datum],\">\"&B165,Haushaltsbuch2[Datum],\"<=\"&B166)+AN166+AO166","v":0},null,0,null,{"$f":"SUMIFS(Haushaltsbuch2[Ausgaben],Haushaltsbuch2[Datum],\">\"&B165,Haushaltsbuch2[Datum],\"<=\"&B166)","v":0}]
[null,30559,null,null,null,null,null,null,null,null,null,null,{"$f":"SUMIFS(Haushaltsbuch2[Einnahmen],Haushaltsbuch2[Kategorie],M$4,Haushaltsbuch2[Datum],\">\"&B166,Haushaltsbuch2[Datum],\"<=\"&B167)","v":0},{"$f":"SUMIFS(Haushaltsbuch2[Einnahmen],Haushaltsbuch2[Kategorie],N$4,Haushaltsbuch2[Datum],\">\"&B166,Haushaltsbuch2[Datum],\"<=\"&B167)","v":0},{"$f":"SUMIFS(Haushaltsbuch2[Einnahmen],Haushaltsbuch2[Kategorie],O$4,Haushaltsbuch2[Datum],\">\"&B166,Haushaltsbuch2[Datum],\"<=\"&B167)","v":0},{"$f":"SUMIFS(Haushaltsbuch2[Einnahmen],Haushaltsbuch2[Kategorie],P$4,Haushaltsbuch2[Datum],\">\"&B166,Haushaltsbuch2[Datum],\"<=\"&B167)","v":0},{"$f":"SUMIFS(Haushaltsbuch2[Einnahmen],Haushaltsbuch2[Kategorie],Q$4,Haushaltsbuch2[Datum],\">\"&B166,Haushaltsbuch2[Datum],\"<=\"&B167)","v":0},{"$f":"SUMIFS(Haushaltsbuch2[Einnahmen],Haushaltsbuch2[Kategorie],R$4,Haushaltsbuch2[Datum],\">\"&B166,Haushaltsbuch2[Datum],\"<=\"&B167)","v":0},null,null,null,null,null,null,null,null,null,null,null,null,null,null,null,null,null,null,{"$f":"SUMIFS(Haushaltsbuch2[Ausgaben],Haushaltsbuch2[Kategorie],AK$4,Haushaltsbuch2[Datum],\">\"&B166,Haushaltsbuch2[Datum],\"<=\"&B167)","v":0},null,null,{"$f":"SUMIFS(Dividenden[Betrag in EUR],Dividenden[Datum],\">\"&B166,Dividenden[Datum],\"<=\"&B167)","v":0},{"$f":"SUMIFS(Optionen[G/V (Netto)],Optionen[Datum],\">\"&B166,Optionen[Datum],\"<=\"&B167)","v":0},null,0,0,null,0,0,null,{"$f":"SUMIFS(Haushaltsbuch2[Einnahmen],Haushaltsbuch2[Datum],\">\"&B166,Haushaltsbuch2[Datum],\"<=\"&B167)+AN167+AO167","v":0},null,0,null,{"$f":"SUMIFS(Haushaltsbuch2[Ausgaben],Haushaltsbuch2[Datum],\">\"&B166,Haushaltsbuch2[Datum],\"<=\"&B167)","v":0}]
[null,30589,null,null,null,null,null,null,null,null,null,null,{"$f":"SUMIFS(Haushaltsbuch2[Einnahmen],Haushaltsbuch2[Kategorie],M$4,Haushaltsbuch2[Datum],\">\"&B167,Haushaltsbuch2[Datum],\"<=\"&B168)","v":0},{"$f":"SUMIFS(Haushaltsbuch2[Einnahmen],Haushaltsbuch2[Kategorie],N$4,Haushaltsbuch2[Datum],\">\"&B167,Haushaltsbuch2[Datum],\"<=\"&B168)","v":0},{"$f":"SUMIFS(Haushaltsbuch2[Einnahmen],Haushaltsbuch2[Kategorie],O$4,Haushaltsbuch2[Datum],\">\"&B167,Haushaltsbuch2[Datum],\"<=\"&B168)","v":0},{"$f":"SUMIFS(Haushaltsbuch2[Einnahmen],Haushaltsbuch2[Kategorie],P$4,Haushaltsbuch2[Datum],\">\"&B167,Haushaltsbuch2[Datum],\"<=\"&B168)","v":0},{"$f":"SUMIFS(Haushaltsbuch2[Einnahmen],Haushaltsbuch2[Kategorie],Q$4,Haushaltsbuch2[Datum],\">\"&B167,Haushaltsbuch2[Datum],\"<=\"&B168)","v":0},{"$f":"SUMIFS(Haushaltsbuch2[Einnahmen],Haushaltsbuch2[Kategorie],R$4,Haushaltsbuch2[Datum],\">\"&B167,Haushaltsbuch2[Datum],\"<=\"&B168)","v":0},null,null,null,null,null,null,null,null,null,null,null,null,null,null,null,null,null,null,{"$f":"SUMIFS(Haushaltsbuch2[Ausgaben],Haushaltsbuch2[Kategorie],AK$4,Haushaltsbuch2[Datum],\">\"&B167,Haushaltsbuch2[Datum],\"<=\"&B168)","v":0},null,null,{"$f":"SUMIFS(Dividenden[Betrag in EUR],Dividenden[Datum],\">\"&B167,Dividenden[Datum],\"<=\"&B168)","v":0},{"$f":"SUMIFS(Optionen[G/V (Netto)],Optionen[Datum],\">\"&B167,Optionen[Datum],\"<=\"&B168)","v":0},null,0,0,null,0,0,null,{"$f":"SUMIFS(Haushaltsbuch2[Einnahmen],Haushaltsbuch2[Datum],\">\"&B167,Haushaltsbuch2[Datum],\"<=\"&B168)+AN168+AO168","v":0},null,0,null,{"$f":"SUMIFS(Haushaltsbuch2[Ausgaben],Haushaltsbuch2[Datum],\">\"&B167,Haushaltsbuch2[Datum],\"<=\"&B168)","v":0}]
[null,30620,null,null,null,null,null,null,null,null,null,null,{"$f":"SUMIFS(Haushaltsbuch2[Einnahmen],Haushaltsbuch2[Kategorie],M$4,Haushaltsbuch2[Datum],\">\"&B168,Haushaltsbuch2[Datum],\"<=\"&B169)","v":0},{"$f":"SUMIFS(Haushaltsbuch2[Einnahmen],Haushaltsbuch2[Kategorie],N$4,Haushaltsbuch2[Datum],\">\"&B168,Haushaltsbuch2[Datum],\"<=\"&B169)","v":0},{"$f":"SUMIFS(Haushaltsbuch2[Einnahmen],Haushaltsbuch2[Kategorie],O$4,Haushaltsbuch2[Datum],\">\"&B168,Haushaltsbuch2[Datum],\"<=\"&B169)","v":0},{"$f":"SUMIFS(Haushaltsbuch2[Einnahmen],Haushaltsbuch2[Kategorie],P$4,Haushaltsbuch2[Datum],\">\"&B168,Haushaltsbuch2[Datum],\"<=\"&B169)","v":0},{"$f":"SUMIFS(Haushaltsbuch2[Einnahmen],Haushaltsbuch2[Kategorie],Q$4,Haushaltsbuch2[Datum],\">\"&B168,Haushaltsbuch2[Datum],\"<=\"&B169)","v":0},{"$f":"SUMIFS(Haushaltsbuch2[Einnahmen],Haushaltsbuch2[Kategorie],R$4,Haushaltsbuch2[Datum],\">\"&B168,Haushaltsbuch2[Datum],\"<=\"&B169)","v":0},null,null,null,null,null,null,null,null,null,null,null,null,null,null,null,null,null,null,{"$f":"SUMIFS(Haushaltsbuch2[Ausgaben],Haushaltsbuch2[Kategorie],AK$4,Haushaltsbuch2[Datum],\">\"&B168,Haushaltsbuch2[Datum],\"<=\"&B169)","v":0},null,null,{"$f":"SUMIFS(Dividenden[Betrag in EUR],Dividenden[Datum],\">\"&B168,Dividenden[Datum],\"<=\"&B169)","v":0},{"$f":"SUMIFS(Optionen[G/V (Netto)],Optionen[Datum],\">\"&B168,Optionen[Datum],\"<=\"&B169)","v":0},null,0,0,null,0,0,null,{"$f":"SUMIFS(Haushaltsbuch2[Einnahmen],Haushaltsbuch2[Datum],\">\"&B168,Haushaltsbuch2[Datum],\"<=\"&B169)+AN169+AO169","v":0},null,0,null,{"$f":"SUMIFS(Haushaltsbuch2[Ausgaben],Haushaltsbuch2[Datum],\">\"&B168,Haushaltsbuch2[Datum],\"<=\"&B169)","v":0}]
[null,30650,null,null,null,null,null,null,null,null,null,null,{"$f":"SUMIFS(Haushaltsbuch2[Einnahmen],Haushaltsbuch2[Kategorie],M$4,Haushaltsbuch2[Datum],\">\"&B169,Haushaltsbuch2[Datum],\"<=\"&B170)","v":0},{"$f":"SUMIFS(Haushaltsbuch2[Einnahmen],Haushaltsbuch2[Kategorie],N$4,Haushaltsbuch2[Datum],\">\"&B169,Haushaltsbuch2[Datum],\"<=\"&B170)","v":0},{"$f":"SUMIFS(Haushaltsbuch2[Einnahmen],Haushaltsbuch2[Kategorie],O$4,Haushaltsbuch2[Datum],\">\"&B169,Haushaltsbuch2[Datum],\"<=\"&B170)","v":0},{"$f":"SUMIFS(Haushaltsbuch2[Einnahmen],Haushaltsbuch2[Kategorie],P$4,Haushaltsbuch2[Datum],\">\"&B169,Haushaltsbuch2[Datum],\"<=\"&B170)","v":0},{"$f":"SUMIFS(Haushaltsbuch2[Einnahmen],Haushaltsbuch2[Kategorie],Q$4,Haushaltsbuch2[Datum],\">\"&B169,Haushaltsbuch2[Datum],\"<=\"&B170)","v":0},{"$f":"SUMIFS(Haushaltsbuch2[Einnahmen],Haushaltsbuch2[Kategorie],R$4,Haushaltsbuch2[Datum],\">\"&B169,Haushaltsbuch2[Datum],\"<=\"&B170)","v":0},null,null,null,null,null,null,null,null,null,null,null,null,null,null,null,null,null,null,{"$f":"SUMIFS(Haushaltsbuch2[Ausgaben],Haushaltsbuch2[Kategorie],AK$4,Haushaltsbuch2[Datum],\">\"&B169,Haushaltsbuch2[Datum],\"<=\"&B170)","v":0},null,null,{"$f":"SUMIFS(Dividenden[Betrag in EUR],Dividenden[Datum],\">\"&B169,Dividenden[Datum],\"<=\"&B170)","v":0},{"$f":"SUMIFS(Optionen[G/V (Netto)],Optionen[Datum],\">\"&B169,Optionen[Datum],\"<=\"&B170)","v":0},null,0,0,null,0,0,null,{"$f":"SUMIFS(Haushaltsbuch2[Einnahmen],Haushaltsbuch2[Datum],\">\"&B169,Haushaltsbuch2[Datum],\"<=\"&B170)+AN170+AO170","v":0},null,0,null,{"$f":"SUMIFS(Haushaltsbuch2[Ausgaben],Haushaltsbuch2[Datum],\">\"&B169,Haushaltsbuch2[Datum],\"<=\"&B170)","v":0}]
[null,30681,null,null,null,null,null,null,null,null,null,null,{"$f":"SUMIFS(Haushaltsbuch2[Einnahmen],Haushaltsbuch2[Kategorie],M$4,Haushaltsbuch2[Datum],\">\"&B170,Haushaltsbuch2[Datum],\"<=\"&B171)","v":0},{"$f":"SUMIFS(Haushaltsbuch2[Einnahmen],Haushaltsbuch2[Kategorie],N$4,Haushaltsbuch2[Datum],\">\"&B170,Haushaltsbuch2[Datum],\"<=\"&B171)","v":0},{"$f":"SUMIFS(Haushaltsbuch2[Einnahmen],Haushaltsbuch2[Kategorie],O$4,Haushaltsbuch2[Datum],\">\"&B170,Haushaltsbuch2[Datum],\"<=\"&B171)","v":0},{"$f":"SUMIFS(Haushaltsbuch2[Einnahmen],Haushaltsbuch2[Kategorie],P$4,Haushaltsbuch2[Datum],\">\"&B170,Haushaltsbuch2[Datum],\"<=\"&B171)","v":0},{"$f":"SUMIFS(Haushaltsbuch2[Einnahmen],Haushaltsbuch2[Kategorie],Q$4,Haushaltsbuch2[Datum],\">\"&B170,Haushaltsbuch2[Datum],\"<=\"&B171)","v":0},{"$f":"SUMIFS(Haushaltsbuch2[Einnahmen],Haushaltsbuch2[Kategorie],R$4,Haushaltsbuch2[Datum],\">\"&B170,Haushaltsbuch2[Datum],\"<=\"&B171)","v":0},null,null,null,null,null,null,null,null,null,null,null,null,null,null,null,null,null,null,{"$f":"SUMIFS(Haushaltsbuch2[Ausgaben],Haushaltsbuch2[Kategorie],AK$4,Haushaltsbuch2[Datum],\">\"&B170,Haushaltsbuch2[Datum],\"<=\"&B171)","v":0},null,null,{"$f":"SUMIFS(Dividenden[Betrag in EUR],Dividenden[Datum],\">\"&B170,Dividenden[Datum],\"<=\"&B171)","v":0},{"$f":"SUMIFS(Optionen[G/V (Netto)],Optionen[Datum],\">\"&B170,Optionen[Datum],\"<=\"&B171)","v":0},null,0,0,null,0,0,null,{"$f":"SUMIFS(Haushaltsbuch2[Einnahmen],Haushaltsbuch2[Datum],\">\"&B170,Haushaltsbuch2[Datum],\"<=\"&B171)+AN171+AO171","v":0},null,0,null,{"$f":"SUMIFS(Haushaltsbuch2[Ausgaben],Haushaltsbuch2[Datum],\">\"&B170,Haushaltsbuch2[Datum],\"<=\"&B171)","v":0}]
[null,30712,null,null,null,null,null,null,null,null,null,null,{"$f":"SUMIFS(Haushaltsbuch2[Einnahmen],Haushaltsbuch2[Kategorie],M$4,Haushaltsbuch2[Datum],\">\"&B171,Haushaltsbuch2[Datum],\"<=\"&B172)","v":0},{"$f":"SUMIFS(Haushaltsbuch2[Einnahmen],Haushaltsbuch2[Kategorie],N$4,Haushaltsbuch2[Datum],\">\"&B171,Haushaltsbuch2[Datum],\"<=\"&B172)","v":0},{"$f":"SUMIFS(Haushaltsbuch2[Einnahmen],Haushaltsbuch2[Kategorie],O$4,Haushaltsbuch2[Datum],\">\"&B171,Haushaltsbuch2[Datum],\"<=\"&B172)","v":0},{"$f":"SUMIFS(Haushaltsbuch2[Einnahmen],Haushaltsbuch2[Kategorie],P$4,Haushaltsbuch2[Datum],\">\"&B171,Haushaltsbuch2[Datum],\"<=\"&B172)","v":0},{"$f":"SUMIFS(Haushaltsbuch2[Einnahmen],Haushaltsbuch2[Kategorie],Q$4,Haushaltsbuch2[Datum],\">\"&B171,Haushaltsbuch2[Datum],\"<=\"&B172)","v":0},{"$f":"SUMIFS(Haushaltsbuch2[Einnahmen],Haushaltsbuch2[Kategorie],R$4,Haushaltsbuch2[Datum],\">\"&B171,Haushaltsbuch2[Datum],\"<=\"&B172)","v":0},null,null,null,null,null,null,null,null,null,null,null,null,null,null,null,null,null,null,{"$f":"SUMIFS(Haushaltsbuch2[Ausgaben],Haushaltsbuch2[Kategorie],AK$4,Haushaltsbuch2[Datum],\">\"&B171,Haushaltsbuch2[Datum],\"<=\"&B172)","v":0},null,null,{"$f":"SUMIFS(Dividenden[Betrag in EUR],Dividenden[Datum],\">\"&B171,Dividenden[Datum],\"<=\"&B172)","v":0},{"$f":"SUMIFS(Optionen[G/V (Netto)],Optionen[Datum],\">\"&B171,Optionen[Datum],\"<=\"&B172)","v":0},null,0,0,null,0,0,null,{"$f":"SUMIFS(Haushaltsbuch2[Einnahmen],Haushaltsbuch2[Datum],\">\"&B171,Haushaltsbuch2[Datum],\"<=\"&B172)+AN172+AO172","v":0},null,0,null,{"$f":"SUMIFS(Haushaltsbuch2[Ausgaben],Haushaltsbuch2[Datum],\">\"&B171,Haushaltsbuch2[Datum],\"<=\"&B172)","v":0}]
[null,30741,null,null,null,null,null,null,null,null,null,null,{"$f":"SUMIFS(Haushaltsbuch2[Einnahmen],Haushaltsbuch2[Kategorie],M$4,Haushaltsbuch2[Datum],\">\"&B172,Haushaltsbuch2[Datum],\"<=\"&B173)","v":0},{"$f":"SUMIFS(Haushaltsbuch2[Einnahmen],Haushaltsbuch2[Kategorie],N$4,Haushaltsbuch2[Datum],\">\"&B172,Haushaltsbuch2[Datum],\"<=\"&B173)","v":0},{"$f":"SUMIFS(Haushaltsbuch2[Einnahmen],Haushaltsbuch2[Kategorie],O$4,Haushaltsbuch2[Datum],\">\"&B172,Haushaltsbuch2[Datum],\"<=\"&B173)","v":0},{"$f":"SUMIFS(Haushaltsbuch2[Einnahmen],Haushaltsbuch2[Kategorie],P$4,Haushaltsbuch2[Datum],\">\"&B172,Haushaltsbuch2[Datum],\"<=\"&B173)","v":0},{"$f":"SUMIFS(Haushaltsbuch2[Einnahmen],Haushaltsbuch2[Kategorie],Q$4,Haushaltsbuch2[Datum],\">\"&B172,Haushaltsbuch2[Datum],\"<=\"&B173)","v":0},{"$f":"SUMIFS(Haushaltsbuch2[Einnahmen],Haushaltsbuch2[Kategorie],R$4,Haushaltsbuch2[Datum],\">\"&B172,Haushaltsbuch2[Datum],\"<=\"&B173)","v":0},null,null,null,null,null,null,null,null,null,null,null,null,null,null,null,null,null,null,{"$f":"SUMIFS(Haushaltsbuch2[Ausgaben],Haushaltsbuch2[Kategorie],AK$4,Haushaltsbuch2[Datum],\">\"&B172,Haushaltsbuch2[Datum],\"<=\"&B173)","v":0},null,null,{"$f":"SUMIFS(Dividenden[Betrag in EUR],Dividenden[Datum],\">\"&B172,Dividenden[Datum],\"<=\"&B173)","v":0},{"$f":"SUMIFS(Optionen[G/V (Netto)],Optionen[Datum],\">\"&B172,Optionen[Datum],\"<=\"&B173)","v":0},null,0,0,null,0,0,null,{"$f":"SUMIFS(Haushaltsbuch2[Einnahmen],Haushaltsbuch2[Datum],\">\"&B172,Haushaltsbuch2[Datum],\"<=\"&B173)+AN173+AO173","v":0},null,0,null,{"$f":"SUMIFS(Haushaltsbuch2[Ausgaben],Haushaltsbuch2[Datum],\">\"&B172,Haushaltsbuch2[Datum],\"<=\"&B173)","v":0}]
[null,30772,null,null,null,null,null,null,null,null,null,null,{"$f":"SUMIFS(Haushaltsbuch2[Einnahmen],Haushaltsbuch2[Kategorie],M$4,Haushaltsbuch2[Datum],\">\"&B173,Haushaltsbuch2[Datum],\"<=\"&B174)","v":0},{"$f":"SUMIFS(Haushaltsbuch2[Einnahmen],Haushaltsbuch2[Kategorie],N$4,Haushaltsbuch2[Datum],\">\"&B173,Haushaltsbuch2[Datum],\"<=\"&B174)","v":0},{"$f":"SUMIFS(Haushaltsbuch2[Einnahmen],Haushaltsbuch2[Kategorie],O$4,Haushaltsbuch2[Datum],\">\"&B173,Haushaltsbuch2[Datum],\"<=\"&B174)","v":0},{"$f":"SUMIFS(Haushaltsbuch2[Einnahmen],Haushaltsbuch2[Kategorie],P$4,Haushaltsbuch2[Datum],\">\"&B173,Haushaltsbuch2[Datum],\"<=\"&B174)","v":0},{"$f":"SUMIFS(Haushaltsbuch2[Einnahmen],Haushaltsbuch2[Kategorie],Q$4,Haushaltsbuch2[Datum],\">\"&B173,Haushaltsbuch2[Datum],\"<=\"&B174)","v":0},{"$f":"SUMIFS(Haushaltsbuch2[Einnahmen],Haushaltsbuch2[Kategorie],R$4,Haushaltsbuch2[Datum],\">\"&B173,Haushaltsbuch2[Datum],\"<=\"&B174)","v":0},null,null,null,null,null,null,null,null,null,null,null,null,null,null,null,null,null,null,{"$f":"SUMIFS(Haushaltsbuch2[Ausgaben],Haushaltsbuch2[Kategorie],AK$4,Haushaltsbuch2[Datum],\">\"&B173,Haushaltsbuch2[Datum],\"<=\"&B174)","v":0},null,null,{"$f":"SUMIFS(Dividenden[Betrag in EUR],Dividenden[Datum],\">\"&B173,Dividenden[Datum],\"<=\"&B174)","v":0},{"$f":"SUMIFS(Optionen[G/V (Netto)],Optionen[Datum],\">\"&B173,Optionen[Datum],\"<=\"&B174)","v":0},null,0,0,null,0,0,null,{"$f":"SUMIFS(Haushaltsbuch2[Einnahmen],Haushaltsbuch2[Datum],\">\"&B173,Haushaltsbuch2[Datum],\"<=\"&B174)+AN174+AO174","v":0},null,0,null,{"$f":"SUMIFS(Haushaltsbuch2[Ausgaben],Haushaltsbuch2[Datum],\">\"&B173,Haushaltsbuch2[Datum],\"<=\"&B174)","v":0}]
[null,30802,null,null,null,null,null,null,null,null,null,null,{"$f":"SUMIFS(Haushaltsbuch2[Einnahmen],Haushaltsbuch2[Kategorie],M$4,Haushaltsbuch2[Datum],\">\"&B174,Haushaltsbuch2[Datum],\"<=\"&B175)","v":0},{"$f":"SUMIFS(Haushaltsbuch2[Einnahmen],Haushaltsbuch2[Kategorie],N$4,Haushaltsbuch2[Datum],\">\"&B174,Haushaltsbuch2[Datum],\"<=\"&B175)","v":0},{"$f":"SUMIFS(Haushaltsbuch2[Einnahmen],Haushaltsbuch2[Kategorie],O$4,Haushaltsbuch2[Datum],\">\"&B174,Haushaltsbuch2[Datum],\"<=\"&B175)","v":0},{"$f":"SUMIFS(Haushaltsbuch2[Einnahmen],Haushaltsbuch2[Kategorie],P$4,Haushaltsbuch2[Datum],\">\"&B174,Haushaltsbuch2[Datum],\"<=\"&B175)","v":0},{"$f":"SUMIFS(Haushaltsbuch2[Einnahmen],Haushaltsbuch2[Kategorie],Q$4,Haushaltsbuch2[Datum],\">\"&B174,Haushaltsbuch2[Datum],\"<=\"&B175)","v":0},{"$f":"SUMIFS(Haushaltsbuch2[Einnahmen],Haushaltsbuch2[Kategorie],R$4,Haushaltsbuch2[Datum],\">\"&B174,Haushaltsbuch2[Datum],\"<=\"&B175)","v":0},null,null,null,null,null,null,null,null,null,null,null,null,null,null,null,null,null,null,{"$f":"SUMIFS(Haushaltsbuch2[Ausgaben],Haushaltsbuch2[Kategorie],AK$4,Haushaltsbuch2[Datum],\">\"&B174,Haushaltsbuch2[Datum],\"<=\"&B175)","v":0},null,null,{"$f":"SUMIFS(Dividenden[Betrag in EUR],Dividenden[Datum],\">\"&B174,Dividenden[Datum],\"<=\"&B175)","v":0},{"$f":"SUMIFS(Optionen[G/V (Netto)],Optionen[Datum],\">\"&B174,Optionen[Datum],\"<=\"&B175)","v":0},null,0,0,null,0,0,null,{"$f":"SUMIFS(Haushaltsbuch2[Einnahmen],Haushaltsbuch2[Datum],\">\"&B174,Haushaltsbuch2[Datum],\"<=\"&B175)+AN175+AO175","v":0},null,0,null,{"$f":"SUMIFS(Haushaltsbuch2[Ausgaben],Haushaltsbuch2[Datum],\">\"&B174,Haushaltsbuch2[Datum],\"<=\"&B175)","v":0}]
[null,30833,null,null,null,null,null,null,null,null,null,null,{"$f":"SUMIFS(Haushaltsbuch2[Einnahmen],Haushaltsbuch2[Kategorie],M$4,Haushaltsbuch2[Datum],\">\"&B175,Haushaltsbuch2[Datum],\"<=\"&B176)","v":0},{"$f":"SUMIFS(Haushaltsbuch2[Einnahmen],Haushaltsbuch2[Kategorie],N$4,Haushaltsbuch2[Datum],\">\"&B175,Haushaltsbuch2[Datum],\"<=\"&B176)","v":0},{"$f":"SUMIFS(Haushaltsbuch2[Einnahmen],Haushaltsbuch2[Kategorie],O$4,Haushaltsbuch2[Datum],\">\"&B175,Haushaltsbuch2[Datum],\"<=\"&B176)","v":0},{"$f":"SUMIFS(Haushaltsbuch2[Einnahmen],Haushaltsbuch2[Kategorie],P$4,Haushaltsbuch2[Datum],\">\"&B175,Haushaltsbuch2[Datum],\"<=\"&B176)","v":0},{"$f":"SUMIFS(Haushaltsbuch2[Einnahmen],Haushaltsbuch2[Kategorie],Q$4,Haushaltsbuch2[Datum],\">\"&B175,Haushaltsbuch2[Datum],\"<=\"&B176)","v":0},{"$f":"SUMIFS(Haushaltsbuch2[Einnahmen],Haushaltsbuch2[Kategorie],R$4,Haushaltsbuch2[Datum],\">\"&B175,Haushaltsbuch2[Datum],\"<=\"&B176)","v":0},null,null,null,null,null,null,null,null,null,null,null,null,null,null,null,null,null,null,{"$f":"SUMIFS(Haushaltsbuch2[Ausgaben],Haushaltsbuch2[Kategorie],AK$4,Haushaltsbuch2[Datum],\">\"&B175,Haushaltsbuch2[Datum],\"<=\"&B176)","v":0},null,null,{"$f":"SUMIFS(Dividenden[Betrag in EUR],Dividenden[Datum],\">\"&B175,Dividenden[Datum],\"<=\"&B176)","v":0},{"$f":"SUMIFS(Optionen[G/V (Netto)],Optionen[Datum],\">\"&B175,Optionen[Datum],\"<=\"&B176)","v":0},null,0,0,null,0,0,null,{"$f":"SUMIFS(Haushaltsbuch2[Einnahmen],Haushaltsbuch2[Datum],\">\"&B175,Haushaltsbuch2[Datum],\"<=\"&B176)+AN176+AO176","v":0},null,0,null,{"$f":"SUMIFS(Haushaltsbuch2[Ausgaben],Haushaltsbuch2[Datum],\">\"&B175,Haushaltsbuch2[Datum],\"<=\"&B176)","v":0}]
[null,30863,null,null,null,null,null,null,null,null,null,null,{"$f":"SUMIFS(Haushaltsbuch2[Einnahmen],Haushaltsbuch2[Kategorie],M$4,Haushaltsbuch2[Datum],\">\"&B176,Haushaltsbuch2[Datum],\"<=\"&B177)","v":0},{"$f":"SUMIFS(Haushaltsbuch2[Einnahmen],Haushaltsbuch2[Kategorie],N$4,Haushaltsbuch2[Datum],\">\"&B176,Haushaltsbuch2[Datum],\"<=\"&B177)","v":0},{"$f":"SUMIFS(Haushaltsbuch2[Einnahmen],Haushaltsbuch2[Kategorie],O$4,Haushaltsbuch2[Datum],\">\"&B176,Haushaltsbuch2[Datum],\"<=\"&B177)","v":0},{"$f":"SUMIFS(Haushaltsbuch2[Einnahmen],Haushaltsbuch2[Kategorie],P$4,Haushaltsbuch2[Datum],\">\"&B176,Haushaltsbuch2[Datum],\"<=\"&B177)","v":0},{"$f":"SUMIFS(Haushaltsbuch2[Einnahmen],Haushaltsbuch2[Kategorie],Q$4,Haushaltsbuch2[Datum],\">\"&B176,Haushaltsbuch2[Datum],\"<=\"&B177)","v":0},{"$f":"SUMIFS(Haushaltsbuch2[Einnahmen],Haushaltsbuch2[Kategorie],R$4,Haushaltsbuch2[Datum],\">\"&B176,Haushaltsbuch2[Datum],\"<=\"&B177)","v":0},null,null,null,null,null,null,null,null,null,null,null,null,null,null,null,null,null,null,{"$f":"SUMIFS(Haushaltsbuch2[Ausgaben],Haushaltsbuch2[Kategorie],AK$4,Haushaltsbuch2[Datum],\">\"&B176,Haushaltsbuch2[Datum],\"<=\"&B177)","v":0},null,null,{"$f":"SUMIFS(Dividenden[Betrag in EUR],Dividenden[Datum],\">\"&B176,Dividenden[Datum],\"<=\"&B177)","v":0},{"$f":"SUMIFS(Optionen[G/V (Netto)],Optionen[Datum],\">\"&B176,Optionen[Datum],\"<=\"&B177)","v":0},null,0,0,null,0,0,null,{"$f":"SUMIFS(Haushaltsbuch2[Einnahmen],Haushaltsbuch2[Datum],\">\"&B176,Haushaltsbuch2[Datum],\"<=\"&B177)+AN177+AO177","v":0},null,0,null,{"$f":"SUMIFS(Haushaltsbuch2[Ausgaben],Haushaltsbuch2[Datum],\">\"&B176,Haushaltsbuch2[Datum],\"<=\"&B177)","v":0}]
[null,30894,null,null,null,null,null,null,null,null,null,null,{"$f":"SUMIFS(Haushaltsbuch2[Einnahmen],Haushaltsbuch2[Kategorie],M$4,Haushaltsbuch2[Datum],\">\"&B177,Haushaltsbuch2[Datum],\"<=\"&B178)","v":0},{"$f":"SUMIFS(Haushaltsbuch2[Einnahmen],Haushaltsbuch2[Kategorie],N$4,Haushaltsbuch2[Datum],\">\"&B177,Haushaltsbuch2[Datum],\"<=\"&B178)","v":0},{"$f":"SUMIFS(Haushaltsbuch2[Einnahmen],Haushaltsbuch2[Kategorie],O$4,Haushaltsbuch2[Datum],\">\"&B177,Haushaltsbuch2[Datum],\"<=\"&B178)","v":0},{"$f":"SUMIFS(Haushaltsbuch2[Einnahmen],Haushaltsbuch2[Kategorie],P$4,Haushaltsbuch2[Datum],\">\"&B177,Haushaltsbuch2[Datum],\"<=\"&B178)","v":0},{"$f":"SUMIFS(Haushaltsbuch2[Einnahmen],Haushaltsbuch2[Kategorie],Q$4,Haushaltsbuch2[Datum],\">\"&B177,Haushaltsbuch2[Datum],\"<=\"&B178)","v":0},{"$f":"SUMIFS(Haushaltsbuch2[Einnahmen],Haushaltsbuch2[Kategorie],R$4,Haushaltsbuch2[Datum],\">\"&B177,Haushaltsbuch2[Datum],\"<=\"&B178)","v":0},null,null,null,null,null,null,null,null,null,null,null,null,null,null,null,null,null,null,{"$f":"SUMIFS(Haushaltsbuch2[Ausgaben],Haushaltsbuch2[Kategorie],AK$4,Haushaltsbuch2[Datum],\">\"&B177,Haushaltsbuch2[Datum],\"<=\"&B178)","v":0},null,null,{"$f":"SUMIFS(Dividenden[Betrag in EUR],Dividenden[Datum],\">\"&B177,Dividenden[Datum],\"<=\"&B178)","v":0},{"$f":"SUMIFS(Optionen[G/V (Netto)],Optionen[Datum],\">\"&B177,Optionen[Datum],\"<=\"&B178)","v":0},null,0,0,null,0,0,null,{"$f":"SUMIFS(Haushaltsbuch2[Einnahmen],Haushaltsbuch2[Datum],\">\"&B177,Haushaltsbuch2[Datum],\"<=\"&B178)+AN178+AO178","v":0},null,0,null,{"$f":"SUMIFS(Haushaltsbuch2[Ausgaben],Haushaltsbuch2[Datum],\">\"&B177,Haushaltsbuch2[Datum],\"<=\"&B178)","v":0}]
[null,30925,null,null,null,null,null,null,null,null,null,null,{"$f":"SUMIFS(Haushaltsbuch2[Einnahmen],Haushaltsbuch2[Kategorie],M$4,Haushaltsbuch2[Datum],\">\"&B178,Haushaltsbuch2[Datum],\"<=\"&B179)","v":0},{"$f":"SUMIFS(Haushaltsbuch2[Einnahmen],Haushaltsbuch2[Kategorie],N$4,Haushaltsbuch2[Datum],\">\"&B178,Haushaltsbuch2[Datum],\"<=\"&B179)","v":0},{"$f":"SUMIFS(Haushaltsbuch2[Einnahmen],Haushaltsbuch2[Kategorie],O$4,Haushaltsbuch2[Datum],\">\"&B178,Haushaltsbuch2[Datum],\"<=\"&B179)","v":0},{"$f":"SUMIFS(Haushaltsbuch2[Einnahmen],Haushaltsbuch2[Kategorie],P$4,Haushaltsbuch2[Datum],\">\"&B178,Haushaltsbuch2[Datum],\"<=\"&B179)","v":0},{"$f":"SUMIFS(Haushaltsbuch2[Einnahmen],Haushaltsbuch2[Kategorie],Q$4,Haushaltsbuch2[Datum],\">\"&B178,Haushaltsbuch2[Datum],\"<=\"&B179)","v":0},{"$f":"SUMIFS(Haushaltsbuch2[Einnahmen],Haushaltsbuch2[Kategorie],R$4,Haushaltsbuch2[Datum],\">\"&B178,Haushaltsbuch2[Datum],\"<=\"&B179)","v":0},null,null,null,null,null,null,null,null,null,null,null,null,null,null,null,null,null,null,{"$f":"SUMIFS(Haushaltsbuch2[Ausgaben],Haushaltsbuch2[Kategorie],AK$4,Haushaltsbuch2[Datum],\">\"&B178,Haushaltsbuch2[Datum],\"<=\"&B179)","v":0},null,null,{"$f":"SUMIFS(Dividenden[Betrag in EUR],Dividenden[Datum],\">\"&B178,Dividenden[Datum],\"<=\"&B179)","v":0},{"$f":"SUMIFS(Optionen[G/V (Netto)],Optionen[Datum],\">\"&B178,Optionen[Datum],\"<=\"&B179)","v":0},null,0,0,null,0,0,null,{"$f":"SUMIFS(Haushaltsbuch2[Einnahmen],Haushaltsbuch2[Datum],\">\"&B178,Haushaltsbuch2[Datum],\"<=\"&B179)+AN179+AO179","v":0},null,0,null,{"$f":"SUMIFS(Haushaltsbuch2[Ausgaben],Haushaltsbuch2[Datum],\">\"&B178,Haushaltsbuch2[Datum],\"<=\"&B179)","v":0}]
[null,30955,null,null,null,null,null,null,null,null,null,null,{"$f":"SUMIFS(Haushaltsbuch2[Einnahmen],Haushaltsbuch2[Kategorie],M$4,Haushaltsbuch2[Datum],\">\"&B179,Haushaltsbuch2[Datum],\"<=\"&B180)","v":0},{"$f":"SUMIFS(Haushaltsbuch2[Einnahmen],Haushaltsbuch2[Kategorie],N$4,Haushaltsbuch2[Datum],\">\"&B179,Haushaltsbuch2[Datum],\"<=\"&B180)","v":0},{"$f":"SUMIFS(Haushaltsbuch2[Einnahmen],Haushaltsbuch2[Kategorie],O$4,Haushaltsbuch2[Datum],\">\"&B179,Haushaltsbuch2[Datum],\"<=\"&B180)","v":0},{"$f":"SUMIFS(Haushaltsbuch2[Einnahmen],Haushaltsbuch2[Kategorie],P$4,Haushaltsbuch2[Datum],\">\"&B179,Haushaltsbuch2[Datum],\"<=\"&B180)","v":0},{"$f":"SUMIFS(Haushaltsbuch2[Einnahmen],Haushaltsbuch2[Kategorie],Q$4,Haushaltsbuch2[Datum],\">\"&B179,Haushaltsbuch2[Datum],\"<=\"&B180)","v":0},{"$f":"SUMIFS(Haushaltsbuch2[Einnahmen],Haushaltsbuch2[Kategorie],R$4,Haushaltsbuch2[Datum],\">\"&B179,Haushaltsbuch2[Datum],\"<=\"&B180)","v":0},null,null,null,null,null,null,null,null,null,null,null,null,null,null,null,null,null,null,{"$f":"SUMIFS(Haushaltsbuch2[Ausgaben],Haushaltsbuch2[Kategorie],AK$4,Haushaltsbuch2[Datum],\">\"&B179,Haushaltsbuch2[Datum],\"<=\"&B180)","v":0},null,null,{"$f":"SUMIFS(Dividenden[Betrag in EUR],Dividenden[Datum],\">\"&B179,Dividenden[Datum],\"<=\"&B180)","v":0},{"$f":"SUMIFS(Optionen[G/V (Netto)],Optionen[Datum],\">\"&B179,Optionen[Datum],\"<=\"&B180)","v":0},null,0,0,null,0,0,null,{"$f":"SUMIFS(Haushaltsbuch2[Einnahmen],Haushaltsbuch2[Datum],\">\"&B179,Haushaltsbuch2[Datum],\"<=\"&B180)+AN180+AO180","v":0},null,0,null,{"$f":"SUMIFS(Haushaltsbuch2[Ausgaben],Haushaltsbuch2[Datum],\">\"&B179,Haushaltsbuch2[Datum],\"<=\"&B180)","v":0}]
[null,30986,null,null,null,null,null,null,null,null,null,null,{"$f":"SUMIFS(Haushaltsbuch2[Einnahmen],Haushaltsbuch2[Kategorie],M$4,Haushaltsbuch2[Datum],\">\"&B180,Haushaltsbuch2[Datum],\"<=\"&B181)","v":0},{"$f":"SUMIFS(Haushaltsbuch2[Einnahmen],Haushaltsbuch2[Kategorie],N$4,Haushaltsbuch2[Datum],\">\"&B180,Haushaltsbuch2[Datum],\"<=\"&B181)","v":0},{"$f":"SUMIFS(Haushaltsbuch2[Einnahmen],Haushaltsbuch2[Kategorie],O$4,Haushaltsbuch2[Datum],\">\"&B180,Haushaltsbuch2[Datum],\"<=\"&B181)","v":0},{"$f":"SUMIFS(Haushaltsbuch2[Einnahmen],Haushaltsbuch2[Kategorie],P$4,Haushaltsbuch2[Datum],\">\"&B180,Haushaltsbuch2[Datum],\"<=\"&B181)","v":0},{"$f":"SUMIFS(Haushaltsbuch2[Einnahmen],Haushaltsbuch2[Kategorie],Q$4,Haushaltsbuch2[Datum],\">\"&B180,Haushaltsbuch2[Datum],\"<=\"&B181)","v":0},{"$f":"SUMIFS(Haushaltsbuch2[Einnahmen],Haushaltsbuch2[Kategorie],R$4,Haushaltsbuch2[Datum],\">\"&B180,Haushaltsbuch2[Datum],\"<=\"&B181)","v":0},null,null,null,null,null,null,null,null,null,null,null,null,null,null,null,null,null,null,{"$f":"SUMIFS(Haushaltsbuch2[Ausgaben],Haushaltsbuch2[Kategorie],AK$4,Haushaltsbuch2[Datum],\">\"&B180,Haushaltsbuch2[Datum],\"<=\"&B181)","v":0},null,null,{"$f":"SUMIFS(Dividenden[Betrag in EUR],Dividenden[Datum],\">\"&B180,Dividenden[Datum],\"<=\"&B181)","v":0},{"$f":"SUMIFS(Optionen[G/V (Netto)],Optionen[Datum],\">\"&B180,Optionen[Datum],\"<=\"&B181)","v":0},null,0,0,null,0,0,null,{"$f":"SUMIFS(Haushaltsbuch2[Einnahmen],Haushaltsbuch2[Datum],\">\"&B180,Haushaltsbuch2[Datum],\"<=\"&B181)+AN181+AO181","v":0},null,0,null,{"$f":"SUMIFS(Haushaltsbuch2[Ausgaben],Haushaltsbuch2[Datum],\">\"&B180,Haushaltsbuch2[Datum],\"<=\"&B181)","v":0}]
[null,31016,null,null,null,null,null,null,null,null,null,null,{"$f":"SUMIFS(Haushaltsbuch2[Einnahmen],Haushaltsbuch2[Kategorie],M$4,Haushaltsbuch2[Datum],\">\"&B181,Haushaltsbuch2[Datum],\"<=\"&B182)","v":0},{"$f":"SUMIFS(Haushaltsbuch2[Einnahmen],Haushaltsbuch2[Kategorie],N$4,Haushaltsbuch2[Datum],\">\"&B181,Haushaltsbuch2[Datum],\"<=\"&B182)","v":0},{"$f":"SUMIFS(Haushaltsbuch2[Einnahmen],Haushaltsbuch2[Kategorie],O$4,Haushaltsbuch2[Datum],\">\"&B181,Haushaltsbuch2[Datum],\"<=\"&B182)","v":0},{"$f":"SUMIFS(Haushaltsbuch2[Einnahmen],Haushaltsbuch2[Kategorie],P$4,Haushaltsbuch2[Datum],\">\"&B181,Haushaltsbuch2[Datum],\"<=\"&B182)","v":0},{"$f":"SUMIFS(Haushaltsbuch2[Einnahmen],Haushaltsbuch2[Kategorie],Q$4,Haushaltsbuch2[Datum],\">\"&B181,Haushaltsbuch2[Datum],\"<=\"&B182)","v":0},{"$f":"SUMIFS(Haushaltsbuch2[Einnahmen],Haushaltsbuch2[Kategorie],R$4,Haushaltsbuch2[Datum],\">\"&B181,Haushaltsbuch2[Datum],\"<=\"&B182)","v":0},null,null,null,null,null,null,null,null,null,null,null,null,null,null,null,null,null,null,{"$f":"SUMIFS(Haushaltsbuch2[Ausgaben],Haushaltsbuch2[Kategorie],AK$4,Haushaltsbuch2[Datum],\">\"&B181,Haushaltsbuch2[Datum],\"<=\"&B182)","v":0},null,null,{"$f":"SUMIFS(Dividenden[Betrag in EUR],Dividenden[Datum],\">\"&B181,Dividenden[Datum],\"<=\"&B182)","v":0},{"$f":"SUMIFS(Optionen[G/V (Netto)],Optionen[Datum],\">\"&B181,Optionen[Datum],\"<=\"&B182)","v":0},null,0,0,null,0,0,null,{"$f":"SUMIFS(Haushaltsbuch2[Einnahmen],Haushaltsbuch2[Datum],\">\"&B181,Haushaltsbuch2[Datum],\"<=\"&B182)+AN182+AO182","v":0},null,0,null,{"$f":"SUMIFS(Haushaltsbuch2[Ausgaben],Haushaltsbuch2[Datum],\">\"&B181,Haushaltsbuch2[Datum],\"<=\"&B182)","v":0}]
[null,31047,null,null,null,null,null,null,null,null,null,null,{"$f":"SUMIFS(Haushaltsbuch2[Einnahmen],Haushaltsbuch2[Kategorie],M$4,Haushaltsbuch2[Datum],\">\"&B182,Haushaltsbuch2[Datum],\"<=\"&B183)","v":0},{"$f":"SUMIFS(Haushaltsbuch2[Einnahmen],Haushaltsbuch2[Kategorie],N$4,Haushaltsbuch2[Datum],\">\"&B182,Haushaltsbuch2[Datum],\"<=\"&B183)","v":0},{"$f":"SUMIFS(Haushaltsbuch2[Einnahmen],Haushaltsbuch2[Kategorie],O$4,Haushaltsbuch2[Datum],\">\"&B182,Haushaltsbuch2[Datum],\"<=\"&B183)","v":0},{"$f":"SUMIFS(Haushaltsbuch2[Einnahmen],Haushaltsbuch2[Kategorie],P$4,Haushaltsbuch2[Datum],\">\"&B182,Haushaltsbuch2[Datum],\"<=\"&B183)","v":0},{"$f":"SUMIFS(Haushaltsbuch2[Einnahmen],Haushaltsbuch2[Kategorie],Q$4,Haushaltsbuch2[Datum],\">\"&B182,Haushaltsbuch2[Datum],\"<=\"&B183)","v":0},{"$f":"SUMIFS(Haushaltsbuch2[Einnahmen],Haushaltsbuch2[Kategorie],R$4,Haushaltsbuch2[Datum],\">\"&B182,Haushaltsbuch2[Datum],\"<=\"&B183)","v":0},null,null,null,null,null,null,null,null,null,null,null,null,null,null,null,null,null,null,{"$f":"SUMIFS(Haushaltsbuch2[Ausgaben],Haushaltsbuch2[Kategorie],AK$4,Haushaltsbuch2[Datum],\">\"&B182,Haushaltsbuch2[Datum],\"<=\"&B183)","v":0},null,null,{"$f":"SUMIFS(Dividenden[Betrag in EUR],Dividenden[Datum],\">\"&B182,Dividenden[Datum],\"<=\"&B183)","v":0},{"$f":"SUMIFS(Optionen[G/V (Netto)],Optionen[Datum],\">\"&B182,Optionen[Datum],\"<=\"&B183)","v":0},null,0,0,null,0,0,null,{"$f":"SUMIFS(Haushaltsbuch2[Einnahmen],Haushaltsbuch2[Datum],\">\"&B182,Haushaltsbuch2[Datum],\"<=\"&B183)+AN183+AO183","v":0},null,0,null,{"$f":"SUMIFS(Haushaltsbuch2[Ausgaben],Haushaltsbuch2[Datum],\">\"&B182,Haushaltsbuch2[Datum],\"<=\"&B183)","v":0}]
[null,31078,null,null,null,null,null,null,null,null,null,null,{"$f":"SUMIFS(Haushaltsbuch2[Einnahmen],Haushaltsbuch2[Kategorie],M$4,Haushaltsbuch2[Datum],\">\"&B183,Haushaltsbuch2[Datum],\"<=\"&B184)","v":0},{"$f":"SUMIFS(Haushaltsbuch2[Einnahmen],Haushaltsbuch2[Kategorie],N$4,Haushaltsbuch2[Datum],\">\"&B183,Haushaltsbuch2[Datum],\"<=\"&B184)","v":0},{"$f":"SUMIFS(Haushaltsbuch2[Einnahmen],Haushaltsbuch2[Kategorie],O$4,Haushaltsbuch2[Datum],\">\"&B183,Haushaltsbuch2[Datum],\"<=\"&B184)","v":0},{"$f":"SUMIFS(Haushaltsbuch2[Einnahmen],Haushaltsbuch2[Kategorie],P$4,Haushaltsbuch2[Datum],\">\"&B183,Haushaltsbuch2[Datum],\"<=\"&B184)","v":0},{"$f":"SUMIFS(Haushaltsbuch2[Einnahmen],Haushaltsbuch2[Kategorie],Q$4,Haushaltsbuch2[Datum],\">\"&B183,Haushaltsbuch2[Datum],\"<=\"&B184)","v":0},{"$f":"SUMIFS(Haushaltsbuch2[Einnahmen],Haushaltsbuch2[Kategorie],R$4,Haushaltsbuch2[Datum],\">\"&B183,Haushaltsbuch2[Datum],\"<=\"&B184)","v":0},null,null,null,null,null,null,null,null,null,null,null,null,null,null,null,null,null,null,{"$f":"SUMIFS(Haushaltsbuch2[Ausgaben],Haushaltsbuch2[Kategorie],AK$4,Haushaltsbuch2[Datum],\">\"&B183,Haushaltsbuch2[Datum],\"<=\"&B184)","v":0},null,null,{"$f":"SUMIFS(Dividenden[Betrag in EUR],Dividenden[Datum],\">\"&B183,Dividenden[Datum],\"<=\"&B184)","v":0},{"$f":"SUMIFS(Optionen[G/V (Netto)],Optionen[Datum],\">\"&B183,Optionen[Datum],\"<=\"&B184)","v":0},null,0,0,null,0,0,null,{"$f":"SUMIFS(Haushaltsbuch2[Einnahmen],Haushaltsbuch2[Datum],\">\"&B183,Haushaltsbuch2[Datum],\"<=\"&B184)+AN184+AO184","v":0},null,0,null,{"$f":"SUMIFS(Haushaltsbuch2[Ausgaben],Haushaltsbuch2[Datum],\">\"&B183,Haushaltsbuch2[Datum],\"<=\"&B184)","v":0}]
[null,31106,null,null,null,null,null,null,null,null,null,null,{"$f":"SUMIFS(Haushaltsbuch2[Einnahmen],Haushaltsbuch2[Kategorie],M$4,Haushaltsbuch2[Datum],\">\"&B184,Haushaltsbuch2[Datum],\"<=\"&B185)","v":0},{"$f":"SUMIFS(Haushaltsbuch2[Einnahmen],Haushaltsbuch2[Kategorie],N$4,Haushaltsbuch2[Datum],\">\"&B184,Haushaltsbuch2[Datum],\"<=\"&B185)","v":0},{"$f":"SUMIFS(Haushaltsbuch2[Einnahmen],Haushaltsbuch2[Kategorie],O$4,Haushaltsbuch2[Datum],\">\"&B184,Haushaltsbuch2[Datum],\"<=\"&B185)","v":0},{"$f":"SUMIFS(Haushaltsbuch2[Einnahmen],Haushaltsbuch2[Kategorie],P$4,Haushaltsbuch2[Datum],\">\"&B184,Haushaltsbuch2[Datum],\"<=\"&B185)","v":0},{"$f":"SUMIFS(Haushaltsbuch2[Einnahmen],Haushaltsbuch2[Kategorie],Q$4,Haushaltsbuch2[Datum],\">\"&B184,Haushaltsbuch2[Datum],\"<=\"&B185)","v":0},{"$f":"SUMIFS(Haushaltsbuch2[Einnahmen],Haushaltsbuch2[Kategorie],R$4,Haushaltsbuch2[Datum],\">\"&B184,Haushaltsbuch2[Datum],\"<=\"&B185)","v":0},null,null,null,null,null,null,null,null,null,null,null,null,null,null,null,null,null,null,{"$f":"SUMIFS(Haushaltsbuch2[Ausgaben],Haushaltsbuch2[Kategorie],AK$4,Haushaltsbuch2[Datum],\">\"&B184,Haushaltsbuch2[Datum],\"<=\"&B185)","v":0},null,null,{"$f":"SUMIFS(Dividenden[Betrag in EUR],Dividenden[Datum],\">\"&B184,Dividenden[Datum],\"<=\"&B185)","v":0},{"$f":"SUMIFS(Optionen[G/V (Netto)],Optionen[Datum],\">\"&B184,Optionen[Datum],\"<=\"&B185)","v":0},null,0,0,null,0,0,null,{"$f":"SUMIFS(Haushaltsbuch2[Einnahmen],Haushaltsbuch2[Datum],\">\"&B184,Haushaltsbuch2[Datum],\"<=\"&B185)+AN185+AO185","v":0},null,0,null,{"$f":"SUMIFS(Haushaltsbuch2[Ausgaben],Haushaltsbuch2[Datum],\">\"&B184,Haushaltsbuch2[Datum],\"<=\"&B185)","v":0}]
[null,31137,null,null,null,null,null,null,null,null,null,null,{"$f":"SUMIFS(Haushaltsbuch2[Einnahmen],Haushaltsbuch2[Kategorie],M$4,Haushaltsbuch2[Datum],\">\"&B185,Haushaltsbuch2[Datum],\"<=\"&B186)","v":0},{"$f":"SUMIFS(Haushaltsbuch2[Einnahmen],Haushaltsbuch2[Kategorie],N$4,Haushaltsbuch2[Datum],\">\"&B185,Haushaltsbuch2[Datum],\"<=\"&B186)","v":0},{"$f":"SUMIFS(Haushaltsbuch2[Einnahmen],Haushaltsbuch2[Kategorie],O$4,Haushaltsbuch2[Datum],\">\"&B185,Haushaltsbuch2[Datum],\"<=\"&B186)","v":0},{"$f":"SUMIFS(Haushaltsbuch2[Einnahmen],Haushaltsbuch2[Kategorie],P$4,Haushaltsbuch2[Datum],\">\"&B185,Haushaltsbuch2[Datum],\"<=\"&B186)","v":0},{"$f":"SUMIFS(Haushaltsbuch2[Einnahmen],Haushaltsbuch2[Kategorie],Q$4,Haushaltsbuch2[Datum],\">\"&B185,Haushaltsbuch2[Datum],\"<=\"&B186)","v":0},{"$f":"SUMIFS(Haushaltsbuch2[Einnahmen],Haushaltsbuch2[Kategorie],R$4,Haushaltsbuch2[Datum],\">\"&B185,Haushaltsbuch2[Datum],\"<=\"&B186)","v":0},null,null,null,null,null,null,null,null,null,null,null,null,null,null,null,null,null,null,{"$f":"SUMIFS(Haushaltsbuch2[Ausgaben],Haushaltsbuch2[Kategorie],AK$4,Haushaltsbuch2[Datum],\">\"&B185,Haushaltsbuch2[Datum],\"<=\"&B186)","v":0},null,null,{"$f":"SUMIFS(Dividenden[Betrag in EUR],Dividenden[Datum],\">\"&B185,Dividenden[Datum],\"<=\"&B186)","v":0},{"$f":"SUMIFS(Optionen[G/V (Netto)],Optionen[Datum],\">\"&B185,Optionen[Datum],\"<=\"&B186)","v":0},null,0,0,null,0,0,null,{"$f":"SUMIFS(Haushaltsbuch2[Einnahmen],Haushaltsbuch2[Datum],\">\"&B185,Haushaltsbuch2[Datum],\"<=\"&B186)+AN186+AO186","v":0},null,0,null,{"$f":"SUMIFS(Haushaltsbuch2[Ausgaben],Haushaltsbuch2[Datum],\">\"&B185,Haushaltsbuch2[Datum],\"<=\"&B186)","v":0}]
[null,31167,null,null,null,null,null,null,null,null,null,null,{"$f":"SUMIFS(Haushaltsbuch2[Einnahmen],Haushaltsbuch2[Kategorie],M$4,Haushaltsbuch2[Datum],\">\"&B186,Haushaltsbuch2[Datum],\"<=\"&B187)","v":0},{"$f":"SUMIFS(Haushaltsbuch2[Einnahmen],Haushaltsbuch2[Kategorie],N$4,Haushaltsbuch2[Datum],\">\"&B186,Haushaltsbuch2[Datum],\"<=\"&B187)","v":0},{"$f":"SUMIFS(Haushaltsbuch2[Einnahmen],Haushaltsbuch2[Kategorie],O$4,Haushaltsbuch2[Datum],\">\"&B186,Haushaltsbuch2[Datum],\"<=\"&B187)","v":0},{"$f":"SUMIFS(Haushaltsbuch2[Einnahmen],Haushaltsbuch2[Kategorie],P$4,Haushaltsbuch2[Datum],\">\"&B186,Haushaltsbuch2[Datum],\"<=\"&B187)","v":0},{"$f":"SUMIFS(Haushaltsbuch2[Einnahmen],Haushaltsbuch2[Kategorie],Q$4,Haushaltsbuch2[Datum],\">\"&B186,Haushaltsbuch2[Datum],\"<=\"&B187)","v":0},{"$f":"SUMIFS(Haushaltsbuch2[Einnahmen],Haushaltsbuch2[Kategorie],R$4,Haushaltsbuch2[Datum],\">\"&B186,Haushaltsbuch2[Datum],\"<=\"&B187)","v":0},null,null,null,null,null,null,null,null,null,null,null,null,null,null,null,null,null,null,{"$f":"SUMIFS(Haushaltsbuch2[Ausgaben],Haushaltsbuch2[Kategorie],AK$4,Haushaltsbuch2[Datum],\">\"&B186,Haushaltsbuch2[Datum],\"<=\"&B187)","v":0},null,null,{"$f":"SUMIFS(Dividenden[Betrag in EUR],Dividenden[Datum],\">\"&B186,Dividenden[Datum],\"<=\"&B187)","v":0},{"$f":"SUMIFS(Optionen[G/V (Netto)],Optionen[Datum],\">\"&B186,Optionen[Datum],\"<=\"&B187)","v":0},null,0,0,null,0,0,null,{"$f":"SUMIFS(Haushaltsbuch2[Einnahmen],Haushaltsbuch2[Datum],\">\"&B186,Haushaltsbuch2[Datum],\"<=\"&B187)+AN187+AO187","v":0},null,0,null,{"$f":"SUMIFS(Haushaltsbuch2[Ausgaben],Haushaltsbuch2[Datum],\">\"&B186,Haushaltsbuch2[Datum],\"<=\"&B187)","v":0}]
[null,31198,null,null,null,null,null,null,null,null,null,null,{"$f":"SUMIFS(Haushaltsbuch2[Einnahmen],Haushaltsbuch2[Kategorie],M$4,Haushaltsbuch2[Datum],\">\"&B187,Haushaltsbuch2[Datum],\"<=\"&B188)","v":0},{"$f":"SUMIFS(Haushaltsbuch2[Einnahmen],Haushaltsbuch2[Kategorie],N$4,Haushaltsbuch2[Datum],\">\"&B187,Haushaltsbuch2[Datum],\"<=\"&B188)","v":0},{"$f":"SUMIFS(Haushaltsbuch2[Einnahmen],Haushaltsbuch2[Kategorie],O$4,Haushaltsbuch2[Datum],\">\"&B187,Haushaltsbuch2[Datum],\"<=\"&B188)","v":0},{"$f":"SUMIFS(Haushaltsbuch2[Einnahmen],Haushaltsbuch2[Kategorie],P$4,Haushaltsbuch2[Datum],\">\"&B187,Haushaltsbuch2[Datum],\"<=\"&B188)","v":0},{"$f":"SUMIFS(Haushaltsbuch2[Einnahmen],Haushaltsbuch2[Kategorie],Q$4,Haushaltsbuch2[Datum],\">\"&B187,Haushaltsbuch2[Datum],\"<=\"&B188)","v":0},{"$f":"SUMIFS(Haushaltsbuch2[Einnahmen],Haushaltsbuch2[Kategorie],R$4,Haushaltsbuch2[Datum],\">\"&B187,Haushaltsbuch2[Datum],\"<=\"&B188)","v":0},null,null,null,null,null,null,null,null,null,null,null,null,null,null,null,null,null,null,{"$f":"SUMIFS(Haushaltsbuch2[Ausgaben],Haushaltsbuch2[Kategorie],AK$4,Haushaltsbuch2[Datum],\">\"&B187,Haushaltsbuch2[Datum],\"<=\"&B188)","v":0},null,null,{"$f":"SUMIFS(Dividenden[Betrag in EUR],Dividenden[Datum],\">\"&B187,Dividenden[Datum],\"<=\"&B188)","v":0},{"$f":"SUMIFS(Optionen[G/V (Netto)],Optionen[Datum],\">\"&B187,Optionen[Datum],\"<=\"&B188)","v":0},null,0,0,null,0,0,null,{"$f":"SUMIFS(Haushaltsbuch2[Einnahmen],Haushaltsbuch2[Datum],\">\"&B187,Haushaltsbuch2[Datum],\"<=\"&B188)+AN188+AO188","v":0},null,0,null,{"$f":"SUMIFS(Haushaltsbuch2[Ausgaben],Haushaltsbuch2[Datum],\">\"&B187,Haushaltsbuch2[Datum],\"<=\"&B188)","v":0}]
[null,31228,null,null,null,null,null,null,null,null,null,null,{"$f":"SUMIFS(Haushaltsbuch2[Einnahmen],Haushaltsbuch2[Kategorie],M$4,Haushaltsbuch2[Datum],\">\"&B188,Haushaltsbuch2[Datum],\"<=\"&B189)","v":0},{"$f":"SUMIFS(Haushaltsbuch2[Einnahmen],Haushaltsbuch2[Kategorie],N$4,Haushaltsbuch2[Datum],\">\"&B188,Haushaltsbuch2[Datum],\"<=\"&B189)","v":0},{"$f":"SUMIFS(Haushaltsbuch2[Einnahmen],Haushaltsbuch2[Kategorie],O$4,Haushaltsbuch2[Datum],\">\"&B188,Haushaltsbuch2[Datum],\"<=\"&B189)","v":0},{"$f":"SUMIFS(Haushaltsbuch2[Einnahmen],Haushaltsbuch2[Kategorie],P$4,Haushaltsbuch2[Datum],\">\"&B188,Haushaltsbuch2[Datum],\"<=\"&B189)","v":0},{"$f":"SUMIFS(Haushaltsbuch2[Einnahmen],Haushaltsbuch2[Kategorie],Q$4,Haushaltsbuch2[Datum],\">\"&B188,Haushaltsbuch2[Datum],\"<=\"&B189)","v":0},{"$f":"SUMIFS(Haushaltsbuch2[Einnahmen],Haushaltsbuch2[Kategorie],R$4,Haushaltsbuch2[Datum],\">\"&B188,Haushaltsbuch2[Datum],\"<=\"&B189)","v":0},null,null,null,null,null,null,null,null,null,null,null,null,null,null,null,null,null,null,{"$f":"SUMIFS(Haushaltsbuch2[Ausgaben],Haushaltsbuch2[Kategorie],AK$4,Haushaltsbuch2[Datum],\">\"&B188,Haushaltsbuch2[Datum],\"<=\"&B189)","v":0},null,null,{"$f":"SUMIFS(Dividenden[Betrag in EUR],Dividenden[Datum],\">\"&B188,Dividenden[Datum],\"<=\"&B189)","v":0},{"$f":"SUMIFS(Optionen[G/V (Netto)],Optionen[Datum],\">\"&B188,Optionen[Datum],\"<=\"&B189)","v":0},null,0,0,null,0,0,null,{"$f":"SUMIFS(Haushaltsbuch2[Einnahmen],Haushaltsbuch2[Datum],\">\"&B188,Haushaltsbuch2[Datum],\"<=\"&B189)+AN189+AO189","v":0},null,0,null,{"$f":"SUMIFS(Haushaltsbuch2[Ausgaben],Haushaltsbuch2[Datum],\">\"&B188,Haushaltsbuch2[Datum],\"<=\"&B189)","v":0}]
[null,31259,null,null,null,null,null,null,null,null,null,null,{"$f":"SUMIFS(Haushaltsbuch2[Einnahmen],Haushaltsbuch2[Kategorie],M$4,Haushaltsbuch2[Datum],\">\"&B189,Haushaltsbuch2[Datum],\"<=\"&B190)","v":0},{"$f":"SUMIFS(Haushaltsbuch2[Einnahmen],Haushaltsbuch2[Kategorie],N$4,Haushaltsbuch2[Datum],\">\"&B189,Haushaltsbuch2[Datum],\"<=\"&B190)","v":0},{"$f":"SUMIFS(Haushaltsbuch2[Einnahmen],Haushaltsbuch2[Kategorie],O$4,Haushaltsbuch2[Datum],\">\"&B189,Haushaltsbuch2[Datum],\"<=\"&B190)","v":0},{"$f":"SUMIFS(Haushaltsbuch2[Einnahmen],Haushaltsbuch2[Kategorie],P$4,Haushaltsbuch2[Datum],\">\"&B189,Haushaltsbuch2[Datum],\"<=\"&B190)","v":0},{"$f":"SUMIFS(Haushaltsbuch2[Einnahmen],Haushaltsbuch2[Kategorie],Q$4,Haushaltsbuch2[Datum],\">\"&B189,Haushaltsbuch2[Datum],\"<=\"&B190)","v":0},{"$f":"SUMIFS(Haushaltsbuch2[Einnahmen],Haushaltsbuch2[Kategorie],R$4,Haushaltsbuch2[Datum],\">\"&B189,Haushaltsbuch2[Datum],\"<=\"&B190)","v":0},null,null,null,null,null,null,null,null,null,null,null,null,null,null,null,null,null,null,{"$f":"SUMIFS(Haushaltsbuch2[Ausgaben],Haushaltsbuch2[Kategorie],AK$4,Haushaltsbuch2[Datum],\">\"&B189,Haushaltsbuch2[Datum],\"<=\"&B190)","v":0},null,null,{"$f":"SUMIFS(Dividenden[Betrag in EUR],Dividenden[Datum],\">\"&B189,Dividenden[Datum],\"<=\"&B190)","v":0},{"$f":"SUMIFS(Optionen[G/V (Netto)],Optionen[Datum],\">\"&B189,Optionen[Datum],\"<=\"&B190)","v":0},null,0,0,null,0,0,null,{"$f":"SUMIFS(Haushaltsbuch2[Einnahmen],Haushaltsbuch2[Datum],\">\"&B189,Haushaltsbuch2[Datum],\"<=\"&B190)+AN190+AO190","v":0},null,0,null,{"$f":"SUMIFS(Haushaltsbuch2[Ausgaben],Haushaltsbuch2[Datum],\">\"&B189,Haushaltsbuch2[Datum],\"<=\"&B190)","v":0}]
[null,31290,null,null,null,null,null,null,null,null,null,null,{"$f":"SUMIFS(Haushaltsbuch2[Einnahmen],Haushaltsbuch2[Kategorie],M$4,Haushaltsbuch2[Datum],\">\"&B190,Haushaltsbuch2[Datum],\"<=\"&B191)","v":0},{"$f":"SUMIFS(Haushaltsbuch2[Einnahmen],Haushaltsbuch2[Kategorie],N$4,Haushaltsbuch2[Datum],\">\"&B190,Haushaltsbuch2[Datum],\"<=\"&B191)","v":0},{"$f":"SUMIFS(Haushaltsbuch2[Einnahmen],Haushaltsbuch2[Kategorie],O$4,Haushaltsbuch2[Datum],\">\"&B190,Haushaltsbuch2[Datum],\"<=\"&B191)","v":0},{"$f":"SUMIFS(Haushaltsbuch2[Einnahmen],Haushaltsbuch2[Kategorie],P$4,Haushaltsbuch2[Datum],\">\"&B190,Haushaltsbuch2[Datum],\"<=\"&B191)","v":0},{"$f":"SUMIFS(Haushaltsbuch2[Einnahmen],Haushaltsbuch2[Kategorie],Q$4,Haushaltsbuch2[Datum],\">\"&B190,Haushaltsbuch2[Datum],\"<=\"&B191)","v":0},{"$f":"SUMIFS(Haushaltsbuch2[Einnahmen],Haushaltsbuch2[Kategorie],R$4,Haushaltsbuch2[Datum],\">\"&B190,Haushaltsbuch2[Datum],\"<=\"&B191)","v":0},null,null,null,null,null,null,null,null,null,null,null,null,null,null,null,null,null,null,{"$f":"SUMIFS(Haushaltsbuch2[Ausgaben],Haushaltsbuch2[Kategorie],AK$4,Haushaltsbuch2[Datum],\">\"&B190,Haushaltsbuch2[Datum],\"<=\"&B191)","v":0},null,null,{"$f":"SUMIFS(Dividenden[Betrag in EUR],Dividenden[Datum],\">\"&B190,Dividenden[Datum],\"<=\"&B191)","v":0},{"$f":"SUMIFS(Optionen[G/V (Netto)],Optionen[Datum],\">\"&B190,Optionen[Datum],\"<=\"&B191)","v":0},null,0,0,null,0,0,null,{"$f":"SUMIFS(Haushaltsbuch2[Einnahmen],Haushaltsbuch2[Datum],\">\"&B190,Haushaltsbuch2[Datum],\"<=\"&B191)+AN191+AO191","v":0},null,0,null,{"$f":"SUMIFS(Haushaltsbuch2[Ausgaben],Haushaltsbuch2[Datum],\">\"&B190,Haushaltsbuch2[Datum],\"<=\"&B191)","v":0}]
[null,31320,null,null,null,null,null,null,null,null,null,null,{"$f":"SUMIFS(Haushaltsbuch2[Einnahmen],Haushaltsbuch2[Kategorie],M$4,Haushaltsbuch2[Datum],\">\"&B191,Haushaltsbuch2[Datum],\"<=\"&B192)","v":0},{"$f":"SUMIFS(Haushaltsbuch2[Einnahmen],Haushaltsbuch2[Kategorie],N$4,Haushaltsbuch2[Datum],\">\"&B191,Haushaltsbuch2[Datum],\"<=\"&B192)","v":0},{"$f":"SUMIFS(Haushaltsbuch2[Einnahmen],Haushaltsbuch2[Kategorie],O$4,Haushaltsbuch2[Datum],\">\"&B191,Haushaltsbuch2[Datum],\"<=\"&B192)","v":0},{"$f":"SUMIFS(Haushaltsbuch2[Einnahmen],Haushaltsbuch2[Kategorie],P$4,Haushaltsbuch2[Datum],\">\"&B191,Haushaltsbuch2[Datum],\"<=\"&B192)","v":0},{"$f":"SUMIFS(Haushaltsbuch2[Einnahmen],Haushaltsbuch2[Kategorie],Q$4,Haushaltsbuch2[Datum],\">\"&B191,Haushaltsbuch2[Datum],\"<=\"&B192)","v":0},{"$f":"SUMIFS(Haushaltsbuch2[Einnahmen],Haushaltsbuch2[Kategorie],R$4,Haushaltsbuch2[Datum],\">\"&B191,Haushaltsbuch2[Datum],\"<=\"&B192)","v":0},null,null,null,null,null,null,null,null,null,null,null,null,null,null,null,null,null,null,{"$f":"SUMIFS(Haushaltsbuch2[Ausgaben],Haushaltsbuch2[Kategorie],AK$4,Haushaltsbuch2[Datum],\">\"&B191,Haushaltsbuch2[Datum],\"<=\"&B192)","v":0},null,null,{"$f":"SUMIFS(Dividenden[Betrag in EUR],Dividenden[Datum],\">\"&B191,Dividenden[Datum],\"<=\"&B192)","v":0},{"$f":"SUMIFS(Optionen[G/V (Netto)],Optionen[Datum],\">\"&B191,Optionen[Datum],\"<=\"&B192)","v":0},null,0,0,null,0,0,null,{"$f":"SUMIFS(Haushaltsbuch2[Einnahmen],Haushaltsbuch2[Datum],\">\"&B191,Haushaltsbuch2[Datum],\"<=\"&B192)+AN192+AO192","v":0},null,0,null,{"$f":"SUMIFS(Haushaltsbuch2[Ausgaben],Haushaltsbuch2[Datum],\">\"&B191,Haushaltsbuch2[Datum],\"<=\"&B192)","v":0}]
[null,31351,null,null,null,null,null,null,null,null,null,null,{"$f":"SUMIFS(Haushaltsbuch2[Einnahmen],Haushaltsbuch2[Kategorie],M$4,Haushaltsbuch2[Datum],\">\"&B192,Haushaltsbuch2[Datum],\"<=\"&B193)","v":0},{"$f":"SUMIFS(Haushaltsbuch2[Einnahmen],Haushaltsbuch2[Kategorie],N$4,Haushaltsbuch2[Datum],\">\"&B192,Haushaltsbuch2[Datum],\"<=\"&B193)","v":0},{"$f":"SUMIFS(Haushaltsbuch2[Einnahmen],Haushaltsbuch2[Kategorie],O$4,Haushaltsbuch2[Datum],\">\"&B192,Haushaltsbuch2[Datum],\"<=\"&B193)","v":0},{"$f":"SUMIFS(Haushaltsbuch2[Einnahmen],Haushaltsbuch2[Kategorie],P$4,Haushaltsbuch2[Datum],\">\"&B192,Haushaltsbuch2[Datum],\"<=\"&B193)","v":0},{"$f":"SUMIFS(Haushaltsbuch2[Einnahmen],Haushaltsbuch2[Kategorie],Q$4,Haushaltsbuch2[Datum],\">\"&B192,Haushaltsbuch2[Datum],\"<=\"&B193)","v":0},{"$f":"SUMIFS(Haushaltsbuch2[Einnahmen],Haushaltsbuch2[Kategorie],R$4,Haushaltsbuch2[Datum],\">\"&B192,Haushaltsbuch2[Datum],\"<=\"&B193)","v":0},null,null,null,null,null,null,null,null,null,null,null,null,null,null,null,null,null,null,{"$f":"SUMIFS(Haushaltsbuch2[Ausgaben],Haushaltsbuch2[Kategorie],AK$4,Haushaltsbuch2[Datum],\">\"&B192,Haushaltsbuch2[Datum],\"<=\"&B193)","v":0},null,null,{"$f":"SUMIFS(Dividenden[Betrag in EUR],Dividenden[Datum],\">\"&B192,Dividenden[Datum],\"<=\"&B193)","v":0},{"$f":"SUMIFS(Optionen[G/V (Netto)],Optionen[Datum],\">\"&B192,Optionen[Datum],\"<=\"&B193)","v":0},null,0,0,null,0,0,null,{"$f":"SUMIFS(Haushaltsbuch2[Einnahmen],Haushaltsbuch2[Datum],\">\"&B192,Haushaltsbuch2[Datum],\"<=\"&B193)+AN193+AO193","v":0},null,0,null,{"$f":"SUMIFS(Haushaltsbuch2[Ausgaben],Haushaltsbuch2[Datum],\">\"&B192,Haushaltsbuch2[Datum],\"<=\"&B193)","v":0}]
[null,31381,null,null,null,null,null,null,null,null,null,null,{"$f":"SUMIFS(Haushaltsbuch2[Einnahmen],Haushaltsbuch2[Kategorie],M$4,Haushaltsbuch2[Datum],\">\"&B193,Haushaltsbuch2[Datum],\"<=\"&B194)","v":0},{"$f":"SUMIFS(Haushaltsbuch2[Einnahmen],Haushaltsbuch2[Kategorie],N$4,Haushaltsbuch2[Datum],\">\"&B193,Haushaltsbuch2[Datum],\"<=\"&B194)","v":0},{"$f":"SUMIFS(Haushaltsbuch2[Einnahmen],Haushaltsbuch2[Kategorie],O$4,Haushaltsbuch2[Datum],\">\"&B193,Haushaltsbuch2[Datum],\"<=\"&B194)","v":0},{"$f":"SUMIFS(Haushaltsbuch2[Einnahmen],Haushaltsbuch2[Kategorie],P$4,Haushaltsbuch2[Datum],\">\"&B193,Haushaltsbuch2[Datum],\"<=\"&B194)","v":0},{"$f":"SUMIFS(Haushaltsbuch2[Einnahmen],Haushaltsbuch2[Kategorie],Q$4,Haushaltsbuch2[Datum],\">\"&B193,Haushaltsbuch2[Datum],\"<=\"&B194)","v":0},{"$f":"SUMIFS(Haushaltsbuch2[Einnahmen],Haushaltsbuch2[Kategorie],R$4,Haushaltsbuch2[Datum],\">\"&B193,Haushaltsbuch2[Datum],\"<=\"&B194)","v":0},null,null,null,null,null,null,null,null,null,null,null,null,null,null,null,null,null,null,{"$f":"SUMIFS(Haushaltsbuch2[Ausgaben],Haushaltsbuch2[Kategorie],AK$4,Haushaltsbuch2[Datum],\">\"&B193,Haushaltsbuch2[Datum],\"<=\"&B194)","v":0},null,null,{"$f":"SUMIFS(Dividenden[Betrag in EUR],Dividenden[Datum],\">\"&B193,Dividenden[Datum],\"<=\"&B194)","v":0},{"$f":"SUMIFS(Optionen[G/V (Netto)],Optionen[Datum],\">\"&B193,Optionen[Datum],\"<=\"&B194)","v":0},null,0,0,null,0,0,null,{"$f":"SUMIFS(Haushaltsbuch2[Einnahmen],Haushaltsbuch2[Datum],\">\"&B193,Haushaltsbuch2[Datum],\"<=\"&B194)+AN194+AO194","v":0},null,0,null,{"$f":"SUMIFS(Haushaltsbuch2[Ausgaben],Haushaltsbuch2[Datum],\">\"&B193,Haushaltsbuch2[Datum],\"<=\"&B194)","v":0}]
[null,31412,null,null,null,null,null,null,null,null,null,null,{"$f":"SUMIFS(Haushaltsbuch2[Einnahmen],Haushaltsbuch2[Kategorie],M$4,Haushaltsbuch2[Datum],\">\"&B194,Haushaltsbuch2[Datum],\"<=\"&B195)","v":0},{"$f":"SUMIFS(Haushaltsbuch2[Einnahmen],Haushaltsbuch2[Kategorie],N$4,Haushaltsbuch2[Datum],\">\"&B194,Haushaltsbuch2[Datum],\"<=\"&B195)","v":0},{"$f":"SUMIFS(Haushaltsbuch2[Einnahmen],Haushaltsbuch2[Kategorie],O$4,Haushaltsbuch2[Datum],\">\"&B194,Haushaltsbuch2[Datum],\"<=\"&B195)","v":0},{"$f":"SUMIFS(Haushaltsbuch2[Einnahmen],Haushaltsbuch2[Kategorie],P$4,Haushaltsbuch2[Datum],\">\"&B194,Haushaltsbuch2[Datum],\"<=\"&B195)","v":0},{"$f":"SUMIFS(Haushaltsbuch2[Einnahmen],Haushaltsbuch2[Kategorie],Q$4,Haushaltsbuch2[Datum],\">\"&B194,Haushaltsbuch2[Datum],\"<=\"&B195)","v":0},{"$f":"SUMIFS(Haushaltsbuch2[Einnahmen],Haushaltsbuch2[Kategorie],R$4,Haushaltsbuch2[Datum],\">\"&B194,Haushaltsbuch2[Datum],\"<=\"&B195)","v":0},null,null,null,null,null,null,null,null,null,null,null,null,null,null,null,null,null,null,{"$f":"SUMIFS(Haushaltsbuch2[Ausgaben],Haushaltsbuch2[Kategorie],AK$4,Haushaltsbuch2[Datum],\">\"&B194,Haushaltsbuch2[Datum],\"<=\"&B195)","v":0},null,null,{"$f":"SUMIFS(Dividenden[Betrag in EUR],Dividenden[Datum],\">\"&B194,Dividenden[Datum],\"<=\"&B195)","v":0},{"$f":"SUMIFS(Optionen[G/V (Netto)],Optionen[Datum],\">\"&B194,Optionen[Datum],\"<=\"&B195)","v":0},null,0,0,null,0,0,null,{"$f":"SUMIFS(Haushaltsbuch2[Einnahmen],Haushaltsbuch2[Datum],\">\"&B194,Haushaltsbuch2[Datum],\"<=\"&B195)+AN195+AO195","v":0},null,0,null,{"$f":"SUMIFS(Haushaltsbuch2[Ausgaben],Haushaltsbuch2[Datum],\">\"&B194,Haushaltsbuch2[Datum],\"<=\"&B195)","v":0}]
[null,31443,null,null,null,null,null,null,null,null,null,null,{"$f":"SUMIFS(Haushaltsbuch2[Einnahmen],Haushaltsbuch2[Kategorie],M$4,Haushaltsbuch2[Datum],\">\"&B195,Haushaltsbuch2[Datum],\"<=\"&B196)","v":0},{"$f":"SUMIFS(Haushaltsbuch2[Einnahmen],Haushaltsbuch2[Kategorie],N$4,Haushaltsbuch2[Datum],\">\"&B195,Haushaltsbuch2[Datum],\"<=\"&B196)","v":0},{"$f":"SUMIFS(Haushaltsbuch2[Einnahmen],Haushaltsbuch2[Kategorie],O$4,Haushaltsbuch2[Datum],\">\"&B195,Haushaltsbuch2[Datum],\"<=\"&B196)","v":0},{"$f":"SUMIFS(Haushaltsbuch2[Einnahmen],Haushaltsbuch2[Kategorie],P$4,Haushaltsbuch2[Datum],\">\"&B195,Haushaltsbuch2[Datum],\"<=\"&B196)","v":0},{"$f":"SUMIFS(Haushaltsbuch2[Einnahmen],Haushaltsbuch2[Kategorie],Q$4,Haushaltsbuch2[Datum],\">\"&B195,Haushaltsbuch2[Datum],\"<=\"&B196)","v":0},{"$f":"SUMIFS(Haushaltsbuch2[Einnahmen],Haushaltsbuch2[Kategorie],R$4,Haushaltsbuch2[Datum],\">\"&B195,Haushaltsbuch2[Datum],\"<=\"&B196)","v":0},null,null,null,null,null,null,null,null,null,null,null,null,null,null,null,null,null,null,{"$f":"SUMIFS(Haushaltsbuch2[Ausgaben],Haushaltsbuch2[Kategorie],AK$4,Haushaltsbuch2[Datum],\">\"&B195,Haushaltsbuch2[Datum],\"<=\"&B196)","v":0},null,null,{"$f":"SUMIFS(Dividenden[Betrag in EUR],Dividenden[Datum],\">\"&B195,Dividenden[Datum],\"<=\"&B196)","v":0},{"$f":"SUMIFS(Optionen[G/V (Netto)],Optionen[Datum],\">\"&B195,Optionen[Datum],\"<=\"&B196)","v":0},null,0,0,null,0,0,null,{"$f":"SUMIFS(Haushaltsbuch2[Einnahmen],Haushaltsbuch2[Datum],\">\"&B195,Haushaltsbuch2[Datum],\"<=\"&B196)+AN196+AO196","v":0},null,0,null,{"$f":"SUMIFS(Haushaltsbuch2[Ausgaben],Haushaltsbuch2[Datum],\">\"&B195,Haushaltsbuch2[Datum],\"<=\"&B196)","v":0}]
[null,31471,null,null,null,null,null,null,null,null,null,null,{"$f":"SUMIFS(Haushaltsbuch2[Einnahmen],Haushaltsbuch2[Kategorie],M$4,Haushaltsbuch2[Datum],\">\"&B196,Haushaltsbuch2[Datum],\"<=\"&B197)","v":0},{"$f":"SUMIFS(Haushaltsbuch2[Einnahmen],Haushaltsbuch2[Kategorie],N$4,Haushaltsbuch2[Datum],\">\"&B196,Haushaltsbuch2[Datum],\"<=\"&B197)","v":0},{"$f":"SUMIFS(Haushaltsbuch2[Einnahmen],Haushaltsbuch2[Kategorie],O$4,Haushaltsbuch2[Datum],\">\"&B196,Haushaltsbuch2[Datum],\"<=\"&B197)","v":0},{"$f":"SUMIFS(Haushaltsbuch2[Einnahmen],Haushaltsbuch2[Kategorie],P$4,Haushaltsbuch2[Datum],\">\"&B196,Haushaltsbuch2[Datum],\"<=\"&B197)","v":0},{"$f":"SUMIFS(Haushaltsbuch2[Einnahmen],Haushaltsbuch2[Kategorie],Q$4,Haushaltsbuch2[Datum],\">\"&B196,Haushaltsbuch2[Datum],\"<=\"&B197)","v":0},{"$f":"SUMIFS(Haushaltsbuch2[Einnahmen],Haushaltsbuch2[Kategorie],R$4,Haushaltsbuch2[Datum],\">\"&B196,Haushaltsbuch2[Datum],\"<=\"&B197)","v":0},null,null,null,null,null,null,null,null,null,null,null,null,null,null,null,null,null,null,{"$f":"SUMIFS(Haushaltsbuch2[Ausgaben],Haushaltsbuch2[Kategorie],AK$4,Haushaltsbuch2[Datum],\">\"&B196,Haushaltsbuch2[Datum],\"<=\"&B197)","v":0},null,null,{"$f":"SUMIFS(Dividenden[Betrag in EUR],Dividenden[Datum],\">\"&B196,Dividenden[Datum],\"<=\"&B197)","v":0},{"$f":"SUMIFS(Optionen[G/V (Netto)],Optionen[Datum],\">\"&B196,Optionen[Datum],\"<=\"&B197)","v":0},null,0,0,null,0,0,null,{"$f":"SUMIFS(Haushaltsbuch2[Einnahmen],Haushaltsbuch2[Datum],\">\"&B196,Haushaltsbuch2[Datum],\"<=\"&B197)+AN197+AO197","v":0},null,0,null,{"$f":"SUMIFS(Haushaltsbuch2[Ausgaben],Haushaltsbuch2[Datum],\">\"&B196,Haushaltsbuch2[Datum],\"<=\"&B197)","v":0}]
[null,31502,null,null,null,null,null,null,null,null,null,null,{"$f":"SUMIFS(Haushaltsbuch2[Einnahmen],Haushaltsbuch2[Kategorie],M$4,Haushaltsbuch2[Datum],\">\"&B197,Haushaltsbuch2[Datum],\"<=\"&B198)","v":0},{"$f":"SUMIFS(Haushaltsbuch2[Einnahmen],Haushaltsbuch2[Kategorie],N$4,Haushaltsbuch2[Datum],\">\"&B197,Haushaltsbuch2[Datum],\"<=\"&B198)","v":0},{"$f":"SUMIFS(Haushaltsbuch2[Einnahmen],Haushaltsbuch2[Kategorie],O$4,Haushaltsbuch2[Datum],\">\"&B197,Haushaltsbuch2[Datum],\"<=\"&B198)","v":0},{"$f":"SUMIFS(Haushaltsbuch2[Einnahmen],Haushaltsbuch2[Kategorie],P$4,Haushaltsbuch2[Datum],\">\"&B197,Haushaltsbuch2[Datum],\"<=\"&B198)","v":0},{"$f":"SUMIFS(Haushaltsbuch2[Einnahmen],Haushaltsbuch2[Kategorie],Q$4,Haushaltsbuch2[Datum],\">\"&B197,Haushaltsbuch2[Datum],\"<=\"&B198)","v":0},{"$f":"SUMIFS(Haushaltsbuch2[Einnahmen],Haushaltsbuch2[Kategorie],R$4,Haushaltsbuch2[Datum],\">\"&B197,Haushaltsbuch2[Datum],\"<=\"&B198)","v":0},null,null,null,null,null,null,null,null,null,null,null,null,null,null,null,null,null,null,{"$f":"SUMIFS(Haushaltsbuch2[Ausgaben],Haushaltsbuch2[Kategorie],AK$4,Haushaltsbuch2[Datum],\">\"&B197,Haushaltsbuch2[Datum],\"<=\"&B198)","v":0},null,null,{"$f":"SUMIFS(Dividenden[Betrag in EUR],Dividenden[Datum],\">\"&B197,Dividenden[Datum],\"<=\"&B198)","v":0},{"$f":"SUMIFS(Optionen[G/V (Netto)],Optionen[Datum],\">\"&B197,Optionen[Datum],\"<=\"&B198)","v":0},null,{"$f":"N198+AN198","v":0},{"$f":"O198+AO198","v":0},null,{"$f":"M198+SUM(P198:R198)+SUM(AQ198:AR198)","v":0},0,null,{"$f":"SUMIFS(Haushaltsbuch2[Einnahmen],Haushaltsbuch2[Datum],\">\"&B197,Haushaltsbuch2[Datum],\"<=\"&B198)+AN198+AO198","v":0},null,0,null,{"$f":"SUMIFS(Haushaltsbuch2[Ausgaben],Haushaltsbuch2[Datum],\">\"&B197,Haushaltsbuch2[Datum],\"<=\"&B198)","v":0}]
[null,{"$f":"EOMONTH(B198,1)","v":31532},null,null,null,null,null,null,null,null,null,null,{"$f":"SUMIFS(Haushaltsbuch2[Einnahmen],Haushaltsbuch2[Kategorie],M$4,Haushaltsbuch2[Datum],\">\"&B198,Haushaltsbuch2[Datum],\"<=\"&B199)","v":0},{"$f":"SUMIFS(Haushaltsbuch2[Einnahmen],Haushaltsbuch2[Kategorie],N$4,Haushaltsbuch2[Datum],\">\"&B198,Haushaltsbuch2[Datum],\"<=\"&B199)","v":0},{"$f":"SUMIFS(Haushaltsbuch2[Einnahmen],Haushaltsbuch2[Kategorie],O$4,Haushaltsbuch2[Datum],\">\"&B198,Haushaltsbuch2[Datum],\"<=\"&B199)","v":0},{"$f":"SUMIFS(Haushaltsbuch2[Einnahmen],Haushaltsbuch2[Kategorie],P$4,Haushaltsbuch2[Datum],\">\"&B198,Haushaltsbuch2[Datum],\"<=\"&B199)","v":0},{"$f":"SUMIFS(Haushaltsbuch2[Einnahmen],Haushaltsbuch2[Kategorie],Q$4,Haushaltsbuch2[Datum],\">\"&B198,Haushaltsbuch2[Datum],\"<=\"&B199)","v":0},{"$f":"SUMIFS(Haushaltsbuch2[Einnahmen],Haushaltsbuch2[Kategorie],R$4,Haushaltsbuch2[Datum],\">\"&B198,Haushaltsbuch2[Datum],\"<=\"&B199)","v":0},null,null,null,null,null,null,null,null,null,null,null,null,null,null,null,null,null,null,{"$f":"SUMIFS(Haushaltsbuch2[Ausgaben],Haushaltsbuch2[Kategorie],AK$4,Haushaltsbuch2[Datum],\">\"&B198,Haushaltsbuch2[Datum],\"<=\"&B199)","v":0},null,null,{"$f":"SUMIFS(Dividenden[Betrag in EUR],Dividenden[Datum],\">\"&B198,Dividenden[Datum],\"<=\"&B199)","v":0},{"$f":"SUMIFS(Optionen[G/V (Netto)],Optionen[Datum],\">\"&B198,Optionen[Datum],\"<=\"&B199)","v":0},null,0,0,null,0,0,null,{"$f":"SUMIFS(Haushaltsbuch2[Einnahmen],Haushaltsbuch2[Datum],\">\"&B198,Haushaltsbuch2[Datum],\"<=\"&B199)+AN199+AO199","v":0},null,0,null,{"$f":"SUMIFS(Haushaltsbuch2[Ausgaben],Haushaltsbuch2[Datum],\">\"&B198,Haushaltsbuch2[Datum],\"<=\"&B199)","v":0}]
[null,31563,null,null,null,null,null,null,null,null,null,null,{"$f":"SUMIFS(Haushaltsbuch2[Einnahmen],Haushaltsbuch2[Kategorie],M$4,Haushaltsbuch2[Datum],\">\"&B199,Haushaltsbuch2[Datum],\"<=\"&B200)","v":0},{"$f":"SUMIFS(Haushaltsbuch2[Einnahmen],Haushaltsbuch2[Kategorie],N$4,Haushaltsbuch2[Datum],\">\"&B199,Haushaltsbuch2[Datum],\"<=\"&B200)","v":0},{"$f":"SUMIFS(Haushaltsbuch2[Einnahmen],Haushaltsbuch2[Kategorie],O$4,Haushaltsbuch2[Datum],\">\"&B199,Haushaltsbuch2[Datum],\"<=\"&B200)","v":0},{"$f":"SUMIFS(Haushaltsbuch2[Einnahmen],Haushaltsbuch2[Kategorie],P$4,Haushaltsbuch2[Datum],\">\"&B199,Haushaltsbuch2[Datum],\"<=\"&B200)","v":0},{"$f":"SUMIFS(Haushaltsbuch2[Einnahmen],Haushaltsbuch2[Kategorie],Q$4,Haushaltsbuch2[Datum],\">\"&B199,Haushaltsbuch2[Datum],\"<=\"&B200)","v":0},{"$f":"SUMIFS(Haushaltsbuch2[Einnahmen],Haushaltsbuch2[Kategorie],R$4,Haushaltsbuch2[Datum],\">\"&B199,Haushaltsbuch2[Datum],\"<=\"&B200)","v":0},null,null,null,null,null,null,null,null,null,null,null,null,null,null,null,null,null,null,{"$f":"SUMIFS(Haushaltsbuch2[Ausgaben],Haushaltsbuch2[Kategorie],AK$4,Haushaltsbuch2[Datum],\">\"&B199,Haushaltsbuch2[Datum],\"<=\"&B200)","v":0},null,null,{"$f":"SUMIFS(Dividenden[Betrag in EUR],Dividenden[Datum],\">\"&B199,Dividenden[Datum],\"<=\"&B200)","v":0},{"$f":"SUMIFS(Optionen[G/V (Netto)],Optionen[Datum],\">\"&B199,Optionen[Datum],\"<=\"&B200)","v":0},null,0,0,null,0,0,null,{"$f":"SUMIFS(Haushaltsbuch2[Einnahmen],Haushaltsbuch2[Datum],\">\"&B199,Haushaltsbuch2[Datum],\"<=\"&B200)+AN200+AO200","v":0},null,0,null,{"$f":"SUMIFS(Haushaltsbuch2[Ausgaben],Haushaltsbuch2[Datum],\">\"&B199,Haushaltsbuch2[Datum],\"<=\"&B200)","v":0}]
[null,31593,null,null,null,null,null,null,null,null,null,null,{"$f":"SUMIFS(Haushaltsbuch2[Einnahmen],Haushaltsbuch2[Kategorie],M$4,Haushaltsbuch2[Datum],\">\"&B200,Haushaltsbuch2[Datum],\"<=\"&B201)","v":0},{"$f":"SUMIFS(Haushaltsbuch2[Einnahmen],Haushaltsbuch2[Kategorie],N$4,Haushaltsbuch2[Datum],\">\"&B200,Haushaltsbuch2[Datum],\"<=\"&B201)","v":0},{"$f":"SUMIFS(Haushaltsbuch2[Einnahmen],Haushaltsbuch2[Kategorie],O$4,Haushaltsbuch2[Datum],\">\"&B200,Haushaltsbuch2[Datum],\"<=\"&B201)","v":0},{"$f":"SUMIFS(Haushaltsbuch2[Einnahmen],Haushaltsbuch2[Kategorie],P$4,Haushaltsbuch2[Datum],\">\"&B200,Haushaltsbuch2[Datum],\"<=\"&B201)","v":0},{"$f":"SUMIFS(Haushaltsbuch2[Einnahmen],Haushaltsbuch2[Kategorie],Q$4,Haushaltsbuch2[Datum],\">\"&B200,Haushaltsbuch2[Datum],\"<=\"&B201)","v":0},{"$f":"SUMIFS(Haushaltsbuch2[Einnahmen],Haushaltsbuch2[Kategorie],R$4,Haushaltsbuch2[Datum],\">\"&B200,Haushaltsbuch2[Datum],\"<=\"&B201)","v":0},null,null,null,null,null,null,null,null,null,null,null,null,null,null,null,null,null,null,{"$f":"SUMIFS(Haushaltsbuch2[Ausgaben],Haushaltsbuch2[Kategorie],AK$4,Haushaltsbuch2[Datum],\">\"&B200,Haushaltsbuch2[Datum],\"<=\"&B201)","v":0},null,null,{"$f":"SUMIFS(Dividenden[Betrag in EUR],Dividenden[Datum],\">\"&B200,Dividenden[Datum],\"<=\"&B201)","v":0},{"$f":"SUMIFS(Optionen[G/V (Netto)],Optionen[Datum],\">\"&B200,Optionen[Datum],\"<=\"&B201)","v":0},null,0,0,null,0,0,null,{"$f":"SUMIFS(Haushaltsbuch2[Einnahmen],Haushaltsbuch2[Datum],\">\"&B200,Haushaltsbuch2[Datum],\"<=\"&B201)+AN201+AO201","v":0},null,0,null,{"$f":"SUMIFS(Haushaltsbuch2[Ausgaben],Haushaltsbuch2[Datum],\">\"&B200,Haushaltsbuch2[Datum],\"<=\"&B201)","v":0}]
[null,31624,null,null,null,null,null,null,null,null,null,null,{"$f":"SUMIFS(Haushaltsbuch2[Einnahmen],Haushaltsbuch2[Kategorie],M$4,Haushaltsbuch2[Datum],\">\"&B201,Haushaltsbuch2[Datum],\"<=\"&B202)","v":0},{"$f":"SUMIFS(Haushaltsbuch2[Einnahmen],Haushaltsbuch2[Kategorie],N$4,Haushaltsbuch2[Datum],\">\"&B201,Haushaltsbuch2[Datum],\"<=\"&B202)","v":0},{"$f":"SUMIFS(Haushaltsbuch2[Einnahmen],Haushaltsbuch2[Kategorie],O$4,Haushaltsbuch2[Datum],\">\"&B201,Haushaltsbuch2[Datum],\"<=\"&B202)","v":0},{"$f":"SUMIFS(Haushaltsbuch2[Einnahmen],Haushaltsbuch2[Kategorie],P$4,Haushaltsbuch2[Datum],\">\"&B201,Haushaltsbuch2[Datum],\"<=\"&B202)","v":0},{"$f":"SUMIFS(Haushaltsbuch2[Einnahmen],Haushaltsbuch2[Kategorie],Q$4,Haushaltsbuch2[Datum],\">\"&B201,Haushaltsbuch2[Datum],\"<=\"&B202)","v":0},{"$f":"SUMIFS(Haushaltsbuch2[Einnahmen],Haushaltsbuch2[Kategorie],R$4,Haushaltsbuch2[Datum],\">\"&B201,Haushaltsbuch2[Datum],\"<=\"&B202)","v":0},null,null,null,null,null,null,null,null,null,null,null,null,null,null,null,null,null,null,{"$f":"SUMIFS(Haushaltsbuch2[Ausgaben],Haushaltsbuch2[Kategorie],AK$4,Haushaltsbuch2[Datum],\">\"&B201,Haushaltsbuch2[Datum],\"<=\"&B202)","v":0},null,null,{"$f":"SUMIFS(Dividenden[Betrag in EUR],Dividenden[Datum],\">\"&B201,Dividenden[Datum],\"<=\"&B202)","v":0},{"$f":"SUMIFS(Optionen[G/V (Netto)],Optionen[Datum],\">\"&B201,Optionen[Datum],\"<=\"&B202)","v":0},null,0,0,null,0,0,null,{"$f":"SUMIFS(Haushaltsbuch2[Einnahmen],Haushaltsbuch2[Datum],\">\"&B201,Haushaltsbuch2[Datum],\"<=\"&B202)+AN202+AO202","v":0},null,0,null,{"$f":"SUMIFS(Haushaltsbuch2[Ausgaben],Haushaltsbuch2[Datum],\">\"&B201,Haushaltsbuch2[Datum],\"<=\"&B202)","v":0}]
[null,31655,null,null,null,null,null,null,null,null,null,null,{"$f":"SUMIFS(Haushaltsbuch2[Einnahmen],Haushaltsbuch2[Kategorie],M$4,Haushaltsbuch2[Datum],\">\"&B202,Haushaltsbuch2[Datum],\"<=\"&B203)","v":0},{"$f":"SUMIFS(Haushaltsbuch2[Einnahmen],Haushaltsbuch2[Kategorie],N$4,Haushaltsbuch2[Datum],\">\"&B202,Haushaltsbuch2[Datum],\"<=\"&B203)","v":0},{"$f":"SUMIFS(Haushaltsbuch2[Einnahmen],Haushaltsbuch2[Kategorie],O$4,Haushaltsbuch2[Datum],\">\"&B202,Haushaltsbuch2[Datum],\"<=\"&B203)","v":0},{"$f":"SUMIFS(Haushaltsbuch2[Einnahmen],Haushaltsbuch2[Kategorie],P$4,Haushaltsbuch2[Datum],\">\"&B202,Haushaltsbuch2[Datum],\"<=\"&B203)","v":0},{"$f":"SUMIFS(Haushaltsbuch2[Einnahmen],Haushaltsbuch2[Kategorie],Q$4,Haushaltsbuch2[Datum],\">\"&B202,Haushaltsbuch2[Datum],\"<=\"&B203)","v":0},{"$f":"SUMIFS(Haushaltsbuch2[Einnahmen],Haushaltsbuch2[Kategorie],R$4,Haushaltsbuch2[Datum],\">\"&B202,Haushaltsbuch2[Datum],\"<=\"&B203)","v":0},null,null,null,null,null,null,null,null,null,null,null,null,null,null,null,null,null,null,{"$f":"SUMIFS(Haushaltsbuch2[Ausgaben],Haushaltsbuch2[Kategorie],AK$4,Haushaltsbuch2[Datum],\">\"&B202,Haushaltsbuch2[Datum],\"<=\"&B203)","v":0},null,null,{"$f":"SUMIFS(Dividenden[Betrag in EUR],Dividenden[Datum],\">\"&B202,Dividenden[Datum],\"<=\"&B203)","v":0},{"$f":"SUMIFS(Optionen[G/V (Netto)],Optionen[Datum],\">\"&B202,Optionen[Datum],\"<=\"&B203)","v":0},null,0,0,null,0,0,null,{"$f":"SUMIFS(Haushaltsbuch2[Einnahmen],Haushaltsbuch2[Datum],\">\"&B202,Haushaltsbuch2[Datum],\"<=\"&B203)+AN203+AO203","v":0},null,0,null,{"$f":"SUMIFS(Haushaltsbuch2[Ausgaben],Haushaltsbuch2[Datum],\">\"&B202,Haushaltsbuch2[Datum],\"<=\"&B203)","v":0}]
[null,31685,null,null,null,null,null,null,null,null,null,null,{"$f":"SUMIFS(Haushaltsbuch2[Einnahmen],Haushaltsbuch2[Kategorie],M$4,Haushaltsbuch2[Datum],\">\"&B203,Haushaltsbuch2[Datum],\"<=\"&B204)","v":0},{"$f":"SUMIFS(Haushaltsbuch2[Einnahmen],Haushaltsbuch2[Kategorie],N$4,Haushaltsbuch2[Datum],\">\"&B203,Haushaltsbuch2[Datum],\"<=\"&B204)","v":0},{"$f":"SUMIFS(Haushaltsbuch2[Einnahmen],Haushaltsbuch2[Kategorie],O$4,Haushaltsbuch2[Datum],\">\"&B203,Haushaltsbuch2[Datum],\"<=\"&B204)","v":0},{"$f":"SUMIFS(Haushaltsbuch2[Einnahmen],Haushaltsbuch2[Kategorie],P$4,Haushaltsbuch2[Datum],\">\"&B203,Haushaltsbuch2[Datum],\"<=\"&B204)","v":0},{"$f":"SUMIFS(Haushaltsbuch2[Einnahmen],Haushaltsbuch2[Kategorie],Q$4,Haushaltsbuch2[Datum],\">\"&B203,Haushaltsbuch2[Datum],\"<=\"&B204)","v":0},{"$f":"SUMIFS(Haushaltsbuch2[Einnahmen],Haushaltsbuch2[Kategorie],R$4,Haushaltsbuch2[Datum],\">\"&B203,Haushaltsbuch2[Datum],\"<=\"&B204)","v":0},null,null,null,null,null,null,null,null,null,null,null,null,null,null,null,null,null,null,{"$f":"SUMIFS(Haushaltsbuch2[Ausgaben],Haushaltsbuch2[Kategorie],AK$4,Haushaltsbuch2[Datum],\">\"&B203,Haushaltsbuch2[Datum],\"<=\"&B204)","v":0},null,null,{"$f":"SUMIFS(Dividenden[Betrag in EUR],Dividenden[Datum],\">\"&B203,Dividenden[Datum],\"<=\"&B204)","v":0},{"$f":"SUMIFS(Optionen[G/V (Netto)],Optionen[Datum],\">\"&B203,Optionen[Datum],\"<=\"&B204)","v":0},null,0,0,null,0,0,null,{"$f":"SUMIFS(Haushaltsbuch2[Einnahmen],Haushaltsbuch2[Datum],\">\"&B203,Haushaltsbuch2[Datum],\"<=\"&B204)+AN204+AO204","v":0},null,0,null,{"$f":"SUMIFS(Haushaltsbuch2[Ausgaben],Haushaltsbuch2[Datum],\">\"&B203,Haushaltsbuch2[Datum],\"<=\"&B204)","v":0}]
[null,31716,null,null,null,null,null,null,null,null,null,null,{"$f":"SUMIFS(Haushaltsbuch2[Einnahmen],Haushaltsbuch2[Kategorie],M$4,Haushaltsbuch2[Datum],\">\"&B204,Haushaltsbuch2[Datum],\"<=\"&B205)","v":0},{"$f":"SUMIFS(Haushaltsbuch2[Einnahmen],Haushaltsbuch2[Kategorie],N$4,Haushaltsbuch2[Datum],\">\"&B204,Haushaltsbuch2[Datum],\"<=\"&B205)","v":0},{"$f":"SUMIFS(Haushaltsbuch2[Einnahmen],Haushaltsbuch2[Kategorie],O$4,Haushaltsbuch2[Datum],\">\"&B204,Haushaltsbuch2[Datum],\"<=\"&B205)","v":0},{"$f":"SUMIFS(Haushaltsbuch2[Einnahmen],Haushaltsbuch2[Kategorie],P$4,Haushaltsbuch2[Datum],\">\"&B204,Haushaltsbuch2[Datum],\"<=\"&B205)","v":0},{"$f":"SUMIFS(Haushaltsbuch2[Einnahmen],Haushaltsbuch2[Kategorie],Q$4,Haushaltsbuch2[Datum],\">\"&B204,Haushaltsbuch2[Datum],\"<=\"&B205)","v":0},{"$f":"SUMIFS(Haushaltsbuch2[Einnahmen],Haushaltsbuch2[Kategorie],R$4,Haushaltsbuch2[Datum],\">\"&B204,Haushaltsbuch2[Datum],\"<=\"&B205)","v":0},null,null,null,null,null,null,null,null,null,null,null,null,null,null,null,null,null,null,{"$f":"SUMIFS(Haushaltsbuch2[Ausgaben],Haushaltsbuch2[Kategorie],AK$4,Haushaltsbuch2[Datum],\">\"&B204,Haushaltsbuch2[Datum],\"<=\"&B205)","v":0},null,null,{"$f":"SUMIFS(Dividenden[Betrag in EUR],Dividenden[Datum],\">\"&B204,Dividenden[Datum],\"<=\"&B205)","v":0},{"$f":"SUMIFS(Optionen[G/V (Netto)],Optionen[Datum],\">\"&B204,Optionen[Datum],\"<=\"&B205)","v":0},null,0,0,null,0,0,null,{"$f":"SUMIFS(Haushaltsbuch2[Einnahmen],Haushaltsbuch2[Datum],\">\"&B204,Haushaltsbuch2[Datum],\"<=\"&B205)+AN205+AO205","v":0},null,0,null,{"$f":"SUMIFS(Haushaltsbuch2[Ausgaben],Haushaltsbuch2[Datum],\">\"&B204,Haushaltsbuch2[Datum],\"<=\"&B205)","v":0}]
[null,31746,null,null,null,null,null,null,null,null,null,null,{"$f":"SUMIFS(Haushaltsbuch2[Einnahmen],Haushaltsbuch2[Kategorie],M$4,Haushaltsbuch2[Datum],\">\"&B205,Haushaltsbuch2[Datum],\"<=\"&B206)","v":0},{"$f":"SUMIFS(Haushaltsbuch2[Einnahmen],Haushaltsbuch2[Kategorie],N$4,Haushaltsbuch2[Datum],\">\"&B205,Haushaltsbuch2[Datum],\"<=\"&B206)","v":0},{"$f":"SUMIFS(Haushaltsbuch2[Einnahmen],Haushaltsbuch2[Kategorie],O$4,Haushaltsbuch2[Datum],\">\"&B205,Haushaltsbuch2[Datum],\"<=\"&B206)","v":0},{"$f":"SUMIFS(Haushaltsbuch2[Einnahmen],Haushaltsbuch2[Kategorie],P$4,Haushaltsbuch2[Datum],\">\"&B205,Haushaltsbuch2[Datum],\"<=\"&B206)","v":0},{"$f":"SUMIFS(Haushaltsbuch2[Einnahmen],Haushaltsbuch2[Kategorie],Q$4,Haushaltsbuch2[Datum],\">\"&B205,Haushaltsbuch2[Datum],\"<=\"&B206)","v":0},{"$f":"SUMIFS(Haushaltsbuch2[Einnahmen],Haushaltsbuch2[Kategorie],R$4,Haushaltsbuch2[Datum],\">\"&B205,Haushaltsbuch2[Datum],\"<=\"&B206)","v":0},null,null,null,null,null,null,null,null,null,null,null,null,null,null,null,null,null,null,{"$f":"SUMIFS(Haushaltsbuch2[Ausgaben],Haushaltsbuch2[Kategorie],AK$4,Haushaltsbuch2[Datum],\">\"&B205,Haushaltsbuch2[Datum],\"<=\"&B206)","v":0},null,null,{"$f":"SUMIFS(Dividenden[Betrag in EUR],Dividenden[Datum],\">\"&B205,Dividenden[Datum],\"<=\"&B206)","v":0},{"$f":"SUMIFS(Optionen[G/V (Netto)],Optionen[Datum],\">\"&B205,Optionen[Datum],\"<=\"&B206)","v":0},null,0,0,null,0,0,null,{"$f":"SUMIFS(Haushaltsbuch2[Einnahmen],Haushaltsbuch2[Datum],\">\"&B205,Haushaltsbuch2[Datum],\"<=\"&B206)+AN206+AO206","v":0},null,0,null,{"$f":"SUMIFS(Haushaltsbuch2[Ausgaben],Haushaltsbuch2[Datum],\">\"&B205,Haushaltsbuch2[Datum],\"<=\"&B206)","v":0}]
[null,31777,null,null,null,null,null,null,null,null,null,null,{"$f":"SUMIFS(Haushaltsbuch2[Einnahmen],Haushaltsbuch2[Kategorie],M$4,Haushaltsbuch2[Datum],\">\"&B206,Haushaltsbuch2[Datum],\"<=\"&B207)","v":0},{"$f":"SUMIFS(Haushaltsbuch2[Einnahmen],Haushaltsbuch2[Kategorie],N$4,Haushaltsbuch2[Datum],\">\"&B206,Haushaltsbuch2[Datum],\"<=\"&B207)","v":0},{"$f":"SUMIFS(Haushaltsbuch2[Einnahmen],Haushaltsbuch2[Kategorie],O$4,Haushaltsbuch2[Datum],\">\"&B206,Haushaltsbuch2[Datum],\"<=\"&B207)","v":0},{"$f":"SUMIFS(Haushaltsbuch2[Einnahmen],Haushaltsbuch2[Kategorie],P$4,Haushaltsbuch2[Datum],\">\"&B206,Haushaltsbuch2[Datum],\"<=\"&B207)","v":0},{"$f":"SUMIFS(Haushaltsbuch2[Einnahmen],Haushaltsbuch2[Kategorie],Q$4,Haushaltsbuch2[Datum],\">\"&B206,Haushaltsbuch2[Datum],\"<=\"&B207)","v":0},{"$f":"SUMIFS(Haushaltsbuch2[Einnahmen],Haushaltsbuch2[Kategorie],R$4,Haushaltsbuch2[Datum],\">\"&B206,Haushaltsbuch2[Datum],\"<=\"&B207)","v":0},null,null,null,null,null,null,null,null,null,null,null,null,null,null,null,null,null,null,{"$f":"SUMIFS(Haushaltsbuch2[Ausgaben],Haushaltsbuch2[Kategorie],AK$4,Haushaltsbuch2[Datum],\">\"&B206,Haushaltsbuch2[Datum],\"<=\"&B207)","v":0},null,null,{"$f":"SUMIFS(Dividenden[Betrag in EUR],Dividenden[Datum],\">\"&B206,Dividenden[Datum],\"<=\"&B207)","v":0},{"$f":"SUMIFS(Optionen[G/V (Netto)],Optionen[Datum],\">\"&B206,Optionen[Datum],\"<=\"&B207)","v":0},null,0,0,null,0,0,null,{"$f":"SUMIFS(Haushaltsbuch2[Einnahmen],Haushaltsbuch2[Datum],\">\"&B206,Haushaltsbuch2[Datum],\"<=\"&B207)+AN207+AO207","v":0},null,0,null,{"$f":"SUMIFS(Haushaltsbuch2[Ausgaben],Haushaltsbuch2[Datum],\">\"&B206,Haushaltsbuch2[Datum],\"<=\"&B207)","v":0}]
[null,31808,null,null,null,null,null,null,null,null,null,null,{"$f":"SUMIFS(Haushaltsbuch2[Einnahmen],Haushaltsbuch2[Kategorie],M$4,Haushaltsbuch2[Datum],\">\"&B207,Haushaltsbuch2[Datum],\"<=\"&B208)","v":0},{"$f":"SUMIFS(Haushaltsbuch2[Einnahmen],Haushaltsbuch2[Kategorie],N$4,Haushaltsbuch2[Datum],\">\"&B207,Haushaltsbuch2[Datum],\"<=\"&B208)","v":0},{"$f":"SUMIFS(Haushaltsbuch2[Einnahmen],Haushaltsbuch2[Kategorie],O$4,Haushaltsbuch2[Datum],\">\"&B207,Haushaltsbuch2[Datum],\"<=\"&B208)","v":0},{"$f":"SUMIFS(Haushaltsbuch2[Einnahmen],Haushaltsbuch2[Kategorie],P$4,Haushaltsbuch2[Datum],\">\"&B207,Haushaltsbuch2[Datum],\"<=\"&B208)","v":0},{"$f":"SUMIFS(Haushaltsbuch2[Einnahmen],Haushaltsbuch2[Kategorie],Q$4,Haushaltsbuch2[Datum],\">\"&B207,Haushaltsbuch2[Datum],\"<=\"&B208)","v":0},{"$f":"SUMIFS(Haushaltsbuch2[Einnahmen],Haushaltsbuch2[Kategorie],R$4,Haushaltsbuch2[Datum],\">\"&B207,Haushaltsbuch2[Datum],\"<=\"&B208)","v":0},null,null,null,null,null,null,null,null,null,null,null,null,null,null,null,null,null,null,{"$f":"SUMIFS(Haushaltsbuch2[Ausgaben],Haushaltsbuch2[Kategorie],AK$4,Haushaltsbuch2[Datum],\">\"&B207,Haushaltsbuch2[Datum],\"<=\"&B208)","v":0},null,null,{"$f":"SUMIFS(Dividenden[Betrag in EUR],Dividenden[Datum],\">\"&B207,Dividenden[Datum],\"<=\"&B208)","v":0},{"$f":"SUMIFS(Optionen[G/V (Netto)],Optionen[Datum],\">\"&B207,Optionen[Datum],\"<=\"&B208)","v":0},null,0,0,null,0,0,null,{"$f":"SUMIFS(Haushaltsbuch2[Einnahmen],Haushaltsbuch2[Datum],\">\"&B207,Haushaltsbuch2[Datum],\"<=\"&B208)+AN208+AO208","v":0},null,0,null,{"$f":"SUMIFS(Haushaltsbuch2[Ausgaben],Haushaltsbuch2[Datum],\">\"&B207,Haushaltsbuch2[Datum],\"<=\"&B208)","v":0}]
[null,31836,null,null,null,null,null,null,null,null,null,null,{"$f":"SUMIFS(Haushaltsbuch2[Einnahmen],Haushaltsbuch2[Kategorie],M$4,Haushaltsbuch2[Datum],\">\"&B208,Haushaltsbuch2[Datum],\"<=\"&B209)","v":0},{"$f":"SUMIFS(Haushaltsbuch2[Einnahmen],Haushaltsbuch2[Kategorie],N$4,Haushaltsbuch2[Datum],\">\"&B208,Haushaltsbuch2[Datum],\"<=\"&B209)","v":0},{"$f":"SUMIFS(Haushaltsbuch2[Einnahmen],Haushaltsbuch2[Kategorie],O$4,Haushaltsbuch2[Datum],\">\"&B208,Haushaltsbuch2[Datum],\"<=\"&B209)","v":0},{"$f":"SUMIFS(Haushaltsbuch2[Einnahmen],Haushaltsbuch2[Kategorie],P$4,Haushaltsbuch2[Datum],\">\"&B208,Haushaltsbuch2[Datum],\"<=\"&B209)","v":0},{"$f":"SUMIFS(Haushaltsbuch2[Einnahmen],Haushaltsbuch2[Kategorie],Q$4,Haushaltsbuch2[Datum],\">\"&B208,Haushaltsbuch2[Datum],\"<=\"&B209)","v":0},{"$f":"SUMIFS(Haushaltsbuch2[Einnahmen],Haushaltsbuch2[Kategorie],R$4,Haushaltsbuch2[Datum],\">\"&B208,Haushaltsbuch2[Datum],\"<=\"&B209)","v":0},null,null,null,null,null,null,null,null,null,null,null,null,null,null,null,null,null,null,{"$f":"SUMIFS(Haushaltsbuch2[Ausgaben],Haushaltsbuch2[Kategorie],AK$4,Haushaltsbuch2[Datum],\">\"&B208,Haushaltsbuch2[Datum],\"<=\"&B209)","v":0},null,null,{"$f":"SUMIFS(Dividenden[Betrag in EUR],Dividenden[Datum],\">\"&B208,Dividenden[Datum],\"<=\"&B209)","v":0},{"$f":"SUMIFS(Optionen[G/V (Netto)],Optionen[Datum],\">\"&B208,Optionen[Datum],\"<=\"&B209)","v":0},null,0,0,null,0,0,null,{"$f":"SUMIFS(Haushaltsbuch2[Einnahmen],Haushaltsbuch2[Datum],\">\"&B208,Haushaltsbuch2[Datum],\"<=\"&B209)+AN209+AO209","v":0},null,0,null,{"$f":"SUMIFS(Haushaltsbuch2[Ausgaben],Haushaltsbuch2[Datum],\">\"&B208,Haushaltsbuch2[Datum],\"<=\"&B209)","v":0}]
[null,31867,null,null,null,null,null,null,null,null,null,null,{"$f":"SUMIFS(Haushaltsbuch2[Einnahmen],Haushaltsbuch2[Kategorie],M$4,Haushaltsbuch2[Datum],\">\"&B209,Haushaltsbuch2[Datum],\"<=\"&B210)","v":0},{"$f":"SUMIFS(Haushaltsbuch2[Einnahmen],Haushaltsbuch2[Kategorie],N$4,Haushaltsbuch2[Datum],\">\"&B209,Haushaltsbuch2[Datum],\"<=\"&B210)","v":0},{"$f":"SUMIFS(Haushaltsbuch2[Einnahmen],Haushaltsbuch2[Kategorie],O$4,Haushaltsbuch2[Datum],\">\"&B209,Haushaltsbuch2[Datum],\"<=\"&B210)","v":0},{"$f":"SUMIFS(Haushaltsbuch2[Einnahmen],Haushaltsbuch2[Kategorie],P$4,Haushaltsbuch2[Datum],\">\"&B209,Haushaltsbuch2[Datum],\"<=\"&B210)","v":0},{"$f":"SUMIFS(Haushaltsbuch2[Einnahmen],Haushaltsbuch2[Kategorie],Q$4,Haushaltsbuch2[Datum],\">\"&B209,Haushaltsbuch2[Datum],\"<=\"&B210)","v":0},{"$f":"SUMIFS(Haushaltsbuch2[Einnahmen],Haushaltsbuch2[Kategorie],R$4,Haushaltsbuch2[Datum],\">\"&B209,Haushaltsbuch2[Datum],\"<=\"&B210)","v":0},null,null,null,null,null,null,null,null,null,null,null,null,null,null,null,null,null,null,{"$f":"SUMIFS(Haushaltsbuch2[Ausgaben],Haushaltsbuch2[Kategorie],AK$4,Haushaltsbuch2[Datum],\">\"&B209,Haushaltsbuch2[Datum],\"<=\"&B210)","v":0},null,null,{"$f":"SUMIFS(Dividenden[Betrag in EUR],Dividenden[Datum],\">\"&B209,Dividenden[Datum],\"<=\"&B210)","v":0},{"$f":"SUMIFS(Optionen[G/V (Netto)],Optionen[Datum],\">\"&B209,Optionen[Datum],\"<=\"&B210)","v":0},null,0,0,null,0,{"$f":"AVERAGE(AT199:AT210)","v":0},null,{"$f":"SUMIFS(Haushaltsbuch2[Einnahmen],Haushaltsbuch2[Datum],\">\"&B209,Haushaltsbuch2[Datum],\"<=\"&B210)+AN210+AO210","v":0},null,{"$f":"AVERAGE(AK199:AK210)","v":0},null,{"$f":"SUMIFS(Haushaltsbuch2[Ausgaben],Haushaltsbuch2[Datum],\">\"&B209,Haushaltsbuch2[Datum],\"<=\"&B210)","v":0}]
[null,31897,null,null,null,null,null,null,null,null,null,null,{"$f":"SUMIFS(Haushaltsbuch2[Einnahmen],Haushaltsbuch2[Kategorie],M$4,Haushaltsbuch2[Datum],\">\"&B210,Haushaltsbuch2[Datum],\"<=\"&B211)","v":0},{"$f":"SUMIFS(Haushaltsbuch2[Einnahmen],Haushaltsbuch2[Kategorie],N$4,Haushaltsbuch2[Datum],\">\"&B210,Haushaltsbuch2[Datum],\"<=\"&B211)","v":0},{"$f":"SUMIFS(Haushaltsbuch2[Einnahmen],Haushaltsbuch2[Kategorie],O$4,Haushaltsbuch2[Datum],\">\"&B210,Haushaltsbuch2[Datum],\"<=\"&B211)","v":0},{"$f":"SUMIFS(Haushaltsbuch2[Einnahmen],Haushaltsbuch2[Kategorie],P$4,Haushaltsbuch2[Datum],\">\"&B210,Haushaltsbuch2[Datum],\"<=\"&B211)","v":0},{"$f":"SUMIFS(Haushaltsbuch2[Einnahmen],Haushaltsbuch2[Kategorie],Q$4,Haushaltsbuch2[Datum],\">\"&B210,Haushaltsbuch2[Datum],\"<=\"&B211)","v":0},{"$f":"SUMIFS(Haushaltsbuch2[Einnahmen],Haushaltsbuch2[Kategorie],R$4,Haushaltsbuch2[Datum],\">\"&B210,Haushaltsbuch2[Datum],\"<=\"&B211)","v":0},null,null,null,null,null,null,null,null,null,null,null,null,null,null,null,null,null,null,{"$f":"SUMIFS(Haushaltsbuch2[Ausgaben],Haushaltsbuch2[Kategorie],AK$4,Haushaltsbuch2[Datum],\">\"&B210,Haushaltsbuch2[Datum],\"<=\"&B211)","v":0},null,null,{"$f":"SUMIFS(Dividenden[Betrag in EUR],Dividenden[Datum],\">\"&B210,Dividenden[Datum],\"<=\"&B211)","v":0},{"$f":"SUMIFS(Optionen[G/V (Netto)],Optionen[Datum],\">\"&B210,Optionen[Datum],\"<=\"&B211)","v":0},null,0,0,null,0,0,null,{"$f":"SUMIFS(Haushaltsbuch2[Einnahmen],Haushaltsbuch2[Datum],\">\"&B210,Haushaltsbuch2[Datum],\"<=\"&B211)+AN211+AO211","v":0},null,0,null,{"$f":"SUMIFS(Haushaltsbuch2[Ausgaben],Haushaltsbuch2[Datum],\">\"&B210,Haushaltsbuch2[Datum],\"<=\"&B211)","v":0}]
[null,31928,null,null,null,null,null,null,null,null,null,null,{"$f":"SUMIFS(Haushaltsbuch2[Einnahmen],Haushaltsbuch2[Kategorie],M$4,Haushaltsbuch2[Datum],\">\"&B211,Haushaltsbuch2[Datum],\"<=\"&B212)","v":0},{"$f":"SUMIFS(Haushaltsbuch2[Einnahmen],Haushaltsbuch2[Kategorie],N$4,Haushaltsbuch2[Datum],\">\"&B211,Haushaltsbuch2[Datum],\"<=\"&B212)","v":0},{"$f":"SUMIFS(Haushaltsbuch2[Einnahmen],Haushaltsbuch2[Kategorie],O$4,Haushaltsbuch2[Datum],\">\"&B211,Haushaltsbuch2[Datum],\"<=\"&B212)","v":0},{"$f":"SUMIFS(Haushaltsbuch2[Einnahmen],Haushaltsbuch2[Kategorie],P$4,Haushaltsbuch2[Datum],\">\"&B211,Haushaltsbuch2[Datum],\"<=\"&B212)","v":0},{"$f":"SUMIFS(Haushaltsbuch2[Einnahmen],Haushaltsbuch2[Kategorie],Q$4,Haushaltsbuch2[Datum],\">\"&B211,Haushaltsbuch2[Datum],\"<=\"&B212)","v":0},{"$f":"SUMIFS(Haushaltsbuch2[Einnahmen],Haushaltsbuch2[Kategorie],R$4,Haushaltsbuch2[Datum],\">\"&B211,Haushaltsbuch2[Datum],\"<=\"&B212)","v":0},null,null,null,null,null,null,null,null,null,null,null,null,null,null,null,null,null,null,{"$f":"SUMIFS(Haushaltsbuch2[Ausgaben],Haushaltsbuch2[Kategorie],AK$4,Haushaltsbuch2[Datum],\">\"&B211,Haushaltsbuch2[Datum],\"<=\"&B212)","v":0},null,null,{"$f":"SUMIFS(Dividenden[Betrag in EUR],Dividenden[Datum],\">\"&B211,Dividenden[Datum],\"<=\"&B212)","v":0},{"$f":"SUMIFS(Optionen[G/V (Netto)],Optionen[Datum],\">\"&B211,Optionen[Datum],\"<=\"&B212)","v":0},null,0,0,null,0,0,null,{"$f":"SUMIFS(Haushaltsbuch2[Einnahmen],Haushaltsbuch2[Datum],\">\"&B211,Haushaltsbuch2[Datum],\"<=\"&B212)+AN212+AO212","v":0},null,0,null,{"$f":"SUMIFS(Haushaltsbuch2[Ausgaben],Haushaltsbuch2[Datum],\">\"&B211,Haushaltsbuch2[Datum],\"<=\"&B212)","v":0}]
[null,31958,null,null,null,null,null,null,null,null,null,null,{"$f":"SUMIFS(Haushaltsbuch2[Einnahmen],Haushaltsbuch2[Kategorie],M$4,Haushaltsbuch2[Datum],\">\"&B212,Haushaltsbuch2[Datum],\"<=\"&B213)","v":0},{"$f":"SUMIFS(Haushaltsbuch2[Einnahmen],Haushaltsbuch2[Kategorie],N$4,Haushaltsbuch2[Datum],\">\"&B212,Haushaltsbuch2[Datum],\"<=\"&B213)","v":0},{"$f":"SUMIFS(Haushaltsbuch2[Einnahmen],Haushaltsbuch2[Kategorie],O$4,Haushaltsbuch2[Datum],\">\"&B212,Haushaltsbuch2[Datum],\"<=\"&B213)","v":0},{"$f":"SUMIFS(Haushaltsbuch2[Einnahmen],Haushaltsbuch2[Kategorie],P$4,Haushaltsbuch2[Datum],\">\"&B212,Haushaltsbuch2[Datum],\"<=\"&B213)","v":0},{"$f":"SUMIFS(Haushaltsbuch2[Einnahmen],Haushaltsbuch2[Kategorie],Q$4,Haushaltsbuch2[Datum],\">\"&B212,Haushaltsbuch2[Datum],\"<=\"&B213)","v":0},{"$f":"SUMIFS(Haushaltsbuch2[Einnahmen],Haushaltsbuch2[Kategorie],R$4,Haushaltsbuch2[Datum],\">\"&B212,Haushaltsbuch2[Datum],\"<=\"&B213)","v":0},null,null,null,null,null,null,null,null,null,null,null,null,null,null,null,null,null,null,{"$f":"SUMIFS(Haushaltsbuch2[Ausgaben],Haushaltsbuch2[Kategorie],AK$4,Haushaltsbuch2[Datum],\">\"&B212,Haushaltsbuch2[Datum],\"<=\"&B213)","v":0},null,null,{"$f":"SUMIFS(Dividenden[Betrag in EUR],Dividenden[Datum],\">\"&B212,Dividenden[Datum],\"<=\"&B213)","v":0},{"$f":"SUMIFS(Optionen[G/V (Netto)],Optionen[Datum],\">\"&B212,Optionen[Datum],\"<=\"&B213)","v":0},null,0,0,null,0,0,null,{"$f":"SUMIFS(Haushaltsbuch2[Einnahmen],Haushaltsbuch2[Datum],\">\"&B212,Haushaltsbuch2[Datum],\"<=\"&B213)+AN213+AO213","v":0},null,0,null,{"$f":"SUMIFS(Haushaltsbuch2[Ausgaben],Haushaltsbuch2[Datum],\">\"&B212,Haushaltsbuch2[Datum],\"<=\"&B213)","v":0}]
[null,31989,null,null,null,null,null,null,null,null,null,null,{"$f":"SUMIFS(Haushaltsbuch2[Einnahmen],Haushaltsbuch2[Kategorie],M$4,Haushaltsbuch2[Datum],\">\"&B213,Haushaltsbuch2[Datum],\"<=\"&B214)","v":0},{"$f":"SUMIFS(Haushaltsbuch2[Einnahmen],Haushaltsbuch2[Kategorie],N$4,Haushaltsbuch2[Datum],\">\"&B213,Haushaltsbuch2[Datum],\"<=\"&B214)","v":0},{"$f":"SUMIFS(Haushaltsbuch2[Einnahmen],Haushaltsbuch2[Kategorie],O$4,Haushaltsbuch2[Datum],\">\"&B213,Haushaltsbuch2[Datum],\"<=\"&B214)","v":0},{"$f":"SUMIFS(Haushaltsbuch2[Einnahmen],Haushaltsbuch2[Kategorie],P$4,Haushaltsbuch2[Datum],\">\"&B213,Haushaltsbuch2[Datum],\"<=\"&B214)","v":0},{"$f":"SUMIFS(Haushaltsbuch2[Einnahmen],Haushaltsbuch2[Kategorie],Q$4,Haushaltsbuch2[Datum],\">\"&B213,Haushaltsbuch2[Datum],\"<=\"&B214)","v":0},{"$f":"SUMIFS(Haushaltsbuch2[Einnahmen],Haushaltsbuch2[Kategorie],R$4,Haushaltsbuch2[Datum],\">\"&B213,Haushaltsbuch2[Datum],\"<=\"&B214)","v":0},null,null,null,null,null,null,null,null,null,null,null,null,null,null,null,null,null,null,{"$f":"SUMIFS(Haushaltsbuch2[Ausgaben],Haushaltsbuch2[Kategorie],AK$4,Haushaltsbuch2[Datum],\">\"&B213,Haushaltsbuch2[Datum],\"<=\"&B214)","v":0},null,null,{"$f":"SUMIFS(Dividenden[Betrag in EUR],Dividenden[Datum],\">\"&B213,Dividenden[Datum],\"<=\"&B214)","v":0},{"$f":"SUMIFS(Optionen[G/V (Netto)],Optionen[Datum],\">\"&B213,Optionen[Datum],\"<=\"&B214)","v":0},null,0,0,null,0,0,null,{"$f":"SUMIFS(Haushaltsbuch2[Einnahmen],Haushaltsbuch2[Datum],\">\"&B213,Haushaltsbuch2[Datum],\"<=\"&B214)+AN214+AO214","v":0},null,0,null,{"$f":"SUMIFS(Haushaltsbuch2[Ausgaben],Haushaltsbuch2[Datum],\">\"&B213,Haushaltsbuch2[Datum],\"<=\"&B214)","v":0}]
[null,32020,null,null,null,null,null,null,null,null,null,null,{"$f":"SUMIFS(Haushaltsbuch2[Einnahmen],Haushaltsbuch2[Kategorie],M$4,Haushaltsbuch2[Datum],\">\"&B214,Haushaltsbuch2[Datum],\"<=\"&B215)","v":0},{"$f":"SUMIFS(Haushaltsbuch2[Einnahmen],Haushaltsbuch2[Kategorie],N$4,Haushaltsbuch2[Datum],\">\"&B214,Haushaltsbuch2[Datum],\"<=\"&B215)","v":0},{"$f":"SUMIFS(Haushaltsbuch2[Einnahmen],Haushaltsbuch2[Kategorie],O$4,Haushaltsbuch2[Datum],\">\"&B214,Haushaltsbuch2[Datum],\"<=\"&B215)","v":0},{"$f":"SUMIFS(Haushaltsbuch2[Einnahmen],Haushaltsbuch2[Kategorie],P$4,Haushaltsbuch2[Datum],\">\"&B214,Haushaltsbuch2[Datum],\"<=\"&B215)","v":0},{"$f":"SUMIFS(Haushaltsbuch2[Einnahmen],Haushaltsbuch2[Kategorie],Q$4,Haushaltsbuch2[Datum],\">\"&B214,Haushaltsbuch2[Datum],\"<=\"&B215)","v":0},{"$f":"SUMIFS(Haushaltsbuch2[Einnahmen],Haushaltsbuch2[Kategorie],R$4,Haushaltsbuch2[Datum],\">\"&B214,Haushaltsbuch2[Datum],\"<=\"&B215)","v":0},null,null,null,null,null,null,null,null,null,null,null,null,null,null,null,null,null,null,{"$f":"SUMIFS(Haushaltsbuch2[Ausgaben],Haushaltsbuch2[Kategorie],AK$4,Haushaltsbuch2[Datum],\">\"&B214,Haushaltsbuch2[Datum],\"<=\"&B215)","v":0},null,null,{"$f":"SUMIFS(Dividenden[Betrag in EUR],Dividenden[Datum],\">\"&B214,Dividenden[Datum],\"<=\"&B215)","v":0},{"$f":"SUMIFS(Optionen[G/V (Netto)],Optionen[Datum],\">\"&B214,Optionen[Datum],\"<=\"&B215)","v":0},null,0,0,null,0,0,null,{"$f":"SUMIFS(Haushaltsbuch2[Einnahmen],Haushaltsbuch2[Datum],\">\"&B214,Haushaltsbuch2[Datum],\"<=\"&B215)+AN215+AO215","v":0},null,0,null,{"$f":"SUMIFS(Haushaltsbuch2[Ausgaben],Haushaltsbuch2[Datum],\">\"&B214,Haushaltsbuch2[Datum],\"<=\"&B215)","v":0}]
[null,32050,null,null,null,null,null,null,null,null,null,null,{"$f":"SUMIFS(Haushaltsbuch2[Einnahmen],Haushaltsbuch2[Kategorie],M$4,Haushaltsbuch2[Datum],\">\"&B215,Haushaltsbuch2[Datum],\"<=\"&B216)","v":0},{"$f":"SUMIFS(Haushaltsbuch2[Einnahmen],Haushaltsbuch2[Kategorie],N$4,Haushaltsbuch2[Datum],\">\"&B215,Haushaltsbuch2[Datum],\"<=\"&B216)","v":0},{"$f":"SUMIFS(Haushaltsbuch2[Einnahmen],Haushaltsbuch2[Kategorie],O$4,Haushaltsbuch2[Datum],\">\"&B215,Haushaltsbuch2[Datum],\"<=\"&B216)","v":0},{"$f":"SUMIFS(Haushaltsbuch2[Einnahmen],Haushaltsbuch2[Kategorie],P$4,Haushaltsbuch2[Datum],\">\"&B215,Haushaltsbuch2[Datum],\"<=\"&B216)","v":0},{"$f":"SUMIFS(Haushaltsbuch2[Einnahmen],Haushaltsbuch2[Kategorie],Q$4,Haushaltsbuch2[Datum],\">\"&B215,Haushaltsbuch2[Datum],\"<=\"&B216)","v":0},{"$f":"SUMIFS(Haushaltsbuch2[Einnahmen],Haushaltsbuch2[Kategorie],R$4,Haushaltsbuch2[Datum],\">\"&B215,Haushaltsbuch2[Datum],\"<=\"&B216)","v":0},null,null,null,null,null,null,null,null,null,null,null,null,null,null,null,null,null,null,{"$f":"SUMIFS(Haushaltsbuch2[Ausgaben],Haushaltsbuch2[Kategorie],AK$4,Haushaltsbuch2[Datum],\">\"&B215,Haushaltsbuch2[Datum],\"<=\"&B216)","v":0},null,null,{"$f":"SUMIFS(Dividenden[Betrag in EUR],Dividenden[Datum],\">\"&B215,Dividenden[Datum],\"<=\"&B216)","v":0},{"$f":"SUMIFS(Optionen[G/V (Netto)],Optionen[Datum],\">\"&B215,Optionen[Datum],\"<=\"&B216)","v":0},null,0,0,null,0,0,null,{"$f":"SUMIFS(Haushaltsbuch2[Einnahmen],Haushaltsbuch2[Datum],\">\"&B215,Haushaltsbuch2[Datum],\"<=\"&B216)+AN216+AO216","v":0},null,0,null,{"$f":"SUMIFS(Haushaltsbuch2[Ausgaben],Haushaltsbuch2[Datum],\">\"&B215,Haushaltsbuch2[Datum],\"<=\"&B216)","v":0}]
[null,32081,null,null,null,null,null,null,null,null,null,null,{"$f":"SUMIFS(Haushaltsbuch2[Einnahmen],Haushaltsbuch2[Kategorie],M$4,Haushaltsbuch2[Datum],\">\"&B216,Haushaltsbuch2[Datum],\"<=\"&B217)","v":0},{"$f":"SUMIFS(Haushaltsbuch2[Einnahmen],Haushaltsbuch2[Kategorie],N$4,Haushaltsbuch2[Datum],\">\"&B216,Haushaltsbuch2[Datum],\"<=\"&B217)","v":0},{"$f":"SUMIFS(Haushaltsbuch2[Einnahmen],Haushaltsbuch2[Kategorie],O$4,Haushaltsbuch2[Datum],\">\"&B216,Haushaltsbuch2[Datum],\"<=\"&B217)","v":0},{"$f":"SUMIFS(Haushaltsbuch2[Einnahmen],Haushaltsbuch2[Kategorie],P$4,Haushaltsbuch2[Datum],\">\"&B216,Haushaltsbuch2[Datum],\"<=\"&B217)","v":0},{"$f":"SUMIFS(Haushaltsbuch2[Einnahmen],Haushaltsbuch2[Kategorie],Q$4,Haushaltsbuch2[Datum],\">\"&B216,Haushaltsbuch2[Datum],\"<=\"&B217)","v":0},{"$f":"SUMIFS(Haushaltsbuch2[Einnahmen],Haushaltsbuch2[Kategorie],R$4,Haushaltsbuch2[Datum],\">\"&B216,Haushaltsbuch2[Datum],\"<=\"&B217)","v":0},null,null,null,null,null,null,null,null,null,null,null,null,null,null,null,null,null,null,{"$f":"SUMIFS(Haushaltsbuch2[Ausgaben],Haushaltsbuch2[Kategorie],AK$4,Haushaltsbuch2[Datum],\">\"&B216,Haushaltsbuch2[Datum],\"<=\"&B217)","v":0},null,null,{"$f":"SUMIFS(Dividenden[Betrag in EUR],Dividenden[Datum],\">\"&B216,Dividenden[Datum],\"<=\"&B217)","v":0},{"$f":"SUMIFS(Optionen[G/V (Netto)],Optionen[Datum],\">\"&B216,Optionen[Datum],\"<=\"&B217)","v":0},null,0,0,null,0,0,null,{"$f":"SUMIFS(Haushaltsbuch2[Einnahmen],Haushaltsbuch2[Datum],\">\"&B216,Haushaltsbuch2[Datum],\"<=\"&B217)+AN217+AO217","v":0},null,0,null,{"$f":"SUMIFS(Haushaltsbuch2[Ausgaben],Haushaltsbuch2[Datum],\">\"&B216,Haushaltsbuch2[Datum],\"<=\"&B217)","v":0}]
[null,32111,null,null,null,null,null,null,null,null,null,null,{"$f":"SUMIFS(Haushaltsbuch2[Einnahmen],Haushaltsbuch2[Kategorie],M$4,Haushaltsbuch2[Datum],\">\"&B217,Haushaltsbuch2[Datum],\"<=\"&B218)","v":0},{"$f":"SUMIFS(Haushaltsbuch2[Einnahmen],Haushaltsbuch2[Kategorie],N$4,Haushaltsbuch2[Datum],\">\"&B217,Haushaltsbuch2[Datum],\"<=\"&B218)","v":0},{"$f":"SUMIFS(Haushaltsbuch2[Einnahmen],Haushaltsbuch2[Kategorie],O$4,Haushaltsbuch2[Datum],\">\"&B217,Haushaltsbuch2[Datum],\"<=\"&B218)","v":0},{"$f":"SUMIFS(Haushaltsbuch2[Einnahmen],Haushaltsbuch2[Kategorie],P$4,Haushaltsbuch2[Datum],\">\"&B217,Haushaltsbuch2[Datum],\"<=\"&B218)","v":0},{"$f":"SUMIFS(Haushaltsbuch2[Einnahmen],Haushaltsbuch2[Kategorie],Q$4,Haushaltsbuch2[Datum],\">\"&B217,Haushaltsbuch2[Datum],\"<=\"&B218)","v":0},{"$f":"SUMIFS(Haushaltsbuch2[Einnahmen],Haushaltsbuch2[Kategorie],R$4,Haushaltsbuch2[Datum],\">\"&B217,Haushaltsbuch2[Datum],\"<=\"&B218)","v":0},null,null,null,null,null,null,null,null,null,null,null,null,null,null,null,null,null,null,{"$f":"SUMIFS(Haushaltsbuch2[Ausgaben],Haushaltsbuch2[Kategorie],AK$4,Haushaltsbuch2[Datum],\">\"&B217,Haushaltsbuch2[Datum],\"<=\"&B218)","v":0},null,null,{"$f":"SUMIFS(Dividenden[Betrag in EUR],Dividenden[Datum],\">\"&B217,Dividenden[Datum],\"<=\"&B218)","v":0},{"$f":"SUMIFS(Optionen[G/V (Netto)],Optionen[Datum],\">\"&B217,Optionen[Datum],\"<=\"&B218)","v":0},null,0,0,null,0,0,null,{"$f":"SUMIFS(Haushaltsbuch2[Einnahmen],Haushaltsbuch2[Datum],\">\"&B217,Haushaltsbuch2[Datum],\"<=\"&B218)+AN218+AO218","v":0},null,0,null,{"$f":"SUMIFS(Haushaltsbuch2[Ausgaben],Haushaltsbuch2[Datum],\">\"&B217,Haushaltsbuch2[Datum],\"<=\"&B218)","v":0}]
[null,32142,null,null,null,null,null,null,null,null,null,null,{"$f":"SUMIFS(Haushaltsbuch2[Einnahmen],Haushaltsbuch2[Kategorie],M$4,Haushaltsbuch2[Datum],\">\"&B218,Haushaltsbuch2[Datum],\"<=\"&B219)","v":0},{"$f":"SUMIFS(Haushaltsbuch2[Einnahmen],Haushaltsbuch2[Kategorie],N$4,Haushaltsbuch2[Datum],\">\"&B218,Haushaltsbuch2[Datum],\"<=\"&B219)","v":0},{"$f":"SUMIFS(Haushaltsbuch2[Einnahmen],Haushaltsbuch2[Kategorie],O$4,Haushaltsbuch2[Datum],\">\"&B218,Haushaltsbuch2[Datum],\"<=\"&B219)","v":0},{"$f":"SUMIFS(Haushaltsbuch2[Einnahmen],Haushaltsbuch2[Kategorie],P$4,Haushaltsbuch2[Datum],\">\"&B218,Haushaltsbuch2[Datum],\"<=\"&B219)","v":0},{"$f":"SUMIFS(Haushaltsbuch2[Einnahmen],Haushaltsbuch2[Kategorie],Q$4,Haushaltsbuch2[Datum],\">\"&B218,Haushaltsbuch2[Datum],\"<=\"&B219)","v":0},{"$f":"SUMIFS(Haushaltsbuch2[Einnahmen],Haushaltsbuch2[Kategorie],R$4,Haushaltsbuch2[Datum],\">\"&B218,Haushaltsbuch2[Datum],\"<=\"&B219)","v":0},null,null,null,null,null,null,null,null,null,null,null,null,null,null,null,null,null,null,{"$f":"SUMIFS(Haushaltsbuch2[Ausgaben],Haushaltsbuch2[Kategorie],AK$4,Haushaltsbuch2[Datum],\">\"&B218,Haushaltsbuch2[Datum],\"<=\"&B219)","v":0},null,null,{"$f":"SUMIFS(Dividenden[Betrag in EUR],Dividenden[Datum],\">\"&B218,Dividenden[Datum],\"<=\"&B219)","v":0},{"$f":"SUMIFS(Optionen[G/V (Netto)],Optionen[Datum],\">\"&B218,Optionen[Datum],\"<=\"&B219)","v":0},null,0,0,null,0,0,null,{"$f":"SUMIFS(Haushaltsbuch2[Einnahmen],Haushaltsbuch2[Datum],\">\"&B218,Haushaltsbuch2[Datum],\"<=\"&B219)+AN219+AO219","v":0},null,0,null,{"$f":"SUMIFS(Haushaltsbuch2[Ausgaben],Haushaltsbuch2[Datum],\">\"&B218,Haushaltsbuch2[Datum],\"<=\"&B219)","v":0}]
[null,32173,null,null,null,null,null,null,null,null,null,null,{"$f":"SUMIFS(Haushaltsbuch2[Einnahmen],Haushaltsbuch2[Kategorie],M$4,Haushaltsbuch2[Datum],\">\"&B219,Haushaltsbuch2[Datum],\"<=\"&B220)","v":0},{"$f":"SUMIFS(Haushaltsbuch2[Einnahmen],Haushaltsbuch2[Kategorie],N$4,Haushaltsbuch2[Datum],\">\"&B219,Haushaltsbuch2[Datum],\"<=\"&B220)","v":0},{"$f":"SUMIFS(Haushaltsbuch2[Einnahmen],Haushaltsbuch2[Kategorie],O$4,Haushaltsbuch2[Datum],\">\"&B219,Haushaltsbuch2[Datum],\"<=\"&B220)","v":0},{"$f":"SUMIFS(Haushaltsbuch2[Einnahmen],Haushaltsbuch2[Kategorie],P$4,Haushaltsbuch2[Datum],\">\"&B219,Haushaltsbuch2[Datum],\"<=\"&B220)","v":0},{"$f":"SUMIFS(Haushaltsbuch2[Einnahmen],Haushaltsbuch2[Kategorie],Q$4,Haushaltsbuch2[Datum],\">\"&B219,Haushaltsbuch2[Datum],\"<=\"&B220)","v":0},{"$f":"SUMIFS(Haushaltsbuch2[Einnahmen],Haushaltsbuch2[Kategorie],R$4,Haushaltsbuch2[Datum],\">\"&B219,Haushaltsbuch2[Datum],\"<=\"&B220)","v":0},null,null,null,null,null,null,null,null,null,null,null,null,null,null,null,null,null,null,{"$f":"SUMIFS(Haushaltsbuch2[Ausgaben],Haushaltsbuch2[Kategorie],AK$4,Haushaltsbuch2[Datum],\">\"&B219,Haushaltsbuch2[Datum],\"<=\"&B220)","v":0},null,null,{"$f":"SUMIFS(Dividenden[Betrag in EUR],Dividenden[Datum],\">\"&B219,Dividenden[Datum],\"<=\"&B220)","v":0},{"$f":"SUMIFS(Optionen[G/V (Netto)],Optionen[Datum],\">\"&B219,Optionen[Datum],\"<=\"&B220)","v":0},null,0,0,null,0,0,null,{"$f":"SUMIFS(Haushaltsbuch2[Einnahmen],Haushaltsbuch2[Datum],\">\"&B219,Haushaltsbuch2[Datum],\"<=\"&B220)+AN220+AO220","v":0},null,0,null,{"$f":"SUMIFS(Haushaltsbuch2[Ausgaben],Haushaltsbuch2[Datum],\">\"&B219,Haushaltsbuch2[Datum],\"<=\"&B220)","v":0}]
[null,32202,null,null,null,null,null,null,null,null,null,null,{"$f":"SUMIFS(Haushaltsbuch2[Einnahmen],Haushaltsbuch2[Kategorie],M$4,Haushaltsbuch2[Datum],\">\"&B220,Haushaltsbuch2[Datum],\"<=\"&B221)","v":0},{"$f":"SUMIFS(Haushaltsbuch2[Einnahmen],Haushaltsbuch2[Kategorie],N$4,Haushaltsbuch2[Datum],\">\"&B220,Haushaltsbuch2[Datum],\"<=\"&B221)","v":0},{"$f":"SUMIFS(Haushaltsbuch2[Einnahmen],Haushaltsbuch2[Kategorie],O$4,Haushaltsbuch2[Datum],\">\"&B220,Haushaltsbuch2[Datum],\"<=\"&B221)","v":0},{"$f":"SUMIFS(Haushaltsbuch2[Einnahmen],Haushaltsbuch2[Kategorie],P$4,Haushaltsbuch2[Datum],\">\"&B220,Haushaltsbuch2[Datum],\"<=\"&B221)","v":0},{"$f":"SUMIFS(Haushaltsbuch2[Einnahmen],Haushaltsbuch2[Kategorie],Q$4,Haushaltsbuch2[Datum],\">\"&B220,Haushaltsbuch2[Datum],\"<=\"&B221)","v":0},{"$f":"SUMIFS(Haushaltsbuch2[Einnahmen],Haushaltsbuch2[Kategorie],R$4,Haushaltsbuch2[Datum],\">\"&B220,Haushaltsbuch2[Datum],\"<=\"&B221)","v":0},null,null,null,null,null,null,null,null,null,null,null,null,null,null,null,null,null,null,{"$f":"SUMIFS(Haushaltsbuch2[Ausgaben],Haushaltsbuch2[Kategorie],AK$4,Haushaltsbuch2[Datum],\">\"&B220,Haushaltsbuch2[Datum],\"<=\"&B221)","v":0},null,null,{"$f":"SUMIFS(Dividenden[Betrag in EUR],Dividenden[Datum],\">\"&B220,Dividenden[Datum],\"<=\"&B221)","v":0},{"$f":"SUMIFS(Optionen[G/V (Netto)],Optionen[Datum],\">\"&B220,Optionen[Datum],\"<=\"&B221)","v":0},null,0,0,null,0,0,null,{"$f":"SUMIFS(Haushaltsbuch2[Einnahmen],Haushaltsbuch2[Datum],\">\"&B220,Haushaltsbuch2[Datum],\"<=\"&B221)+AN221+AO221","v":0},null,0,null,{"$f":"SUMIFS(Haushaltsbuch2[Ausgaben],Haushaltsbuch2[Datum],\">\"&B220,Haushaltsbuch2[Datum],\"<=\"&B221)","v":0}]
[null,32233,null,null,null,null,null,null,null,null,null,null,{"$f":"SUMIFS(Haushaltsbuch2[Einnahmen],Haushaltsbuch2[Kategorie],M$4,Haushaltsbuch2[Datum],\">\"&B221,Haushaltsbuch2[Datum],\"<=\"&B222)","v":0},{"$f":"SUMIFS(Haushaltsbuch2[Einnahmen],Haushaltsbuch2[Kategorie],N$4,Haushaltsbuch2[Datum],\">\"&B221,Haushaltsbuch2[Datum],\"<=\"&B222)","v":0},{"$f":"SUMIFS(Haushaltsbuch2[Einnahmen],Haushaltsbuch2[Kategorie],O$4,Haushaltsbuch2[Datum],\">\"&B221,Haushaltsbuch2[Datum],\"<=\"&B222)","v":0},{"$f":"SUMIFS(Haushaltsbuch2[Einnahmen],Haushaltsbuch2[Kategorie],P$4,Haushaltsbuch2[Datum],\">\"&B221,Haushaltsbuch2[Datum],\"<=\"&B222)","v":0},{"$f":"SUMIFS(Haushaltsbuch2[Einnahmen],Haushaltsbuch2[Kategorie],Q$4,Haushaltsbuch2[Datum],\">\"&B221,Haushaltsbuch2[Datum],\"<=\"&B222)","v":0},{"$f":"SUMIFS(Haushaltsbuch2[Einnahmen],Haushaltsbuch2[Kategorie],R$4,Haushaltsbuch2[Datum],\">\"&B221,Haushaltsbuch2[Datum],\"<=\"&B222)","v":0},null,null,null,null,null,null,null,null,null,null,null,null,null,null,null,null,null,null,{"$f":"SUMIFS(Haushaltsbuch2[Ausgaben],Haushaltsbuch2[Kategorie],AK$4,Haushaltsbuch2[Datum],\">\"&B221,Haushaltsbuch2[Datum],\"<=\"&B222)","v":0},null,null,{"$f":"SUMIFS(Dividenden[Betrag in EUR],Dividenden[Datum],\">\"&B221,Dividenden[Datum],\"<=\"&B222)","v":0},{"$f":"SUMIFS(Optionen[G/V (Netto)],Optionen[Datum],\">\"&B221,Optionen[Datum],\"<=\"&B222)","v":0},null,0,0,null,0,0,null,{"$f":"SUMIFS(Haushaltsbuch2[Einnahmen],Haushaltsbuch2[Datum],\">\"&B221,Haushaltsbuch2[Datum],\"<=\"&B222)+AN222+AO222","v":0},null,0,null,{"$f":"SUMIFS(Haushaltsbuch2[Ausgaben],Haushaltsbuch2[Datum],\">\"&B221,Haushaltsbuch2[Datum],\"<=\"&B222)","v":0}]
[null,32263,null,null,null,null,null,null,null,null,null,null,{"$f":"SUMIFS(Haushaltsbuch2[Einnahmen],Haushaltsbuch2[Kategorie],M$4,Haushaltsbuch2[Datum],\">\"&B222,Haushaltsbuch2[Datum],\"<=\"&B223)","v":0},{"$f":"SUMIFS(Haushaltsbuch2[Einnahmen],Haushaltsbuch2[Kategorie],N$4,Haushaltsbuch2[Datum],\">\"&B222,Haushaltsbuch2[Datum],\"<=\"&B223)","v":0},{"$f":"SUMIFS(Haushaltsbuch2[Einnahmen],Haushaltsbuch2[Kategorie],O$4,Haushaltsbuch2[Datum],\">\"&B222,Haushaltsbuch2[Datum],\"<=\"&B223)","v":0},{"$f":"SUMIFS(Haushaltsbuch2[Einnahmen],Haushaltsbuch2[Kategorie],P$4,Haushaltsbuch2[Datum],\">\"&B222,Haushaltsbuch2[Datum],\"<=\"&B223)","v":0},{"$f":"SUMIFS(Haushaltsbuch2[Einnahmen],Haushaltsbuch2[Kategorie],Q$4,Haushaltsbuch2[Datum],\">\"&B222,Haushaltsbuch2[Datum],\"<=\"&B223)","v":0},{"$f":"SUMIFS(Haushaltsbuch2[Einnahmen],Haushaltsbuch2[Kategorie],R$4,Haushaltsbuch2[Datum],\">\"&B222,Haushaltsbuch2[Datum],\"<=\"&B223)","v":0},null,null,null,null,null,null,null,null,null,null,null,null,null,null,null,null,null,null,{"$f":"SUMIFS(Haushaltsbuch2[Ausgaben],Haushaltsbuch2[Kategorie],AK$4,Haushaltsbuch2[Datum],\">\"&B222,Haushaltsbuch2[Datum],\"<=\"&B223)","v":0},null,null,{"$f":"SUMIFS(Dividenden[Betrag in EUR],Dividenden[Datum],\">\"&B222,Dividenden[Datum],\"<=\"&B223)","v":0},{"$f":"SUMIFS(Optionen[G/V (Netto)],Optionen[Datum],\">\"&B222,Optionen[Datum],\"<=\"&B223)","v":0},null,0,0,null,0,0,null,{"$f":"SUMIFS(Haushaltsbuch2[Einnahmen],Haushaltsbuch2[Datum],\">\"&B222,Haushaltsbuch2[Datum],\"<=\"&B223)+AN223+AO223","v":0},null,0,null,{"$f":"SUMIFS(Haushaltsbuch2[Ausgaben],Haushaltsbuch2[Datum],\">\"&B222,Haushaltsbuch2[Datum],\"<=\"&B223)","v":0}]
[null,32294,null,null,null,null,null,null,null,null,null,null,{"$f":"SUMIFS(Haushaltsbuch2[Einnahmen],Haushaltsbuch2[Kategorie],M$4,Haushaltsbuch2[Datum],\">\"&B223,Haushaltsbuch2[Datum],\"<=\"&B224)","v":0},{"$f":"SUMIFS(Haushaltsbuch2[Einnahmen],Haushaltsbuch2[Kategorie],N$4,Haushaltsbuch2[Datum],\">\"&B223,Haushaltsbuch2[Datum],\"<=\"&B224)","v":0},{"$f":"SUMIFS(Haushaltsbuch2[Einnahmen],Haushaltsbuch2[Kategorie],O$4,Haushaltsbuch2[Datum],\">\"&B223,Haushaltsbuch2[Datum],\"<=\"&B224)","v":0},{"$f":"SUMIFS(Haushaltsbuch2[Einnahmen],Haushaltsbuch2[Kategorie],P$4,Haushaltsbuch2[Datum],\">\"&B223,Haushaltsbuch2[Datum],\"<=\"&B224)","v":0},{"$f":"SUMIFS(Haushaltsbuch2[Einnahmen],Haushaltsbuch2[Kategorie],Q$4,Haushaltsbuch2[Datum],\">\"&B223,Haushaltsbuch2[Datum],\"<=\"&B224)","v":0},{"$f":"SUMIFS(Haushaltsbuch2[Einnahmen],Haushaltsbuch2[Kategorie],R$4,Haushaltsbuch2[Datum],\">\"&B223,Haushaltsbuch2[Datum],\"<=\"&B224)","v":0},null,null,null,null,null,null,null,null,null,null,null,null,null,null,null,null,null,null,{"$f":"SUMIFS(Haushaltsbuch2[Ausgaben],Haushaltsbuch2[Kategorie],AK$4,Haushaltsbuch2[Datum],\">\"&B223,Haushaltsbuch2[Datum],\"<=\"&B224)","v":0},null,null,{"$f":"SUMIFS(Dividenden[Betrag in EUR],Dividenden[Datum],\">\"&B223,Dividenden[Datum],\"<=\"&B224)","v":0},{"$f":"SUMIFS(Optionen[G/V (Netto)],Optionen[Datum],\">\"&B223,Optionen[Datum],\"<=\"&B224)","v":0},null,0,0,null,0,0,null,{"$f":"SUMIFS(Haushaltsbuch2[Einnahmen],Haushaltsbuch2[Datum],\">\"&B223,Haushaltsbuch2[Datum],\"<=\"&B224)+AN224+AO224","v":0},null,0,null,{"$f":"SUMIFS(Haushaltsbuch2[Ausgaben],Haushaltsbuch2[Datum],\">\"&B223,Haushaltsbuch2[Datum],\"<=\"&B224)","v":0}]
[null,32324,null,null,null,null,null,null,null,null,null,null,{"$f":"SUMIFS(Haushaltsbuch2[Einnahmen],Haushaltsbuch2[Kategorie],M$4,Haushaltsbuch2[Datum],\">\"&B224,Haushaltsbuch2[Datum],\"<=\"&B225)","v":0},{"$f":"SUMIFS(Haushaltsbuch2[Einnahmen],Haushaltsbuch2[Kategorie],N$4,Haushaltsbuch2[Datum],\">\"&B224,Haushaltsbuch2[Datum],\"<=\"&B225)","v":0},{"$f":"SUMIFS(Haushaltsbuch2[Einnahmen],Haushaltsbuch2[Kategorie],O$4,Haushaltsbuch2[Datum],\">\"&B224,Haushaltsbuch2[Datum],\"<=\"&B225)","v":0},{"$f":"SUMIFS(Haushaltsbuch2[Einnahmen],Haushaltsbuch2[Kategorie],P$4,Haushaltsbuch2[Datum],\">\"&B224,Haushaltsbuch2[Datum],\"<=\"&B225)","v":0},{"$f":"SUMIFS(Haushaltsbuch2[Einnahmen],Haushaltsbuch2[Kategorie],Q$4,Haushaltsbuch2[Datum],\">\"&B224,Haushaltsbuch2[Datum],\"<=\"&B225)","v":0},{"$f":"SUMIFS(Haushaltsbuch2[Einnahmen],Haushaltsbuch2[Kategorie],R$4,Haushaltsbuch2[Datum],\">\"&B224,Haushaltsbuch2[Datum],\"<=\"&B225)","v":0},null,null,null,null,null,null,null,null,null,null,null,null,null,null,null,null,null,null,{"$f":"SUMIFS(Haushaltsbuch2[Ausgaben],Haushaltsbuch2[Kategorie],AK$4,Haushaltsbuch2[Datum],\">\"&B224,Haushaltsbuch2[Datum],\"<=\"&B225)","v":0},null,null,{"$f":"SUMIFS(Dividenden[Betrag in EUR],Dividenden[Datum],\">\"&B224,Dividenden[Datum],\"<=\"&B225)","v":0},{"$f":"SUMIFS(Optionen[G/V (Netto)],Optionen[Datum],\">\"&B224,Optionen[Datum],\"<=\"&B225)","v":0},null,0,0,null,0,0,null,{"$f":"SUMIFS(Haushaltsbuch2[Einnahmen],Haushaltsbuch2[Datum],\">\"&B224,Haushaltsbuch2[Datum],\"<=\"&B225)+AN225+AO225","v":0},null,0,null,{"$f":"SUMIFS(Haushaltsbuch2[Ausgaben],Haushaltsbuch2[Datum],\">\"&B224,Haushaltsbuch2[Datum],\"<=\"&B225)","v":0}]
[null,32355,null,null,null,null,null,null,null,null,null,null,{"$f":"SUMIFS(Haushaltsbuch2[Einnahmen],Haushaltsbuch2[Kategorie],M$4,Haushaltsbuch2[Datum],\">\"&B225,Haushaltsbuch2[Datum],\"<=\"&B226)","v":0},{"$f":"SUMIFS(Haushaltsbuch2[Einnahmen],Haushaltsbuch2[Kategorie],N$4,Haushaltsbuch2[Datum],\">\"&B225,Haushaltsbuch2[Datum],\"<=\"&B226)","v":0},{"$f":"SUMIFS(Haushaltsbuch2[Einnahmen],Haushaltsbuch2[Kategorie],O$4,Haushaltsbuch2[Datum],\">\"&B225,Haushaltsbuch2[Datum],\"<=\"&B226)","v":0},{"$f":"SUMIFS(Haushaltsbuch2[Einnahmen],Haushaltsbuch2[Kategorie],P$4,Haushaltsbuch2[Datum],\">\"&B225,Haushaltsbuch2[Datum],\"<=\"&B226)","v":0},{"$f":"SUMIFS(Haushaltsbuch2[Einnahmen],Haushaltsbuch2[Kategorie],Q$4,Haushaltsbuch2[Datum],\">\"&B225,Haushaltsbuch2[Datum],\"<=\"&B226)","v":0},{"$f":"SUMIFS(Haushaltsbuch2[Einnahmen],Haushaltsbuch2[Kategorie],R$4,Haushaltsbuch2[Datum],\">\"&B225,Haushaltsbuch2[Datum],\"<=\"&B226)","v":0},null,null,null,null,null,null,null,null,null,null,null,null,null,null,null,null,null,null,{"$f":"SUMIFS(Haushaltsbuch2[Ausgaben],Haushaltsbuch2[Kategorie],AK$4,Haushaltsbuch2[Datum],\">\"&B225,Haushaltsbuch2[Datum],\"<=\"&B226)","v":0},null,null,{"$f":"SUMIFS(Dividenden[Betrag in EUR],Dividenden[Datum],\">\"&B225,Dividenden[Datum],\"<=\"&B226)","v":0},{"$f":"SUMIFS(Optionen[G/V (Netto)],Optionen[Datum],\">\"&B225,Optionen[Datum],\"<=\"&B226)","v":0},null,0,0,null,0,0,null,{"$f":"SUMIFS(Haushaltsbuch2[Einnahmen],Haushaltsbuch2[Datum],\">\"&B225,Haushaltsbuch2[Datum],\"<=\"&B226)+AN226+AO226","v":0},null,0,null,{"$f":"SUMIFS(Haushaltsbuch2[Ausgaben],Haushaltsbuch2[Datum],\">\"&B225,Haushaltsbuch2[Datum],\"<=\"&B226)","v":0}]
[null,32386,null,null,null,null,null,null,null,null,null,null,{"$f":"SUMIFS(Haushaltsbuch2[Einnahmen],Haushaltsbuch2[Kategorie],M$4,Haushaltsbuch2[Datum],\">\"&B226,Haushaltsbuch2[Datum],\"<=\"&B227)","v":0},{"$f":"SUMIFS(Haushaltsbuch2[Einnahmen],Haushaltsbuch2[Kategorie],N$4,Haushaltsbuch2[Datum],\">\"&B226,Haushaltsbuch2[Datum],\"<=\"&B227)","v":0},{"$f":"SUMIFS(Haushaltsbuch2[Einnahmen],Haushaltsbuch2[Kategorie],O$4,Haushaltsbuch2[Datum],\">\"&B226,Haushaltsbuch2[Datum],\"<=\"&B227)","v":0},{"$f":"SUMIFS(Haushaltsbuch2[Einnahmen],Haushaltsbuch2[Kategorie],P$4,Haushaltsbuch2[Datum],\">\"&B226,Haushaltsbuch2[Datum],\"<=\"&B227)","v":0},{"$f":"SUMIFS(Haushaltsbuch2[Einnahmen],Haushaltsbuch2[Kategorie],Q$4,Haushaltsbuch2[Datum],\">\"&B226,Haushaltsbuch2[Datum],\"<=\"&B227)","v":0},{"$f":"SUMIFS(Haushaltsbuch2[Einnahmen],Haushaltsbuch2[Kategorie],R$4,Haushaltsbuch2[Datum],\">\"&B226,Haushaltsbuch2[Datum],\"<=\"&B227)","v":0},null,null,null,null,null,null,null,null,null,null,null,null,null,null,null,null,null,null,{"$f":"SUMIFS(Haushaltsbuch2[Ausgaben],Haushaltsbuch2[Kategorie],AK$4,Haushaltsbuch2[Datum],\">\"&B226,Haushaltsbuch2[Datum],\"<=\"&B227)","v":0},null,null,{"$f":"SUMIFS(Dividenden[Betrag in EUR],Dividenden[Datum],\">\"&B226,Dividenden[Datum],\"<=\"&B227)","v":0},{"$f":"SUMIFS(Optionen[G/V (Netto)],Optionen[Datum],\">\"&B226,Optionen[Datum],\"<=\"&B227)","v":0},null,0,0,null,0,0,null,{"$f":"SUMIFS(Haushaltsbuch2[Einnahmen],Haushaltsbuch2[Datum],\">\"&B226,Haushaltsbuch2[Datum],\"<=\"&B227)+AN227+AO227","v":0},null,0,null,{"$f":"SUMIFS(Haushaltsbuch2[Ausgaben],Haushaltsbuch2[Datum],\">\"&B226,Haushaltsbuch2[Datum],\"<=\"&B227)","v":0}]
[null,32416,null,null,null,null,null,null,null,null,null,null,{"$f":"SUMIFS(Haushaltsbuch2[Einnahmen],Haushaltsbuch2[Kategorie],M$4,Haushaltsbuch2[Datum],\">\"&B227,Haushaltsbuch2[Datum],\"<=\"&B228)","v":0},{"$f":"SUMIFS(Haushaltsbuch2[Einnahmen],Haushaltsbuch2[Kategorie],N$4,Haushaltsbuch2[Datum],\">\"&B227,Haushaltsbuch2[Datum],\"<=\"&B228)","v":0},{"$f":"SUMIFS(Haushaltsbuch2[Einnahmen],Haushaltsbuch2[Kategorie],O$4,Haushaltsbuch2[Datum],\">\"&B227,Haushaltsbuch2[Datum],\"<=\"&B228)","v":0},{"$f":"SUMIFS(Haushaltsbuch2[Einnahmen],Haushaltsbuch2[Kategorie],P$4,Haushaltsbuch2[Datum],\">\"&B227,Haushaltsbuch2[Datum],\"<=\"&B228)","v":0},{"$f":"SUMIFS(Haushaltsbuch2[Einnahmen],Haushaltsbuch2[Kategorie],Q$4,Haushaltsbuch2[Datum],\">\"&B227,Haushaltsbuch2[Datum],\"<=\"&B228)","v":0},{"$f":"SUMIFS(Haushaltsbuch2[Einnahmen],Haushaltsbuch2[Kategorie],R$4,Haushaltsbuch2[Datum],\">\"&B227,Haushaltsbuch2[Datum],\"<=\"&B228)","v":0},null,null,null,null,null,null,null,null,null,null,null,null,null,null,null,null,null,null,{"$f":"SUMIFS(Haushaltsbuch2[Ausgaben],Haushaltsbuch2[Kategorie],AK$4,Haushaltsbuch2[Datum],\">\"&B227,Haushaltsbuch2[Datum],\"<=\"&B228)","v":0},null,null,{"$f":"SUMIFS(Dividenden[Betrag in EUR],Dividenden[Datum],\">\"&B227,Dividenden[Datum],\"<=\"&B228)","v":0},{"$f":"SUMIFS(Optionen[G/V (Netto)],Optionen[Datum],\">\"&B227,Optionen[Datum],\"<=\"&B228)","v":0},null,0,0,null,0,0,null,{"$f":"SUMIFS(Haushaltsbuch2[Einnahmen],Haushaltsbuch2[Datum],\">\"&B227,Haushaltsbuch2[Datum],\"<=\"&B228)+AN228+AO228","v":0},null,0,null,{"$f":"SUMIFS(Haushaltsbuch2[Ausgaben],Haushaltsbuch2[Datum],\">\"&B227,Haushaltsbuch2[Datum],\"<=\"&B228)","v":0}]
[null,32447,null,null,null,null,null,null,null,null,null,null,{"$f":"SUMIFS(Haushaltsbuch2[Einnahmen],Haushaltsbuch2[Kategorie],M$4,Haushaltsbuch2[Datum],\">\"&B228,Haushaltsbuch2[Datum],\"<=\"&B229)","v":0},{"$f":"SUMIFS(Haushaltsbuch2[Einnahmen],Haushaltsbuch2[Kategorie],N$4,Haushaltsbuch2[Datum],\">\"&B228,Haushaltsbuch2[Datum],\"<=\"&B229)","v":0},{"$f":"SUMIFS(Haushaltsbuch2[Einnahmen],Haushaltsbuch2[Kategorie],O$4,Haushaltsbuch2[Datum],\">\"&B228,Haushaltsbuch2[Datum],\"<=\"&B229)","v":0},{"$f":"SUMIFS(Haushaltsbuch2[Einnahmen],Haushaltsbuch2[Kategorie],P$4,Haushaltsbuch2[Datum],\">\"&B228,Haushaltsbuch2[Datum],\"<=\"&B229)","v":0},{"$f":"SUMIFS(Haushaltsbuch2[Einnahmen],Haushaltsbuch2[Kategorie],Q$4,Haushaltsbuch2[Datum],\">\"&B228,Haushaltsbuch2[Datum],\"<=\"&B229)","v":0},{"$f":"SUMIFS(Haushaltsbuch2[Einnahmen],Haushaltsbuch2[Kategorie],R$4,Haushaltsbuch2[Datum],\">\"&B228,Haushaltsbuch2[Datum],\"<=\"&B229)","v":0},null,null,null,null,null,null,null,null,null,null,null,null,null,null,null,null,null,null,{"$f":"SUMIFS(Haushaltsbuch2[Ausgaben],Haushaltsbuch2[Kategorie],AK$4,Haushaltsbuch2[Datum],\">\"&B228,Haushaltsbuch2[Datum],\"<=\"&B229)","v":0},null,null,{"$f":"SUMIFS(Dividenden[Betrag in EUR],Dividenden[Datum],\">\"&B228,Dividenden[Datum],\"<=\"&B229)","v":0},{"$f":"SUMIFS(Optionen[G/V (Netto)],Optionen[Datum],\">\"&B228,Optionen[Datum],\"<=\"&B229)","v":0},null,0,0,null,0,0,null,{"$f":"SUMIFS(Haushaltsbuch2[Einnahmen],Haushaltsbuch2[Datum],\">\"&B228,Haushaltsbuch2[Datum],\"<=\"&B229)+AN229+AO229","v":0},null,0,null,{"$f":"SUMIFS(Haushaltsbuch2[Ausgaben],Haushaltsbuch2[Datum],\">\"&B228,Haushaltsbuch2[Datum],\"<=\"&B229)","v":0}]
[null,32477,null,null,null,null,null,null,null,null,null,null,{"$f":"SUMIFS(Haushaltsbuch2[Einnahmen],Haushaltsbuch2[Kategorie],M$4,Haushaltsbuch2[Datum],\">\"&B229,Haushaltsbuch2[Datum],\"<=\"&B230)","v":0},{"$f":"SUMIFS(Haushaltsbuch2[Einnahmen],Haushaltsbuch2[Kategorie],N$4,Haushaltsbuch2[Datum],\">\"&B229,Haushaltsbuch2[Datum],\"<=\"&B230)","v":0},{"$f":"SUMIFS(Haushaltsbuch2[Einnahmen],Haushaltsbuch2[Kategorie],O$4,Haushaltsbuch2[Datum],\">\"&B229,Haushaltsbuch2[Datum],\"<=\"&B230)","v":0},{"$f":"SUMIFS(Haushaltsbuch2[Einnahmen],Haushaltsbuch2[Kategorie],P$4,Haushaltsbuch2[Datum],\">\"&B229,Haushaltsbuch2[Datum],\"<=\"&B230)","v":0},{"$f":"SUMIFS(Haushaltsbuch2[Einnahmen],Haushaltsbuch2[Kategorie],Q$4,Haushaltsbuch2[Datum],\">\"&B229,Haushaltsbuch2[Datum],\"<=\"&B230)","v":0},{"$f":"SUMIFS(Haushaltsbuch2[Einnahmen],Haushaltsbuch2[Kategorie],R$4,Haushaltsbuch2[Datum],\">\"&B229,Haushaltsbuch2[Datum],\"<=\"&B230)","v":0},null,null,null,null,null,null,null,null,null,null,null,null,null,null,null,null,null,null,{"$f":"SUMIFS(Haushaltsbuch2[Ausgaben],Haushaltsbuch2[Kategorie],AK$4,Haushaltsbuch2[Datum],\">\"&B229,Haushaltsbuch2[Datum],\"<=\"&B230)","v":0},null,null,{"$f":"SUMIFS(Dividenden[Betrag in EUR],Dividenden[Datum],\">\"&B229,Dividenden[Datum],\"<=\"&B230)","v":0},{"$f":"SUMIFS(Optionen[G/V (Netto)],Optionen[Datum],\">\"&B229,Optionen[Datum],\"<=\"&B230)","v":0},null,0,0,null,0,0,null,{"$f":"SUMIFS(Haushaltsbuch2[Einnahmen],Haushaltsbuch2[Datum],\">\"&B229,Haushaltsbuch2[Datum],\"<=\"&B230)+AN230+AO230","v":0},null,0,null,{"$f":"SUMIFS(Haushaltsbuch2[Ausgaben],Haushaltsbuch2[Datum],\">\"&B229,Haushaltsbuch2[Datum],\"<=\"&B230)","v":0}]
[null,32508,null,null,null,null,null,null,null,null,null,null,{"$f":"SUMIFS(Haushaltsbuch2[Einnahmen],Haushaltsbuch2[Kategorie],M$4,Haushaltsbuch2[Datum],\">\"&B230,Haushaltsbuch2[Datum],\"<=\"&B231)","v":0},{"$f":"SUMIFS(Haushaltsbuch2[Einnahmen],Haushaltsbuch2[Kategorie],N$4,Haushaltsbuch2[Datum],\">\"&B230,Haushaltsbuch2[Datum],\"<=\"&B231)","v":0},{"$f":"SUMIFS(Haushaltsbuch2[Einnahmen],Haushaltsbuch2[Kategorie],O$4,Haushaltsbuch2[Datum],\">\"&B230,Haushaltsbuch2[Datum],\"<=\"&B231)","v":0},{"$f":"SUMIFS(Haushaltsbuch2[Einnahmen],Haushaltsbuch2[Kategorie],P$4,Haushaltsbuch2[Datum],\">\"&B230,Haushaltsbuch2[Datum],\"<=\"&B231)","v":0},{"$f":"SUMIFS(Haushaltsbuch2[Einnahmen],Haushaltsbuch2[Kategorie],Q$4,Haushaltsbuch2[Datum],\">\"&B230,Haushaltsbuch2[Datum],\"<=\"&B231)","v":0},{"$f":"SUMIFS(Haushaltsbuch2[Einnahmen],Haushaltsbuch2[Kategorie],R$4,Haushaltsbuch2[Datum],\">\"&B230,Haushaltsbuch2[Datum],\"<=\"&B231)","v":0},null,null,null,null,null,null,null,null,null,null,null,null,null,null,null,null,null,null,{"$f":"SUMIFS(Haushaltsbuch2[Ausgaben],Haushaltsbuch2[Kategorie],AK$4,Haushaltsbuch2[Datum],\">\"&B230,Haushaltsbuch2[Datum],\"<=\"&B231)","v":0},null,null,{"$f":"SUMIFS(Dividenden[Betrag in EUR],Dividenden[Datum],\">\"&B230,Dividenden[Datum],\"<=\"&B231)","v":0},{"$f":"SUMIFS(Optionen[G/V (Netto)],Optionen[Datum],\">\"&B230,Optionen[Datum],\"<=\"&B231)","v":0},null,0,0,null,0,0,null,{"$f":"SUMIFS(Haushaltsbuch2[Einnahmen],Haushaltsbuch2[Datum],\">\"&B230,Haushaltsbuch2[Datum],\"<=\"&B231)+AN231+AO231","v":0},null,0,null,{"$f":"SUMIFS(Haushaltsbuch2[Ausgaben],Haushaltsbuch2[Datum],\">\"&B230,Haushaltsbuch2[Datum],\"<=\"&B231)","v":0}]
[null,32539,null,null,null,null,null,null,null,null,null,null,{"$f":"SUMIFS(Haushaltsbuch2[Einnahmen],Haushaltsbuch2[Kategorie],M$4,Haushaltsbuch2[Datum],\">\"&B231,Haushaltsbuch2[Datum],\"<=\"&B232)","v":0},{"$f":"SUMIFS(Haushaltsbuch2[Einnahmen],Haushaltsbuch2[Kategorie],N$4,Haushaltsbuch2[Datum],\">\"&B231,Haushaltsbuch2[Datum],\"<=\"&B232)","v":0},{"$f":"SUMIFS(Haushaltsbuch2[Einnahmen],Haushaltsbuch2[Kategorie],O$4,Haushaltsbuch2[Datum],\">\"&B231,Haushaltsbuch2[Datum],\"<=\"&B232)","v":0},{"$f":"SUMIFS(Haushaltsbuch2[Einnahmen],Haushaltsbuch2[Kategorie],P$4,Haushaltsbuch2[Datum],\">\"&B231,Haushaltsbuch2[Datum],\"<=\"&B232)","v":0},{"$f":"SUMIFS(Haushaltsbuch2[Einnahmen],Haushaltsbuch2[Kategorie],Q$4,Haushaltsbuch2[Datum],\">\"&B231,Haushaltsbuch2[Datum],\"<=\"&B232)","v":0},{"$f":"SUMIFS(Haushaltsbuch2[Einnahmen],Haushaltsbuch2[Kategorie],R$4,Haushaltsbuch2[Datum],\">\"&B231,Haushaltsbuch2[Datum],\"<=\"&B232)","v":0},null,null,null,null,null,null,null,null,null,null,null,null,null,null,null,null,null,null,{"$f":"SUMIFS(Haushaltsbuch2[Ausgaben],Haushaltsbuch2[Kategorie],AK$4,Haushaltsbuch2[Datum],\">\"&B231,Haushaltsbuch2[Datum],\"<=\"&B232)","v":0},null,null,{"$f":"SUMIFS(Dividenden[Betrag in EUR],Dividenden[Datum],\">\"&B231,Dividenden[Datum],\"<=\"&B232)","v":0},{"$f":"SUMIFS(Optionen[G/V (Netto)],Optionen[Datum],\">\"&B231,Optionen[Datum],\"<=\"&B232)","v":0},null,0,0,null,0,0,null,{"$f":"SUMIFS(Haushaltsbuch2[Einnahmen],Haushaltsbuch2[Datum],\">\"&B231,Haushaltsbuch2[Datum],\"<=\"&B232)+AN232+AO232","v":0},null,0,null,{"$f":"SUMIFS(Haushaltsbuch2[Ausgaben],Haushaltsbuch2[Datum],\">\"&B231,Haushaltsbuch2[Datum],\"<=\"&B232)","v":0}]
[null,32567,null,null,null,null,null,null,null,null,null,null,{"$f":"SUMIFS(Haushaltsbuch2[Einnahmen],Haushaltsbuch2[Kategorie],M$4,Haushaltsbuch2[Datum],\">\"&B232,Haushaltsbuch2[Datum],\"<=\"&B233)","v":0},{"$f":"SUMIFS(Haushaltsbuch2[Einnahmen],Haushaltsbuch2[Kategorie],N$4,Haushaltsbuch2[Datum],\">\"&B232,Haushaltsbuch2[Datum],\"<=\"&B233)","v":0},{"$f":"SUMIFS(Haushaltsbuch2[Einnahmen],Haushaltsbuch2[Kategorie],O$4,Haushaltsbuch2[Datum],\">\"&B232,Haushaltsbuch2[Datum],\"<=\"&B233)","v":0},{"$f":"SUMIFS(Haushaltsbuch2[Einnahmen],Haushaltsbuch2[Kategorie],P$4,Haushaltsbuch2[Datum],\">\"&B232,Haushaltsbuch2[Datum],\"<=\"&B233)","v":0},{"$f":"SUMIFS(Haushaltsbuch2[Einnahmen],Haushaltsbuch2[Kategorie],Q$4,Haushaltsbuch2[Datum],\">\"&B232,Haushaltsbuch2[Datum],\"<=\"&B233)","v":0},{"$f":"SUMIFS(Haushaltsbuch2[Einnahmen],Haushaltsbuch2[Kategorie],R$4,Haushaltsbuch2[Datum],\">\"&B232,Haushaltsbuch2[Datum],\"<=\"&B233)","v":0},null,null,null,null,null,null,null,null,null,null,null,null,null,null,null,null,null,null,{"$f":"SUMIFS(Haushaltsbuch2[Ausgaben],Haushaltsbuch2[Kategorie],AK$4,Haushaltsbuch2[Datum],\">\"&B232,Haushaltsbuch2[Datum],\"<=\"&B233)","v":0},null,null,{"$f":"SUMIFS(Dividenden[Betrag in EUR],Dividenden[Datum],\">\"&B232,Dividenden[Datum],\"<=\"&B233)","v":0},{"$f":"SUMIFS(Optionen[G/V (Netto)],Optionen[Datum],\">\"&B232,Optionen[Datum],\"<=\"&B233)","v":0},null,0,0,null,0,0,null,{"$f":"SUMIFS(Haushaltsbuch2[Einnahmen],Haushaltsbuch2[Datum],\">\"&B232,Haushaltsbuch2[Datum],\"<=\"&B233)+AN233+AO233","v":0},null,0,null,{"$f":"SUMIFS(Haushaltsbuch2[Ausgaben],Haushaltsbuch2[Datum],\">\"&B232,Haushaltsbuch2[Datum],\"<=\"&B233)","v":0}]
[null,32598,null,null,null,null,null,null,null,null,null,null,{"$f":"SUMIFS(Haushaltsbuch2[Einnahmen],Haushaltsbuch2[Kategorie],M$4,Haushaltsbuch2[Datum],\">\"&B233,Haushaltsbuch2[Datum],\"<=\"&B234)","v":0},{"$f":"SUMIFS(Haushaltsbuch2[Einnahmen],Haushaltsbuch2[Kategorie],N$4,Haushaltsbuch2[Datum],\">\"&B233,Haushaltsbuch2[Datum],\"<=\"&B234)","v":0},{"$f":"SUMIFS(Haushaltsbuch2[Einnahmen],Haushaltsbuch2[Kategorie],O$4,Haushaltsbuch2[Datum],\">\"&B233,Haushaltsbuch2[Datum],\"<=\"&B234)","v":0},{"$f":"SUMIFS(Haushaltsbuch2[Einnahmen],Haushaltsbuch2[Kategorie],P$4,Haushaltsbuch2[Datum],\">\"&B233,Haushaltsbuch2[Datum],\"<=\"&B234)","v":0},{"$f":"SUMIFS(Haushaltsbuch2[Einnahmen],Haushaltsbuch2[Kategorie],Q$4,Haushaltsbuch2[Datum],\">\"&B233,Haushaltsbuch2[Datum],\"<=\"&B234)","v":0},{"$f":"SUMIFS(Haushaltsbuch2[Einnahmen],Haushaltsbuch2[Kategorie],R$4,Haushaltsbuch2[Datum],\">\"&B233,Haushaltsbuch2[Datum],\"<=\"&B234)","v":0},null,null,null,null,null,null,null,null,null,null,null,null,null,null,null,null,null,null,{"$f":"SUMIFS(Haushaltsbuch2[Ausgaben],Haushaltsbuch2[Kategorie],AK$4,Haushaltsbuch2[Datum],\">\"&B233,Haushaltsbuch2[Datum],\"<=\"&B234)","v":0},null,null,{"$f":"SUMIFS(Dividenden[Betrag in EUR],Dividenden[Datum],\">\"&B233,Dividenden[Datum],\"<=\"&B234)","v":0},{"$f":"SUMIFS(Optionen[G/V (Netto)],Optionen[Datum],\">\"&B233,Optionen[Datum],\"<=\"&B234)","v":0},null,0,0,null,0,0,null,{"$f":"SUMIFS(Haushaltsbuch2[Einnahmen],Haushaltsbuch2[Datum],\">\"&B233,Haushaltsbuch2[Datum],\"<=\"&B234)+AN234+AO234","v":0},null,0,null,{"$f":"SUMIFS(Haushaltsbuch2[Ausgaben],Haushaltsbuch2[Datum],\">\"&B233,Haushaltsbuch2[Datum],\"<=\"&B234)","v":0}]
[null,32628,null,null,null,null,null,null,null,null,null,null,{"$f":"SUMIFS(Haushaltsbuch2[Einnahmen],Haushaltsbuch2[Kategorie],M$4,Haushaltsbuch2[Datum],\">\"&B234,Haushaltsbuch2[Datum],\"<=\"&B235)","v":0},{"$f":"SUMIFS(Haushaltsbuch2[Einnahmen],Haushaltsbuch2[Kategorie],N$4,Haushaltsbuch2[Datum],\">\"&B234,Haushaltsbuch2[Datum],\"<=\"&B235)","v":0},{"$f":"SUMIFS(Haushaltsbuch2[Einnahmen],Haushaltsbuch2[Kategorie],O$4,Haushaltsbuch2[Datum],\">\"&B234,Haushaltsbuch2[Datum],\"<=\"&B235)","v":0},{"$f":"SUMIFS(Haushaltsbuch2[Einnahmen],Haushaltsbuch2[Kategorie],P$4,Haushaltsbuch2[Datum],\">\"&B234,Haushaltsbuch2[Datum],\"<=\"&B235)","v":0},{"$f":"SUMIFS(Haushaltsbuch2[Einnahmen],Haushaltsbuch2[Kategorie],Q$4,Haushaltsbuch2[Datum],\">\"&B234,Haushaltsbuch2[Datum],\"<=\"&B235)","v":0},{"$f":"SUMIFS(Haushaltsbuch2[Einnahmen],Haushaltsbuch2[Kategorie],R$4,Haushaltsbuch2[Datum],\">\"&B234,Haushaltsbuch2[Datum],\"<=\"&B235)","v":0},null,null,null,null,null,null,null,null,null,null,null,null,null,null,null,null,null,null,{"$f":"SUMIFS(Haushaltsbuch2[Ausgaben],Haushaltsbuch2[Kategorie],AK$4,Haushaltsbuch2[Datum],\">\"&B234,Haushaltsbuch2[Datum],\"<=\"&B235)","v":0},null,null,{"$f":"SUMIFS(Dividenden[Betrag in EUR],Dividenden[Datum],\">\"&B234,Dividenden[Datum],\"<=\"&B235)","v":0},{"$f":"SUMIFS(Optionen[G/V (Netto)],Optionen[Datum],\">\"&B234,Optionen[Datum],\"<=\"&B235)","v":0},null,0,0,null,0,0,null,{"$f":"SUMIFS(Haushaltsbuch2[Einnahmen],Haushaltsbuch2[Datum],\">\"&B234,Haushaltsbuch2[Datum],\"<=\"&B235)+AN235+AO235","v":0},null,0,null,{"$f":"SUMIFS(Haushaltsbuch2[Ausgaben],Haushaltsbuch2[Datum],\">\"&B234,Haushaltsbuch2[Datum],\"<=\"&B235)","v":0}]
[null,32659,null,null,null,null,null,null,null,null,null,null,{"$f":"SUMIFS(Haushaltsbuch2[Einnahmen],Haushaltsbuch2[Kategorie],M$4,Haushaltsbuch2[Datum],\">\"&B235,Haushaltsbuch2[Datum],\"<=\"&B236)","v":0},{"$f":"SUMIFS(Haushaltsbuch2[Einnahmen],Haushaltsbuch2[Kategorie],N$4,Haushaltsbuch2[Datum],\">\"&B235,Haushaltsbuch2[Datum],\"<=\"&B236)","v":0},{"$f":"SUMIFS(Haushaltsbuch2[Einnahmen],Haushaltsbuch2[Kategorie],O$4,Haushaltsbuch2[Datum],\">\"&B235,Haushaltsbuch2[Datum],\"<=\"&B236)","v":0},{"$f":"SUMIFS(Haushaltsbuch2[Einnahmen],Haushaltsbuch2[Kategorie],P$4,Haushaltsbuch2[Datum],\">\"&B235,Haushaltsbuch2[Datum],\"<=\"&B236)","v":0},{"$f":"SUMIFS(Haushaltsbuch2[Einnahmen],Haushaltsbuch2[Kategorie],Q$4,Haushaltsbuch2[Datum],\">\"&B235,Haushaltsbuch2[Datum],\"<=\"&B236)","v":0},{"$f":"SUMIFS(Haushaltsbuch2[Einnahmen],Haushaltsbuch2[Kategorie],R$4,Haushaltsbuch2[Datum],\">\"&B235,Haushaltsbuch2[Datum],\"<=\"&B236)","v":0},null,null,null,null,null,null,null,null,null,null,null,null,null,null,null,null,null,null,{"$f":"SUMIFS(Haushaltsbuch2[Ausgaben],Haushaltsbuch2[Kategorie],AK$4,Haushaltsbuch2[Datum],\">\"&B235,Haushaltsbuch2[Datum],\"<=\"&B236)","v":0},null,null,{"$f":"SUMIFS(Dividenden[Betrag in EUR],Dividenden[Datum],\">\"&B235,Dividenden[Datum],\"<=\"&B236)","v":0},{"$f":"SUMIFS(Optionen[G/V (Netto)],Optionen[Datum],\">\"&B235,Optionen[Datum],\"<=\"&B236)","v":0},null,0,0,null,0,0,null,{"$f":"SUMIFS(Haushaltsbuch2[Einnahmen],Haushaltsbuch2[Datum],\">\"&B235,Haushaltsbuch2[Datum],\"<=\"&B236)+AN236+AO236","v":0},null,0,null,{"$f":"SUMIFS(Haushaltsbuch2[Ausgaben],Haushaltsbuch2[Datum],\">\"&B235,Haushaltsbuch2[Datum],\"<=\"&B236)","v":0}]
[null,32689,null,null,null,null,null,null,null,null,null,null,{"$f":"SUMIFS(Haushaltsbuch2[Einnahmen],Haushaltsbuch2[Kategorie],M$4,Haushaltsbuch2[Datum],\">\"&B236,Haushaltsbuch2[Datum],\"<=\"&B237)","v":0},{"$f":"SUMIFS(Haushaltsbuch2[Einnahmen],Haushaltsbuch2[Kategorie],N$4,Haushaltsbuch2[Datum],\">\"&B236,Haushaltsbuch2[Datum],\"<=\"&B237)","v":0},{"$f":"SUMIFS(Haushaltsbuch2[Einnahmen],Haushaltsbuch2[Kategorie],O$4,Haushaltsbuch2[Datum],\">\"&B236,Haushaltsbuch2[Datum],\"<=\"&B237)","v":0},{"$f":"SUMIFS(Haushaltsbuch2[Einnahmen],Haushaltsbuch2[Kategorie],P$4,Haushaltsbuch2[Datum],\">\"&B236,Haushaltsbuch2[Datum],\"<=\"&B237)","v":0},{"$f":"SUMIFS(Haushaltsbuch2[Einnahmen],Haushaltsbuch2[Kategorie],Q$4,Haushaltsbuch2[Datum],\">\"&B236,Haushaltsbuch2[Datum],\"<=\"&B237)","v":0},{"$f":"SUMIFS(Haushaltsbuch2[Einnahmen],Haushaltsbuch2[Kategorie],R$4,Haushaltsbuch2[Datum],\">\"&B236,Haushaltsbuch2[Datum],\"<=\"&B237)","v":0},null,null,null,null,null,null,null,null,null,null,null,null,null,null,null,null,null,null,{"$f":"SUMIFS(Haushaltsbuch2[Ausgaben],Haushaltsbuch2[Kategorie],AK$4,Haushaltsbuch2[Datum],\">\"&B236,Haushaltsbuch2[Datum],\"<=\"&B237)","v":0},null,null,{"$f":"SUMIFS(Dividenden[Betrag in EUR],Dividenden[Datum],\">\"&B236,Dividenden[Datum],\"<=\"&B237)","v":0},{"$f":"SUMIFS(Optionen[G/V (Netto)],Optionen[Datum],\">\"&B236,Optionen[Datum],\"<=\"&B237)","v":0},null,0,0,null,0,0,null,{"$f":"SUMIFS(Haushaltsbuch2[Einnahmen],Haushaltsbuch2[Datum],\">\"&B236,Haushaltsbuch2[Datum],\"<=\"&B237)+AN237+AO237","v":0},null,0,null,{"$f":"SUMIFS(Haushaltsbuch2[Ausgaben],Haushaltsbuch2[Datum],\">\"&B236,Haushaltsbuch2[Datum],\"<=\"&B237)","v":0}]
[null,32720,null,null,null,null,null,null,null,null,null,null,{"$f":"SUMIFS(Haushaltsbuch2[Einnahmen],Haushaltsbuch2[Kategorie],M$4,Haushaltsbuch2[Datum],\">\"&B237,Haushaltsbuch2[Datum],\"<=\"&B238)","v":0},{"$f":"SUMIFS(Haushaltsbuch2[Einnahmen],Haushaltsbuch2[Kategorie],N$4,Haushaltsbuch2[Datum],\">\"&B237,Haushaltsbuch2[Datum],\"<=\"&B238)","v":0},{"$f":"SUMIFS(Haushaltsbuch2[Einnahmen],Haushaltsbuch2[Kategorie],O$4,Haushaltsbuch2[Datum],\">\"&B237,Haushaltsbuch2[Datum],\"<=\"&B238)","v":0},{"$f":"SUMIFS(Haushaltsbuch2[Einnahmen],Haushaltsbuch2[Kategorie],P$4,Haushaltsbuch2[Datum],\">\"&B237,Haushaltsbuch2[Datum],\"<=\"&B238)","v":0},{"$f":"SUMIFS(Haushaltsbuch2[Einnahmen],Haushaltsbuch2[Kategorie],Q$4,Haushaltsbuch2[Datum],\">\"&B237,Haushaltsbuch2[Datum],\"<=\"&B238)","v":0},{"$f":"SUMIFS(Haushaltsbuch2[Einnahmen],Haushaltsbuch2[Kategorie],R$4,Haushaltsbuch2[Datum],\">\"&B237,Haushaltsbuch2[Datum],\"<=\"&B238)","v":0},null,null,null,null,null,null,null,null,null,null,null,null,null,null,null,null,null,null,{"$f":"SUMIFS(Haushaltsbuch2[Ausgaben],Haushaltsbuch2[Kategorie],AK$4,Haushaltsbuch2[Datum],\">\"&B237,Haushaltsbuch2[Datum],\"<=\"&B238)","v":0},null,null,{"$f":"SUMIFS(Dividenden[Betrag in EUR],Dividenden[Datum],\">\"&B237,Dividenden[Datum],\"<=\"&B238)","v":0},{"$f":"SUMIFS(Optionen[G/V (Netto)],Optionen[Datum],\">\"&B237,Optionen[Datum],\"<=\"&B238)","v":0},null,0,0,null,0,0,null,{"$f":"SUMIFS(Haushaltsbuch2[Einnahmen],Haushaltsbuch2[Datum],\">\"&B237,Haushaltsbuch2[Datum],\"<=\"&B238)+AN238+AO238","v":0},null,0,null,{"$f":"SUMIFS(Haushaltsbuch2[Ausgaben],Haushaltsbuch2[Datum],\">\"&B237,Haushaltsbuch2[Datum],\"<=\"&B238)","v":0}]
[null,32751,null,null,null,null,null,null,null,null,null,null,{"$f":"SUMIFS(Haushaltsbuch2[Einnahmen],Haushaltsbuch2[Kategorie],M$4,Haushaltsbuch2[Datum],\">\"&B238,Haushaltsbuch2[Datum],\"<=\"&B239)","v":0},{"$f":"SUMIFS(Haushaltsbuch2[Einnahmen],Haushaltsbuch2[Kategorie],N$4,Haushaltsbuch2[Datum],\">\"&B238,Haushaltsbuch2[Datum],\"<=\"&B239)","v":0},{"$f":"SUMIFS(Haushaltsbuch2[Einnahmen],Haushaltsbuch2[Kategorie],O$4,Haushaltsbuch2[Datum],\">\"&B238,Haushaltsbuch2[Datum],\"<=\"&B239)","v":0},{"$f":"SUMIFS(Haushaltsbuch2[Einnahmen],Haushaltsbuch2[Kategorie],P$4,Haushaltsbuch2[Datum],\">\"&B238,Haushaltsbuch2[Datum],\"<=\"&B239)","v":0},{"$f":"SUMIFS(Haushaltsbuch2[Einnahmen],Haushaltsbuch2[Kategorie],Q$4,Haushaltsbuch2[Datum],\">\"&B238,Haushaltsbuch2[Datum],\"<=\"&B239)","v":0},{"$f":"SUMIFS(Haushaltsbuch2[Einnahmen],Haushaltsbuch2[Kategorie],R$4,Haushaltsbuch2[Datum],\">\"&B238,Haushaltsbuch2[Datum],\"<=\"&B239)","v":0},null,null,null,null,null,null,null,null,null,null,null,null,null,null,null,null,null,null,{"$f":"SUMIFS(Haushaltsbuch2[Ausgaben],Haushaltsbuch2[Kategorie],AK$4,Haushaltsbuch2[Datum],\">\"&B238,Haushaltsbuch2[Datum],\"<=\"&B239)","v":0},null,null,{"$f":"SUMIFS(Dividenden[Betrag in EUR],Dividenden[Datum],\">\"&B238,Dividenden[Datum],\"<=\"&B239)","v":0},{"$f":"SUMIFS(Optionen[G/V (Netto)],Optionen[Datum],\">\"&B238,Optionen[Datum],\"<=\"&B239)","v":0},null,0,0,null,0,0,null,{"$f":"SUMIFS(Haushaltsbuch2[Einnahmen],Haushaltsbuch2[Datum],\">\"&B238,Haushaltsbuch2[Datum],\"<=\"&B239)+AN239+AO239","v":0},null,0,null,{"$f":"SUMIFS(Haushaltsbuch2[Ausgaben],Haushaltsbuch2[Datum],\">\"&B238,Haushaltsbuch2[Datum],\"<=\"&B239)","v":0}]
[null,32781,null,null,null,null,null,null,null,null,null,null,{"$f":"SUMIFS(Haushaltsbuch2[Einnahmen],Haushaltsbuch2[Kategorie],M$4,Haushaltsbuch2[Datum],\">\"&B239,Haushaltsbuch2[Datum],\"<=\"&B240)","v":0},{"$f":"SUMIFS(Haushaltsbuch2[Einnahmen],Haushaltsbuch2[Kategorie],N$4,Haushaltsbuch2[Datum],\">\"&B239,Haushaltsbuch2[Datum],\"<=\"&B240)","v":0},{"$f":"SUMIFS(Haushaltsbuch2[Einnahmen],Haushaltsbuch2[Kategorie],O$4,Haushaltsbuch2[Datum],\">\"&B239,Haushaltsbuch2[Datum],\"<=\"&B240)","v":0},{"$f":"SUMIFS(Haushaltsbuch2[Einnahmen],Haushaltsbuch2[Kategorie],P$4,Haushaltsbuch2[Datum],\">\"&B239,Haushaltsbuch2[Datum],\"<=\"&B240)","v":0},{"$f":"SUMIFS(Haushaltsbuch2[Einnahmen],Haushaltsbuch2[Kategorie],Q$4,Haushaltsbuch2[Datum],\">\"&B239,Haushaltsbuch2[Datum],\"<=\"&B240)","v":0},{"$f":"SUMIFS(Haushaltsbuch2[Einnahmen],Haushaltsbuch2[Kategorie],R$4,Haushaltsbuch2[Datum],\">\"&B239,Haushaltsbuch2[Datum],\"<=\"&B240)","v":0},null,null,null,null,null,null,null,null,null,null,null,null,null,null,null,null,null,null,{"$f":"SUMIFS(Haushaltsbuch2[Ausgaben],Haushaltsbuch2[Kategorie],AK$4,Haushaltsbuch2[Datum],\">\"&B239,Haushaltsbuch2[Datum],\"<=\"&B240)","v":0},null,null,{"$f":"SUMIFS(Dividenden[Betrag in EUR],Dividenden[Datum],\">\"&B239,Dividenden[Datum],\"<=\"&B240)","v":0},{"$f":"SUMIFS(Optionen[G/V (Netto)],Optionen[Datum],\">\"&B239,Optionen[Datum],\"<=\"&B240)","v":0},null,0,0,null,0,0,null,{"$f":"SUMIFS(Haushaltsbuch2[Einnahmen],Haushaltsbuch2[Datum],\">\"&B239,Haushaltsbuch2[Datum],\"<=\"&B240)+AN240+AO240","v":0},null,0,null,{"$f":"SUMIFS(Haushaltsbuch2[Ausgaben],Haushaltsbuch2[Datum],\">\"&B239,Haushaltsbuch2[Datum],\"<=\"&B240)","v":0}]
[null,32812,null,null,null,null,null,null,null,null,null,null,{"$f":"SUMIFS(Haushaltsbuch2[Einnahmen],Haushaltsbuch2[Kategorie],M$4,Haushaltsbuch2[Datum],\">\"&B240,Haushaltsbuch2[Datum],\"<=\"&B241)","v":0},{"$f":"SUMIFS(Haushaltsbuch2[Einnahmen],Haushaltsbuch2[Kategorie],N$4,Haushaltsbuch2[Datum],\">\"&B240,Haushaltsbuch2[Datum],\"<=\"&B241)","v":0},{"$f":"SUMIFS(Haushaltsbuch2[Einnahmen],Haushaltsbuch2[Kategorie],O$4,Haushaltsbuch2[Datum],\">\"&B240,Haushaltsbuch2[Datum],\"<=\"&B241)","v":0},{"$f":"SUMIFS(Haushaltsbuch2[Einnahmen],Haushaltsbuch2[Kategorie],P$4,Haushaltsbuch2[Datum],\">\"&B240,Haushaltsbuch2[Datum],\"<=\"&B241)","v":0},{"$f":"SUMIFS(Haushaltsbuch2[Einnahmen],Haushaltsbuch2[Kategorie],Q$4,Haushaltsbuch2[Datum],\">\"&B240,Haushaltsbuch2[Datum],\"<=\"&B241)","v":0},{"$f":"SUMIFS(Haushaltsbuch2[Einnahmen],Haushaltsbuch2[Kategorie],R$4,Haushaltsbuch2[Datum],\">\"&B240,Haushaltsbuch2[Datum],\"<=\"&B241)","v":0},null,null,null,null,null,null,null,null,null,null,null,null,null,null,null,null,null,null,{"$f":"SUMIFS(Haushaltsbuch2[Ausgaben],Haushaltsbuch2[Kategorie],AK$4,Haushaltsbuch2[Datum],\">\"&B240,Haushaltsbuch2[Datum],\"<=\"&B241)","v":0},null,null,{"$f":"SUMIFS(Dividenden[Betrag in EUR],Dividenden[Datum],\">\"&B240,Dividenden[Datum],\"<=\"&B241)","v":0},{"$f":"SUMIFS(Optionen[G/V (Netto)],Optionen[Datum],\">\"&B240,Optionen[Datum],\"<=\"&B241)","v":0},null,0,0,null,0,0,null,{"$f":"SUMIFS(Haushaltsbuch2[Einnahmen],Haushaltsbuch2[Datum],\">\"&B240,Haushaltsbuch2[Datum],\"<=\"&B241)+AN241+AO241","v":0},null,0,null,{"$f":"SUMIFS(Haushaltsbuch2[Ausgaben],Haushaltsbuch2[Datum],\">\"&B240,Haushaltsbuch2[Datum],\"<=\"&B241)","v":0}]
[null,32842,null,null,null,null,null,null,null,null,null,null,{"$f":"SUMIFS(Haushaltsbuch2[Einnahmen],Haushaltsbuch2[Kategorie],M$4,Haushaltsbuch2[Datum],\">\"&B241,Haushaltsbuch2[Datum],\"<=\"&B242)","v":0},{"$f":"SUMIFS(Haushaltsbuch2[Einnahmen],Haushaltsbuch2[Kategorie],N$4,Haushaltsbuch2[Datum],\">\"&B241,Haushaltsbuch2[Datum],\"<=\"&B242)","v":0},{"$f":"SUMIFS(Haushaltsbuch2[Einnahmen],Haushaltsbuch2[Kategorie],O$4,Haushaltsbuch2[Datum],\">\"&B241,Haushaltsbuch2[Datum],\"<=\"&B242)","v":0},{"$f":"SUMIFS(Haushaltsbuch2[Einnahmen],Haushaltsbuch2[Kategorie],P$4,Haushaltsbuch2[Datum],\">\"&B241,Haushaltsbuch2[Datum],\"<=\"&B242)","v":0},{"$f":"SUMIFS(Haushaltsbuch2[Einnahmen],Haushaltsbuch2[Kategorie],Q$4,Haushaltsbuch2[Datum],\">\"&B241,Haushaltsbuch2[Datum],\"<=\"&B242)","v":0},{"$f":"SUMIFS(Haushaltsbuch2[Einnahmen],Haushaltsbuch2[Kategorie],R$4,Haushaltsbuch2[Datum],\">\"&B241,Haushaltsbuch2[Datum],\"<=\"&B242)","v":0},null,null,null,null,null,null,null,null,null,null,null,null,null,null,null,null,null,null,{"$f":"SUMIFS(Haushaltsbuch2[Ausgaben],Haushaltsbuch2[Kategorie],AK$4,Haushaltsbuch2[Datum],\">\"&B241,Haushaltsbuch2[Datum],\"<=\"&B242)","v":0},null,null,{"$f":"SUMIFS(Dividenden[Betrag in EUR],Dividenden[Datum],\">\"&B241,Dividenden[Datum],\"<=\"&B242)","v":0},{"$f":"SUMIFS(Optionen[G/V (Netto)],Optionen[Datum],\">\"&B241,Optionen[Datum],\"<=\"&B242)","v":0},null,0,0,null,0,0,null,{"$f":"SUMIFS(Haushaltsbuch2[Einnahmen],Haushaltsbuch2[Datum],\">\"&B241,Haushaltsbuch2[Datum],\"<=\"&B242)+AN242+AO242","v":0},null,0,null,{"$f":"SUMIFS(Haushaltsbuch2[Ausgaben],Haushaltsbuch2[Datum],\">\"&B241,Haushaltsbuch2[Datum],\"<=\"&B242)","v":0}]
[null,32873,null,null,null,null,null,null,null,null,null,null,{"$f":"SUMIFS(Haushaltsbuch2[Einnahmen],Haushaltsbuch2[Kategorie],M$4,Haushaltsbuch2[Datum],\">\"&B242,Haushaltsbuch2[Datum],\"<=\"&B243)","v":0},{"$f":"SUMIFS(Haushaltsbuch2[Einnahmen],Haushaltsbuch2[Kategorie],N$4,Haushaltsbuch2[Datum],\">\"&B242,Haushaltsbuch2[Datum],\"<=\"&B243)","v":0},{"$f":"SUMIFS(Haushaltsbuch2[Einnahmen],Haushaltsbuch2[Kategorie],O$4,Haushaltsbuch2[Datum],\">\"&B242,Haushaltsbuch2[Datum],\"<=\"&B243)","v":0},{"$f":"SUMIFS(Haushaltsbuch2[Einnahmen],Haushaltsbuch2[Kategorie],P$4,Haushaltsbuch2[Datum],\">\"&B242,Haushaltsbuch2[Datum],\"<=\"&B243)","v":0},{"$f":"SUMIFS(Haushaltsbuch2[Einnahmen],Haushaltsbuch2[Kategorie],Q$4,Haushaltsbuch2[Datum],\">\"&B242,Haushaltsbuch2[Datum],\"<=\"&B243)","v":0},{"$f":"SUMIFS(Haushaltsbuch2[Einnahmen],Haushaltsbuch2[Kategorie],R$4,Haushaltsbuch2[Datum],\">\"&B242,Haushaltsbuch2[Datum],\"<=\"&B243)","v":0},null,null,null,null,null,null,null,null,null,null,null,null,null,null,null,null,null,null,{"$f":"SUMIFS(Haushaltsbuch2[Ausgaben],Haushaltsbuch2[Kategorie],AK$4,Haushaltsbuch2[Datum],\">\"&B242,Haushaltsbuch2[Datum],\"<=\"&B243)","v":0},null,null,{"$f":"SUMIFS(Dividenden[Betrag in EUR],Dividenden[Datum],\">\"&B242,Dividenden[Datum],\"<=\"&B243)","v":0},{"$f":"SUMIFS(Optionen[G/V (Netto)],Optionen[Datum],\">\"&B242,Optionen[Datum],\"<=\"&B243)","v":0},null,0,0,null,0,0,null,{"$f":"SUMIFS(Haushaltsbuch2[Einnahmen],Haushaltsbuch2[Datum],\">\"&B242,Haushaltsbuch2[Datum],\"<=\"&B243)+AN243+AO243","v":0},null,0,null,{"$f":"SUMIFS(Haushaltsbuch2[Ausgaben],Haushaltsbuch2[Datum],\">\"&B242,Haushaltsbuch2[Datum],\"<=\"&B243)","v":0}]
[null,32904,null,null,null,null,null,null,null,null,null,null,{"$f":"SUMIFS(Haushaltsbuch2[Einnahmen],Haushaltsbuch2[Kategorie],M$4,Haushaltsbuch2[Datum],\">\"&B243,Haushaltsbuch2[Datum],\"<=\"&B244)","v":0},{"$f":"SUMIFS(Haushaltsbuch2[Einnahmen],Haushaltsbuch2[Kategorie],N$4,Haushaltsbuch2[Datum],\">\"&B243,Haushaltsbuch2[Datum],\"<=\"&B244)","v":0},{"$f":"SUMIFS(Haushaltsbuch2[Einnahmen],Haushaltsbuch2[Kategorie],O$4,Haushaltsbuch2[Datum],\">\"&B243,Haushaltsbuch2[Datum],\"<=\"&B244)","v":0},{"$f":"SUMIFS(Haushaltsbuch2[Einnahmen],Haushaltsbuch2[Kategorie],P$4,Haushaltsbuch2[Datum],\">\"&B243,Haushaltsbuch2[Datum],\"<=\"&B244)","v":0},{"$f":"SUMIFS(Haushaltsbuch2[Einnahmen],Haushaltsbuch2[Kategorie],Q$4,Haushaltsbuch2[Datum],\">\"&B243,Haushaltsbuch2[Datum],\"<=\"&B244)","v":0},{"$f":"SUMIFS(Haushaltsbuch2[Einnahmen],Haushaltsbuch2[Kategorie],R$4,Haushaltsbuch2[Datum],\">\"&B243,Haushaltsbuch2[Datum],\"<=\"&B244)","v":0},null,null,null,null,null,null,null,null,null,null,null,null,null,null,null,null,null,null,{"$f":"SUMIFS(Haushaltsbuch2[Ausgaben],Haushaltsbuch2[Kategorie],AK$4,Haushaltsbuch2[Datum],\">\"&B243,Haushaltsbuch2[Datum],\"<=\"&B244)","v":0},null,null,{"$f":"SUMIFS(Dividenden[Betrag in EUR],Dividenden[Datum],\">\"&B243,Dividenden[Datum],\"<=\"&B244)","v":0},{"$f":"SUMIFS(Optionen[G/V (Netto)],Optionen[Datum],\">\"&B243,Optionen[Datum],\"<=\"&B244)","v":0},null,0,0,null,0,0,null,{"$f":"SUMIFS(Haushaltsbuch2[Einnahmen],Haushaltsbuch2[Datum],\">\"&B243,Haushaltsbuch2[Datum],\"<=\"&B244)+AN244+AO244","v":0},null,0,null,{"$f":"SUMIFS(Haushaltsbuch2[Ausgaben],Haushaltsbuch2[Datum],\">\"&B243,Haushaltsbuch2[Datum],\"<=\"&B244)","v":0}]
[null,32932,null,null,null,null,null,null,null,null,null,null,{"$f":"SUMIFS(Haushaltsbuch2[Einnahmen],Haushaltsbuch2[Kategorie],M$4,Haushaltsbuch2[Datum],\">\"&B244,Haushaltsbuch2[Datum],\"<=\"&B245)","v":0},{"$f":"SUMIFS(Haushaltsbuch2[Einnahmen],Haushaltsbuch2[Kategorie],N$4,Haushaltsbuch2[Datum],\">\"&B244,Haushaltsbuch2[Datum],\"<=\"&B245)","v":0},{"$f":"SUMIFS(Haushaltsbuch2[Einnahmen],Haushaltsbuch2[Kategorie],O$4,Haushaltsbuch2[Datum],\">\"&B244,Haushaltsbuch2[Datum],\"<=\"&B245)","v":0},{"$f":"SUMIFS(Haushaltsbuch2[Einnahmen],Haushaltsbuch2[Kategorie],P$4,Haushaltsbuch2[Datum],\">\"&B244,Haushaltsbuch2[Datum],\"<=\"&B245)","v":0},{"$f":"SUMIFS(Haushaltsbuch2[Einnahmen],Haushaltsbuch2[Kategorie],Q$4,Haushaltsbuch2[Datum],\">\"&B244,Haushaltsbuch2[Datum],\"<=\"&B245)","v":0},{"$f":"SUMIFS(Haushaltsbuch2[Einnahmen],Haushaltsbuch2[Kategorie],R$4,Haushaltsbuch2[Datum],\">\"&B244,Haushaltsbuch2[Datum],\"<=\"&B245)","v":0},null,null,null,null,null,null,null,null,null,null,null,null,null,null,null,null,null,null,{"$f":"SUMIFS(Haushaltsbuch2[Ausgaben],Haushaltsbuch2[Kategorie],AK$4,Haushaltsbuch2[Datum],\">\"&B244,Haushaltsbuch2[Datum],\"<=\"&B245)","v":0},null,null,{"$f":"SUMIFS(Dividenden[Betrag in EUR],Dividenden[Datum],\">\"&B244,Dividenden[Datum],\"<=\"&B245)","v":0},{"$f":"SUMIFS(Optionen[G/V (Netto)],Optionen[Datum],\">\"&B244,Optionen[Datum],\"<=\"&B245)","v":0},null,0,0,null,0,0,null,{"$f":"SUMIFS(Haushaltsbuch2[Einnahmen],Haushaltsbuch2[Datum],\">\"&B244,Haushaltsbuch2[Datum],\"<=\"&B245)+AN245+AO245","v":0},null,0,null,{"$f":"SUMIFS(Haushaltsbuch2[Ausgaben],Haushaltsbuch2[Datum],\">\"&B244,Haushaltsbuch2[Datum],\"<=\"&B245)","v":0}]
[null,32963,null,null,null,null,null,null,null,null,null,null,{"$f":"SUMIFS(Haushaltsbuch2[Einnahmen],Haushaltsbuch2[Kategorie],M$4,Haushaltsbuch2[Datum],\">\"&B245,Haushaltsbuch2[Datum],\"<=\"&B246)","v":0},{"$f":"SUMIFS(Haushaltsbuch2[Einnahmen],Haushaltsbuch2[Kategorie],N$4,Haushaltsbuch2[Datum],\">\"&B245,Haushaltsbuch2[Datum],\"<=\"&B246)","v":0},{"$f":"SUMIFS(Haushaltsbuch2[Einnahmen],Haushaltsbuch2[Kategorie],O$4,Haushaltsbuch2[Datum],\">\"&B245,Haushaltsbuch2[Datum],\"<=\"&B246)","v":0},{"$f":"SUMIFS(Haushaltsbuch2[Einnahmen],Haushaltsbuch2[Kategorie],P$4,Haushaltsbuch2[Datum],\">\"&B245,Haushaltsbuch2[Datum],\"<=\"&B246)","v":0},{"$f":"SUMIFS(Haushaltsbuch2[Einnahmen],Haushaltsbuch2[Kategorie],Q$4,Haushaltsbuch2[Datum],\">\"&B245,Haushaltsbuch2[Datum],\"<=\"&B246)","v":0},{"$f":"SUMIFS(Haushaltsbuch2[Einnahmen],Haushaltsbuch2[Kategorie],R$4,Haushaltsbuch2[Datum],\">\"&B245,Haushaltsbuch2[Datum],\"<=\"&B246)","v":0},null,null,null,null,null,null,null,null,null,null,null,null,null,null,null,null,null,null,{"$f":"SUMIFS(Haushaltsbuch2[Ausgaben],Haushaltsbuch2[Kategorie],AK$4,Haushaltsbuch2[Datum],\">\"&B245,Haushaltsbuch2[Datum],\"<=\"&B246)","v":0},null,null,{"$f":"SUMIFS(Dividenden[Betrag in EUR],Dividenden[Datum],\">\"&B245,Dividenden[Datum],\"<=\"&B246)","v":0},{"$f":"SUMIFS(Optionen[G/V (Netto)],Optionen[Datum],\">\"&B245,Optionen[Datum],\"<=\"&B246)","v":0},null,0,0,null,0,0,null,{"$f":"SUMIFS(Haushaltsbuch2[Einnahmen],Haushaltsbuch2[Datum],\">\"&B245,Haushaltsbuch2[Datum],\"<=\"&B246)+AN246+AO246","v":0},null,0,null,{"$f":"SUMIFS(Haushaltsbuch2[Ausgaben],Haushaltsbuch2[Datum],\">\"&B245,Haushaltsbuch2[Datum],\"<=\"&B246)","v":0}]
[null,32993,null,null,null,null,null,null,null,null,null,null,{"$f":"SUMIFS(Haushaltsbuch2[Einnahmen],Haushaltsbuch2[Kategorie],M$4,Haushaltsbuch2[Datum],\">\"&B246,Haushaltsbuch2[Datum],\"<=\"&B247)","v":0},{"$f":"SUMIFS(Haushaltsbuch2[Einnahmen],Haushaltsbuch2[Kategorie],N$4,Haushaltsbuch2[Datum],\">\"&B246,Haushaltsbuch2[Datum],\"<=\"&B247)","v":0},{"$f":"SUMIFS(Haushaltsbuch2[Einnahmen],Haushaltsbuch2[Kategorie],O$4,Haushaltsbuch2[Datum],\">\"&B246,Haushaltsbuch2[Datum],\"<=\"&B247)","v":0},{"$f":"SUMIFS(Haushaltsbuch2[Einnahmen],Haushaltsbuch2[Kategorie],P$4,Haushaltsbuch2[Datum],\">\"&B246,Haushaltsbuch2[Datum],\"<=\"&B247)","v":0},{"$f":"SUMIFS(Haushaltsbuch2[Einnahmen],Haushaltsbuch2[Kategorie],Q$4,Haushaltsbuch2[Datum],\">\"&B246,Haushaltsbuch2[Datum],\"<=\"&B247)","v":0},{"$f":"SUMIFS(Haushaltsbuch2[Einnahmen],Haushaltsbuch2[Kategorie],R$4,Haushaltsbuch2[Datum],\">\"&B246,Haushaltsbuch2[Datum],\"<=\"&B247)","v":0},null,null,null,null,null,null,null,null,null,null,null,null,null,null,null,null,null,null,{"$f":"SUMIFS(Haushaltsbuch2[Ausgaben],Haushaltsbuch2[Kategorie],AK$4,Haushaltsbuch2[Datum],\">\"&B246,Haushaltsbuch2[Datum],\"<=\"&B247)","v":0},null,null,{"$f":"SUMIFS(Dividenden[Betrag in EUR],Dividenden[Datum],\">\"&B246,Dividenden[Datum],\"<=\"&B247)","v":0},{"$f":"SUMIFS(Optionen[G/V (Netto)],Optionen[Datum],\">\"&B246,Optionen[Datum],\"<=\"&B247)","v":0},null,0,0,null,0,0,null,{"$f":"SUMIFS(Haushaltsbuch2[Einnahmen],Haushaltsbuch2[Datum],\">\"&B246,Haushaltsbuch2[Datum],\"<=\"&B247)+AN247+AO247","v":0},null,0,null,{"$f":"SUMIFS(Haushaltsbuch2[Ausgaben],Haushaltsbuch2[Datum],\">\"&B246,Haushaltsbuch2[Datum],\"<=\"&B247)","v":0}]
[null,33024,null,null,null,null,null,null,null,null,null,null,{"$f":"SUMIFS(Haushaltsbuch2[Einnahmen],Haushaltsbuch2[Kategorie],M$4,Haushaltsbuch2[Datum],\">\"&B247,Haushaltsbuch2[Datum],\"<=\"&B248)","v":0},{"$f":"SUMIFS(Haushaltsbuch2[Einnahmen],Haushaltsbuch2[Kategorie],N$4,Haushaltsbuch2[Datum],\">\"&B247,Haushaltsbuch2[Datum],\"<=\"&B248)","v":0},{"$f":"SUMIFS(Haushaltsbuch2[Einnahmen],Haushaltsbuch2[Kategorie],O$4,Haushaltsbuch2[Datum],\">\"&B247,Haushaltsbuch2[Datum],\"<=\"&B248)","v":0},{"$f":"SUMIFS(Haushaltsbuch2[Einnahmen],Haushaltsbuch2[Kategorie],P$4,Haushaltsbuch2[Datum],\">\"&B247,Haushaltsbuch2[Datum],\"<=\"&B248)","v":0},{"$f":"SUMIFS(Haushaltsbuch2[Einnahmen],Haushaltsbuch2[Kategorie],Q$4,Haushaltsbuch2[Datum],\">\"&B247,Haushaltsbuch2[Datum],\"<=\"&B248)","v":0},{"$f":"SUMIFS(Haushaltsbuch2[Einnahmen],Haushaltsbuch2[Kategorie],R$4,Haushaltsbuch2[Datum],\">\"&B247,Haushaltsbuch2[Datum],\"<=\"&B248)","v":0},null,null,null,null,null,null,null,null,null,null,null,null,null,null,null,null,null,null,{"$f":"SUMIFS(Haushaltsbuch2[Ausgaben],Haushaltsbuch2[Kategorie],AK$4,Haushaltsbuch2[Datum],\">\"&B247,Haushaltsbuch2[Datum],\"<=\"&B248)","v":0},null,null,{"$f":"SUMIFS(Dividenden[Betrag in EUR],Dividenden[Datum],\">\"&B247,Dividenden[Datum],\"<=\"&B248)","v":0},{"$f":"SUMIFS(Optionen[G/V (Netto)],Optionen[Datum],\">\"&B247,Optionen[Datum],\"<=\"&B248)","v":0},null,0,0,null,0,0,null,{"$f":"SUMIFS(Haushaltsbuch2[Einnahmen],Haushaltsbuch2[Datum],\">\"&B247,Haushaltsbuch2[Datum],\"<=\"&B248)+AN248+AO248","v":0},null,0,null,{"$f":"SUMIFS(Haushaltsbuch2[Ausgaben],Haushaltsbuch2[Datum],\">\"&B247,Haushaltsbuch2[Datum],\"<=\"&B248)","v":0}]
[null,33054,null,null,null,null,null,null,null,null,null,null,{"$f":"SUMIFS(Haushaltsbuch2[Einnahmen],Haushaltsbuch2[Kategorie],M$4,Haushaltsbuch2[Datum],\">\"&B248,Haushaltsbuch2[Datum],\"<=\"&B249)","v":0},{"$f":"SUMIFS(Haushaltsbuch2[Einnahmen],Haushaltsbuch2[Kategorie],N$4,Haushaltsbuch2[Datum],\">\"&B248,Haushaltsbuch2[Datum],\"<=\"&B249)","v":0},{"$f":"SUMIFS(Haushaltsbuch2[Einnahmen],Haushaltsbuch2[Kategorie],O$4,Haushaltsbuch2[Datum],\">\"&B248,Haushaltsbuch2[Datum],\"<=\"&B249)","v":0},{"$f":"SUMIFS(Haushaltsbuch2[Einnahmen],Haushaltsbuch2[Kategorie],P$4,Haushaltsbuch2[Datum],\">\"&B248,Haushaltsbuch2[Datum],\"<=\"&B249)","v":0},{"$f":"SUMIFS(Haushaltsbuch2[Einnahmen],Haushaltsbuch2[Kategorie],Q$4,Haushaltsbuch2[Datum],\">\"&B248,Haushaltsbuch2[Datum],\"<=\"&B249)","v":0},{"$f":"SUMIFS(Haushaltsbuch2[Einnahmen],Haushaltsbuch2[Kategorie],R$4,Haushaltsbuch2[Datum],\">\"&B248,Haushaltsbuch2[Datum],\"<=\"&B249)","v":0},null,null,null,null,null,null,null,null,null,null,null,null,null,null,null,null,null,null,{"$f":"SUMIFS(Haushaltsbuch2[Ausgaben],Haushaltsbuch2[Kategorie],AK$4,Haushaltsbuch2[Datum],\">\"&B248,Haushaltsbuch2[Datum],\"<=\"&B249)","v":0},null,null,{"$f":"SUMIFS(Dividenden[Betrag in EUR],Dividenden[Datum],\">\"&B248,Dividenden[Datum],\"<=\"&B249)","v":0},{"$f":"SUMIFS(Optionen[G/V (Netto)],Optionen[Datum],\">\"&B248,Optionen[Datum],\"<=\"&B249)","v":0},null,0,0,null,0,0,null,{"$f":"SUMIFS(Haushaltsbuch2[Einnahmen],Haushaltsbuch2[Datum],\">\"&B248,Haushaltsbuch2[Datum],\"<=\"&B249)+AN249+AO249","v":0},null,0,null,{"$f":"SUMIFS(Haushaltsbuch2[Ausgaben],Haushaltsbuch2[Datum],\">\"&B248,Haushaltsbuch2[Datum],\"<=\"&B249)","v":0}]
[null,33085,null,null,null,null,null,null,null,null,null,null,{"$f":"SUMIFS(Haushaltsbuch2[Einnahmen],Haushaltsbuch2[Kategorie],M$4,Haushaltsbuch2[Datum],\">\"&B249,Haushaltsbuch2[Datum],\"<=\"&B250)","v":0},{"$f":"SUMIFS(Haushaltsbuch2[Einnahmen],Haushaltsbuch2[Kategorie],N$4,Haushaltsbuch2[Datum],\">\"&B249,Haushaltsbuch2[Datum],\"<=\"&B250)","v":0},{"$f":"SUMIFS(Haushaltsbuch2[Einnahmen],Haushaltsbuch2[Kategorie],O$4,Haushaltsbuch2[Datum],\">\"&B249,Haushaltsbuch2[Datum],\"<=\"&B250)","v":0},{"$f":"SUMIFS(Haushaltsbuch2[Einnahmen],Haushaltsbuch2[Kategorie],P$4,Haushaltsbuch2[Datum],\">\"&B249,Haushaltsbuch2[Datum],\"<=\"&B250)","v":0},{"$f":"SUMIFS(Haushaltsbuch2[Einnahmen],Haushaltsbuch2[Kategorie],Q$4,Haushaltsbuch2[Datum],\">\"&B249,Haushaltsbuch2[Datum],\"<=\"&B250)","v":0},{"$f":"SUMIFS(Haushaltsbuch2[Einnahmen],Haushaltsbuch2[Kategorie],R$4,Haushaltsbuch2[Datum],\">\"&B249,Haushaltsbuch2[Datum],\"<=\"&B250)","v":0},null,null,null,null,null,null,null,null,null,null,null,null,null,null,null,null,null,null,{"$f":"SUMIFS(Haushaltsbuch2[Ausgaben],Haushaltsbuch2[Kategorie],AK$4,Haushaltsbuch2[Datum],\">\"&B249,Haushaltsbuch2[Datum],\"<=\"&B250)","v":0},null,null,{"$f":"SUMIFS(Dividenden[Betrag in EUR],Dividenden[Datum],\">\"&B249,Dividenden[Datum],\"<=\"&B250)","v":0},{"$f":"SUMIFS(Optionen[G/V (Netto)],Optionen[Datum],\">\"&B249,Optionen[Datum],\"<=\"&B250)","v":0},null,0,0,null,0,0,null,{"$f":"SUMIFS(Haushaltsbuch2[Einnahmen],Haushaltsbuch2[Datum],\">\"&B249,Haushaltsbuch2[Datum],\"<=\"&B250)+AN250+AO250","v":0},null,0,null,{"$f":"SUMIFS(Haushaltsbuch2[Ausgaben],Haushaltsbuch2[Datum],\">\"&B249,Haushaltsbuch2[Datum],\"<=\"&B250)","v":0}]
[null,33116,null,null,null,null,null,null,null,null,null,null,{"$f":"SUMIFS(Haushaltsbuch2[Einnahmen],Haushaltsbuch2[Kategorie],M$4,Haushaltsbuch2[Datum],\">\"&B250,Haushaltsbuch2[Datum],\"<=\"&B251)","v":0},{"$f":"SUMIFS(Haushaltsbuch2[Einnahmen],Haushaltsbuch2[Kategorie],N$4,Haushaltsbuch2[Datum],\">\"&B250,Haushaltsbuch2[Datum],\"<=\"&B251)","v":0},{"$f":"SUMIFS(Haushaltsbuch2[Einnahmen],Haushaltsbuch2[Kategorie],O$4,Haushaltsbuch2[Datum],\">\"&B250,Haushaltsbuch2[Datum],\"<=\"&B251)","v":0},{"$f":"SUMIFS(Haushaltsbuch2[Einnahmen],Haushaltsbuch2[Kategorie],P$4,Haushaltsbuch2[Datum],\">\"&B250,Haushaltsbuch2[Datum],\"<=\"&B251)","v":0},{"$f":"SUMIFS(Haushaltsbuch2[Einnahmen],Haushaltsbuch2[Kategorie],Q$4,Haushaltsbuch2[Datum],\">\"&B250,Haushaltsbuch2[Datum],\"<=\"&B251)","v":0},{"$f":"SUMIFS(Haushaltsbuch2[Einnahmen],Haushaltsbuch2[Kategorie],R$4,Haushaltsbuch2[Datum],\">\"&B250,Haushaltsbuch2[Datum],\"<=\"&B251)","v":0},null,null,null,null,null,null,null,null,null,null,null,null,null,null,null,null,null,null,{"$f":"SUMIFS(Haushaltsbuch2[Ausgaben],Haushaltsbuch2[Kategorie],AK$4,Haushaltsbuch2[Datum],\">\"&B250,Haushaltsbuch2[Datum],\"<=\"&B251)","v":0},null,null,{"$f":"SUMIFS(Dividenden[Betrag in EUR],Dividenden[Datum],\">\"&B250,Dividenden[Datum],\"<=\"&B251)","v":0},{"$f":"SUMIFS(Optionen[G/V (Netto)],Optionen[Datum],\">\"&B250,Optionen[Datum],\"<=\"&B251)","v":0},null,0,0,null,0,0,null,{"$f":"SUMIFS(Haushaltsbuch2[Einnahmen],Haushaltsbuch2[Datum],\">\"&B250,Haushaltsbuch2[Datum],\"<=\"&B251)+AN251+AO251","v":0},null,0,null,{"$f":"SUMIFS(Haushaltsbuch2[Ausgaben],Haushaltsbuch2[Datum],\">\"&B250,Haushaltsbuch2[Datum],\"<=\"&B251)","v":0}]
[null,33146,null,null,null,null,null,null,null,null,null,null,{"$f":"SUMIFS(Haushaltsbuch2[Einnahmen],Haushaltsbuch2[Kategorie],M$4,Haushaltsbuch2[Datum],\">\"&B251,Haushaltsbuch2[Datum],\"<=\"&B252)","v":0},{"$f":"SUMIFS(Haushaltsbuch2[Einnahmen],Haushaltsbuch2[Kategorie],N$4,Haushaltsbuch2[Datum],\">\"&B251,Haushaltsbuch2[Datum],\"<=\"&B252)","v":0},{"$f":"SUMIFS(Haushaltsbuch2[Einnahmen],Haushaltsbuch2[Kategorie],O$4,Haushaltsbuch2[Datum],\">\"&B251,Haushaltsbuch2[Datum],\"<=\"&B252)","v":0},{"$f":"SUMIFS(Haushaltsbuch2[Einnahmen],Haushaltsbuch2[Kategorie],P$4,Haushaltsbuch2[Datum],\">\"&B251,Haushaltsbuch2[Datum],\"<=\"&B252)","v":0},{"$f":"SUMIFS(Haushaltsbuch2[Einnahmen],Haushaltsbuch2[Kategorie],Q$4,Haushaltsbuch2[Datum],\">\"&B251,Haushaltsbuch2[Datum],\"<=\"&B252)","v":0},{"$f":"SUMIFS(Haushaltsbuch2[Einnahmen],Haushaltsbuch2[Kategorie],R$4,Haushaltsbuch2[Datum],\">\"&B251,Haushaltsbuch2[Datum],\"<=\"&B252)","v":0},null,null,null,null,null,null,null,null,null,null,null,null,null,null,null,null,null,null,{"$f":"SUMIFS(Haushaltsbuch2[Ausgaben],Haushaltsbuch2[Kategorie],AK$4,Haushaltsbuch2[Datum],\">\"&B251,Haushaltsbuch2[Datum],\"<=\"&B252)","v":0},null,null,{"$f":"SUMIFS(Dividenden[Betrag in EUR],Dividenden[Datum],\">\"&B251,Dividenden[Datum],\"<=\"&B252)","v":0},{"$f":"SUMIFS(Optionen[G/V (Netto)],Optionen[Datum],\">\"&B251,Optionen[Datum],\"<=\"&B252)","v":0},null,0,0,null,0,0,null,{"$f":"SUMIFS(Haushaltsbuch2[Einnahmen],Haushaltsbuch2[Datum],\">\"&B251,Haushaltsbuch2[Datum],\"<=\"&B252)+AN252+AO252","v":0},null,0,null,{"$f":"SUMIFS(Haushaltsbuch2[Ausgaben],Haushaltsbuch2[Datum],\">\"&B251,Haushaltsbuch2[Datum],\"<=\"&B252)","v":0}]
[null,33177,null,null,null,null,null,null,null,null,null,null,{"$f":"SUMIFS(Haushaltsbuch2[Einnahmen],Haushaltsbuch2[Kategorie],M$4,Haushaltsbuch2[Datum],\">\"&B252,Haushaltsbuch2[Datum],\"<=\"&B253)","v":0},{"$f":"SUMIFS(Haushaltsbuch2[Einnahmen],Haushaltsbuch2[Kategorie],N$4,Haushaltsbuch2[Datum],\">\"&B252,Haushaltsbuch2[Datum],\"<=\"&B253)","v":0},{"$f":"SUMIFS(Haushaltsbuch2[Einnahmen],Haushaltsbuch2[Kategorie],O$4,Haushaltsbuch2[Datum],\">\"&B252,Haushaltsbuch2[Datum],\"<=\"&B253)","v":0},{"$f":"SUMIFS(Haushaltsbuch2[Einnahmen],Haushaltsbuch2[Kategorie],P$4,Haushaltsbuch2[Datum],\">\"&B252,Haushaltsbuch2[Datum],\"<=\"&B253)","v":0},{"$f":"SUMIFS(Haushaltsbuch2[Einnahmen],Haushaltsbuch2[Kategorie],Q$4,Haushaltsbuch2[Datum],\">\"&B252,Haushaltsbuch2[Datum],\"<=\"&B253)","v":0},{"$f":"SUMIFS(Haushaltsbuch2[Einnahmen],Haushaltsbuch2[Kategorie],R$4,Haushaltsbuch2[Datum],\">\"&B252,Haushaltsbuch2[Datum],\"<=\"&B253)","v":0},null,null,null,null,null,null,null,null,null,null,null,null,null,null,null,null,null,null,{"$f":"SUMIFS(Haushaltsbuch2[Ausgaben],Haushaltsbuch2[Kategorie],AK$4,Haushaltsbuch2[Datum],\">\"&B252,Haushaltsbuch2[Datum],\"<=\"&B253)","v":0},null,null,{"$f":"SUMIFS(Dividenden[Betrag in EUR],Dividenden[Datum],\">\"&B252,Dividenden[Datum],\"<=\"&B253)","v":0},{"$f":"SUMIFS(Optionen[G/V (Netto)],Optionen[Datum],\">\"&B252,Optionen[Datum],\"<=\"&B253)","v":0},null,0,0,null,0,0,null,{"$f":"SUMIFS(Haushaltsbuch2[Einnahmen],Haushaltsbuch2[Datum],\">\"&B252,Haushaltsbuch2[Datum],\"<=\"&B253)+AN253+AO253","v":0},null,0,null,{"$f":"SUMIFS(Haushaltsbuch2[Ausgaben],Haushaltsbuch2[Datum],\">\"&B252,Haushaltsbuch2[Datum],\"<=\"&B253)","v":0}]
[null,33207,null,null,null,null,null,null,null,null,null,null,{"$f":"SUMIFS(Haushaltsbuch2[Einnahmen],Haushaltsbuch2[Kategorie],M$4,Haushaltsbuch2[Datum],\">\"&B253,Haushaltsbuch2[Datum],\"<=\"&B254)","v":0},{"$f":"SUMIFS(Haushaltsbuch2[Einnahmen],Haushaltsbuch2[Kategorie],N$4,Haushaltsbuch2[Datum],\">\"&B253,Haushaltsbuch2[Datum],\"<=\"&B254)","v":0},{"$f":"SUMIFS(Haushaltsbuch2[Einnahmen],Haushaltsbuch2[Kategorie],O$4,Haushaltsbuch2[Datum],\">\"&B253,Haushaltsbuch2[Datum],\"<=\"&B254)","v":0},{"$f":"SUMIFS(Haushaltsbuch2[Einnahmen],Haushaltsbuch2[Kategorie],P$4,Haushaltsbuch2[Datum],\">\"&B253,Haushaltsbuch2[Datum],\"<=\"&B254)","v":0},{"$f":"SUMIFS(Haushaltsbuch2[Einnahmen],Haushaltsbuch2[Kategorie],Q$4,Haushaltsbuch2[Datum],\">\"&B253,Haushaltsbuch2[Datum],\"<=\"&B254)","v":0},{"$f":"SUMIFS(Haushaltsbuch2[Einnahmen],Haushaltsbuch2[Kategorie],R$4,Haushaltsbuch2[Datum],\">\"&B253,Haushaltsbuch2[Datum],\"<=\"&B254)","v":0},null,null,null,null,null,null,null,null,null,null,null,null,null,null,null,null,null,null,{"$f":"SUMIFS(Haushaltsbuch2[Ausgaben],Haushaltsbuch2[Kategorie],AK$4,Haushaltsbuch2[Datum],\">\"&B253,Haushaltsbuch2[Datum],\"<=\"&B254)","v":0},null,null,{"$f":"SUMIFS(Dividenden[Betrag in EUR],Dividenden[Datum],\">\"&B253,Dividenden[Datum],\"<=\"&B254)","v":0},{"$f":"SUMIFS(Optionen[G/V (Netto)],Optionen[Datum],\">\"&B253,Optionen[Datum],\"<=\"&B254)","v":0},null,0,0,null,0,0,null,{"$f":"SUMIFS(Haushaltsbuch2[Einnahmen],Haushaltsbuch2[Datum],\">\"&B253,Haushaltsbuch2[Datum],\"<=\"&B254)+AN254+AO254","v":0},null,0,null,{"$f":"SUMIFS(Haushaltsbuch2[Ausgaben],Haushaltsbuch2[Datum],\">\"&B253,Haushaltsbuch2[Datum],\"<=\"&B254)","v":0}]
[null,33238,null,null,null,null,null,null,null,null,null,null,{"$f":"SUMIFS(Haushaltsbuch2[Einnahmen],Haushaltsbuch2[Kategorie],M$4,Haushaltsbuch2[Datum],\">\"&B254,Haushaltsbuch2[Datum],\"<=\"&B255)","v":0},{"$f":"SUMIFS(Haushaltsbuch2[Einnahmen],Haushaltsbuch2[Kategorie],N$4,Haushaltsbuch2[Datum],\">\"&B254,Haushaltsbuch2[Datum],\"<=\"&B255)","v":0},{"$f":"SUMIFS(Haushaltsbuch2[Einnahmen],Haushaltsbuch2[Kategorie],O$4,Haushaltsbuch2[Datum],\">\"&B254,Haushaltsbuch2[Datum],\"<=\"&B255)","v":0},{"$f":"SUMIFS(Haushaltsbuch2[Einnahmen],Haushaltsbuch2[Kategorie],P$4,Haushaltsbuch2[Datum],\">\"&B254,Haushaltsbuch2[Datum],\"<=\"&B255)","v":0},{"$f":"SUMIFS(Haushaltsbuch2[Einnahmen],Haushaltsbuch2[Kategorie],Q$4,Haushaltsbuch2[Datum],\">\"&B254,Haushaltsbuch2[Datum],\"<=\"&B255)","v":0},{"$f":"SUMIFS(Haushaltsbuch2[Einnahmen],Haushaltsbuch2[Kategorie],R$4,Haushaltsbuch2[Datum],\">\"&B254,Haushaltsbuch2[Datum],\"<=\"&B255)","v":0},null,null,null,null,null,null,null,null,null,null,null,null,null,null,null,null,null,null,{"$f":"SUMIFS(Haushaltsbuch2[Ausgaben],Haushaltsbuch2[Kategorie],AK$4,Haushaltsbuch2[Datum],\">\"&B254,Haushaltsbuch2[Datum],\"<=\"&B255)","v":0},null,null,{"$f":"SUMIFS(Dividenden[Betrag in EUR],Dividenden[Datum],\">\"&B254,Dividenden[Datum],\"<=\"&B255)","v":0},{"$f":"SUMIFS(Optionen[G/V (Netto)],Optionen[Datum],\">\"&B254,Optionen[Datum],\"<=\"&B255)","v":0},null,0,0,null,0,0,null,{"$f":"SUMIFS(Haushaltsbuch2[Einnahmen],Haushaltsbuch2[Datum],\">\"&B254,Haushaltsbuch2[Datum],\"<=\"&B255)+AN255+AO255","v":0},null,0,null,{"$f":"SUMIFS(Haushaltsbuch2[Ausgaben],Haushaltsbuch2[Datum],\">\"&B254,Haushaltsbuch2[Datum],\"<=\"&B255)","v":0}]
[null,33269,null,null,null,null,null,null,null,null,null,null,{"$f":"SUMIFS(Haushaltsbuch2[Einnahmen],Haushaltsbuch2[Kategorie],M$4,Haushaltsbuch2[Datum],\">\"&B255,Haushaltsbuch2[Datum],\"<=\"&B256)","v":0},{"$f":"SUMIFS(Haushaltsbuch2[Einnahmen],Haushaltsbuch2[Kategorie],N$4,Haushaltsbuch2[Datum],\">\"&B255,Haushaltsbuch2[Datum],\"<=\"&B256)","v":0},{"$f":"SUMIFS(Haushaltsbuch2[Einnahmen],Haushaltsbuch2[Kategorie],O$4,Haushaltsbuch2[Datum],\">\"&B255,Haushaltsbuch2[Datum],\"<=\"&B256)","v":0},{"$f":"SUMIFS(Haushaltsbuch2[Einnahmen],Haushaltsbuch2[Kategorie],P$4,Haushaltsbuch2[Datum],\">\"&B255,Haushaltsbuch2[Datum],\"<=\"&B256)","v":0},{"$f":"SUMIFS(Haushaltsbuch2[Einnahmen],Haushaltsbuch2[Kategorie],Q$4,Haushaltsbuch2[Datum],\">\"&B255,Haushaltsbuch2[Datum],\"<=\"&B256)","v":0},{"$f":"SUMIFS(Haushaltsbuch2[Einnahmen],Haushaltsbuch2[Kategorie],R$4,Haushaltsbuch2[Datum],\">\"&B255,Haushaltsbuch2[Datum],\"<=\"&B256)","v":0},null,null,null,null,null,null,null,null,null,null,null,null,null,null,null,null,null,null,{"$f":"SUMIFS(Haushaltsbuch2[Ausgaben],Haushaltsbuch2[Kategorie],AK$4,Haushaltsbuch2[Datum],\">\"&B255,Haushaltsbuch2[Datum],\"<=\"&B256)","v":0},null,null,{"$f":"SUMIFS(Dividenden[Betrag in EUR],Dividenden[Datum],\">\"&B255,Dividenden[Datum],\"<=\"&B256)","v":0},{"$f":"SUMIFS(Optionen[G/V (Netto)],Optionen[Datum],\">\"&B255,Optionen[Datum],\"<=\"&B256)","v":0},null,0,0,null,0,0,null,{"$f":"SUMIFS(Haushaltsbuch2[Einnahmen],Haushaltsbuch2[Datum],\">\"&B255,Haushaltsbuch2[Datum],\"<=\"&B256)+AN256+AO256","v":0},null,0,null,{"$f":"SUMIFS(Haushaltsbuch2[Ausgaben],Haushaltsbuch2[Datum],\">\"&B255,Haushaltsbuch2[Datum],\"<=\"&B256)","v":0}]
[null,33297,null,null,null,null,null,null,null,null,null,null,{"$f":"SUMIFS(Haushaltsbuch2[Einnahmen],Haushaltsbuch2[Kategorie],M$4,Haushaltsbuch2[Datum],\">\"&B256,Haushaltsbuch2[Datum],\"<=\"&B257)","v":0},{"$f":"SUMIFS(Haushaltsbuch2[Einnahmen],Haushaltsbuch2[Kategorie],N$4,Haushaltsbuch2[Datum],\">\"&B256,Haushaltsbuch2[Datum],\"<=\"&B257)","v":0},{"$f":"SUMIFS(Haushaltsbuch2[Einnahmen],Haushaltsbuch2[Kategorie],O$4,Haushaltsbuch2[Datum],\">\"&B256,Haushaltsbuch2[Datum],\"<=\"&B257)","v":0},{"$f":"SUMIFS(Haushaltsbuch2[Einnahmen],Haushaltsbuch2[Kategorie],P$4,Haushaltsbuch2[Datum],\">\"&B256,Haushaltsbuch2[Datum],\"<=\"&B257)","v":0},{"$f":"SUMIFS(Haushaltsbuch2[Einnahmen],Haushaltsbuch2[Kategorie],Q$4,Haushaltsbuch2[Datum],\">\"&B256,Haushaltsbuch2[Datum],\"<=\"&B257)","v":0},{"$f":"SUMIFS(Haushaltsbuch2[Einnahmen],Haushaltsbuch2[Kategorie],R$4,Haushaltsbuch2[Datum],\">\"&B256,Haushaltsbuch2[Datum],\"<=\"&B257)","v":0},null,null,null,null,null,null,null,null,null,null,null,null,null,null,null,null,null,null,{"$f":"SUMIFS(Haushaltsbuch2[Ausgaben],Haushaltsbuch2[Kategorie],AK$4,Haushaltsbuch2[Datum],\">\"&B256,Haushaltsbuch2[Datum],\"<=\"&B257)","v":0},null,null,{"$f":"SUMIFS(Dividenden[Betrag in EUR],Dividenden[Datum],\">\"&B256,Dividenden[Datum],\"<=\"&B257)","v":0},{"$f":"SUMIFS(Optionen[G/V (Netto)],Optionen[Datum],\">\"&B256,Optionen[Datum],\"<=\"&B257)","v":0},null,0,0,null,0,0,null,{"$f":"SUMIFS(Haushaltsbuch2[Einnahmen],Haushaltsbuch2[Datum],\">\"&B256,Haushaltsbuch2[Datum],\"<=\"&B257)+AN257+AO257","v":0},null,0,null,{"$f":"SUMIFS(Haushaltsbuch2[Ausgaben],Haushaltsbuch2[Datum],\">\"&B256,Haushaltsbuch2[Datum],\"<=\"&B257)","v":0}]
[null,33328,null,null,null,null,null,null,null,null,null,null,{"$f":"SUMIFS(Haushaltsbuch2[Einnahmen],Haushaltsbuch2[Kategorie],M$4,Haushaltsbuch2[Datum],\">\"&B257,Haushaltsbuch2[Datum],\"<=\"&B258)","v":0},{"$f":"SUMIFS(Haushaltsbuch2[Einnahmen],Haushaltsbuch2[Kategorie],N$4,Haushaltsbuch2[Datum],\">\"&B257,Haushaltsbuch2[Datum],\"<=\"&B258)","v":0},{"$f":"SUMIFS(Haushaltsbuch2[Einnahmen],Haushaltsbuch2[Kategorie],O$4,Haushaltsbuch2[Datum],\">\"&B257,Haushaltsbuch2[Datum],\"<=\"&B258)","v":0},{"$f":"SUMIFS(Haushaltsbuch2[Einnahmen],Haushaltsbuch2[Kategorie],P$4,Haushaltsbuch2[Datum],\">\"&B257,Haushaltsbuch2[Datum],\"<=\"&B258)","v":0},{"$f":"SUMIFS(Haushaltsbuch2[Einnahmen],Haushaltsbuch2[Kategorie],Q$4,Haushaltsbuch2[Datum],\">\"&B257,Haushaltsbuch2[Datum],\"<=\"&B258)","v":0},{"$f":"SUMIFS(Haushaltsbuch2[Einnahmen],Haushaltsbuch2[Kategorie],R$4,Haushaltsbuch2[Datum],\">\"&B257,Haushaltsbuch2[Datum],\"<=\"&B258)","v":0},null,null,null,null,null,null,null,null,null,null,null,null,null,null,null,null,null,null,{"$f":"SUMIFS(Haushaltsbuch2[Ausgaben],Haushaltsbuch2[Kategorie],AK$4,Haushaltsbuch2[Datum],\">\"&B257,Haushaltsbuch2[Datum],\"<=\"&B258)","v":0},null,null,{"$f":"SUMIFS(Dividenden[Betrag in EUR],Dividenden[Datum],\">\"&B257,Dividenden[Datum],\"<=\"&B258)","v":0},{"$f":"SUMIFS(Optionen[G/V (Netto)],Optionen[Datum],\">\"&B257,Optionen[Datum],\"<=\"&B258)","v":0},null,0,0,null,0,0,null,{"$f":"SUMIFS(Haushaltsbuch2[Einnahmen],Haushaltsbuch2[Datum],\">\"&B257,Haushaltsbuch2[Datum],\"<=\"&B258)+AN258+AO258","v":0},null,0,null,{"$f":"SUMIFS(Haushaltsbuch2[Ausgaben],Haushaltsbuch2[Datum],\">\"&B257,Haushaltsbuch2[Datum],\"<=\"&B258)","v":0}]
[null,33358,null,null,null,null,null,null,null,null,null,null,{"$f":"SUMIFS(Haushaltsbuch2[Einnahmen],Haushaltsbuch2[Kategorie],M$4,Haushaltsbuch2[Datum],\">\"&B258,Haushaltsbuch2[Datum],\"<=\"&B259)","v":0},{"$f":"SUMIFS(Haushaltsbuch2[Einnahmen],Haushaltsbuch2[Kategorie],N$4,Haushaltsbuch2[Datum],\">\"&B258,Haushaltsbuch2[Datum],\"<=\"&B259)","v":0},{"$f":"SUMIFS(Haushaltsbuch2[Einnahmen],Haushaltsbuch2[Kategorie],O$4,Haushaltsbuch2[Datum],\">\"&B258,Haushaltsbuch2[Datum],\"<=\"&B259)","v":0},{"$f":"SUMIFS(Haushaltsbuch2[Einnahmen],Haushaltsbuch2[Kategorie],P$4,Haushaltsbuch2[Datum],\">\"&B258,Haushaltsbuch2[Datum],\"<=\"&B259)","v":0},{"$f":"SUMIFS(Haushaltsbuch2[Einnahmen],Haushaltsbuch2[Kategorie],Q$4,Haushaltsbuch2[Datum],\">\"&B258,Haushaltsbuch2[Datum],\"<=\"&B259)","v":0},{"$f":"SUMIFS(Haushaltsbuch2[Einnahmen],Haushaltsbuch2[Kategorie],R$4,Haushaltsbuch2[Datum],\">\"&B258,Haushaltsbuch2[Datum],\"<=\"&B259)","v":0},null,null,null,null,null,null,null,null,null,null,null,null,null,null,null,null,null,null,{"$f":"SUMIFS(Haushaltsbuch2[Ausgaben],Haushaltsbuch2[Kategorie],AK$4,Haushaltsbuch2[Datum],\">\"&B258,Haushaltsbuch2[Datum],\"<=\"&B259)","v":0},null,null,{"$f":"SUMIFS(Dividenden[Betrag in EUR],Dividenden[Datum],\">\"&B258,Dividenden[Datum],\"<=\"&B259)","v":0},{"$f":"SUMIFS(Optionen[G/V (Netto)],Optionen[Datum],\">\"&B258,Optionen[Datum],\"<=\"&B259)","v":0},null,0,0,null,0,0,null,{"$f":"SUMIFS(Haushaltsbuch2[Einnahmen],Haushaltsbuch2[Datum],\">\"&B258,Haushaltsbuch2[Datum],\"<=\"&B259)+AN259+AO259","v":0},null,0,null,{"$f":"SUMIFS(Haushaltsbuch2[Ausgaben],Haushaltsbuch2[Datum],\">\"&B258,Haushaltsbuch2[Datum],\"<=\"&B259)","v":0}]
[null,33389,null,null,null,null,null,null,null,null,null,null,{"$f":"SUMIFS(Haushaltsbuch2[Einnahmen],Haushaltsbuch2[Kategorie],M$4,Haushaltsbuch2[Datum],\">\"&B259,Haushaltsbuch2[Datum],\"<=\"&B260)","v":0},{"$f":"SUMIFS(Haushaltsbuch2[Einnahmen],Haushaltsbuch2[Kategorie],N$4,Haushaltsbuch2[Datum],\">\"&B259,Haushaltsbuch2[Datum],\"<=\"&B260)","v":0},{"$f":"SUMIFS(Haushaltsbuch2[Einnahmen],Haushaltsbuch2[Kategorie],O$4,Haushaltsbuch2[Datum],\">\"&B259,Haushaltsbuch2[Datum],\"<=\"&B260)","v":0},{"$f":"SUMIFS(Haushaltsbuch2[Einnahmen],Haushaltsbuch2[Kategorie],P$4,Haushaltsbuch2[Datum],\">\"&B259,Haushaltsbuch2[Datum],\"<=\"&B260)","v":0},{"$f":"SUMIFS(Haushaltsbuch2[Einnahmen],Haushaltsbuch2[Kategorie],Q$4,Haushaltsbuch2[Datum],\">\"&B259,Haushaltsbuch2[Datum],\"<=\"&B260)","v":0},{"$f":"SUMIFS(Haushaltsbuch2[Einnahmen],Haushaltsbuch2[Kategorie],R$4,Haushaltsbuch2[Datum],\">\"&B259,Haushaltsbuch2[Datum],\"<=\"&B260)","v":0},null,null,null,null,null,null,null,null,null,null,null,null,null,null,null,null,null,null,{"$f":"SUMIFS(Haushaltsbuch2[Ausgaben],Haushaltsbuch2[Kategorie],AK$4,Haushaltsbuch2[Datum],\">\"&B259,Haushaltsbuch2[Datum],\"<=\"&B260)","v":0},null,null,{"$f":"SUMIFS(Dividenden[Betrag in EUR],Dividenden[Datum],\">\"&B259,Dividenden[Datum],\"<=\"&B260)","v":0},{"$f":"SUMIFS(Optionen[G/V (Netto)],Optionen[Datum],\">\"&B259,Optionen[Datum],\"<=\"&B260)","v":0},null,0,0,null,0,0,null,{"$f":"SUMIFS(Haushaltsbuch2[Einnahmen],Haushaltsbuch2[Datum],\">\"&B259,Haushaltsbuch2[Datum],\"<=\"&B260)+AN260+AO260","v":0},null,0,null,{"$f":"SUMIFS(Haushaltsbuch2[Ausgaben],Haushaltsbuch2[Datum],\">\"&B259,Haushaltsbuch2[Datum],\"<=\"&B260)","v":0}]
[null,33419,null,null,null,null,null,null,null,null,null,null,{"$f":"SUMIFS(Haushaltsbuch2[Einnahmen],Haushaltsbuch2[Kategorie],M$4,Haushaltsbuch2[Datum],\">\"&B260,Haushaltsbuch2[Datum],\"<=\"&B261)","v":0},{"$f":"SUMIFS(Haushaltsbuch2[Einnahmen],Haushaltsbuch2[Kategorie],N$4,Haushaltsbuch2[Datum],\">\"&B260,Haushaltsbuch2[Datum],\"<=\"&B261)","v":0},{"$f":"SUMIFS(Haushaltsbuch2[Einnahmen],Haushaltsbuch2[Kategorie],O$4,Haushaltsbuch2[Datum],\">\"&B260,Haushaltsbuch2[Datum],\"<=\"&B261)","v":0},{"$f":"SUMIFS(Haushaltsbuch2[Einnahmen],Haushaltsbuch2[Kategorie],P$4,Haushaltsbuch2[Datum],\">\"&B260,Haushaltsbuch2[Datum],\"<=\"&B261)","v":0},{"$f":"SUMIFS(Haushaltsbuch2[Einnahmen],Haushaltsbuch2[Kategorie],Q$4,Haushaltsbuch2[Datum],\">\"&B260,Haushaltsbuch2[Datum],\"<=\"&B261)","v":0},{"$f":"SUMIFS(Haushaltsbuch2[Einnahmen],Haushaltsbuch2[Kategorie],R$4,Haushaltsbuch2[Datum],\">\"&B260,Haushaltsbuch2[Datum],\"<=\"&B261)","v":0},null,null,null,null,null,null,null,null,null,null,null,null,null,null,null,null,null,null,{"$f":"SUMIFS(Haushaltsbuch2[Ausgaben],Haushaltsbuch2[Kategorie],AK$4,Haushaltsbuch2[Datum],\">\"&B260,Haushaltsbuch2[Datum],\"<=\"&B261)","v":0},null,null,{"$f":"SUMIFS(Dividenden[Betrag in EUR],Dividenden[Datum],\">\"&B260,Dividenden[Datum],\"<=\"&B261)","v":0},{"$f":"SUMIFS(Optionen[G/V (Netto)],Optionen[Datum],\">\"&B260,Optionen[Datum],\"<=\"&B261)","v":0},null,0,0,null,0,0,null,{"$f":"SUMIFS(Haushaltsbuch2[Einnahmen],Haushaltsbuch2[Datum],\">\"&B260,Haushaltsbuch2[Datum],\"<=\"&B261)+AN261+AO261","v":0},null,0,null,{"$f":"SUMIFS(Haushaltsbuch2[Ausgaben],Haushaltsbuch2[Datum],\">\"&B260,Haushaltsbuch2[Datum],\"<=\"&B261)","v":0}]
[null,33450,null,null,null,null,null,null,null,null,null,null,{"$f":"SUMIFS(Haushaltsbuch2[Einnahmen],Haushaltsbuch2[Kategorie],M$4,Haushaltsbuch2[Datum],\">\"&B261,Haushaltsbuch2[Datum],\"<=\"&B262)","v":0},{"$f":"SUMIFS(Haushaltsbuch2[Einnahmen],Haushaltsbuch2[Kategorie],N$4,Haushaltsbuch2[Datum],\">\"&B261,Haushaltsbuch2[Datum],\"<=\"&B262)","v":0},{"$f":"SUMIFS(Haushaltsbuch2[Einnahmen],Haushaltsbuch2[Kategorie],O$4,Haushaltsbuch2[Datum],\">\"&B261,Haushaltsbuch2[Datum],\"<=\"&B262)","v":0},{"$f":"SUMIFS(Haushaltsbuch2[Einnahmen],Haushaltsbuch2[Kategorie],P$4,Haushaltsbuch2[Datum],\">\"&B261,Haushaltsbuch2[Datum],\"<=\"&B262)","v":0},{"$f":"SUMIFS(Haushaltsbuch2[Einnahmen],Haushaltsbuch2[Kategorie],Q$4,Haushaltsbuch2[Datum],\">\"&B261,Haushaltsbuch2[Datum],\"<=\"&B262)","v":0},{"$f":"SUMIFS(Haushaltsbuch2[Einnahmen],Haushaltsbuch2[Kategorie],R$4,Haushaltsbuch2[Datum],\">\"&B261,Haushaltsbuch2[Datum],\"<=\"&B262)","v":0},null,null,null,null,null,null,null,null,null,null,null,null,null,null,null,null,null,null,{"$f":"SUMIFS(Haushaltsbuch2[Ausgaben],Haushaltsbuch2[Kategorie],AK$4,Haushaltsbuch2[Datum],\">\"&B261,Haushaltsbuch2[Datum],\"<=\"&B262)","v":0},null,null,{"$f":"SUMIFS(Dividenden[Betrag in EUR],Dividenden[Datum],\">\"&B261,Dividenden[Datum],\"<=\"&B262)","v":0},{"$f":"SUMIFS(Optionen[G/V (Netto)],Optionen[Datum],\">\"&B261,Optionen[Datum],\"<=\"&B262)","v":0},null,{"$f":"N262+AN262","v":0},{"$f":"O262+AO262","v":0},null,{"$f":"M262+SUM(P262:R262)+SUM(AQ262:AR262)","v":0},0,null,{"$f":"SUMIFS(Haushaltsbuch2[Einnahmen],Haushaltsbuch2[Datum],\">\"&B261,Haushaltsbuch2[Datum],\"<=\"&B262)+AN262+AO262","v":0},null,0,null,{"$f":"SUMIFS(Haushaltsbuch2[Ausgaben],Haushaltsbuch2[Datum],\">\"&B261,Haushaltsbuch2[Datum],\"<=\"&B262)","v":0}]
[null,{"$f":"EOMONTH(B262,1)","v":33481},null,null,null,null,null,null,null,null,null,null,{"$f":"SUMIFS(Haushaltsbuch2[Einnahmen],Haushaltsbuch2[Kategorie],M$4,Haushaltsbuch2[Datum],\">\"&B262,Haushaltsbuch2[Datum],\"<=\"&B263)","v":0},{"$f":"SUMIFS(Haushaltsbuch2[Einnahmen],Haushaltsbuch2[Kategorie],N$4,Haushaltsbuch2[Datum],\">\"&B262,Haushaltsbuch2[Datum],\"<=\"&B263)","v":0},{"$f":"SUMIFS(Haushaltsbuch2[Einnahmen],Haushaltsbuch2[Kategorie],O$4,Haushaltsbuch2[Datum],\">\"&B262,Haushaltsbuch2[Datum],\"<=\"&B263)","v":0},{"$f":"SUMIFS(Haushaltsbuch2[Einnahmen],Haushaltsbuch2[Kategorie],P$4,Haushaltsbuch2[Datum],\">\"&B262,Haushaltsbuch2[Datum],\"<=\"&B263)","v":0},{"$f":"SUMIFS(Haushaltsbuch2[Einnahmen],Haushaltsbuch2[Kategorie],Q$4,Haushaltsbuch2[Datum],\">\"&B262,Haushaltsbuch2[Datum],\"<=\"&B263)","v":0},{"$f":"SUMIFS(Haushaltsbuch2[Einnahmen],Haushaltsbuch2[Kategorie],R$4,Haushaltsbuch2[Datum],\">\"&B262,Haushaltsbuch2[Datum],\"<=\"&B263)","v":0},null,null,null,null,null,null,null,null,null,null,null,null,null,null,null,null,null,null,{"$f":"SUMIFS(Haushaltsbuch2[Ausgaben],Haushaltsbuch2[Kategorie],AK$4,Haushaltsbuch2[Datum],\">\"&B262,Haushaltsbuch2[Datum],\"<=\"&B263)","v":0},null,null,{"$f":"SUMIFS(Dividenden[Betrag in EUR],Dividenden[Datum],\">\"&B262,Dividenden[Datum],\"<=\"&B263)","v":0},{"$f":"SUMIFS(Optionen[G/V (Netto)],Optionen[Datum],\">\"&B262,Optionen[Datum],\"<=\"&B263)","v":0},null,0,0,null,0,0,null,{"$f":"SUMIFS(Haushaltsbuch2[Einnahmen],Haushaltsbuch2[Datum],\">\"&B262,Haushaltsbuch2[Datum],\"<=\"&B263)+AN263+AO263","v":0},null,0,null,{"$f":"SUMIFS(Haushaltsbuch2[Ausgaben],Haushaltsbuch2[Datum],\">\"&B262,Haushaltsbuch2[Datum],\"<=\"&B263)","v":0}]
[null,33511,null,null,null,null,null,null,null,null,null,null,{"$f":"SUMIFS(Haushaltsbuch2[Einnahmen],Haushaltsbuch2[Kategorie],M$4,Haushaltsbuch2[Datum],\">\"&B263,Haushaltsbuch2[Datum],\"<=\"&B264)","v":0},{"$f":"SUMIFS(Haushaltsbuch2[Einnahmen],Haushaltsbuch2[Kategorie],N$4,Haushaltsbuch2[Datum],\">\"&B263,Haushaltsbuch2[Datum],\"<=\"&B264)","v":0},{"$f":"SUMIFS(Haushaltsbuch2[Einnahmen],Haushaltsbuch2[Kategorie],O$4,Haushaltsbuch2[Datum],\">\"&B263,Haushaltsbuch2[Datum],\"<=\"&B264)","v":0},{"$f":"SUMIFS(Haushaltsbuch2[Einnahmen],Haushaltsbuch2[Kategorie],P$4,Haushaltsbuch2[Datum],\">\"&B263,Haushaltsbuch2[Datum],\"<=\"&B264)","v":0},{"$f":"SUMIFS(Haushaltsbuch2[Einnahmen],Haushaltsbuch2[Kategorie],Q$4,Haushaltsbuch2[Datum],\">\"&B263,Haushaltsbuch2[Datum],\"<=\"&B264)","v":0},{"$f":"SUMIFS(Haushaltsbuch2[Einnahmen],Haushaltsbuch2[Kategorie],R$4,Haushaltsbuch2[Datum],\">\"&B263,Haushaltsbuch2[Datum],\"<=\"&B264)","v":0},null,null,null,null,null,null,null,null,null,null,null,null,null,null,null,null,null,null,{"$f":"SUMIFS(Haushaltsbuch2[Ausgaben],Haushaltsbuch2[Kategorie],AK$4,Haushaltsbuch2[Datum],\">\"&B263,Haushaltsbuch2[Datum],\"<=\"&B264)","v":0},null,null,{"$f":"SUMIFS(Dividenden[Betrag in EUR],Dividenden[Datum],\">\"&B263,Dividenden[Datum],\"<=\"&B264)","v":0},{"$f":"SUMIFS(Optionen[G/V (Netto)],Optionen[Datum],\">\"&B263,Optionen[Datum],\"<=\"&B264)","v":0},null,0,0,null,0,0,null,{"$f":"SUMIFS(Haushaltsbuch2[Einnahmen],Haushaltsbuch2[Datum],\">\"&B263,Haushaltsbuch2[Datum],\"<=\"&B264)+AN264+AO264","v":0},null,0,null,{"$f":"SUMIFS(Haushaltsbuch2[Ausgaben],Haushaltsbuch2[Datum],\">\"&B263,Haushaltsbuch2[Datum],\"<=\"&B264)","v":0}]
[null,33542,null,null,null,null,null,null,null,null,null,null,{"$f":"SUMIFS(Haushaltsbuch2[Einnahmen],Haushaltsbuch2[Kategorie],M$4,Haushaltsbuch2[Datum],\">\"&B264,Haushaltsbuch2[Datum],\"<=\"&B265)","v":0},{"$f":"SUMIFS(Haushaltsbuch2[Einnahmen],Haushaltsbuch2[Kategorie],N$4,Haushaltsbuch2[Datum],\">\"&B264,Haushaltsbuch2[Datum],\"<=\"&B265)","v":0},{"$f":"SUMIFS(Haushaltsbuch2[Einnahmen],Haushaltsbuch2[Kategorie],O$4,Haushaltsbuch2[Datum],\">\"&B264,Haushaltsbuch2[Datum],\"<=\"&B265)","v":0},{"$f":"SUMIFS(Haushaltsbuch2[Einnahmen],Haushaltsbuch2[Kategorie],P$4,Haushaltsbuch2[Datum],\">\"&B264,Haushaltsbuch2[Datum],\"<=\"&B265)","v":0},{"$f":"SUMIFS(Haushaltsbuch2[Einnahmen],Haushaltsbuch2[Kategorie],Q$4,Haushaltsbuch2[Datum],\">\"&B264,Haushaltsbuch2[Datum],\"<=\"&B265)","v":0},{"$f":"SUMIFS(Haushaltsbuch2[Einnahmen],Haushaltsbuch2[Kategorie],R$4,Haushaltsbuch2[Datum],\">\"&B264,Haushaltsbuch2[Datum],\"<=\"&B265)","v":0},null,null,null,null,null,null,null,null,null,null,null,null,null,null,null,null,null,null,{"$f":"SUMIFS(Haushaltsbuch2[Ausgaben],Haushaltsbuch2[Kategorie],AK$4,Haushaltsbuch2[Datum],\">\"&B264,Haushaltsbuch2[Datum],\"<=\"&B265)","v":0},null,null,{"$f":"SUMIFS(Dividenden[Betrag in EUR],Dividenden[Datum],\">\"&B264,Dividenden[Datum],\"<=\"&B265)","v":0},{"$f":"SUMIFS(Optionen[G/V (Netto)],Optionen[Datum],\">\"&B264,Optionen[Datum],\"<=\"&B265)","v":0},null,0,0,null,0,0,null,{"$f":"SUMIFS(Haushaltsbuch2[Einnahmen],Haushaltsbuch2[Datum],\">\"&B264,Haushaltsbuch2[Datum],\"<=\"&B265)+AN265+AO265","v":0},null,0,null,{"$f":"SUMIFS(Haushaltsbuch2[Ausgaben],Haushaltsbuch2[Datum],\">\"&B264,Haushaltsbuch2[Datum],\"<=\"&B265)","v":0}]
[null,33572,null,null,null,null,null,null,null,null,null,null,{"$f":"SUMIFS(Haushaltsbuch2[Einnahmen],Haushaltsbuch2[Kategorie],M$4,Haushaltsbuch2[Datum],\">\"&B265,Haushaltsbuch2[Datum],\"<=\"&B266)","v":0},{"$f":"SUMIFS(Haushaltsbuch2[Einnahmen],Haushaltsbuch2[Kategorie],N$4,Haushaltsbuch2[Datum],\">\"&B265,Haushaltsbuch2[Datum],\"<=\"&B266)","v":0},{"$f":"SUMIFS(Haushaltsbuch2[Einnahmen],Haushaltsbuch2[Kategorie],O$4,Haushaltsbuch2[Datum],\">\"&B265,Haushaltsbuch2[Datum],\"<=\"&B266)","v":0},{"$f":"SUMIFS(Haushaltsbuch2[Einnahmen],Haushaltsbuch2[Kategorie],P$4,Haushaltsbuch2[Datum],\">\"&B265,Haushaltsbuch2[Datum],\"<=\"&B266)","v":0},{"$f":"SUMIFS(Haushaltsbuch2[Einnahmen],Haushaltsbuch2[Kategorie],Q$4,Haushaltsbuch2[Datum],\">\"&B265,Haushaltsbuch2[Datum],\"<=\"&B266)","v":0},{"$f":"SUMIFS(Haushaltsbuch2[Einnahmen],Haushaltsbuch2[Kategorie],R$4,Haushaltsbuch2[Datum],\">\"&B265,Haushaltsbuch2[Datum],\"<=\"&B266)","v":0},null,null,null,null,null,null,null,null,null,null,null,null,null,null,null,null,null,null,{"$f":"SUMIFS(Haushaltsbuch2[Ausgaben],Haushaltsbuch2[Kategorie],AK$4,Haushaltsbuch2[Datum],\">\"&B265,Haushaltsbuch2[Datum],\"<=\"&B266)","v":0},null,null,{"$f":"SUMIFS(Dividenden[Betrag in EUR],Dividenden[Datum],\">\"&B265,Dividenden[Datum],\"<=\"&B266)","v":0},{"$f":"SUMIFS(Optionen[G/V (Netto)],Optionen[Datum],\">\"&B265,Optionen[Datum],\"<=\"&B266)","v":0},null,0,0,null,0,0,null,{"$f":"SUMIFS(Haushaltsbuch2[Einnahmen],Haushaltsbuch2[Datum],\">\"&B265,Haushaltsbuch2[Datum],\"<=\"&B266)+AN266+AO266","v":0},null,0,null,{"$f":"SUMIFS(Haushaltsbuch2[Ausgaben],Haushaltsbuch2[Datum],\">\"&B265,Haushaltsbuch2[Datum],\"<=\"&B266)","v":0}]
[null,33603,null,null,null,null,null,null,null,null,null,null,{"$f":"SUMIFS(Haushaltsbuch2[Einnahmen],Haushaltsbuch2[Kategorie],M$4,Haushaltsbuch2[Datum],\">\"&B266,Haushaltsbuch2[Datum],\"<=\"&B267)","v":0},{"$f":"SUMIFS(Haushaltsbuch2[Einnahmen],Haushaltsbuch2[Kategorie],N$4,Haushaltsbuch2[Datum],\">\"&B266,Haushaltsbuch2[Datum],\"<=\"&B267)","v":0},{"$f":"SUMIFS(Haushaltsbuch2[Einnahmen],Haushaltsbuch2[Kategorie],O$4,Haushaltsbuch2[Datum],\">\"&B266,Haushaltsbuch2[Datum],\"<=\"&B267)","v":0},{"$f":"SUMIFS(Haushaltsbuch2[Einnahmen],Haushaltsbuch2[Kategorie],P$4,Haushaltsbuch2[Datum],\">\"&B266,Haushaltsbuch2[Datum],\"<=\"&B267)","v":0},{"$f":"SUMIFS(Haushaltsbuch2[Einnahmen],Haushaltsbuch2[Kategorie],Q$4,Haushaltsbuch2[Datum],\">\"&B266,Haushaltsbuch2[Datum],\"<=\"&B267)","v":0},{"$f":"SUMIFS(Haushaltsbuch2[Einnahmen],Haushaltsbuch2[Kategorie],R$4,Haushaltsbuch2[Datum],\">\"&B266,Haushaltsbuch2[Datum],\"<=\"&B267)","v":0},null,null,null,null,null,null,null,null,null,null,null,null,null,null,null,null,null,null,{"$f":"SUMIFS(Haushaltsbuch2[Ausgaben],Haushaltsbuch2[Kategorie],AK$4,Haushaltsbuch2[Datum],\">\"&B266,Haushaltsbuch2[Datum],\"<=\"&B267)","v":0},null,null,{"$f":"SUMIFS(Dividenden[Betrag in EUR],Dividenden[Datum],\">\"&B266,Dividenden[Datum],\"<=\"&B267)","v":0},{"$f":"SUMIFS(Optionen[G/V (Netto)],Optionen[Datum],\">\"&B266,Optionen[Datum],\"<=\"&B267)","v":0},null,0,0,null,0,0,null,{"$f":"SUMIFS(Haushaltsbuch2[Einnahmen],Haushaltsbuch2[Datum],\">\"&B266,Haushaltsbuch2[Datum],\"<=\"&B267)+AN267+AO267","v":0},null,0,null,{"$f":"SUMIFS(Haushaltsbuch2[Ausgaben],Haushaltsbuch2[Datum],\">\"&B266,Haushaltsbuch2[Datum],\"<=\"&B267)","v":0}]
[null,33634,null,null,null,null,null,null,null,null,null,null,{"$f":"SUMIFS(Haushaltsbuch2[Einnahmen],Haushaltsbuch2[Kategorie],M$4,Haushaltsbuch2[Datum],\">\"&B267,Haushaltsbuch2[Datum],\"<=\"&B268)","v":0},{"$f":"SUMIFS(Haushaltsbuch2[Einnahmen],Haushaltsbuch2[Kategorie],N$4,Haushaltsbuch2[Datum],\">\"&B267,Haushaltsbuch2[Datum],\"<=\"&B268)","v":0},{"$f":"SUMIFS(Haushaltsbuch2[Einnahmen],Haushaltsbuch2[Kategorie],O$4,Haushaltsbuch2[Datum],\">\"&B267,Haushaltsbuch2[Datum],\"<=\"&B268)","v":0},{"$f":"SUMIFS(Haushaltsbuch2[Einnahmen],Haushaltsbuch2[Kategorie],P$4,Haushaltsbuch2[Datum],\">\"&B267,Haushaltsbuch2[Datum],\"<=\"&B268)","v":0},{"$f":"SUMIFS(Haushaltsbuch2[Einnahmen],Haushaltsbuch2[Kategorie],Q$4,Haushaltsbuch2[Datum],\">\"&B267,Haushaltsbuch2[Datum],\"<=\"&B268)","v":0},{"$f":"SUMIFS(Haushaltsbuch2[Einnahmen],Haushaltsbuch2[Kategorie],R$4,Haushaltsbuch2[Datum],\">\"&B267,Haushaltsbuch2[Datum],\"<=\"&B268)","v":0},null,null,null,null,null,null,null,null,null,null,null,null,null,null,null,null,null,null,{"$f":"SUMIFS(Haushaltsbuch2[Ausgaben],Haushaltsbuch2[Kategorie],AK$4,Haushaltsbuch2[Datum],\">\"&B267,Haushaltsbuch2[Datum],\"<=\"&B268)","v":0},null,null,{"$f":"SUMIFS(Dividenden[Betrag in EUR],Dividenden[Datum],\">\"&B267,Dividenden[Datum],\"<=\"&B268)","v":0},{"$f":"SUMIFS(Optionen[G/V (Netto)],Optionen[Datum],\">\"&B267,Optionen[Datum],\"<=\"&B268)","v":0},null,0,0,null,0,0,null,{"$f":"SUMIFS(Haushaltsbuch2[Einnahmen],Haushaltsbuch2[Datum],\">\"&B267,Haushaltsbuch2[Datum],\"<=\"&B268)+AN268+AO268","v":0},null,0,null,{"$f":"SUMIFS(Haushaltsbuch2[Ausgaben],Haushaltsbuch2[Datum],\">\"&B267,Haushaltsbuch2[Datum],\"<=\"&B268)","v":0}]
[null,33663,null,null,null,null,null,null,null,null,null,null,{"$f":"SUMIFS(Haushaltsbuch2[Einnahmen],Haushaltsbuch2[Kategorie],M$4,Haushaltsbuch2[Datum],\">\"&B268,Haushaltsbuch2[Datum],\"<=\"&B269)","v":0},{"$f":"SUMIFS(Haushaltsbuch2[Einnahmen],Haushaltsbuch2[Kategorie],N$4,Haushaltsbuch2[Datum],\">\"&B268,Haushaltsbuch2[Datum],\"<=\"&B269)","v":0},{"$f":"SUMIFS(Haushaltsbuch2[Einnahmen],Haushaltsbuch2[Kategorie],O$4,Haushaltsbuch2[Datum],\">\"&B268,Haushaltsbuch2[Datum],\"<=\"&B269)","v":0},{"$f":"SUMIFS(Haushaltsbuch2[Einnahmen],Haushaltsbuch2[Kategorie],P$4,Haushaltsbuch2[Datum],\">\"&B268,Haushaltsbuch2[Datum],\"<=\"&B269)","v":0},{"$f":"SUMIFS(Haushaltsbuch2[Einnahmen],Haushaltsbuch2[Kategorie],Q$4,Haushaltsbuch2[Datum],\">\"&B268,Haushaltsbuch2[Datum],\"<=\"&B269)","v":0},{"$f":"SUMIFS(Haushaltsbuch2[Einnahmen],Haushaltsbuch2[Kategorie],R$4,Haushaltsbuch2[Datum],\">\"&B268,Haushaltsbuch2[Datum],\"<=\"&B269)","v":0},null,null,null,null,null,null,null,null,null,null,null,null,null,null,null,null,null,null,{"$f":"SUMIFS(Haushaltsbuch2[Ausgaben],Haushaltsbuch2[Kategorie],AK$4,Haushaltsbuch2[Datum],\">\"&B268,Haushaltsbuch2[Datum],\"<=\"&B269)","v":0},null,null,{"$f":"SUMIFS(Dividenden[Betrag in EUR],Dividenden[Datum],\">\"&B268,Dividenden[Datum],\"<=\"&B269)","v":0},{"$f":"SUMIFS(Optionen[G/V (Netto)],Optionen[Datum],\">\"&B268,Optionen[Datum],\"<=\"&B269)","v":0},null,0,0,null,0,0,null,{"$f":"SUMIFS(Haushaltsbuch2[Einnahmen],Haushaltsbuch2[Datum],\">\"&B268,Haushaltsbuch2[Datum],\"<=\"&B269)+AN269+AO269","v":0},null,0,null,{"$f":"SUMIFS(Haushaltsbuch2[Ausgaben],Haushaltsbuch2[Datum],\">\"&B268,Haushaltsbuch2[Datum],\"<=\"&B269)","v":0}]
[null,33694,null,null,null,null,null,null,null,null,null,null,{"$f":"SUMIFS(Haushaltsbuch2[Einnahmen],Haushaltsbuch2[Kategorie],M$4,Haushaltsbuch2[Datum],\">\"&B269,Haushaltsbuch2[Datum],\"<=\"&B270)","v":0},{"$f":"SUMIFS(Haushaltsbuch2[Einnahmen],Haushaltsbuch2[Kategorie],N$4,Haushaltsbuch2[Datum],\">\"&B269,Haushaltsbuch2[Datum],\"<=\"&B270)","v":0},{"$f":"SUMIFS(Haushaltsbuch2[Einnahmen],Haushaltsbuch2[Kategorie],O$4,Haushaltsbuch2[Datum],\">\"&B269,Haushaltsbuch2[Datum],\"<=\"&B270)","v":0},{"$f":"SUMIFS(Haushaltsbuch2[Einnahmen],Haushaltsbuch2[Kategorie],P$4,Haushaltsbuch2[Datum],\">\"&B269,Haushaltsbuch2[Datum],\"<=\"&B270)","v":0},{"$f":"SUMIFS(Haushaltsbuch2[Einnahmen],Haushaltsbuch2[Kategorie],Q$4,Haushaltsbuch2[Datum],\">\"&B269,Haushaltsbuch2[Datum],\"<=\"&B270)","v":0},{"$f":"SUMIFS(Haushaltsbuch2[Einnahmen],Haushaltsbuch2[Kategorie],R$4,Haushaltsbuch2[Datum],\">\"&B269,Haushaltsbuch2[Datum],\"<=\"&B270)","v":0},null,null,null,null,null,null,null,null,null,null,null,null,null,null,null,null,null,null,{"$f":"SUMIFS(Haushaltsbuch2[Ausgaben],Haushaltsbuch2[Kategorie],AK$4,Haushaltsbuch2[Datum],\">\"&B269,Haushaltsbuch2[Datum],\"<=\"&B270)","v":0},null,null,{"$f":"SUMIFS(Dividenden[Betrag in EUR],Dividenden[Datum],\">\"&B269,Dividenden[Datum],\"<=\"&B270)","v":0},{"$f":"SUMIFS(Optionen[G/V (Netto)],Optionen[Datum],\">\"&B269,Optionen[Datum],\"<=\"&B270)","v":0},null,0,0,null,0,0,null,{"$f":"SUMIFS(Haushaltsbuch2[Einnahmen],Haushaltsbuch2[Datum],\">\"&B269,Haushaltsbuch2[Datum],\"<=\"&B270)+AN270+AO270","v":0},null,0,null,{"$f":"SUMIFS(Haushaltsbuch2[Ausgaben],Haushaltsbuch2[Datum],\">\"&B269,Haushaltsbuch2[Datum],\"<=\"&B270)","v":0}]
[null,33724,null,null,null,null,null,null,null,null,null,null,{"$f":"SUMIFS(Haushaltsbuch2[Einnahmen],Haushaltsbuch2[Kategorie],M$4,Haushaltsbuch2[Datum],\">\"&B270,Haushaltsbuch2[Datum],\"<=\"&B271)","v":0},{"$f":"SUMIFS(Haushaltsbuch2[Einnahmen],Haushaltsbuch2[Kategorie],N$4,Haushaltsbuch2[Datum],\">\"&B270,Haushaltsbuch2[Datum],\"<=\"&B271)","v":0},{"$f":"SUMIFS(Haushaltsbuch2[Einnahmen],Haushaltsbuch2[Kategorie],O$4,Haushaltsbuch2[Datum],\">\"&B270,Haushaltsbuch2[Datum],\"<=\"&B271)","v":0},{"$f":"SUMIFS(Haushaltsbuch2[Einnahmen],Haushaltsbuch2[Kategorie],P$4,Haushaltsbuch2[Datum],\">\"&B270,Haushaltsbuch2[Datum],\"<=\"&B271)","v":0},{"$f":"SUMIFS(Haushaltsbuch2[Einnahmen],Haushaltsbuch2[Kategorie],Q$4,Haushaltsbuch2[Datum],\">\"&B270,Haushaltsbuch2[Datum],\"<=\"&B271)","v":0},{"$f":"SUMIFS(Haushaltsbuch2[Einnahmen],Haushaltsbuch2[Kategorie],R$4,Haushaltsbuch2[Datum],\">\"&B270,Haushaltsbuch2[Datum],\"<=\"&B271)","v":0},null,null,null,null,null,null,null,null,null,null,null,null,null,null,null,null,null,null,{"$f":"SUMIFS(Haushaltsbuch2[Ausgaben],Haushaltsbuch2[Kategorie],AK$4,Haushaltsbuch2[Datum],\">\"&B270,Haushaltsbuch2[Datum],\"<=\"&B271)","v":0},null,null,{"$f":"SUMIFS(Dividenden[Betrag in EUR],Dividenden[Datum],\">\"&B270,Dividenden[Datum],\"<=\"&B271)","v":0},{"$f":"SUMIFS(Optionen[G/V (Netto)],Optionen[Datum],\">\"&B270,Optionen[Datum],\"<=\"&B271)","v":0},null,0,0,null,0,0,null,{"$f":"SUMIFS(Haushaltsbuch2[Einnahmen],Haushaltsbuch2[Datum],\">\"&B270,Haushaltsbuch2[Datum],\"<=\"&B271)+AN271+AO271","v":0},null,0,null,{"$f":"SUMIFS(Haushaltsbuch2[Ausgaben],Haushaltsbuch2[Datum],\">\"&B270,Haushaltsbuch2[Datum],\"<=\"&B271)","v":0}]
[null,33755,null,null,null,null,null,null,null,null,null,null,{"$f":"SUMIFS(Haushaltsbuch2[Einnahmen],Haushaltsbuch2[Kategorie],M$4,Haushaltsbuch2[Datum],\">\"&B271,Haushaltsbuch2[Datum],\"<=\"&B272)","v":0},{"$f":"SUMIFS(Haushaltsbuch2[Einnahmen],Haushaltsbuch2[Kategorie],N$4,Haushaltsbuch2[Datum],\">\"&B271,Haushaltsbuch2[Datum],\"<=\"&B272)","v":0},{"$f":"SUMIFS(Haushaltsbuch2[Einnahmen],Haushaltsbuch2[Kategorie],O$4,Haushaltsbuch2[Datum],\">\"&B271,Haushaltsbuch2[Datum],\"<=\"&B272)","v":0},{"$f":"SUMIFS(Haushaltsbuch2[Einnahmen],Haushaltsbuch2[Kategorie],P$4,Haushaltsbuch2[Datum],\">\"&B271,Haushaltsbuch2[Datum],\"<=\"&B272)","v":0},{"$f":"SUMIFS(Haushaltsbuch2[Einnahmen],Haushaltsbuch2[Kategorie],Q$4,Haushaltsbuch2[Datum],\">\"&B271,Haushaltsbuch2[Datum],\"<=\"&B272)","v":0},{"$f":"SUMIFS(Haushaltsbuch2[Einnahmen],Haushaltsbuch2[Kategorie],R$4,Haushaltsbuch2[Datum],\">\"&B271,Haushaltsbuch2[Datum],\"<=\"&B272)","v":0},null,null,null,null,null,null,null,null,null,null,null,null,null,null,null,null,null,null,{"$f":"SUMIFS(Haushaltsbuch2[Ausgaben],Haushaltsbuch2[Kategorie],AK$4,Haushaltsbuch2[Datum],\">\"&B271,Haushaltsbuch2[Datum],\"<=\"&B272)","v":0},null,null,{"$f":"SUMIFS(Dividenden[Betrag in EUR],Dividenden[Datum],\">\"&B271,Dividenden[Datum],\"<=\"&B272)","v":0},{"$f":"SUMIFS(Optionen[G/V (Netto)],Optionen[Datum],\">\"&B271,Optionen[Datum],\"<=\"&B272)","v":0},null,0,0,null,0,0,null,{"$f":"SUMIFS(Haushaltsbuch2[Einnahmen],Haushaltsbuch2[Datum],\">\"&B271,Haushaltsbuch2[Datum],\"<=\"&B272)+AN272+AO272","v":0},null,0,null,{"$f":"SUMIFS(Haushaltsbuch2[Ausgaben],Haushaltsbuch2[Datum],\">\"&B271,Haushaltsbuch2[Datum],\"<=\"&B272)","v":0}]
[null,33785,null,null,null,null,null,null,null,null,null,null,{"$f":"SUMIFS(Haushaltsbuch2[Einnahmen],Haushaltsbuch2[Kategorie],M$4,Haushaltsbuch2[Datum],\">\"&B272,Haushaltsbuch2[Datum],\"<=\"&B273)","v":0},{"$f":"SUMIFS(Haushaltsbuch2[Einnahmen],Haushaltsbuch2[Kategorie],N$4,Haushaltsbuch2[Datum],\">\"&B272,Haushaltsbuch2[Datum],\"<=\"&B273)","v":0},{"$f":"SUMIFS(Haushaltsbuch2[Einnahmen],Haushaltsbuch2[Kategorie],O$4,Haushaltsbuch2[Datum],\">\"&B272,Haushaltsbuch2[Datum],\"<=\"&B273)","v":0},{"$f":"SUMIFS(Haushaltsbuch2[Einnahmen],Haushaltsbuch2[Kategorie],P$4,Haushaltsbuch2[Datum],\">\"&B272,Haushaltsbuch2[Datum],\"<=\"&B273)","v":0},{"$f":"SUMIFS(Haushaltsbuch2[Einnahmen],Haushaltsbuch2[Kategorie],Q$4,Haushaltsbuch2[Datum],\">\"&B272,Haushaltsbuch2[Datum],\"<=\"&B273)","v":0},{"$f":"SUMIFS(Haushaltsbuch2[Einnahmen],Haushaltsbuch2[Kategorie],R$4,Haushaltsbuch2[Datum],\">\"&B272,Haushaltsbuch2[Datum],\"<=\"&B273)","v":0},null,null,null,null,null,null,null,null,null,null,null,null,null,null,null,null,null,null,{"$f":"SUMIFS(Haushaltsbuch2[Ausgaben],Haushaltsbuch2[Kategorie],AK$4,Haushaltsbuch2[Datum],\">\"&B272,Haushaltsbuch2[Datum],\"<=\"&B273)","v":0},null,null,{"$f":"SUMIFS(Dividenden[Betrag in EUR],Dividenden[Datum],\">\"&B272,Dividenden[Datum],\"<=\"&B273)","v":0},{"$f":"SUMIFS(Optionen[G/V (Netto)],Optionen[Datum],\">\"&B272,Optionen[Datum],\"<=\"&B273)","v":0},null,0,0,null,0,0,null,{"$f":"SUMIFS(Haushaltsbuch2[Einnahmen],Haushaltsbuch2[Datum],\">\"&B272,Haushaltsbuch2[Datum],\"<=\"&B273)+AN273+AO273","v":0},null,0,null,{"$f":"SUMIFS(Haushaltsbuch2[Ausgaben],Haushaltsbuch2[Datum],\">\"&B272,Haushaltsbuch2[Datum],\"<=\"&B273)","v":0}]
[null,33816,null,null,null,null,null,null,null,null,null,null,{"$f":"SUMIFS(Haushaltsbuch2[Einnahmen],Haushaltsbuch2[Kategorie],M$4,Haushaltsbuch2[Datum],\">\"&B273,Haushaltsbuch2[Datum],\"<=\"&B274)","v":0},{"$f":"SUMIFS(Haushaltsbuch2[Einnahmen],Haushaltsbuch2[Kategorie],N$4,Haushaltsbuch2[Datum],\">\"&B273,Haushaltsbuch2[Datum],\"<=\"&B274)","v":0},{"$f":"SUMIFS(Haushaltsbuch2[Einnahmen],Haushaltsbuch2[Kategorie],O$4,Haushaltsbuch2[Datum],\">\"&B273,Haushaltsbuch2[Datum],\"<=\"&B274)","v":0},{"$f":"SUMIFS(Haushaltsbuch2[Einnahmen],Haushaltsbuch2[Kategorie],P$4,Haushaltsbuch2[Datum],\">\"&B273,Haushaltsbuch2[Datum],\"<=\"&B274)","v":0},{"$f":"SUMIFS(Haushaltsbuch2[Einnahmen],Haushaltsbuch2[Kategorie],Q$4,Haushaltsbuch2[Datum],\">\"&B273,Haushaltsbuch2[Datum],\"<=\"&B274)","v":0},{"$f":"SUMIFS(Haushaltsbuch2[Einnahmen],Haushaltsbuch2[Kategorie],R$4,Haushaltsbuch2[Datum],\">\"&B273,Haushaltsbuch2[Datum],\"<=\"&B274)","v":0},null,null,null,null,null,null,null,null,null,null,null,null,null,null,null,null,null,null,{"$f":"SUMIFS(Haushaltsbuch2[Ausgaben],Haushaltsbuch2[Kategorie],AK$4,Haushaltsbuch2[Datum],\">\"&B273,Haushaltsbuch2[Datum],\"<=\"&B274)","v":0},null,null,{"$f":"SUMIFS(Dividenden[Betrag in EUR],Dividenden[Datum],\">\"&B273,Dividenden[Datum],\"<=\"&B274)","v":0},{"$f":"SUMIFS(Optionen[G/V (Netto)],Optionen[Datum],\">\"&B273,Optionen[Datum],\"<=\"&B274)","v":0},null,0,0,null,0,{"$f":"AVERAGE(AT263:AT274)","v":0},null,{"$f":"SUMIFS(Haushaltsbuch2[Einnahmen],Haushaltsbuch2[Datum],\">\"&B273,Haushaltsbuch2[Datum],\"<=\"&B274)+AN274+AO274","v":0},null,{"$f":"AVERAGE(AK263:AK274)","v":0},null,{"$f":"SUMIFS(Haushaltsbuch2[Ausgaben],Haushaltsbuch2[Datum],\">\"&B273,Haushaltsbuch2[Datum],\"<=\"&B274)","v":0}]
[null,33847,null,null,null,null,null,null,null,null,null,null,{"$f":"SUMIFS(Haushaltsbuch2[Einnahmen],Haushaltsbuch2[Kategorie],M$4,Haushaltsbuch2[Datum],\">\"&B274,Haushaltsbuch2[Datum],\"<=\"&B275)","v":0},{"$f":"SUMIFS(Haushaltsbuch2[Einnahmen],Haushaltsbuch2[Kategorie],N$4,Haushaltsbuch2[Datum],\">\"&B274,Haushaltsbuch2[Datum],\"<=\"&B275)","v":0},{"$f":"SUMIFS(Haushaltsbuch2[Einnahmen],Haushaltsbuch2[Kategorie],O$4,Haushaltsbuch2[Datum],\">\"&B274,Haushaltsbuch2[Datum],\"<=\"&B275)","v":0},{"$f":"SUMIFS(Haushaltsbuch2[Einnahmen],Haushaltsbuch2[Kategorie],P$4,Haushaltsbuch2[Datum],\">\"&B274,Haushaltsbuch2[Datum],\"<=\"&B275)","v":0},{"$f":"SUMIFS(Haushaltsbuch2[Einnahmen],Haushaltsbuch2[Kategorie],Q$4,Haushaltsbuch2[Datum],\">\"&B274,Haushaltsbuch2[Datum],\"<=\"&B275)","v":0},{"$f":"SUMIFS(Haushaltsbuch2[Einnahmen],Haushaltsbuch2[Kategorie],R$4,Haushaltsbuch2[Datum],\">\"&B274,Haushaltsbuch2[Datum],\"<=\"&B275)","v":0},null,null,null,null,null,null,null,null,null,null,null,null,null,null,null,null,null,null,{"$f":"SUMIFS(Haushaltsbuch2[Ausgaben],Haushaltsbuch2[Kategorie],AK$4,Haushaltsbuch2[Datum],\">\"&B274,Haushaltsbuch2[Datum],\"<=\"&B275)","v":0},null,null,{"$f":"SUMIFS(Dividenden[Betrag in EUR],Dividenden[Datum],\">\"&B274,Dividenden[Datum],\"<=\"&B275)","v":0},{"$f":"SUMIFS(Optionen[G/V (Netto)],Optionen[Datum],\">\"&B274,Optionen[Datum],\"<=\"&B275)","v":0},null,0,0,null,0,0,null,{"$f":"SUMIFS(Haushaltsbuch2[Einnahmen],Haushaltsbuch2[Datum],\">\"&B274,Haushaltsbuch2[Datum],\"<=\"&B275)+AN275+AO275","v":0},null,0,null,{"$f":"SUMIFS(Haushaltsbuch2[Ausgaben],Haushaltsbuch2[Datum],\">\"&B274,Haushaltsbuch2[Datum],\"<=\"&B275)","v":0}]
[null,33877,null,null,null,null,null,null,null,null,null,null,{"$f":"SUMIFS(Haushaltsbuch2[Einnahmen],Haushaltsbuch2[Kategorie],M$4,Haushaltsbuch2[Datum],\">\"&B275,Haushaltsbuch2[Datum],\"<=\"&B276)","v":0},{"$f":"SUMIFS(Haushaltsbuch2[Einnahmen],Haushaltsbuch2[Kategorie],N$4,Haushaltsbuch2[Datum],\">\"&B275,Haushaltsbuch2[Datum],\"<=\"&B276)","v":0},{"$f":"SUMIFS(Haushaltsbuch2[Einnahmen],Haushaltsbuch2[Kategorie],O$4,Haushaltsbuch2[Datum],\">\"&B275,Haushaltsbuch2[Datum],\"<=\"&B276)","v":0},{"$f":"SUMIFS(Haushaltsbuch2[Einnahmen],Haushaltsbuch2[Kategorie],P$4,Haushaltsbuch2[Datum],\">\"&B275,Haushaltsbuch2[Datum],\"<=\"&B276)","v":0},{"$f":"SUMIFS(Haushaltsbuch2[Einnahmen],Haushaltsbuch2[Kategorie],Q$4,Haushaltsbuch2[Datum],\">\"&B275,Haushaltsbuch2[Datum],\"<=\"&B276)","v":0},{"$f":"SUMIFS(Haushaltsbuch2[Einnahmen],Haushaltsbuch2[Kategorie],R$4,Haushaltsbuch2[Datum],\">\"&B275,Haushaltsbuch2[Datum],\"<=\"&B276)","v":0},null,null,null,null,null,null,null,null,null,null,null,null,null,null,null,null,null,null,{"$f":"SUMIFS(Haushaltsbuch2[Ausgaben],Haushaltsbuch2[Kategorie],AK$4,Haushaltsbuch2[Datum],\">\"&B275,Haushaltsbuch2[Datum],\"<=\"&B276)","v":0},null,null,{"$f":"SUMIFS(Dividenden[Betrag in EUR],Dividenden[Datum],\">\"&B275,Dividenden[Datum],\"<=\"&B276)","v":0},{"$f":"SUMIFS(Optionen[G/V (Netto)],Optionen[Datum],\">\"&B275,Optionen[Datum],\"<=\"&B276)","v":0},null,0,0,null,0,0,null,{"$f":"SUMIFS(Haushaltsbuch2[Einnahmen],Haushaltsbuch2[Datum],\">\"&B275,Haushaltsbuch2[Datum],\"<=\"&B276)+AN276+AO276","v":0},null,0,null,{"$f":"SUMIFS(Haushaltsbuch2[Ausgaben],Haushaltsbuch2[Datum],\">\"&B275,Haushaltsbuch2[Datum],\"<=\"&B276)","v":0}]
[null,33908,null,null,null,null,null,null,null,null,null,null,{"$f":"SUMIFS(Haushaltsbuch2[Einnahmen],Haushaltsbuch2[Kategorie],M$4,Haushaltsbuch2[Datum],\">\"&B276,Haushaltsbuch2[Datum],\"<=\"&B277)","v":0},{"$f":"SUMIFS(Haushaltsbuch2[Einnahmen],Haushaltsbuch2[Kategorie],N$4,Haushaltsbuch2[Datum],\">\"&B276,Haushaltsbuch2[Datum],\"<=\"&B277)","v":0},{"$f":"SUMIFS(Haushaltsbuch2[Einnahmen],Haushaltsbuch2[Kategorie],O$4,Haushaltsbuch2[Datum],\">\"&B276,Haushaltsbuch2[Datum],\"<=\"&B277)","v":0},{"$f":"SUMIFS(Haushaltsbuch2[Einnahmen],Haushaltsbuch2[Kategorie],P$4,Haushaltsbuch2[Datum],\">\"&B276,Haushaltsbuch2[Datum],\"<=\"&B277)","v":0},{"$f":"SUMIFS(Haushaltsbuch2[Einnahmen],Haushaltsbuch2[Kategorie],Q$4,Haushaltsbuch2[Datum],\">\"&B276,Haushaltsbuch2[Datum],\"<=\"&B277)","v":0},{"$f":"SUMIFS(Haushaltsbuch2[Einnahmen],Haushaltsbuch2[Kategorie],R$4,Haushaltsbuch2[Datum],\">\"&B276,Haushaltsbuch2[Datum],\"<=\"&B277)","v":0},null,null,null,null,null,null,null,null,null,null,null,null,null,null,null,null,null,null,{"$f":"SUMIFS(Haushaltsbuch2[Ausgaben],Haushaltsbuch2[Kategorie],AK$4,Haushaltsbuch2[Datum],\">\"&B276,Haushaltsbuch2[Datum],\"<=\"&B277)","v":0},null,null,{"$f":"SUMIFS(Dividenden[Betrag in EUR],Dividenden[Datum],\">\"&B276,Dividenden[Datum],\"<=\"&B277)","v":0},{"$f":"SUMIFS(Optionen[G/V (Netto)],Optionen[Datum],\">\"&B276,Optionen[Datum],\"<=\"&B277)","v":0},null,0,0,null,0,0,null,{"$f":"SUMIFS(Haushaltsbuch2[Einnahmen],Haushaltsbuch2[Datum],\">\"&B276,Haushaltsbuch2[Datum],\"<=\"&B277)+AN277+AO277","v":0},null,0,null,{"$f":"SUMIFS(Haushaltsbuch2[Ausgaben],Haushaltsbuch2[Datum],\">\"&B276,Haushaltsbuch2[Datum],\"<=\"&B277)","v":0}]
[null,33938,null,null,null,null,null,null,null,null,null,null,{"$f":"SUMIFS(Haushaltsbuch2[Einnahmen],Haushaltsbuch2[Kategorie],M$4,Haushaltsbuch2[Datum],\">\"&B277,Haushaltsbuch2[Datum],\"<=\"&B278)","v":0},{"$f":"SUMIFS(Haushaltsbuch2[Einnahmen],Haushaltsbuch2[Kategorie],N$4,Haushaltsbuch2[Datum],\">\"&B277,Haushaltsbuch2[Datum],\"<=\"&B278)","v":0},{"$f":"SUMIFS(Haushaltsbuch2[Einnahmen],Haushaltsbuch2[Kategorie],O$4,Haushaltsbuch2[Datum],\">\"&B277,Haushaltsbuch2[Datum],\"<=\"&B278)","v":0},{"$f":"SUMIFS(Haushaltsbuch2[Einnahmen],Haushaltsbuch2[Kategorie],P$4,Haushaltsbuch2[Datum],\">\"&B277,Haushaltsbuch2[Datum],\"<=\"&B278)","v":0},{"$f":"SUMIFS(Haushaltsbuch2[Einnahmen],Haushaltsbuch2[Kategorie],Q$4,Haushaltsbuch2[Datum],\">\"&B277,Haushaltsbuch2[Datum],\"<=\"&B278)","v":0},{"$f":"SUMIFS(Haushaltsbuch2[Einnahmen],Haushaltsbuch2[Kategorie],R$4,Haushaltsbuch2[Datum],\">\"&B277,Haushaltsbuch2[Datum],\"<=\"&B278)","v":0},null,null,null,null,null,null,null,null,null,null,null,null,null,null,null,null,null,null,{"$f":"SUMIFS(Haushaltsbuch2[Ausgaben],Haushaltsbuch2[Kategorie],AK$4,Haushaltsbuch2[Datum],\">\"&B277,Haushaltsbuch2[Datum],\"<=\"&B278)","v":0},null,null,{"$f":"SUMIFS(Dividenden[Betrag in EUR],Dividenden[Datum],\">\"&B277,Dividenden[Datum],\"<=\"&B278)","v":0},{"$f":"SUMIFS(Optionen[G/V (Netto)],Optionen[Datum],\">\"&B277,Optionen[Datum],\"<=\"&B278)","v":0},null,0,0,null,0,0,null,{"$f":"SUMIFS(Haushaltsbuch2[Einnahmen],Haushaltsbuch2[Datum],\">\"&B277,Haushaltsbuch2[Datum],\"<=\"&B278)+AN278+AO278","v":0},null,0,null,{"$f":"SUMIFS(Haushaltsbuch2[Ausgaben],Haushaltsbuch2[Datum],\">\"&B277,Haushaltsbuch2[Datum],\"<=\"&B278)","v":0}]
[null,33969,null,null,null,null,null,null,null,null,null,null,{"$f":"SUMIFS(Haushaltsbuch2[Einnahmen],Haushaltsbuch2[Kategorie],M$4,Haushaltsbuch2[Datum],\">\"&B278,Haushaltsbuch2[Datum],\"<=\"&B279)","v":0},{"$f":"SUMIFS(Haushaltsbuch2[Einnahmen],Haushaltsbuch2[Kategorie],N$4,Haushaltsbuch2[Datum],\">\"&B278,Haushaltsbuch2[Datum],\"<=\"&B279)","v":0},{"$f":"SUMIFS(Haushaltsbuch2[Einnahmen],Haushaltsbuch2[Kategorie],O$4,Haushaltsbuch2[Datum],\">\"&B278,Haushaltsbuch2[Datum],\"<=\"&B279)","v":0},{"$f":"SUMIFS(Haushaltsbuch2[Einnahmen],Haushaltsbuch2[Kategorie],P$4,Haushaltsbuch2[Datum],\">\"&B278,Haushaltsbuch2[Datum],\"<=\"&B279)","v":0},{"$f":"SUMIFS(Haushaltsbuch2[Einnahmen],Haushaltsbuch2[Kategorie],Q$4,Haushaltsbuch2[Datum],\">\"&B278,Haushaltsbuch2[Datum],\"<=\"&B279)","v":0},{"$f":"SUMIFS(Haushaltsbuch2[Einnahmen],Haushaltsbuch2[Kategorie],R$4,Haushaltsbuch2[Datum],\">\"&B278,Haushaltsbuch2[Datum],\"<=\"&B279)","v":0},null,null,null,null,null,null,null,null,null,null,null,null,null,null,null,null,null,null,{"$f":"SUMIFS(Haushaltsbuch2[Ausgaben],Haushaltsbuch2[Kategorie],AK$4,Haushaltsbuch2[Datum],\">\"&B278,Haushaltsbuch2[Datum],\"<=\"&B279)","v":0},null,null,{"$f":"SUMIFS(Dividenden[Betrag in EUR],Dividenden[Datum],\">\"&B278,Dividenden[Datum],\"<=\"&B279)","v":0},{"$f":"SUMIFS(Optionen[G/V (Netto)],Optionen[Datum],\">\"&B278,Optionen[Datum],\"<=\"&B279)","v":0},null,0,0,null,0,0,null,{"$f":"SUMIFS(Haushaltsbuch2[Einnahmen],Haushaltsbuch2[Datum],\">\"&B278,Haushaltsbuch2[Datum],\"<=\"&B279)+AN279+AO279","v":0},null,0,null,{"$f":"SUMIFS(Haushaltsbuch2[Ausgaben],Haushaltsbuch2[Datum],\">\"&B278,Haushaltsbuch2[Datum],\"<=\"&B279)","v":0}]
[null,34000,null,null,null,null,null,null,null,null,null,null,{"$f":"SUMIFS(Haushaltsbuch2[Einnahmen],Haushaltsbuch2[Kategorie],M$4,Haushaltsbuch2[Datum],\">\"&B279,Haushaltsbuch2[Datum],\"<=\"&B280)","v":0},{"$f":"SUMIFS(Haushaltsbuch2[Einnahmen],Haushaltsbuch2[Kategorie],N$4,Haushaltsbuch2[Datum],\">\"&B279,Haushaltsbuch2[Datum],\"<=\"&B280)","v":0},{"$f":"SUMIFS(Haushaltsbuch2[Einnahmen],Haushaltsbuch2[Kategorie],O$4,Haushaltsbuch2[Datum],\">\"&B279,Haushaltsbuch2[Datum],\"<=\"&B280)","v":0},{"$f":"SUMIFS(Haushaltsbuch2[Einnahmen],Haushaltsbuch2[Kategorie],P$4,Haushaltsbuch2[Datum],\">\"&B279,Haushaltsbuch2[Datum],\"<=\"&B280)","v":0},{"$f":"SUMIFS(Haushaltsbuch2[Einnahmen],Haushaltsbuch2[Kategorie],Q$4,Haushaltsbuch2[Datum],\">\"&B279,Haushaltsbuch2[Datum],\"<=\"&B280)","v":0},{"$f":"SUMIFS(Haushaltsbuch2[Einnahmen],Haushaltsbuch2[Kategorie],R$4,Haushaltsbuch2[Datum],\">\"&B279,Haushaltsbuch2[Datum],\"<=\"&B280)","v":0},null,null,null,null,null,null,null,null,null,null,null,null,null,null,null,null,null,null,{"$f":"SUMIFS(Haushaltsbuch2[Ausgaben],Haushaltsbuch2[Kategorie],AK$4,Haushaltsbuch2[Datum],\">\"&B279,Haushaltsbuch2[Datum],\"<=\"&B280)","v":0},null,null,{"$f":"SUMIFS(Dividenden[Betrag in EUR],Dividenden[Datum],\">\"&B279,Dividenden[Datum],\"<=\"&B280)","v":0},{"$f":"SUMIFS(Optionen[G/V (Netto)],Optionen[Datum],\">\"&B279,Optionen[Datum],\"<=\"&B280)","v":0},null,0,0,null,0,0,null,{"$f":"SUMIFS(Haushaltsbuch2[Einnahmen],Haushaltsbuch2[Datum],\">\"&B279,Haushaltsbuch2[Datum],\"<=\"&B280)+AN280+AO280","v":0},null,0,null,{"$f":"SUMIFS(Haushaltsbuch2[Ausgaben],Haushaltsbuch2[Datum],\">\"&B279,Haushaltsbuch2[Datum],\"<=\"&B280)","v":0}]
[null,34028,null,null,null,null,null,null,null,null,null,null,{"$f":"SUMIFS(Haushaltsbuch2[Einnahmen],Haushaltsbuch2[Kategorie],M$4,Haushaltsbuch2[Datum],\">\"&B280,Haushaltsbuch2[Datum],\"<=\"&B281)","v":0},{"$f":"SUMIFS(Haushaltsbuch2[Einnahmen],Haushaltsbuch2[Kategorie],N$4,Haushaltsbuch2[Datum],\">\"&B280,Haushaltsbuch2[Datum],\"<=\"&B281)","v":0},{"$f":"SUMIFS(Haushaltsbuch2[Einnahmen],Haushaltsbuch2[Kategorie],O$4,Haushaltsbuch2[Datum],\">\"&B280,Haushaltsbuch2[Datum],\"<=\"&B281)","v":0},{"$f":"SUMIFS(Haushaltsbuch2[Einnahmen],Haushaltsbuch2[Kategorie],P$4,Haushaltsbuch2[Datum],\">\"&B280,Haushaltsbuch2[Datum],\"<=\"&B281)","v":0},{"$f":"SUMIFS(Haushaltsbuch2[Einnahmen],Haushaltsbuch2[Kategorie],Q$4,Haushaltsbuch2[Datum],\">\"&B280,Haushaltsbuch2[Datum],\"<=\"&B281)","v":0},{"$f":"SUMIFS(Haushaltsbuch2[Einnahmen],Haushaltsbuch2[Kategorie],R$4,Haushaltsbuch2[Datum],\">\"&B280,Haushaltsbuch2[Datum],\"<=\"&B281)","v":0},null,null,null,null,null,null,null,null,null,null,null,null,null,null,null,null,null,null,{"$f":"SUMIFS(Haushaltsbuch2[Ausgaben],Haushaltsbuch2[Kategorie],AK$4,Haushaltsbuch2[Datum],\">\"&B280,Haushaltsbuch2[Datum],\"<=\"&B281)","v":0},null,null,{"$f":"SUMIFS(Dividenden[Betrag in EUR],Dividenden[Datum],\">\"&B280,Dividenden[Datum],\"<=\"&B281)","v":0},{"$f":"SUMIFS(Optionen[G/V (Netto)],Optionen[Datum],\">\"&B280,Optionen[Datum],\"<=\"&B281)","v":0},null,0,0,null,0,0,null,{"$f":"SUMIFS(Haushaltsbuch2[Einnahmen],Haushaltsbuch2[Datum],\">\"&B280,Haushaltsbuch2[Datum],\"<=\"&B281)+AN281+AO281","v":0},null,0,null,{"$f":"SUMIFS(Haushaltsbuch2[Ausgaben],Haushaltsbuch2[Datum],\">\"&B280,Haushaltsbuch2[Datum],\"<=\"&B281)","v":0}]
[null,34059,null,null,null,null,null,null,null,null,null,null,{"$f":"SUMIFS(Haushaltsbuch2[Einnahmen],Haushaltsbuch2[Kategorie],M$4,Haushaltsbuch2[Datum],\">\"&B281,Haushaltsbuch2[Datum],\"<=\"&B282)","v":0},{"$f":"SUMIFS(Haushaltsbuch2[Einnahmen],Haushaltsbuch2[Kategorie],N$4,Haushaltsbuch2[Datum],\">\"&B281,Haushaltsbuch2[Datum],\"<=\"&B282)","v":0},{"$f":"SUMIFS(Haushaltsbuch2[Einnahmen],Haushaltsbuch2[Kategorie],O$4,Haushaltsbuch2[Datum],\">\"&B281,Haushaltsbuch2[Datum],\"<=\"&B282)","v":0},{"$f":"SUMIFS(Haushaltsbuch2[Einnahmen],Haushaltsbuch2[Kategorie],P$4,Haushaltsbuch2[Datum],\">\"&B281,Haushaltsbuch2[Datum],\"<=\"&B282)","v":0},{"$f":"SUMIFS(Haushaltsbuch2[Einnahmen],Haushaltsbuch2[Kategorie],Q$4,Haushaltsbuch2[Datum],\">\"&B281,Haushaltsbuch2[Datum],\"<=\"&B282)","v":0},{"$f":"SUMIFS(Haushaltsbuch2[Einnahmen],Haushaltsbuch2[Kategorie],R$4,Haushaltsbuch2[Datum],\">\"&B281,Haushaltsbuch2[Datum],\"<=\"&B282)","v":0},null,null,null,null,null,null,null,null,null,null,null,null,null,null,null,null,null,null,{"$f":"SUMIFS(Haushaltsbuch2[Ausgaben],Haushaltsbuch2[Kategorie],AK$4,Haushaltsbuch2[Datum],\">\"&B281,Haushaltsbuch2[Datum],\"<=\"&B282)","v":0},null,null,{"$f":"SUMIFS(Dividenden[Betrag in EUR],Dividenden[Datum],\">\"&B281,Dividenden[Datum],\"<=\"&B282)","v":0},{"$f":"SUMIFS(Optionen[G/V (Netto)],Optionen[Datum],\">\"&B281,Optionen[Datum],\"<=\"&B282)","v":0},null,0,0,null,0,0,null,{"$f":"SUMIFS(Haushaltsbuch2[Einnahmen],Haushaltsbuch2[Datum],\">\"&B281,Haushaltsbuch2[Datum],\"<=\"&B282)+AN282+AO282","v":0},null,0,null,{"$f":"SUMIFS(Haushaltsbuch2[Ausgaben],Haushaltsbuch2[Datum],\">\"&B281,Haushaltsbuch2[Datum],\"<=\"&B282)","v":0}]
[null,34089,null,null,null,null,null,null,null,null,null,null,{"$f":"SUMIFS(Haushaltsbuch2[Einnahmen],Haushaltsbuch2[Kategorie],M$4,Haushaltsbuch2[Datum],\">\"&B282,Haushaltsbuch2[Datum],\"<=\"&B283)","v":0},{"$f":"SUMIFS(Haushaltsbuch2[Einnahmen],Haushaltsbuch2[Kategorie],N$4,Haushaltsbuch2[Datum],\">\"&B282,Haushaltsbuch2[Datum],\"<=\"&B283)","v":0},{"$f":"SUMIFS(Haushaltsbuch2[Einnahmen],Haushaltsbuch2[Kategorie],O$4,Haushaltsbuch2[Datum],\">\"&B282,Haushaltsbuch2[Datum],\"<=\"&B283)","v":0},{"$f":"SUMIFS(Haushaltsbuch2[Einnahmen],Haushaltsbuch2[Kategorie],P$4,Haushaltsbuch2[Datum],\">\"&B282,Haushaltsbuch2[Datum],\"<=\"&B283)","v":0},{"$f":"SUMIFS(Haushaltsbuch2[Einnahmen],Haushaltsbuch2[Kategorie],Q$4,Haushaltsbuch2[Datum],\">\"&B282,Haushaltsbuch2[Datum],\"<=\"&B283)","v":0},{"$f":"SUMIFS(Haushaltsbuch2[Einnahmen],Haushaltsbuch2[Kategorie],R$4,Haushaltsbuch2[Datum],\">\"&B282,Haushaltsbuch2[Datum],\"<=\"&B283)","v":0},null,null,null,null,null,null,null,null,null,null,null,null,null,null,null,null,null,null,{"$f":"SUMIFS(Haushaltsbuch2[Ausgaben],Haushaltsbuch2[Kategorie],AK$4,Haushaltsbuch2[Datum],\">\"&B282,Haushaltsbuch2[Datum],\"<=\"&B283)","v":0},null,null,{"$f":"SUMIFS(Dividenden[Betrag in EUR],Dividenden[Datum],\">\"&B282,Dividenden[Datum],\"<=\"&B283)","v":0},{"$f":"SUMIFS(Optionen[G/V (Netto)],Optionen[Datum],\">\"&B282,Optionen[Datum],\"<=\"&B283)","v":0},null,0,0,null,0,0,null,{"$f":"SUMIFS(Haushaltsbuch2[Einnahmen],Haushaltsbuch2[Datum],\">\"&B282,Haushaltsbuch2[Datum],\"<=\"&B283)+AN283+AO283","v":0},null,0,null,{"$f":"SUMIFS(Haushaltsbuch2[Ausgaben],Haushaltsbuch2[Datum],\">\"&B282,Haushaltsbuch2[Datum],\"<=\"&B283)","v":0}]
[null,34120,null,null,null,null,null,null,null,null,null,null,{"$f":"SUMIFS(Haushaltsbuch2[Einnahmen],Haushaltsbuch2[Kategorie],M$4,Haushaltsbuch2[Datum],\">\"&B283,Haushaltsbuch2[Datum],\"<=\"&B284)","v":0},{"$f":"SUMIFS(Haushaltsbuch2[Einnahmen],Haushaltsbuch2[Kategorie],N$4,Haushaltsbuch2[Datum],\">\"&B283,Haushaltsbuch2[Datum],\"<=\"&B284)","v":0},{"$f":"SUMIFS(Haushaltsbuch2[Einnahmen],Haushaltsbuch2[Kategorie],O$4,Haushaltsbuch2[Datum],\">\"&B283,Haushaltsbuch2[Datum],\"<=\"&B284)","v":0},{"$f":"SUMIFS(Haushaltsbuch2[Einnahmen],Haushaltsbuch2[Kategorie],P$4,Haushaltsbuch2[Datum],\">\"&B283,Haushaltsbuch2[Datum],\"<=\"&B284)","v":0},{"$f":"SUMIFS(Haushaltsbuch2[Einnahmen],Haushaltsbuch2[Kategorie],Q$4,Haushaltsbuch2[Datum],\">\"&B283,Haushaltsbuch2[Datum],\"<=\"&B284)","v":0},{"$f":"SUMIFS(Haushaltsbuch2[Einnahmen],Haushaltsbuch2[Kategorie],R$4,Haushaltsbuch2[Datum],\">\"&B283,Haushaltsbuch2[Datum],\"<=\"&B284)","v":0},null,null,null,null,null,null,null,null,null,null,null,null,null,null,null,null,null,null,{"$f":"SUMIFS(Haushaltsbuch2[Ausgaben],Haushaltsbuch2[Kategorie],AK$4,Haushaltsbuch2[Datum],\">\"&B283,Haushaltsbuch2[Datum],\"<=\"&B284)","v":0},null,null,{"$f":"SUMIFS(Dividenden[Betrag in EUR],Dividenden[Datum],\">\"&B283,Dividenden[Datum],\"<=\"&B284)","v":0},{"$f":"SUMIFS(Optionen[G/V (Netto)],Optionen[Datum],\">\"&B283,Optionen[Datum],\"<=\"&B284)","v":0},null,0,0,null,0,0,null,{"$f":"SUMIFS(Haushaltsbuch2[Einnahmen],Haushaltsbuch2[Datum],\">\"&B283,Haushaltsbuch2[Datum],\"<=\"&B284)+AN284+AO284","v":0},null,0,null,{"$f":"SUMIFS(Haushaltsbuch2[Ausgaben],Haushaltsbuch2[Datum],\">\"&B283,Haushaltsbuch2[Datum],\"<=\"&B284)","v":0}]
[null,34150,null,null,null,null,null,null,null,null,null,null,{"$f":"SUMIFS(Haushaltsbuch2[Einnahmen],Haushaltsbuch2[Kategorie],M$4,Haushaltsbuch2[Datum],\">\"&B284,Haushaltsbuch2[Datum],\"<=\"&B285)","v":0},{"$f":"SUMIFS(Haushaltsbuch2[Einnahmen],Haushaltsbuch2[Kategorie],N$4,Haushaltsbuch2[Datum],\">\"&B284,Haushaltsbuch2[Datum],\"<=\"&B285)","v":0},{"$f":"SUMIFS(Haushaltsbuch2[Einnahmen],Haushaltsbuch2[Kategorie],O$4,Haushaltsbuch2[Datum],\">\"&B284,Haushaltsbuch2[Datum],\"<=\"&B285)","v":0},{"$f":"SUMIFS(Haushaltsbuch2[Einnahmen],Haushaltsbuch2[Kategorie],P$4,Haushaltsbuch2[Datum],\">\"&B284,Haushaltsbuch2[Datum],\"<=\"&B285)","v":0},{"$f":"SUMIFS(Haushaltsbuch2[Einnahmen],Haushaltsbuch2[Kategorie],Q$4,Haushaltsbuch2[Datum],\">\"&B284,Haushaltsbuch2[Datum],\"<=\"&B285)","v":0},{"$f":"SUMIFS(Haushaltsbuch2[Einnahmen],Haushaltsbuch2[Kategorie],R$4,Haushaltsbuch2[Datum],\">\"&B284,Haushaltsbuch2[Datum],\"<=\"&B285)","v":0},null,null,null,null,null,null,null,null,null,null,null,null,null,null,null,null,null,null,{"$f":"SUMIFS(Haushaltsbuch2[Ausgaben],Haushaltsbuch2[Kategorie],AK$4,Haushaltsbuch2[Datum],\">\"&B284,Haushaltsbuch2[Datum],\"<=\"&B285)","v":0},null,null,{"$f":"SUMIFS(Dividenden[Betrag in EUR],Dividenden[Datum],\">\"&B284,Dividenden[Datum],\"<=\"&B285)","v":0},{"$f":"SUMIFS(Optionen[G/V (Netto)],Optionen[Datum],\">\"&B284,Optionen[Datum],\"<=\"&B285)","v":0},null,0,0,null,0,0,null,{"$f":"SUMIFS(Haushaltsbuch2[Einnahmen],Haushaltsbuch2[Datum],\">\"&B284,Haushaltsbuch2[Datum],\"<=\"&B285)+AN285+AO285","v":0},null,0,null,{"$f":"SUMIFS(Haushaltsbuch2[Ausgaben],Haushaltsbuch2[Datum],\">\"&B284,Haushaltsbuch2[Datum],\"<=\"&B285)","v":0}]
[null,34181,null,null,null,null,null,null,null,null,null,null,{"$f":"SUMIFS(Haushaltsbuch2[Einnahmen],Haushaltsbuch2[Kategorie],M$4,Haushaltsbuch2[Datum],\">\"&B285,Haushaltsbuch2[Datum],\"<=\"&B286)","v":0},{"$f":"SUMIFS(Haushaltsbuch2[Einnahmen],Haushaltsbuch2[Kategorie],N$4,Haushaltsbuch2[Datum],\">\"&B285,Haushaltsbuch2[Datum],\"<=\"&B286)","v":0},{"$f":"SUMIFS(Haushaltsbuch2[Einnahmen],Haushaltsbuch2[Kategorie],O$4,Haushaltsbuch2[Datum],\">\"&B285,Haushaltsbuch2[Datum],\"<=\"&B286)","v":0},{"$f":"SUMIFS(Haushaltsbuch2[Einnahmen],Haushaltsbuch2[Kategorie],P$4,Haushaltsbuch2[Datum],\">\"&B285,Haushaltsbuch2[Datum],\"<=\"&B286)","v":0},{"$f":"SUMIFS(Haushaltsbuch2[Einnahmen],Haushaltsbuch2[Kategorie],Q$4,Haushaltsbuch2[Datum],\">\"&B285,Haushaltsbuch2[Datum],\"<=\"&B286)","v":0},{"$f":"SUMIFS(Haushaltsbuch2[Einnahmen],Haushaltsbuch2[Kategorie],R$4,Haushaltsbuch2[Datum],\">\"&B285,Haushaltsbuch2[Datum],\"<=\"&B286)","v":0},null,null,null,null,null,null,null,null,null,null,null,null,null,null,null,null,null,null,{"$f":"SUMIFS(Haushaltsbuch2[Ausgaben],Haushaltsbuch2[Kategorie],AK$4,Haushaltsbuch2[Datum],\">\"&B285,Haushaltsbuch2[Datum],\"<=\"&B286)","v":0},null,null,{"$f":"SUMIFS(Dividenden[Betrag in EUR],Dividenden[Datum],\">\"&B285,Dividenden[Datum],\"<=\"&B286)","v":0},{"$f":"SUMIFS(Optionen[G/V (Netto)],Optionen[Datum],\">\"&B285,Optionen[Datum],\"<=\"&B286)","v":0},null,0,0,null,0,0,null,{"$f":"SUMIFS(Haushaltsbuch2[Einnahmen],Haushaltsbuch2[Datum],\">\"&B285,Haushaltsbuch2[Datum],\"<=\"&B286)+AN286+AO286","v":0},null,0,null,{"$f":"SUMIFS(Haushaltsbuch2[Ausgaben],Haushaltsbuch2[Datum],\">\"&B285,Haushaltsbuch2[Datum],\"<=\"&B286)","v":0}]
[null,34212,null,null,null,null,null,null,null,null,null,null,{"$f":"SUMIFS(Haushaltsbuch2[Einnahmen],Haushaltsbuch2[Kategorie],M$4,Haushaltsbuch2[Datum],\">\"&B286,Haushaltsbuch2[Datum],\"<=\"&B287)","v":0},{"$f":"SUMIFS(Haushaltsbuch2[Einnahmen],Haushaltsbuch2[Kategorie],N$4,Haushaltsbuch2[Datum],\">\"&B286,Haushaltsbuch2[Datum],\"<=\"&B287)","v":0},{"$f":"SUMIFS(Haushaltsbuch2[Einnahmen],Haushaltsbuch2[Kategorie],O$4,Haushaltsbuch2[Datum],\">\"&B286,Haushaltsbuch2[Datum],\"<=\"&B287)","v":0},{"$f":"SUMIFS(Haushaltsbuch2[Einnahmen],Haushaltsbuch2[Kategorie],P$4,Haushaltsbuch2[Datum],\">\"&B286,Haushaltsbuch2[Datum],\"<=\"&B287)","v":0},{"$f":"SUMIFS(Haushaltsbuch2[Einnahmen],Haushaltsbuch2[Kategorie],Q$4,Haushaltsbuch2[Datum],\">\"&B286,Haushaltsbuch2[Datum],\"<=\"&B287)","v":0},{"$f":"SUMIFS(Haushaltsbuch2[Einnahmen],Haushaltsbuch2[Kategorie],R$4,Haushaltsbuch2[Datum],\">\"&B286,Haushaltsbuch2[Datum],\"<=\"&B287)","v":0},null,null,null,null,null,null,null,null,null,null,null,null,null,null,null,null,null,null,{"$f":"SUMIFS(Haushaltsbuch2[Ausgaben],Haushaltsbuch2[Kategorie],AK$4,Haushaltsbuch2[Datum],\">\"&B286,Haushaltsbuch2[Datum],\"<=\"&B287)","v":0},null,null,{"$f":"SUMIFS(Dividenden[Betrag in EUR],Dividenden[Datum],\">\"&B286,Dividenden[Datum],\"<=\"&B287)","v":0},{"$f":"SUMIFS(Optionen[G/V (Netto)],Optionen[Datum],\">\"&B286,Optionen[Datum],\"<=\"&B287)","v":0},null,0,0,null,0,0,null,{"$f":"SUMIFS(Haushaltsbuch2[Einnahmen],Haushaltsbuch2[Datum],\">\"&B286,Haushaltsbuch2[Datum],\"<=\"&B287)+AN287+AO287","v":0},null,0,null,{"$f":"SUMIFS(Haushaltsbuch2[Ausgaben],Haushaltsbuch2[Datum],\">\"&B286,Haushaltsbuch2[Datum],\"<=\"&B287)","v":0}]
[null,34242,null,null,null,null,null,null,null,null,null,null,{"$f":"SUMIFS(Haushaltsbuch2[Einnahmen],Haushaltsbuch2[Kategorie],M$4,Haushaltsbuch2[Datum],\">\"&B287,Haushaltsbuch2[Datum],\"<=\"&B288)","v":0},{"$f":"SUMIFS(Haushaltsbuch2[Einnahmen],Haushaltsbuch2[Kategorie],N$4,Haushaltsbuch2[Datum],\">\"&B287,Haushaltsbuch2[Datum],\"<=\"&B288)","v":0},{"$f":"SUMIFS(Haushaltsbuch2[Einnahmen],Haushaltsbuch2[Kategorie],O$4,Haushaltsbuch2[Datum],\">\"&B287,Haushaltsbuch2[Datum],\"<=\"&B288)","v":0},{"$f":"SUMIFS(Haushaltsbuch2[Einnahmen],Haushaltsbuch2[Kategorie],P$4,Haushaltsbuch2[Datum],\">\"&B287,Haushaltsbuch2[Datum],\"<=\"&B288)","v":0},{"$f":"SUMIFS(Haushaltsbuch2[Einnahmen],Haushaltsbuch2[Kategorie],Q$4,Haushaltsbuch2[Datum],\">\"&B287,Haushaltsbuch2[Datum],\"<=\"&B288)","v":0},{"$f":"SUMIFS(Haushaltsbuch2[Einnahmen],Haushaltsbuch2[Kategorie],R$4,Haushaltsbuch2[Datum],\">\"&B287,Haushaltsbuch2[Datum],\"<=\"&B288)","v":0},null,null,null,null,null,null,null,null,null,null,null,null,null,null,null,null,null,null,{"$f":"SUMIFS(Haushaltsbuch2[Ausgaben],Haushaltsbuch2[Kategorie],AK$4,Haushaltsbuch2[Datum],\">\"&B287,Haushaltsbuch2[Datum],\"<=\"&B288)","v":0},null,null,{"$f":"SUMIFS(Dividenden[Betrag in EUR],Dividenden[Datum],\">\"&B287,Dividenden[Datum],\"<=\"&B288)","v":0},{"$f":"SUMIFS(Optionen[G/V (Netto)],Optionen[Datum],\">\"&B287,Optionen[Datum],\"<=\"&B288)","v":0},null,0,0,null,0,0,null,{"$f":"SUMIFS(Haushaltsbuch2[Einnahmen],Haushaltsbuch2[Datum],\">\"&B287,Haushaltsbuch2[Datum],\"<=\"&B288)+AN288+AO288","v":0},null,0,null,{"$f":"SUMIFS(Haushaltsbuch2[Ausgaben],Haushaltsbuch2[Datum],\">\"&B287,Haushaltsbuch2[Datum],\"<=\"&B288)","v":0}]
[null,34273,null,null,null,null,null,null,null,null,null,null,{"$f":"SUMIFS(Haushaltsbuch2[Einnahmen],Haushaltsbuch2[Kategorie],M$4,Haushaltsbuch2[Datum],\">\"&B288,Haushaltsbuch2[Datum],\"<=\"&B289)","v":0},{"$f":"SUMIFS(Haushaltsbuch2[Einnahmen],Haushaltsbuch2[Kategorie],N$4,Haushaltsbuch2[Datum],\">\"&B288,Haushaltsbuch2[Datum],\"<=\"&B289)","v":0},{"$f":"SUMIFS(Haushaltsbuch2[Einnahmen],Haushaltsbuch2[Kategorie],O$4,Haushaltsbuch2[Datum],\">\"&B288,Haushaltsbuch2[Datum],\"<=\"&B289)","v":0},{"$f":"SUMIFS(Haushaltsbuch2[Einnahmen],Haushaltsbuch2[Kategorie],P$4,Haushaltsbuch2[Datum],\">\"&B288,Haushaltsbuch2[Datum],\"<=\"&B289)","v":0},{"$f":"SUMIFS(Haushaltsbuch2[Einnahmen],Haushaltsbuch2[Kategorie],Q$4,Haushaltsbuch2[Datum],\">\"&B288,Haushaltsbuch2[Datum],\"<=\"&B289)","v":0},{"$f":"SUMIFS(Haushaltsbuch2[Einnahmen],Haushaltsbuch2[Kategorie],R$4,Haushaltsbuch2[Datum],\">\"&B288,Haushaltsbuch2[Datum],\"<=\"&B289)","v":0},null,null,null,null,null,null,null,null,null,null,null,null,null,null,null,null,null,null,{"$f":"SUMIFS(Haushaltsbuch2[Ausgaben],Haushaltsbuch2[Kategorie],AK$4,Haushaltsbuch2[Datum],\">\"&B288,Haushaltsbuch2[Datum],\"<=\"&B289)","v":0},null,null,{"$f":"SUMIFS(Dividenden[Betrag in EUR],Dividenden[Datum],\">\"&B288,Dividenden[Datum],\"<=\"&B289)","v":0},{"$f":"SUMIFS(Optionen[G/V (Netto)],Optionen[Datum],\">\"&B288,Optionen[Datum],\"<=\"&B289)","v":0},null,0,0,null,0,0,null,{"$f":"SUMIFS(Haushaltsbuch2[Einnahmen],Haushaltsbuch2[Datum],\">\"&B288,Haushaltsbuch2[Datum],\"<=\"&B289)+AN289+AO289","v":0},null,0,null,{"$f":"SUMIFS(Haushaltsbuch2[Ausgaben],Haushaltsbuch2[Datum],\">\"&B288,Haushaltsbuch2[Datum],\"<=\"&B289)","v":0}]
[null,34303,null,null,null,null,null,null,null,null,null,null,{"$f":"SUMIFS(Haushaltsbuch2[Einnahmen],Haushaltsbuch2[Kategorie],M$4,Haushaltsbuch2[Datum],\">\"&B289,Haushaltsbuch2[Datum],\"<=\"&B290)","v":0},{"$f":"SUMIFS(Haushaltsbuch2[Einnahmen],Haushaltsbuch2[Kategorie],N$4,Haushaltsbuch2[Datum],\">\"&B289,Haushaltsbuch2[Datum],\"<=\"&B290)","v":0},{"$f":"SUMIFS(Haushaltsbuch2[Einnahmen],Haushaltsbuch2[Kategorie],O$4,Haushaltsbuch2[Datum],\">\"&B289,Haushaltsbuch2[Datum],\"<=\"&B290)","v":0},{"$f":"SUMIFS(Haushaltsbuch2[Einnahmen],Haushaltsbuch2[Kategorie],P$4,Haushaltsbuch2[Datum],\">\"&B289,Haushaltsbuch2[Datum],\"<=\"&B290)","v":0},{"$f":"SUMIFS(Haushaltsbuch2[Einnahmen],Haushaltsbuch2[Kategorie],Q$4,Haushaltsbuch2[Datum],\">\"&B289,Haushaltsbuch2[Datum],\"<=\"&B290)","v":0},{"$f":"SUMIFS(Haushaltsbuch2[Einnahmen],Haushaltsbuch2[Kategorie],R$4,Haushaltsbuch2[Datum],\">\"&B289,Haushaltsbuch2[Datum],\"<=\"&B290)","v":0},null,null,null,null,null,null,null,null,null,null,null,null,null,null,null,null,null,null,{"$f":"SUMIFS(Haushaltsbuch2[Ausgaben],Haushaltsbuch2[Kategorie],AK$4,Haushaltsbuch2[Datum],\">\"&B289,Haushaltsbuch2[Datum],\"<=\"&B290)","v":0},null,null,{"$f":"SUMIFS(Dividenden[Betrag in EUR],Dividenden[Datum],\">\"&B289,Dividenden[Datum],\"<=\"&B290)","v":0},{"$f":"SUMIFS(Optionen[G/V (Netto)],Optionen[Datum],\">\"&B289,Optionen[Datum],\"<=\"&B290)","v":0},null,0,0,null,0,0,null,{"$f":"SUMIFS(Haushaltsbuch2[Einnahmen],Haushaltsbuch2[Datum],\">\"&B289,Haushaltsbuch2[Datum],\"<=\"&B290)+AN290+AO290","v":0},null,0,null,{"$f":"SUMIFS(Haushaltsbuch2[Ausgaben],Haushaltsbuch2[Datum],\">\"&B289,Haushaltsbuch2[Datum],\"<=\"&B290)","v":0}]
[null,34334,null,null,null,null,null,null,null,null,null,null,{"$f":"SUMIFS(Haushaltsbuch2[Einnahmen],Haushaltsbuch2[Kategorie],M$4,Haushaltsbuch2[Datum],\">\"&B290,Haushaltsbuch2[Datum],\"<=\"&B291)","v":0},{"$f":"SUMIFS(Haushaltsbuch2[Einnahmen],Haushaltsbuch2[Kategorie],N$4,Haushaltsbuch2[Datum],\">\"&B290,Haushaltsbuch2[Datum],\"<=\"&B291)","v":0},{"$f":"SUMIFS(Haushaltsbuch2[Einnahmen],Haushaltsbuch2[Kategorie],O$4,Haushaltsbuch2[Datum],\">\"&B290,Haushaltsbuch2[Datum],\"<=\"&B291)","v":0},{"$f":"SUMIFS(Haushaltsbuch2[Einnahmen],Haushaltsbuch2[Kategorie],P$4,Haushaltsbuch2[Datum],\">\"&B290,Haushaltsbuch2[Datum],\"<=\"&B291)","v":0},{"$f":"SUMIFS(Haushaltsbuch2[Einnahmen],Haushaltsbuch2[Kategorie],Q$4,Haushaltsbuch2[Datum],\">\"&B290,Haushaltsbuch2[Datum],\"<=\"&B291)","v":0},{"$f":"SUMIFS(Haushaltsbuch2[Einnahmen],Haushaltsbuch2[Kategorie],R$4,Haushaltsbuch2[Datum],\">\"&B290,Haushaltsbuch2[Datum],\"<=\"&B291)","v":0},null,null,null,null,null,null,null,null,null,null,null,null,null,null,null,null,null,null,{"$f":"SUMIFS(Haushaltsbuch2[Ausgaben],Haushaltsbuch2[Kategorie],AK$4,Haushaltsbuch2[Datum],\">\"&B290,Haushaltsbuch2[Datum],\"<=\"&B291)","v":0},null,null,{"$f":"SUMIFS(Dividenden[Betrag in EUR],Dividenden[Datum],\">\"&B290,Dividenden[Datum],\"<=\"&B291)","v":0},{"$f":"SUMIFS(Optionen[G/V (Netto)],Optionen[Datum],\">\"&B290,Optionen[Datum],\"<=\"&B291)","v":0},null,0,0,null,0,0,null,{"$f":"SUMIFS(Haushaltsbuch2[Einnahmen],Haushaltsbuch2[Datum],\">\"&B290,Haushaltsbuch2[Datum],\"<=\"&B291)+AN291+AO291","v":0},null,0,null,{"$f":"SUMIFS(Haushaltsbuch2[Ausgaben],Haushaltsbuch2[Datum],\">\"&B290,Haushaltsbuch2[Datum],\"<=\"&B291)","v":0}]
[null,34365,null,null,null,null,null,null,null,null,null,null,{"$f":"SUMIFS(Haushaltsbuch2[Einnahmen],Haushaltsbuch2[Kategorie],M$4,Haushaltsbuch2[Datum],\">\"&B291,Haushaltsbuch2[Datum],\"<=\"&B292)","v":0},{"$f":"SUMIFS(Haushaltsbuch2[Einnahmen],Haushaltsbuch2[Kategorie],N$4,Haushaltsbuch2[Datum],\">\"&B291,Haushaltsbuch2[Datum],\"<=\"&B292)","v":0},{"$f":"SUMIFS(Haushaltsbuch2[Einnahmen],Haushaltsbuch2[Kategorie],O$4,Haushaltsbuch2[Datum],\">\"&B291,Haushaltsbuch2[Datum],\"<=\"&B292)","v":0},{"$f":"SUMIFS(Haushaltsbuch2[Einnahmen],Haushaltsbuch2[Kategorie],P$4,Haushaltsbuch2[Datum],\">\"&B291,Haushaltsbuch2[Datum],\"<=\"&B292)","v":0},{"$f":"SUMIFS(Haushaltsbuch2[Einnahmen],Haushaltsbuch2[Kategorie],Q$4,Haushaltsbuch2[Datum],\">\"&B291,Haushaltsbuch2[Datum],\"<=\"&B292)","v":0},{"$f":"SUMIFS(Haushaltsbuch2[Einnahmen],Haushaltsbuch2[Kategorie],R$4,Haushaltsbuch2[Datum],\">\"&B291,Haushaltsbuch2[Datum],\"<=\"&B292)","v":0},null,null,null,null,null,null,null,null,null,null,null,null,null,null,null,null,null,null,{"$f":"SUMIFS(Haushaltsbuch2[Ausgaben],Haushaltsbuch2[Kategorie],AK$4,Haushaltsbuch2[Datum],\">\"&B291,Haushaltsbuch2[Datum],\"<=\"&B292)","v":0},null,null,{"$f":"SUMIFS(Dividenden[Betrag in EUR],Dividenden[Datum],\">\"&B291,Dividenden[Datum],\"<=\"&B292)","v":0},{"$f":"SUMIFS(Optionen[G/V (Netto)],Optionen[Datum],\">\"&B291,Optionen[Datum],\"<=\"&B292)","v":0},null,0,0,null,0,0,null,{"$f":"SUMIFS(Haushaltsbuch2[Einnahmen],Haushaltsbuch2[Datum],\">\"&B291,Haushaltsbuch2[Datum],\"<=\"&B292)+AN292+AO292","v":0},null,0,null,{"$f":"SUMIFS(Haushaltsbuch2[Ausgaben],Haushaltsbuch2[Datum],\">\"&B291,Haushaltsbuch2[Datum],\"<=\"&B292)","v":0}]
[null,34393,null,null,null,null,null,null,null,null,null,null,{"$f":"SUMIFS(Haushaltsbuch2[Einnahmen],Haushaltsbuch2[Kategorie],M$4,Haushaltsbuch2[Datum],\">\"&B292,Haushaltsbuch2[Datum],\"<=\"&B293)","v":0},{"$f":"SUMIFS(Haushaltsbuch2[Einnahmen],Haushaltsbuch2[Kategorie],N$4,Haushaltsbuch2[Datum],\">\"&B292,Haushaltsbuch2[Datum],\"<=\"&B293)","v":0},{"$f":"SUMIFS(Haushaltsbuch2[Einnahmen],Haushaltsbuch2[Kategorie],O$4,Haushaltsbuch2[Datum],\">\"&B292,Haushaltsbuch2[Datum],\"<=\"&B293)","v":0},{"$f":"SUMIFS(Haushaltsbuch2[Einnahmen],Haushaltsbuch2[Kategorie],P$4,Haushaltsbuch2[Datum],\">\"&B292,Haushaltsbuch2[Datum],\"<=\"&B293)","v":0},{"$f":"SUMIFS(Haushaltsbuch2[Einnahmen],Haushaltsbuch2[Kategorie],Q$4,Haushaltsbuch2[Datum],\">\"&B292,Haushaltsbuch2[Datum],\"<=\"&B293)","v":0},{"$f":"SUMIFS(Haushaltsbuch2[Einnahmen],Haushaltsbuch2[Kategorie],R$4,Haushaltsbuch2[Datum],\">\"&B292,Haushaltsbuch2[Datum],\"<=\"&B293)","v":0},null,null,null,null,null,null,null,null,null,null,null,null,null,null,null,null,null,null,{"$f":"SUMIFS(Haushaltsbuch2[Ausgaben],Haushaltsbuch2[Kategorie],AK$4,Haushaltsbuch2[Datum],\">\"&B292,Haushaltsbuch2[Datum],\"<=\"&B293)","v":0},null,null,{"$f":"SUMIFS(Dividenden[Betrag in EUR],Dividenden[Datum],\">\"&B292,Dividenden[Datum],\"<=\"&B293)","v":0},{"$f":"SUMIFS(Optionen[G/V (Netto)],Optionen[Datum],\">\"&B292,Optionen[Datum],\"<=\"&B293)","v":0},null,0,0,null,0,0,null,{"$f":"SUMIFS(Haushaltsbuch2[Einnahmen],Haushaltsbuch2[Datum],\">\"&B292,Haushaltsbuch2[Datum],\"<=\"&B293)+AN293+AO293","v":0},null,0,null,{"$f":"SUMIFS(Haushaltsbuch2[Ausgaben],Haushaltsbuch2[Datum],\">\"&B292,Haushaltsbuch2[Datum],\"<=\"&B293)","v":0}]
[null,34424,null,null,null,null,null,null,null,null,null,null,{"$f":"SUMIFS(Haushaltsbuch2[Einnahmen],Haushaltsbuch2[Kategorie],M$4,Haushaltsbuch2[Datum],\">\"&B293,Haushaltsbuch2[Datum],\"<=\"&B294)","v":0},{"$f":"SUMIFS(Haushaltsbuch2[Einnahmen],Haushaltsbuch2[Kategorie],N$4,Haushaltsbuch2[Datum],\">\"&B293,Haushaltsbuch2[Datum],\"<=\"&B294)","v":0},{"$f":"SUMIFS(Haushaltsbuch2[Einnahmen],Haushaltsbuch2[Kategorie],O$4,Haushaltsbuch2[Datum],\">\"&B293,Haushaltsbuch2[Datum],\"<=\"&B294)","v":0},{"$f":"SUMIFS(Haushaltsbuch2[Einnahmen],Haushaltsbuch2[Kategorie],P$4,Haushaltsbuch2[Datum],\">\"&B293,Haushaltsbuch2[Datum],\"<=\"&B294)","v":0},{"$f":"SUMIFS(Haushaltsbuch2[Einnahmen],Haushaltsbuch2[Kategorie],Q$4,Haushaltsbuch2[Datum],\">\"&B293,Haushaltsbuch2[Datum],\"<=\"&B294)","v":0},{"$f":"SUMIFS(Haushaltsbuch2[Einnahmen],Haushaltsbuch2[Kategorie],R$4,Haushaltsbuch2[Datum],\">\"&B293,Haushaltsbuch2[Datum],\"<=\"&B294)","v":0},null,null,null,null,null,null,null,null,null,null,null,null,null,null,null,null,null,null,{"$f":"SUMIFS(Haushaltsbuch2[Ausgaben],Haushaltsbuch2[Kategorie],AK$4,Haushaltsbuch2[Datum],\">\"&B293,Haushaltsbuch2[Datum],\"<=\"&B294)","v":0},null,null,{"$f":"SUMIFS(Dividenden[Betrag in EUR],Dividenden[Datum],\">\"&B293,Dividenden[Datum],\"<=\"&B294)","v":0},{"$f":"SUMIFS(Optionen[G/V (Netto)],Optionen[Datum],\">\"&B293,Optionen[Datum],\"<=\"&B294)","v":0},null,0,0,null,0,0,null,{"$f":"SUMIFS(Haushaltsbuch2[Einnahmen],Haushaltsbuch2[Datum],\">\"&B293,Haushaltsbuch2[Datum],\"<=\"&B294)+AN294+AO294","v":0},null,0,null,{"$f":"SUMIFS(Haushaltsbuch2[Ausgaben],Haushaltsbuch2[Datum],\">\"&B293,Haushaltsbuch2[Datum],\"<=\"&B294)","v":0}]
[null,34454,null,null,null,null,null,null,null,null,null,null,{"$f":"SUMIFS(Haushaltsbuch2[Einnahmen],Haushaltsbuch2[Kategorie],M$4,Haushaltsbuch2[Datum],\">\"&B294,Haushaltsbuch2[Datum],\"<=\"&B295)","v":0},{"$f":"SUMIFS(Haushaltsbuch2[Einnahmen],Haushaltsbuch2[Kategorie],N$4,Haushaltsbuch2[Datum],\">\"&B294,Haushaltsbuch2[Datum],\"<=\"&B295)","v":0},{"$f":"SUMIFS(Haushaltsbuch2[Einnahmen],Haushaltsbuch2[Kategorie],O$4,Haushaltsbuch2[Datum],\">\"&B294,Haushaltsbuch2[Datum],\"<=\"&B295)","v":0},{"$f":"SUMIFS(Haushaltsbuch2[Einnahmen],Haushaltsbuch2[Kategorie],P$4,Haushaltsbuch2[Datum],\">\"&B294,Haushaltsbuch2[Datum],\"<=\"&B295)","v":0},{"$f":"SUMIFS(Haushaltsbuch2[Einnahmen],Haushaltsbuch2[Kategorie],Q$4,Haushaltsbuch2[Datum],\">\"&B294,Haushaltsbuch2[Datum],\"<=\"&B295)","v":0},{"$f":"SUMIFS(Haushaltsbuch2[Einnahmen],Haushaltsbuch2[Kategorie],R$4,Haushaltsbuch2[Datum],\">\"&B294,Haushaltsbuch2[Datum],\"<=\"&B295)","v":0},null,null,null,null,null,null,null,null,null,null,null,null,null,null,null,null,null,null,{"$f":"SUMIFS(Haushaltsbuch2[Ausgaben],Haushaltsbuch2[Kategorie],AK$4,Haushaltsbuch2[Datum],\">\"&B294,Haushaltsbuch2[Datum],\"<=\"&B295)","v":0},null,null,{"$f":"SUMIFS(Dividenden[Betrag in EUR],Dividenden[Datum],\">\"&B294,Dividenden[Datum],\"<=\"&B295)","v":0},{"$f":"SUMIFS(Optionen[G/V (Netto)],Optionen[Datum],\">\"&B294,Optionen[Datum],\"<=\"&B295)","v":0},null,0,0,null,0,0,null,{"$f":"SUMIFS(Haushaltsbuch2[Einnahmen],Haushaltsbuch2[Datum],\">\"&B294,Haushaltsbuch2[Datum],\"<=\"&B295)+AN295+AO295","v":0},null,0,null,{"$f":"SUMIFS(Haushaltsbuch2[Ausgaben],Haushaltsbuch2[Datum],\">\"&B294,Haushaltsbuch2[Datum],\"<=\"&B295)","v":0}]
[null,34485,null,null,null,null,null,null,null,null,null,null,{"$f":"SUMIFS(Haushaltsbuch2[Einnahmen],Haushaltsbuch2[Kategorie],M$4,Haushaltsbuch2[Datum],\">\"&B295,Haushaltsbuch2[Datum],\"<=\"&B296)","v":0},{"$f":"SUMIFS(Haushaltsbuch2[Einnahmen],Haushaltsbuch2[Kategorie],N$4,Haushaltsbuch2[Datum],\">\"&B295,Haushaltsbuch2[Datum],\"<=\"&B296)","v":0},{"$f":"SUMIFS(Haushaltsbuch2[Einnahmen],Haushaltsbuch2[Kategorie],O$4,Haushaltsbuch2[Datum],\">\"&B295,Haushaltsbuch2[Datum],\"<=\"&B296)","v":0},{"$f":"SUMIFS(Haushaltsbuch2[Einnahmen],Haushaltsbuch2[Kategorie],P$4,Haushaltsbuch2[Datum],\">\"&B295,Haushaltsbuch2[Datum],\"<=\"&B296)","v":0},{"$f":"SUMIFS(Haushaltsbuch2[Einnahmen],Haushaltsbuch2[Kategorie],Q$4,Haushaltsbuch2[Datum],\">\"&B295,Haushaltsbuch2[Datum],\"<=\"&B296)","v":0},{"$f":"SUMIFS(Haushaltsbuch2[Einnahmen],Haushaltsbuch2[Kategorie],R$4,Haushaltsbuch2[Datum],\">\"&B295,Haushaltsbuch2[Datum],\"<=\"&B296)","v":0},null,null,null,null,null,null,null,null,null,null,null,null,null,null,null,null,null,null,{"$f":"SUMIFS(Haushaltsbuch2[Ausgaben],Haushaltsbuch2[Kategorie],AK$4,Haushaltsbuch2[Datum],\">\"&B295,Haushaltsbuch2[Datum],\"<=\"&B296)","v":0},null,null,{"$f":"SUMIFS(Dividenden[Betrag in EUR],Dividenden[Datum],\">\"&B295,Dividenden[Datum],\"<=\"&B296)","v":0},{"$f":"SUMIFS(Optionen[G/V (Netto)],Optionen[Datum],\">\"&B295,Optionen[Datum],\"<=\"&B296)","v":0},null,0,0,null,0,0,null,{"$f":"SUMIFS(Haushaltsbuch2[Einnahmen],Haushaltsbuch2[Datum],\">\"&B295,Haushaltsbuch2[Datum],\"<=\"&B296)+AN296+AO296","v":0},null,0,null,{"$f":"SUMIFS(Haushaltsbuch2[Ausgaben],Haushaltsbuch2[Datum],\">\"&B295,Haushaltsbuch2[Datum],\"<=\"&B296)","v":0}]
[null,34515,null,null,null,null,null,null,null,null,null,null,{"$f":"SUMIFS(Haushaltsbuch2[Einnahmen],Haushaltsbuch2[Kategorie],M$4,Haushaltsbuch2[Datum],\">\"&B296,Haushaltsbuch2[Datum],\"<=\"&B297)","v":0},{"$f":"SUMIFS(Haushaltsbuch2[Einnahmen],Haushaltsbuch2[Kategorie],N$4,Haushaltsbuch2[Datum],\">\"&B296,Haushaltsbuch2[Datum],\"<=\"&B297)","v":0},{"$f":"SUMIFS(Haushaltsbuch2[Einnahmen],Haushaltsbuch2[Kategorie],O$4,Haushaltsbuch2[Datum],\">\"&B296,Haushaltsbuch2[Datum],\"<=\"&B297)","v":0},{"$f":"SUMIFS(Haushaltsbuch2[Einnahmen],Haushaltsbuch2[Kategorie],P$4,Haushaltsbuch2[Datum],\">\"&B296,Haushaltsbuch2[Datum],\"<=\"&B297)","v":0},{"$f":"SUMIFS(Haushaltsbuch2[Einnahmen],Haushaltsbuch2[Kategorie],Q$4,Haushaltsbuch2[Datum],\">\"&B296,Haushaltsbuch2[Datum],\"<=\"&B297)","v":0},{"$f":"SUMIFS(Haushaltsbuch2[Einnahmen],Haushaltsbuch2[Kategorie],R$4,Haushaltsbuch2[Datum],\">\"&B296,Haushaltsbuch2[Datum],\"<=\"&B297)","v":0},null,null,null,null,null,null,null,null,null,null,null,null,null,null,null,null,null,null,{"$f":"SUMIFS(Haushaltsbuch2[Ausgaben],Haushaltsbuch2[Kategorie],AK$4,Haushaltsbuch2[Datum],\">\"&B296,Haushaltsbuch2[Datum],\"<=\"&B297)","v":0},null,null,{"$f":"SUMIFS(Dividenden[Betrag in EUR],Dividenden[Datum],\">\"&B296,Dividenden[Datum],\"<=\"&B297)","v":0},{"$f":"SUMIFS(Optionen[G/V (Netto)],Optionen[Datum],\">\"&B296,Optionen[Datum],\"<=\"&B297)","v":0},null,0,0,null,0,0,null,{"$f":"SUMIFS(Haushaltsbuch2[Einnahmen],Haushaltsbuch2[Datum],\">\"&B296,Haushaltsbuch2[Datum],\"<=\"&B297)+AN297+AO297","v":0},null,0,null,{"$f":"SUMIFS(Haushaltsbuch2[Ausgaben],Haushaltsbuch2[Datum],\">\"&B296,Haushaltsbuch2[Datum],\"<=\"&B297)","v":0}]
[null,34546,null,null,null,null,null,null,null,null,null,null,{"$f":"SUMIFS(Haushaltsbuch2[Einnahmen],Haushaltsbuch2[Kategorie],M$4,Haushaltsbuch2[Datum],\">\"&B297,Haushaltsbuch2[Datum],\"<=\"&B298)","v":0},{"$f":"SUMIFS(Haushaltsbuch2[Einnahmen],Haushaltsbuch2[Kategorie],N$4,Haushaltsbuch2[Datum],\">\"&B297,Haushaltsbuch2[Datum],\"<=\"&B298)","v":0},{"$f":"SUMIFS(Haushaltsbuch2[Einnahmen],Haushaltsbuch2[Kategorie],O$4,Haushaltsbuch2[Datum],\">\"&B297,Haushaltsbuch2[Datum],\"<=\"&B298)","v":0},{"$f":"SUMIFS(Haushaltsbuch2[Einnahmen],Haushaltsbuch2[Kategorie],P$4,Haushaltsbuch2[Datum],\">\"&B297,Haushaltsbuch2[Datum],\"<=\"&B298)","v":0},{"$f":"SUMIFS(Haushaltsbuch2[Einnahmen],Haushaltsbuch2[Kategorie],Q$4,Haushaltsbuch2[Datum],\">\"&B297,Haushaltsbuch2[Datum],\"<=\"&B298)","v":0},{"$f":"SUMIFS(Haushaltsbuch2[Einnahmen],Haushaltsbuch2[Kategorie],R$4,Haushaltsbuch2[Datum],\">\"&B297,Haushaltsbuch2[Datum],\"<=\"&B298)","v":0},null,null,null,null,null,null,null,null,null,null,null,null,null,null,null,null,null,null,{"$f":"SUMIFS(Haushaltsbuch2[Ausgaben],Haushaltsbuch2[Kategorie],AK$4,Haushaltsbuch2[Datum],\">\"&B297,Haushaltsbuch2[Datum],\"<=\"&B298)","v":0},null,null,{"$f":"SUMIFS(Dividenden[Betrag in EUR],Dividenden[Datum],\">\"&B297,Dividenden[Datum],\"<=\"&B298)","v":0},{"$f":"SUMIFS(Optionen[G/V (Netto)],Optionen[Datum],\">\"&B297,Optionen[Datum],\"<=\"&B298)","v":0},null,0,0,null,0,0,null,{"$f":"SUMIFS(Haushaltsbuch2[Einnahmen],Haushaltsbuch2[Datum],\">\"&B297,Haushaltsbuch2[Datum],\"<=\"&B298)+AN298+AO298","v":0},null,0,null,{"$f":"SUMIFS(Haushaltsbuch2[Ausgaben],Haushaltsbuch2[Datum],\">\"&B297,Haushaltsbuch2[Datum],\"<=\"&B298)","v":0}]
[null,34577,null,null,null,null,null,null,null,null,null,null,{"$f":"SUMIFS(Haushaltsbuch2[Einnahmen],Haushaltsbuch2[Kategorie],M$4,Haushaltsbuch2[Datum],\">\"&B298,Haushaltsbuch2[Datum],\"<=\"&B299)","v":0},{"$f":"SUMIFS(Haushaltsbuch2[Einnahmen],Haushaltsbuch2[Kategorie],N$4,Haushaltsbuch2[Datum],\">\"&B298,Haushaltsbuch2[Datum],\"<=\"&B299)","v":0},{"$f":"SUMIFS(Haushaltsbuch2[Einnahmen],Haushaltsbuch2[Kategorie],O$4,Haushaltsbuch2[Datum],\">\"&B298,Haushaltsbuch2[Datum],\"<=\"&B299)","v":0},{"$f":"SUMIFS(Haushaltsbuch2[Einnahmen],Haushaltsbuch2[Kategorie],P$4,Haushaltsbuch2[Datum],\">\"&B298,Haushaltsbuch2[Datum],\"<=\"&B299)","v":0},{"$f":"SUMIFS(Haushaltsbuch2[Einnahmen],Haushaltsbuch2[Kategorie],Q$4,Haushaltsbuch2[Datum],\">\"&B298,Haushaltsbuch2[Datum],\"<=\"&B299)","v":0},{"$f":"SUMIFS(Haushaltsbuch2[Einnahmen],Haushaltsbuch2[Kategorie],R$4,Haushaltsbuch2[Datum],\">\"&B298,Haushaltsbuch2[Datum],\"<=\"&B299)","v":0},null,null,null,null,null,null,null,null,null,null,null,null,null,null,null,null,null,null,{"$f":"SUMIFS(Haushaltsbuch2[Ausgaben],Haushaltsbuch2[Kategorie],AK$4,Haushaltsbuch2[Datum],\">\"&B298,Haushaltsbuch2[Datum],\"<=\"&B299)","v":0},null,null,{"$f":"SUMIFS(Dividenden[Betrag in EUR],Dividenden[Datum],\">\"&B298,Dividenden[Datum],\"<=\"&B299)","v":0},{"$f":"SUMIFS(Optionen[G/V (Netto)],Optionen[Datum],\">\"&B298,Optionen[Datum],\"<=\"&B299)","v":0},null,0,0,null,0,0,null,{"$f":"SUMIFS(Haushaltsbuch2[Einnahmen],Haushaltsbuch2[Datum],\">\"&B298,Haushaltsbuch2[Datum],\"<=\"&B299)+AN299+AO299","v":0},null,0,null,{"$f":"SUMIFS(Haushaltsbuch2[Ausgaben],Haushaltsbuch2[Datum],\">\"&B298,Haushaltsbuch2[Datum],\"<=\"&B299)","v":0}]
[null,34607,null,null,null,null,null,null,null,null,null,null,{"$f":"SUMIFS(Haushaltsbuch2[Einnahmen],Haushaltsbuch2[Kategorie],M$4,Haushaltsbuch2[Datum],\">\"&B299,Haushaltsbuch2[Datum],\"<=\"&B300)","v":0},{"$f":"SUMIFS(Haushaltsbuch2[Einnahmen],Haushaltsbuch2[Kategorie],N$4,Haushaltsbuch2[Datum],\">\"&B299,Haushaltsbuch2[Datum],\"<=\"&B300)","v":0},{"$f":"SUMIFS(Haushaltsbuch2[Einnahmen],Haushaltsbuch2[Kategorie],O$4,Haushaltsbuch2[Datum],\">\"&B299,Haushaltsbuch2[Datum],\"<=\"&B300)","v":0},{"$f":"SUMIFS(Haushaltsbuch2[Einnahmen],Haushaltsbuch2[Kategorie],P$4,Haushaltsbuch2[Datum],\">\"&B299,Haushaltsbuch2[Datum],\"<=\"&B300)","v":0},{"$f":"SUMIFS(Haushaltsbuch2[Einnahmen],Haushaltsbuch2[Kategorie],Q$4,Haushaltsbuch2[Datum],\">\"&B299,Haushaltsbuch2[Datum],\"<=\"&B300)","v":0},{"$f":"SUMIFS(Haushaltsbuch2[Einnahmen],Haushaltsbuch2[Kategorie],R$4,Haushaltsbuch2[Datum],\">\"&B299,Haushaltsbuch2[Datum],\"<=\"&B300)","v":0},null,null,null,null,null,null,null,null,null,null,null,null,null,null,null,null,null,null,{"$f":"SUMIFS(Haushaltsbuch2[Ausgaben],Haushaltsbuch2[Kategorie],AK$4,Haushaltsbuch2[Datum],\">\"&B299,Haushaltsbuch2[Datum],\"<=\"&B300)","v":0},null,null,{"$f":"SUMIFS(Dividenden[Betrag in EUR],Dividenden[Datum],\">\"&B299,Dividenden[Datum],\"<=\"&B300)","v":0},{"$f":"SUMIFS(Optionen[G/V (Netto)],Optionen[Datum],\">\"&B299,Optionen[Datum],\"<=\"&B300)","v":0},null,0,0,null,0,0,null,{"$f":"SUMIFS(Haushaltsbuch2[Einnahmen],Haushaltsbuch2[Datum],\">\"&B299,Haushaltsbuch2[Datum],\"<=\"&B300)+AN300+AO300","v":0},null,0,null,{"$f":"SUMIFS(Haushaltsbuch2[Ausgaben],Haushaltsbuch2[Datum],\">\"&B299,Haushaltsbuch2[Datum],\"<=\"&B300)","v":0}]
[null,34638,null,null,null,null,null,null,null,null,null,null,{"$f":"SUMIFS(Haushaltsbuch2[Einnahmen],Haushaltsbuch2[Kategorie],M$4,Haushaltsbuch2[Datum],\">\"&B300,Haushaltsbuch2[Datum],\"<=\"&B301)","v":0},{"$f":"SUMIFS(Haushaltsbuch2[Einnahmen],Haushaltsbuch2[Kategorie],N$4,Haushaltsbuch2[Datum],\">\"&B300,Haushaltsbuch2[Datum],\"<=\"&B301)","v":0},{"$f":"SUMIFS(Haushaltsbuch2[Einnahmen],Haushaltsbuch2[Kategorie],O$4,Haushaltsbuch2[Datum],\">\"&B300,Haushaltsbuch2[Datum],\"<=\"&B301)","v":0},{"$f":"SUMIFS(Haushaltsbuch2[Einnahmen],Haushaltsbuch2[Kategorie],P$4,Haushaltsbuch2[Datum],\">\"&B300,Haushaltsbuch2[Datum],\"<=\"&B301)","v":0},{"$f":"SUMIFS(Haushaltsbuch2[Einnahmen],Haushaltsbuch2[Kategorie],Q$4,Haushaltsbuch2[Datum],\">\"&B300,Haushaltsbuch2[Datum],\"<=\"&B301)","v":0},{"$f":"SUMIFS(Haushaltsbuch2[Einnahmen],Haushaltsbuch2[Kategorie],R$4,Haushaltsbuch2[Datum],\">\"&B300,Haushaltsbuch2[Datum],\"<=\"&B301)","v":0},null,null,null,null,null,null,null,null,null,null,null,null,null,null,null,null,null,null,{"$f":"SUMIFS(Haushaltsbuch2[Ausgaben],Haushaltsbuch2[Kategorie],AK$4,Haushaltsbuch2[Datum],\">\"&B300,Haushaltsbuch2[Datum],\"<=\"&B301)","v":0},null,null,{"$f":"SUMIFS(Dividenden[Betrag in EUR],Dividenden[Datum],\">\"&B300,Dividenden[Datum],\"<=\"&B301)","v":0},{"$f":"SUMIFS(Optionen[G/V (Netto)],Optionen[Datum],\">\"&B300,Optionen[Datum],\"<=\"&B301)","v":0},null,0,0,null,0,0,null,{"$f":"SUMIFS(Haushaltsbuch2[Einnahmen],Haushaltsbuch2[Datum],\">\"&B300,Haushaltsbuch2[Datum],\"<=\"&B301)+AN301+AO301","v":0},null,0,null,{"$f":"SUMIFS(Haushaltsbuch2[Ausgaben],Haushaltsbuch2[Datum],\">\"&B300,Haushaltsbuch2[Datum],\"<=\"&B301)","v":0}]
[null,34668,null,null,null,null,null,null,null,null,null,null,{"$f":"SUMIFS(Haushaltsbuch2[Einnahmen],Haushaltsbuch2[Kategorie],M$4,Haushaltsbuch2[Datum],\">\"&B301,Haushaltsbuch2[Datum],\"<=\"&B302)","v":0},{"$f":"SUMIFS(Haushaltsbuch2[Einnahmen],Haushaltsbuch2[Kategorie],N$4,Haushaltsbuch2[Datum],\">\"&B301,Haushaltsbuch2[Datum],\"<=\"&B302)","v":0},{"$f":"SUMIFS(Haushaltsbuch2[Einnahmen],Haushaltsbuch2[Kategorie],O$4,Haushaltsbuch2[Datum],\">\"&B301,Haushaltsbuch2[Datum],\"<=\"&B302)","v":0},{"$f":"SUMIFS(Haushaltsbuch2[Einnahmen],Haushaltsbuch2[Kategorie],P$4,Haushaltsbuch2[Datum],\">\"&B301,Haushaltsbuch2[Datum],\"<=\"&B302)","v":0},{"$f":"SUMIFS(Haushaltsbuch2[Einnahmen],Haushaltsbuch2[Kategorie],Q$4,Haushaltsbuch2[Datum],\">\"&B301,Haushaltsbuch2[Datum],\"<=\"&B302)","v":0},{"$f":"SUMIFS(Haushaltsbuch2[Einnahmen],Haushaltsbuch2[Kategorie],R$4,Haushaltsbuch2[Datum],\">\"&B301,Haushaltsbuch2[Datum],\"<=\"&B302)","v":0},null,null,null,null,null,null,null,null,null,null,null,null,null,null,null,null,null,null,{"$f":"SUMIFS(Haushaltsbuch2[Ausgaben],Haushaltsbuch2[Kategorie],AK$4,Haushaltsbuch2[Datum],\">\"&B301,Haushaltsbuch2[Datum],\"<=\"&B302)","v":0},null,null,{"$f":"SUMIFS(Dividenden[Betrag in EUR],Dividenden[Datum],\">\"&B301,Dividenden[Datum],\"<=\"&B302)","v":0},{"$f":"SUMIFS(Optionen[G/V (Netto)],Optionen[Datum],\">\"&B301,Optionen[Datum],\"<=\"&B302)","v":0},null,0,0,null,0,0,null,{"$f":"SUMIFS(Haushaltsbuch2[Einnahmen],Haushaltsbuch2[Datum],\">\"&B301,Haushaltsbuch2[Datum],\"<=\"&B302)+AN302+AO302","v":0},null,0,null,{"$f":"SUMIFS(Haushaltsbuch2[Ausgaben],Haushaltsbuch2[Datum],\">\"&B301,Haushaltsbuch2[Datum],\"<=\"&B302)","v":0}]
[null,34699,null,null,null,null,null,null,null,null,null,null,{"$f":"SUMIFS(Haushaltsbuch2[Einnahmen],Haushaltsbuch2[Kategorie],M$4,Haushaltsbuch2[Datum],\">\"&B302,Haushaltsbuch2[Datum],\"<=\"&B303)","v":0},{"$f":"SUMIFS(Haushaltsbuch2[Einnahmen],Haushaltsbuch2[Kategorie],N$4,Haushaltsbuch2[Datum],\">\"&B302,Haushaltsbuch2[Datum],\"<=\"&B303)","v":0},{"$f":"SUMIFS(Haushaltsbuch2[Einnahmen],Haushaltsbuch2[Kategorie],O$4,Haushaltsbuch2[Datum],\">\"&B302,Haushaltsbuch2[Datum],\"<=\"&B303)","v":0},{"$f":"SUMIFS(Haushaltsbuch2[Einnahmen],Haushaltsbuch2[Kategorie],P$4,Haushaltsbuch2[Datum],\">\"&B302,Haushaltsbuch2[Datum],\"<=\"&B303)","v":0},{"$f":"SUMIFS(Haushaltsbuch2[Einnahmen],Haushaltsbuch2[Kategorie],Q$4,Haushaltsbuch2[Datum],\">\"&B302,Haushaltsbuch2[Datum],\"<=\"&B303)","v":0},{"$f":"SUMIFS(Haushaltsbuch2[Einnahmen],Haushaltsbuch2[Kategorie],R$4,Haushaltsbuch2[Datum],\">\"&B302,Haushaltsbuch2[Datum],\"<=\"&B303)","v":0},null,null,null,null,null,null,null,null,null,null,null,null,null,null,null,null,null,null,{"$f":"SUMIFS(Haushaltsbuch2[Ausgaben],Haushaltsbuch2[Kategorie],AK$4,Haushaltsbuch2[Datum],\">\"&B302,Haushaltsbuch2[Datum],\"<=\"&B303)","v":0},null,null,{"$f":"SUMIFS(Dividenden[Betrag in EUR],Dividenden[Datum],\">\"&B302,Dividenden[Datum],\"<=\"&B303)","v":0},{"$f":"SUMIFS(Optionen[G/V (Netto)],Optionen[Datum],\">\"&B302,Optionen[Datum],\"<=\"&B303)","v":0},null,0,0,null,0,0,null,{"$f":"SUMIFS(Haushaltsbuch2[Einnahmen],Haushaltsbuch2[Datum],\">\"&B302,Haushaltsbuch2[Datum],\"<=\"&B303)+AN303+AO303","v":0},null,0,null,{"$f":"SUMIFS(Haushaltsbuch2[Ausgaben],Haushaltsbuch2[Datum],\">\"&B302,Haushaltsbuch2[Datum],\"<=\"&B303)","v":0}]
[null,34730,null,null,null,null,null,null,null,null,null,null,{"$f":"SUMIFS(Haushaltsbuch2[Einnahmen],Haushaltsbuch2[Kategorie],M$4,Haushaltsbuch2[Datum],\">\"&B303,Haushaltsbuch2[Datum],\"<=\"&B304)","v":0},{"$f":"SUMIFS(Haushaltsbuch2[Einnahmen],Haushaltsbuch2[Kategorie],N$4,Haushaltsbuch2[Datum],\">\"&B303,Haushaltsbuch2[Datum],\"<=\"&B304)","v":0},{"$f":"SUMIFS(Haushaltsbuch2[Einnahmen],Haushaltsbuch2[Kategorie],O$4,Haushaltsbuch2[Datum],\">\"&B303,Haushaltsbuch2[Datum],\"<=\"&B304)","v":0},{"$f":"SUMIFS(Haushaltsbuch2[Einnahmen],Haushaltsbuch2[Kategorie],P$4,Haushaltsbuch2[Datum],\">\"&B303,Haushaltsbuch2[Datum],\"<=\"&B304)","v":0},{"$f":"SUMIFS(Haushaltsbuch2[Einnahmen],Haushaltsbuch2[Kategorie],Q$4,Haushaltsbuch2[Datum],\">\"&B303,Haushaltsbuch2[Datum],\"<=\"&B304)","v":0},{"$f":"SUMIFS(Haushaltsbuch2[Einnahmen],Haushaltsbuch2[Kategorie],R$4,Haushaltsbuch2[Datum],\">\"&B303,Haushaltsbuch2[Datum],\"<=\"&B304)","v":0},null,null,null,null,null,null,null,null,null,null,null,null,null,null,null,null,null,null,{"$f":"SUMIFS(Haushaltsbuch2[Ausgaben],Haushaltsbuch2[Kategorie],AK$4,Haushaltsbuch2[Datum],\">\"&B303,Haushaltsbuch2[Datum],\"<=\"&B304)","v":0},null,null,{"$f":"SUMIFS(Dividenden[Betrag in EUR],Dividenden[Datum],\">\"&B303,Dividenden[Datum],\"<=\"&B304)","v":0},{"$f":"SUMIFS(Optionen[G/V (Netto)],Optionen[Datum],\">\"&B303,Optionen[Datum],\"<=\"&B304)","v":0},null,0,0,null,0,0,null,{"$f":"SUMIFS(Haushaltsbuch2[Einnahmen],Haushaltsbuch2[Datum],\">\"&B303,Haushaltsbuch2[Datum],\"<=\"&B304)+AN304+AO304","v":0},null,0,null,{"$f":"SUMIFS(Haushaltsbuch2[Ausgaben],Haushaltsbuch2[Datum],\">\"&B303,Haushaltsbuch2[Datum],\"<=\"&B304)","v":0}]
[null,34758,null,null,null,null,null,null,null,null,null,null,{"$f":"SUMIFS(Haushaltsbuch2[Einnahmen],Haushaltsbuch2[Kategorie],M$4,Haushaltsbuch2[Datum],\">\"&B304,Haushaltsbuch2[Datum],\"<=\"&B305)","v":0},{"$f":"SUMIFS(Haushaltsbuch2[Einnahmen],Haushaltsbuch2[Kategorie],N$4,Haushaltsbuch2[Datum],\">\"&B304,Haushaltsbuch2[Datum],\"<=\"&B305)","v":0},{"$f":"SUMIFS(Haushaltsbuch2[Einnahmen],Haushaltsbuch2[Kategorie],O$4,Haushaltsbuch2[Datum],\">\"&B304,Haushaltsbuch2[Datum],\"<=\"&B305)","v":0},{"$f":"SUMIFS(Haushaltsbuch2[Einnahmen],Haushaltsbuch2[Kategorie],P$4,Haushaltsbuch2[Datum],\">\"&B304,Haushaltsbuch2[Datum],\"<=\"&B305)","v":0},{"$f":"SUMIFS(Haushaltsbuch2[Einnahmen],Haushaltsbuch2[Kategorie],Q$4,Haushaltsbuch2[Datum],\">\"&B304,Haushaltsbuch2[Datum],\"<=\"&B305)","v":0},{"$f":"SUMIFS(Haushaltsbuch2[Einnahmen],Haushaltsbuch2[Kategorie],R$4,Haushaltsbuch2[Datum],\">\"&B304,Haushaltsbuch2[Datum],\"<=\"&B305)","v":0},null,null,null,null,null,null,null,null,null,null,null,null,null,null,null,null,null,null,{"$f":"SUMIFS(Haushaltsbuch2[Ausgaben],Haushaltsbuch2[Kategorie],AK$4,Haushaltsbuch2[Datum],\">\"&B304,Haushaltsbuch2[Datum],\"<=\"&B305)","v":0},null,null,{"$f":"SUMIFS(Dividenden[Betrag in EUR],Dividenden[Datum],\">\"&B304,Dividenden[Datum],\"<=\"&B305)","v":0},{"$f":"SUMIFS(Optionen[G/V (Netto)],Optionen[Datum],\">\"&B304,Optionen[Datum],\"<=\"&B305)","v":0},null,0,0,null,0,0,null,{"$f":"SUMIFS(Haushaltsbuch2[Einnahmen],Haushaltsbuch2[Datum],\">\"&B304,Haushaltsbuch2[Datum],\"<=\"&B305)+AN305+AO305","v":0},null,0,null,{"$f":"SUMIFS(Haushaltsbuch2[Ausgaben],Haushaltsbuch2[Datum],\">\"&B304,Haushaltsbuch2[Datum],\"<=\"&B305)","v":0}]
[null,34789,null,null,null,null,null,null,null,null,null,null,{"$f":"SUMIFS(Haushaltsbuch2[Einnahmen],Haushaltsbuch2[Kategorie],M$4,Haushaltsbuch2[Datum],\">\"&B305,Haushaltsbuch2[Datum],\"<=\"&B306)","v":0},{"$f":"SUMIFS(Haushaltsbuch2[Einnahmen],Haushaltsbuch2[Kategorie],N$4,Haushaltsbuch2[Datum],\">\"&B305,Haushaltsbuch2[Datum],\"<=\"&B306)","v":0},{"$f":"SUMIFS(Haushaltsbuch2[Einnahmen],Haushaltsbuch2[Kategorie],O$4,Haushaltsbuch2[Datum],\">\"&B305,Haushaltsbuch2[Datum],\"<=\"&B306)","v":0},{"$f":"SUMIFS(Haushaltsbuch2[Einnahmen],Haushaltsbuch2[Kategorie],P$4,Haushaltsbuch2[Datum],\">\"&B305,Haushaltsbuch2[Datum],\"<=\"&B306)","v":0},{"$f":"SUMIFS(Haushaltsbuch2[Einnahmen],Haushaltsbuch2[Kategorie],Q$4,Haushaltsbuch2[Datum],\">\"&B305,Haushaltsbuch2[Datum],\"<=\"&B306)","v":0},{"$f":"SUMIFS(Haushaltsbuch2[Einnahmen],Haushaltsbuch2[Kategorie],R$4,Haushaltsbuch2[Datum],\">\"&B305,Haushaltsbuch2[Datum],\"<=\"&B306)","v":0},null,null,null,null,null,null,null,null,null,null,null,null,null,null,null,null,null,null,{"$f":"SUMIFS(Haushaltsbuch2[Ausgaben],Haushaltsbuch2[Kategorie],AK$4,Haushaltsbuch2[Datum],\">\"&B305,Haushaltsbuch2[Datum],\"<=\"&B306)","v":0},null,null,{"$f":"SUMIFS(Dividenden[Betrag in EUR],Dividenden[Datum],\">\"&B305,Dividenden[Datum],\"<=\"&B306)","v":0},{"$f":"SUMIFS(Optionen[G/V (Netto)],Optionen[Datum],\">\"&B305,Optionen[Datum],\"<=\"&B306)","v":0},null,0,0,null,0,0,null,{"$f":"SUMIFS(Haushaltsbuch2[Einnahmen],Haushaltsbuch2[Datum],\">\"&B305,Haushaltsbuch2[Datum],\"<=\"&B306)+AN306+AO306","v":0},null,0,null,{"$f":"SUMIFS(Haushaltsbuch2[Ausgaben],Haushaltsbuch2[Datum],\">\"&B305,Haushaltsbuch2[Datum],\"<=\"&B306)","v":0}]
[null,34819,null,null,null,null,null,null,null,null,null,null,{"$f":"SUMIFS(Haushaltsbuch2[Einnahmen],Haushaltsbuch2[Kategorie],M$4,Haushaltsbuch2[Datum],\">\"&B306,Haushaltsbuch2[Datum],\"<=\"&B307)","v":0},{"$f":"SUMIFS(Haushaltsbuch2[Einnahmen],Haushaltsbuch2[Kategorie],N$4,Haushaltsbuch2[Datum],\">\"&B306,Haushaltsbuch2[Datum],\"<=\"&B307)","v":0},{"$f":"SUMIFS(Haushaltsbuch2[Einnahmen],Haushaltsbuch2[Kategorie],O$4,Haushaltsbuch2[Datum],\">\"&B306,Haushaltsbuch2[Datum],\"<=\"&B307)","v":0},{"$f":"SUMIFS(Haushaltsbuch2[Einnahmen],Haushaltsbuch2[Kategorie],P$4,Haushaltsbuch2[Datum],\">\"&B306,Haushaltsbuch2[Datum],\"<=\"&B307)","v":0},{"$f":"SUMIFS(Haushaltsbuch2[Einnahmen],Haushaltsbuch2[Kategorie],Q$4,Haushaltsbuch2[Datum],\">\"&B306,Haushaltsbuch2[Datum],\"<=\"&B307)","v":0},{"$f":"SUMIFS(Haushaltsbuch2[Einnahmen],Haushaltsbuch2[Kategorie],R$4,Haushaltsbuch2[Datum],\">\"&B306,Haushaltsbuch2[Datum],\"<=\"&B307)","v":0},null,null,null,null,null,null,null,null,null,null,null,null,null,null,null,null,null,null,{"$f":"SUMIFS(Haushaltsbuch2[Ausgaben],Haushaltsbuch2[Kategorie],AK$4,Haushaltsbuch2[Datum],\">\"&B306,Haushaltsbuch2[Datum],\"<=\"&B307)","v":0},null,null,{"$f":"SUMIFS(Dividenden[Betrag in EUR],Dividenden[Datum],\">\"&B306,Dividenden[Datum],\"<=\"&B307)","v":0},{"$f":"SUMIFS(Optionen[G/V (Netto)],Optionen[Datum],\">\"&B306,Optionen[Datum],\"<=\"&B307)","v":0},null,0,0,null,0,0,null,{"$f":"SUMIFS(Haushaltsbuch2[Einnahmen],Haushaltsbuch2[Datum],\">\"&B306,Haushaltsbuch2[Datum],\"<=\"&B307)+AN307+AO307","v":0},null,0,null,{"$f":"SUMIFS(Haushaltsbuch2[Ausgaben],Haushaltsbuch2[Datum],\">\"&B306,Haushaltsbuch2[Datum],\"<=\"&B307)","v":0}]
[null,34850,null,null,null,null,null,null,null,null,null,null,{"$f":"SUMIFS(Haushaltsbuch2[Einnahmen],Haushaltsbuch2[Kategorie],M$4,Haushaltsbuch2[Datum],\">\"&B307,Haushaltsbuch2[Datum],\"<=\"&B308)","v":0},{"$f":"SUMIFS(Haushaltsbuch2[Einnahmen],Haushaltsbuch2[Kategorie],N$4,Haushaltsbuch2[Datum],\">\"&B307,Haushaltsbuch2[Datum],\"<=\"&B308)","v":0},{"$f":"SUMIFS(Haushaltsbuch2[Einnahmen],Haushaltsbuch2[Kategorie],O$4,Haushaltsbuch2[Datum],\">\"&B307,Haushaltsbuch2[Datum],\"<=\"&B308)","v":0},{"$f":"SUMIFS(Haushaltsbuch2[Einnahmen],Haushaltsbuch2[Kategorie],P$4,Haushaltsbuch2[Datum],\">\"&B307,Haushaltsbuch2[Datum],\"<=\"&B308)","v":0},{"$f":"SUMIFS(Haushaltsbuch2[Einnahmen],Haushaltsbuch2[Kategorie],Q$4,Haushaltsbuch2[Datum],\">\"&B307,Haushaltsbuch2[Datum],\"<=\"&B308)","v":0},{"$f":"SUMIFS(Haushaltsbuch2[Einnahmen],Haushaltsbuch2[Kategorie],R$4,Haushaltsbuch2[Datum],\">\"&B307,Haushaltsbuch2[Datum],\"<=\"&B308)","v":0},null,null,null,null,null,null,null,null,null,null,null,null,null,null,null,null,null,null,{"$f":"SUMIFS(Haushaltsbuch2[Ausgaben],Haushaltsbuch2[Kategorie],AK$4,Haushaltsbuch2[Datum],\">\"&B307,Haushaltsbuch2[Datum],\"<=\"&B308)","v":0},null,null,{"$f":"SUMIFS(Dividenden[Betrag in EUR],Dividenden[Datum],\">\"&B307,Dividenden[Datum],\"<=\"&B308)","v":0},{"$f":"SUMIFS(Optionen[G/V (Netto)],Optionen[Datum],\">\"&B307,Optionen[Datum],\"<=\"&B308)","v":0},null,0,0,null,0,0,null,{"$f":"SUMIFS(Haushaltsbuch2[Einnahmen],Haushaltsbuch2[Datum],\">\"&B307,Haushaltsbuch2[Datum],\"<=\"&B308)+AN308+AO308","v":0},null,0,null,{"$f":"SUMIFS(Haushaltsbuch2[Ausgaben],Haushaltsbuch2[Datum],\">\"&B307,Haushaltsbuch2[Datum],\"<=\"&B308)","v":0}]
[null,34880,null,null,null,null,null,null,null,null,null,null,{"$f":"SUMIFS(Haushaltsbuch2[Einnahmen],Haushaltsbuch2[Kategorie],M$4,Haushaltsbuch2[Datum],\">\"&B308,Haushaltsbuch2[Datum],\"<=\"&B309)","v":0},{"$f":"SUMIFS(Haushaltsbuch2[Einnahmen],Haushaltsbuch2[Kategorie],N$4,Haushaltsbuch2[Datum],\">\"&B308,Haushaltsbuch2[Datum],\"<=\"&B309)","v":0},{"$f":"SUMIFS(Haushaltsbuch2[Einnahmen],Haushaltsbuch2[Kategorie],O$4,Haushaltsbuch2[Datum],\">\"&B308,Haushaltsbuch2[Datum],\"<=\"&B309)","v":0},{"$f":"SUMIFS(Haushaltsbuch2[Einnahmen],Haushaltsbuch2[Kategorie],P$4,Haushaltsbuch2[Datum],\">\"&B308,Haushaltsbuch2[Datum],\"<=\"&B309)","v":0},{"$f":"SUMIFS(Haushaltsbuch2[Einnahmen],Haushaltsbuch2[Kategorie],Q$4,Haushaltsbuch2[Datum],\">\"&B308,Haushaltsbuch2[Datum],\"<=\"&B309)","v":0},{"$f":"SUMIFS(Haushaltsbuch2[Einnahmen],Haushaltsbuch2[Kategorie],R$4,Haushaltsbuch2[Datum],\">\"&B308,Haushaltsbuch2[Datum],\"<=\"&B309)","v":0},null,null,null,null,null,null,null,null,null,null,null,null,null,null,null,null,null,null,{"$f":"SUMIFS(Haushaltsbuch2[Ausgaben],Haushaltsbuch2[Kategorie],AK$4,Haushaltsbuch2[Datum],\">\"&B308,Haushaltsbuch2[Datum],\"<=\"&B309)","v":0},null,null,{"$f":"SUMIFS(Dividenden[Betrag in EUR],Dividenden[Datum],\">\"&B308,Dividenden[Datum],\"<=\"&B309)","v":0},{"$f":"SUMIFS(Optionen[G/V (Netto)],Optionen[Datum],\">\"&B308,Optionen[Datum],\"<=\"&B309)","v":0},null,0,0,null,0,0,null,{"$f":"SUMIFS(Haushaltsbuch2[Einnahmen],Haushaltsbuch2[Datum],\">\"&B308,Haushaltsbuch2[Datum],\"<=\"&B309)+AN309+AO309","v":0},null,0,null,{"$f":"SUMIFS(Haushaltsbuch2[Ausgaben],Haushaltsbuch2[Datum],\">\"&B308,Haushaltsbuch2[Datum],\"<=\"&B309)","v":0}]
[null,34911,null,null,null,null,null,null,null,null,null,null,{"$f":"SUMIFS(Haushaltsbuch2[Einnahmen],Haushaltsbuch2[Kategorie],M$4,Haushaltsbuch2[Datum],\">\"&B309,Haushaltsbuch2[Datum],\"<=\"&B310)","v":0},{"$f":"SUMIFS(Haushaltsbuch2[Einnahmen],Haushaltsbuch2[Kategorie],N$4,Haushaltsbuch2[Datum],\">\"&B309,Haushaltsbuch2[Datum],\"<=\"&B310)","v":0},{"$f":"SUMIFS(Haushaltsbuch2[Einnahmen],Haushaltsbuch2[Kategorie],O$4,Haushaltsbuch2[Datum],\">\"&B309,Haushaltsbuch2[Datum],\"<=\"&B310)","v":0},{"$f":"SUMIFS(Haushaltsbuch2[Einnahmen],Haushaltsbuch2[Kategorie],P$4,Haushaltsbuch2[Datum],\">\"&B309,Haushaltsbuch2[Datum],\"<=\"&B310)","v":0},{"$f":"SUMIFS(Haushaltsbuch2[Einnahmen],Haushaltsbuch2[Kategorie],Q$4,Haushaltsbuch2[Datum],\">\"&B309,Haushaltsbuch2[Datum],\"<=\"&B310)","v":0},{"$f":"SUMIFS(Haushaltsbuch2[Einnahmen],Haushaltsbuch2[Kategorie],R$4,Haushaltsbuch2[Datum],\">\"&B309,Haushaltsbuch2[Datum],\"<=\"&B310)","v":0},null,null,null,null,null,null,null,null,null,null,null,null,null,null,null,null,null,null,{"$f":"SUMIFS(Haushaltsbuch2[Ausgaben],Haushaltsbuch2[Kategorie],AK$4,Haushaltsbuch2[Datum],\">\"&B309,Haushaltsbuch2[Datum],\"<=\"&B310)","v":0},null,null,{"$f":"SUMIFS(Dividenden[Betrag in EUR],Dividenden[Datum],\">\"&B309,Dividenden[Datum],\"<=\"&B310)","v":0},{"$f":"SUMIFS(Optionen[G/V (Netto)],Optionen[Datum],\">\"&B309,Optionen[Datum],\"<=\"&B310)","v":0},null,0,0,null,0,0,null,{"$f":"SUMIFS(Haushaltsbuch2[Einnahmen],Haushaltsbuch2[Datum],\">\"&B309,Haushaltsbuch2[Datum],\"<=\"&B310)+AN310+AO310","v":0},null,0,null,{"$f":"SUMIFS(Haushaltsbuch2[Ausgaben],Haushaltsbuch2[Datum],\">\"&B309,Haushaltsbuch2[Datum],\"<=\"&B310)","v":0}]
[null,34942,null,null,null,null,null,null,null,null,null,null,{"$f":"SUMIFS(Haushaltsbuch2[Einnahmen],Haushaltsbuch2[Kategorie],M$4,Haushaltsbuch2[Datum],\">\"&B310,Haushaltsbuch2[Datum],\"<=\"&B311)","v":0},{"$f":"SUMIFS(Haushaltsbuch2[Einnahmen],Haushaltsbuch2[Kategorie],N$4,Haushaltsbuch2[Datum],\">\"&B310,Haushaltsbuch2[Datum],\"<=\"&B311)","v":0},{"$f":"SUMIFS(Haushaltsbuch2[Einnahmen],Haushaltsbuch2[Kategorie],O$4,Haushaltsbuch2[Datum],\">\"&B310,Haushaltsbuch2[Datum],\"<=\"&B311)","v":0},{"$f":"SUMIFS(Haushaltsbuch2[Einnahmen],Haushaltsbuch2[Kategorie],P$4,Haushaltsbuch2[Datum],\">\"&B310,Haushaltsbuch2[Datum],\"<=\"&B311)","v":0},{"$f":"SUMIFS(Haushaltsbuch2[Einnahmen],Haushaltsbuch2[Kategorie],Q$4,Haushaltsbuch2[Datum],\">\"&B310,Haushaltsbuch2[Datum],\"<=\"&B311)","v":0},{"$f":"SUMIFS(Haushaltsbuch2[Einnahmen],Haushaltsbuch2[Kategorie],R$4,Haushaltsbuch2[Datum],\">\"&B310,Haushaltsbuch2[Datum],\"<=\"&B311)","v":0},null,null,null,null,null,null,null,null,null,null,null,null,null,null,null,null,null,null,{"$f":"SUMIFS(Haushaltsbuch2[Ausgaben],Haushaltsbuch2[Kategorie],AK$4,Haushaltsbuch2[Datum],\">\"&B310,Haushaltsbuch2[Datum],\"<=\"&B311)","v":0},null,null,{"$f":"SUMIFS(Dividenden[Betrag in EUR],Dividenden[Datum],\">\"&B310,Dividenden[Datum],\"<=\"&B311)","v":0},{"$f":"SUMIFS(Optionen[G/V (Netto)],Optionen[Datum],\">\"&B310,Optionen[Datum],\"<=\"&B311)","v":0},null,0,0,null,0,0,null,{"$f":"SUMIFS(Haushaltsbuch2[Einnahmen],Haushaltsbuch2[Datum],\">\"&B310,Haushaltsbuch2[Datum],\"<=\"&B311)+AN311+AO311","v":0},null,0,null,{"$f":"SUMIFS(Haushaltsbuch2[Ausgaben],Haushaltsbuch2[Datum],\">\"&B310,Haushaltsbuch2[Datum],\"<=\"&B311)","v":0}]
[null,34972,null,null,null,null,null,null,null,null,null,null,{"$f":"SUMIFS(Haushaltsbuch2[Einnahmen],Haushaltsbuch2[Kategorie],M$4,Haushaltsbuch2[Datum],\">\"&B311,Haushaltsbuch2[Datum],\"<=\"&B312)","v":0},{"$f":"SUMIFS(Haushaltsbuch2[Einnahmen],Haushaltsbuch2[Kategorie],N$4,Haushaltsbuch2[Datum],\">\"&B311,Haushaltsbuch2[Datum],\"<=\"&B312)","v":0},{"$f":"SUMIFS(Haushaltsbuch2[Einnahmen],Haushaltsbuch2[Kategorie],O$4,Haushaltsbuch2[Datum],\">\"&B311,Haushaltsbuch2[Datum],\"<=\"&B312)","v":0},{"$f":"SUMIFS(Haushaltsbuch2[Einnahmen],Haushaltsbuch2[Kategorie],P$4,Haushaltsbuch2[Datum],\">\"&B311,Haushaltsbuch2[Datum],\"<=\"&B312)","v":0},{"$f":"SUMIFS(Haushaltsbuch2[Einnahmen],Haushaltsbuch2[Kategorie],Q$4,Haushaltsbuch2[Datum],\">\"&B311,Haushaltsbuch2[Datum],\"<=\"&B312)","v":0},{"$f":"SUMIFS(Haushaltsbuch2[Einnahmen],Haushaltsbuch2[Kategorie],R$4,Haushaltsbuch2[Datum],\">\"&B311,Haushaltsbuch2[Datum],\"<=\"&B312)","v":0},null,null,null,null,null,null,null,null,null,null,null,null,null,null,null,null,null,null,{"$f":"SUMIFS(Haushaltsbuch2[Ausgaben],Haushaltsbuch2[Kategorie],AK$4,Haushaltsbuch2[Datum],\">\"&B311,Haushaltsbuch2[Datum],\"<=\"&B312)","v":0},null,null,{"$f":"SUMIFS(Dividenden[Betrag in EUR],Dividenden[Datum],\">\"&B311,Dividenden[Datum],\"<=\"&B312)","v":0},{"$f":"SUMIFS(Optionen[G/V (Netto)],Optionen[Datum],\">\"&B311,Optionen[Datum],\"<=\"&B312)","v":0},null,0,0,null,0,0,null,{"$f":"SUMIFS(Haushaltsbuch2[Einnahmen],Haushaltsbuch2[Datum],\">\"&B311,Haushaltsbuch2[Datum],\"<=\"&B312)+AN312+AO312","v":0},null,0,null,{"$f":"SUMIFS(Haushaltsbuch2[Ausgaben],Haushaltsbuch2[Datum],\">\"&B311,Haushaltsbuch2[Datum],\"<=\"&B312)","v":0}]
[null,35003,null,null,null,null,null,null,null,null,null,null,{"$f":"SUMIFS(Haushaltsbuch2[Einnahmen],Haushaltsbuch2[Kategorie],M$4,Haushaltsbuch2[Datum],\">\"&B312,Haushaltsbuch2[Datum],\"<=\"&B313)","v":0},{"$f":"SUMIFS(Haushaltsbuch2[Einnahmen],Haushaltsbuch2[Kategorie],N$4,Haushaltsbuch2[Datum],\">\"&B312,Haushaltsbuch2[Datum],\"<=\"&B313)","v":0},{"$f":"SUMIFS(Haushaltsbuch2[Einnahmen],Haushaltsbuch2[Kategorie],O$4,Haushaltsbuch2[Datum],\">\"&B312,Haushaltsbuch2[Datum],\"<=\"&B313)","v":0},{"$f":"SUMIFS(Haushaltsbuch2[Einnahmen],Haushaltsbuch2[Kategorie],P$4,Haushaltsbuch2[Datum],\">\"&B312,Haushaltsbuch2[Datum],\"<=\"&B313)","v":0},{"$f":"SUMIFS(Haushaltsbuch2[Einnahmen],Haushaltsbuch2[Kategorie],Q$4,Haushaltsbuch2[Datum],\">\"&B312,Haushaltsbuch2[Datum],\"<=\"&B313)","v":0},{"$f":"SUMIFS(Haushaltsbuch2[Einnahmen],Haushaltsbuch2[Kategorie],R$4,Haushaltsbuch2[Datum],\">\"&B312,Haushaltsbuch2[Datum],\"<=\"&B313)","v":0},null,null,null,null,null,null,null,null,null,null,null,null,null,null,null,null,null,null,{"$f":"SUMIFS(Haushaltsbuch2[Ausgaben],Haushaltsbuch2[Kategorie],AK$4,Haushaltsbuch2[Datum],\">\"&B312,Haushaltsbuch2[Datum],\"<=\"&B313)","v":0},null,null,{"$f":"SUMIFS(Dividenden[Betrag in EUR],Dividenden[Datum],\">\"&B312,Dividenden[Datum],\"<=\"&B313)","v":0},{"$f":"SUMIFS(Optionen[G/V (Netto)],Optionen[Datum],\">\"&B312,Optionen[Datum],\"<=\"&B313)","v":0},null,0,0,null,0,0,null,{"$f":"SUMIFS(Haushaltsbuch2[Einnahmen],Haushaltsbuch2[Datum],\">\"&B312,Haushaltsbuch2[Datum],\"<=\"&B313)+AN313+AO313","v":0},null,0,null,{"$f":"SUMIFS(Haushaltsbuch2[Ausgaben],Haushaltsbuch2[Datum],\">\"&B312,Haushaltsbuch2[Datum],\"<=\"&B313)","v":0}]
[null,35033,null,null,null,null,null,null,null,null,null,null,{"$f":"SUMIFS(Haushaltsbuch2[Einnahmen],Haushaltsbuch2[Kategorie],M$4,Haushaltsbuch2[Datum],\">\"&B313,Haushaltsbuch2[Datum],\"<=\"&B314)","v":0},{"$f":"SUMIFS(Haushaltsbuch2[Einnahmen],Haushaltsbuch2[Kategorie],N$4,Haushaltsbuch2[Datum],\">\"&B313,Haushaltsbuch2[Datum],\"<=\"&B314)","v":0},{"$f":"SUMIFS(Haushaltsbuch2[Einnahmen],Haushaltsbuch2[Kategorie],O$4,Haushaltsbuch2[Datum],\">\"&B313,Haushaltsbuch2[Datum],\"<=\"&B314)","v":0},{"$f":"SUMIFS(Haushaltsbuch2[Einnahmen],Haushaltsbuch2[Kategorie],P$4,Haushaltsbuch2[Datum],\">\"&B313,Haushaltsbuch2[Datum],\"<=\"&B314)","v":0},{"$f":"SUMIFS(Haushaltsbuch2[Einnahmen],Haushaltsbuch2[Kategorie],Q$4,Haushaltsbuch2[Datum],\">\"&B313,Haushaltsbuch2[Datum],\"<=\"&B314)","v":0},{"$f":"SUMIFS(Haushaltsbuch2[Einnahmen],Haushaltsbuch2[Kategorie],R$4,Haushaltsbuch2[Datum],\">\"&B313,Haushaltsbuch2[Datum],\"<=\"&B314)","v":0},null,null,null,null,null,null,null,null,null,null,null,null,null,null,null,null,null,null,{"$f":"SUMIFS(Haushaltsbuch2[Ausgaben],Haushaltsbuch2[Kategorie],AK$4,Haushaltsbuch2[Datum],\">\"&B313,Haushaltsbuch2[Datum],\"<=\"&B314)","v":0},null,null,{"$f":"SUMIFS(Dividenden[Betrag in EUR],Dividenden[Datum],\">\"&B313,Dividenden[Datum],\"<=\"&B314)","v":0},{"$f":"SUMIFS(Optionen[G/V (Netto)],Optionen[Datum],\">\"&B313,Optionen[Datum],\"<=\"&B314)","v":0},null,0,0,null,0,0,null,{"$f":"SUMIFS(Haushaltsbuch2[Einnahmen],Haushaltsbuch2[Datum],\">\"&B313,Haushaltsbuch2[Datum],\"<=\"&B314)+AN314+AO314","v":0},null,0,null,{"$f":"SUMIFS(Haushaltsbuch2[Ausgaben],Haushaltsbuch2[Datum],\">\"&B313,Haushaltsbuch2[Datum],\"<=\"&B314)","v":0}]
[null,35064,null,null,null,null,null,null,null,null,null,null,{"$f":"SUMIFS(Haushaltsbuch2[Einnahmen],Haushaltsbuch2[Kategorie],M$4,Haushaltsbuch2[Datum],\">\"&B314,Haushaltsbuch2[Datum],\"<=\"&B315)","v":0},{"$f":"SUMIFS(Haushaltsbuch2[Einnahmen],Haushaltsbuch2[Kategorie],N$4,Haushaltsbuch2[Datum],\">\"&B314,Haushaltsbuch2[Datum],\"<=\"&B315)","v":0},{"$f":"SUMIFS(Haushaltsbuch2[Einnahmen],Haushaltsbuch2[Kategorie],O$4,Haushaltsbuch2[Datum],\">\"&B314,Haushaltsbuch2[Datum],\"<=\"&B315)","v":0},{"$f":"SUMIFS(Haushaltsbuch2[Einnahmen],Haushaltsbuch2[Kategorie],P$4,Haushaltsbuch2[Datum],\">\"&B314,Haushaltsbuch2[Datum],\"<=\"&B315)","v":0},{"$f":"SUMIFS(Haushaltsbuch2[Einnahmen],Haushaltsbuch2[Kategorie],Q$4,Haushaltsbuch2[Datum],\">\"&B314,Haushaltsbuch2[Datum],\"<=\"&B315)","v":0},{"$f":"SUMIFS(Haushaltsbuch2[Einnahmen],Haushaltsbuch2[Kategorie],R$4,Haushaltsbuch2[Datum],\">\"&B314,Haushaltsbuch2[Datum],\"<=\"&B315)","v":0},null,null,null,null,null,null,null,null,null,null,null,null,null,null,null,null,null,null,{"$f":"SUMIFS(Haushaltsbuch2[Ausgaben],Haushaltsbuch2[Kategorie],AK$4,Haushaltsbuch2[Datum],\">\"&B314,Haushaltsbuch2[Datum],\"<=\"&B315)","v":0},null,null,{"$f":"SUMIFS(Dividenden[Betrag in EUR],Dividenden[Datum],\">\"&B314,Dividenden[Datum],\"<=\"&B315)","v":0},{"$f":"SUMIFS(Optionen[G/V (Netto)],Optionen[Datum],\">\"&B314,Optionen[Datum],\"<=\"&B315)","v":0},null,0,0,null,0,0,null,{"$f":"SUMIFS(Haushaltsbuch2[Einnahmen],Haushaltsbuch2[Datum],\">\"&B314,Haushaltsbuch2[Datum],\"<=\"&B315)+AN315+AO315","v":0},null,0,null,{"$f":"SUMIFS(Haushaltsbuch2[Ausgaben],Haushaltsbuch2[Datum],\">\"&B314,Haushaltsbuch2[Datum],\"<=\"&B315)","v":0}]
[null,35095,null,null,null,null,null,null,null,null,null,null,{"$f":"SUMIFS(Haushaltsbuch2[Einnahmen],Haushaltsbuch2[Kategorie],M$4,Haushaltsbuch2[Datum],\">\"&B315,Haushaltsbuch2[Datum],\"<=\"&B316)","v":0},{"$f":"SUMIFS(Haushaltsbuch2[Einnahmen],Haushaltsbuch2[Kategorie],N$4,Haushaltsbuch2[Datum],\">\"&B315,Haushaltsbuch2[Datum],\"<=\"&B316)","v":0},{"$f":"SUMIFS(Haushaltsbuch2[Einnahmen],Haushaltsbuch2[Kategorie],O$4,Haushaltsbuch2[Datum],\">\"&B315,Haushaltsbuch2[Datum],\"<=\"&B316)","v":0},{"$f":"SUMIFS(Haushaltsbuch2[Einnahmen],Haushaltsbuch2[Kategorie],P$4,Haushaltsbuch2[Datum],\">\"&B315,Haushaltsbuch2[Datum],\"<=\"&B316)","v":0},{"$f":"SUMIFS(Haushaltsbuch2[Einnahmen],Haushaltsbuch2[Kategorie],Q$4,Haushaltsbuch2[Datum],\">\"&B315,Haushaltsbuch2[Datum],\"<=\"&B316)","v":0},{"$f":"SUMIFS(Haushaltsbuch2[Einnahmen],Haushaltsbuch2[Kategorie],R$4,Haushaltsbuch2[Datum],\">\"&B315,Haushaltsbuch2[Datum],\"<=\"&B316)","v":0},null,null,null,null,null,null,null,null,null,null,null,null,null,null,null,null,null,null,{"$f":"SUMIFS(Haushaltsbuch2[Ausgaben],Haushaltsbuch2[Kategorie],AK$4,Haushaltsbuch2[Datum],\">\"&B315,Haushaltsbuch2[Datum],\"<=\"&B316)","v":0},null,null,{"$f":"SUMIFS(Dividenden[Betrag in EUR],Dividenden[Datum],\">\"&B315,Dividenden[Datum],\"<=\"&B316)","v":0},{"$f":"SUMIFS(Optionen[G/V (Netto)],Optionen[Datum],\">\"&B315,Optionen[Datum],\"<=\"&B316)","v":0},null,0,0,null,0,0,null,{"$f":"SUMIFS(Haushaltsbuch2[Einnahmen],Haushaltsbuch2[Datum],\">\"&B315,Haushaltsbuch2[Datum],\"<=\"&B316)+AN316+AO316","v":0},null,0,null,{"$f":"SUMIFS(Haushaltsbuch2[Ausgaben],Haushaltsbuch2[Datum],\">\"&B315,Haushaltsbuch2[Datum],\"<=\"&B316)","v":0}]
[null,35124,null,null,null,null,null,null,null,null,null,null,{"$f":"SUMIFS(Haushaltsbuch2[Einnahmen],Haushaltsbuch2[Kategorie],M$4,Haushaltsbuch2[Datum],\">\"&B316,Haushaltsbuch2[Datum],\"<=\"&B317)","v":0},{"$f":"SUMIFS(Haushaltsbuch2[Einnahmen],Haushaltsbuch2[Kategorie],N$4,Haushaltsbuch2[Datum],\">\"&B316,Haushaltsbuch2[Datum],\"<=\"&B317)","v":0},{"$f":"SUMIFS(Haushaltsbuch2[Einnahmen],Haushaltsbuch2[Kategorie],O$4,Haushaltsbuch2[Datum],\">\"&B316,Haushaltsbuch2[Datum],\"<=\"&B317)","v":0},{"$f":"SUMIFS(Haushaltsbuch2[Einnahmen],Haushaltsbuch2[Kategorie],P$4,Haushaltsbuch2[Datum],\">\"&B316,Haushaltsbuch2[Datum],\"<=\"&B317)","v":0},{"$f":"SUMIFS(Haushaltsbuch2[Einnahmen],Haushaltsbuch2[Kategorie],Q$4,Haushaltsbuch2[Datum],\">\"&B316,Haushaltsbuch2[Datum],\"<=\"&B317)","v":0},{"$f":"SUMIFS(Haushaltsbuch2[Einnahmen],Haushaltsbuch2[Kategorie],R$4,Haushaltsbuch2[Datum],\">\"&B316,Haushaltsbuch2[Datum],\"<=\"&B317)","v":0},null,null,null,null,null,null,null,null,null,null,null,null,null,null,null,null,null,null,{"$f":"SUMIFS(Haushaltsbuch2[Ausgaben],Haushaltsbuch2[Kategorie],AK$4,Haushaltsbuch2[Datum],\">\"&B316,Haushaltsbuch2[Datum],\"<=\"&B317)","v":0},null,null,{"$f":"SUMIFS(Dividenden[Betrag in EUR],Dividenden[Datum],\">\"&B316,Dividenden[Datum],\"<=\"&B317)","v":0},{"$f":"SUMIFS(Optionen[G/V (Netto)],Optionen[Datum],\">\"&B316,Optionen[Datum],\"<=\"&B317)","v":0},null,0,0,null,0,0,null,{"$f":"SUMIFS(Haushaltsbuch2[Einnahmen],Haushaltsbuch2[Datum],\">\"&B316,Haushaltsbuch2[Datum],\"<=\"&B317)+AN317+AO317","v":0},null,0,null,{"$f":"SUMIFS(Haushaltsbuch2[Ausgaben],Haushaltsbuch2[Datum],\">\"&B316,Haushaltsbuch2[Datum],\"<=\"&B317)","v":0}]
[null,35155,null,null,null,null,null,null,null,null,null,null,{"$f":"SUMIFS(Haushaltsbuch2[Einnahmen],Haushaltsbuch2[Kategorie],M$4,Haushaltsbuch2[Datum],\">\"&B317,Haushaltsbuch2[Datum],\"<=\"&B318)","v":0},{"$f":"SUMIFS(Haushaltsbuch2[Einnahmen],Haushaltsbuch2[Kategorie],N$4,Haushaltsbuch2[Datum],\">\"&B317,Haushaltsbuch2[Datum],\"<=\"&B318)","v":0},{"$f":"SUMIFS(Haushaltsbuch2[Einnahmen],Haushaltsbuch2[Kategorie],O$4,Haushaltsbuch2[Datum],\">\"&B317,Haushaltsbuch2[Datum],\"<=\"&B318)","v":0},{"$f":"SUMIFS(Haushaltsbuch2[Einnahmen],Haushaltsbuch2[Kategorie],P$4,Haushaltsbuch2[Datum],\">\"&B317,Haushaltsbuch2[Datum],\"<=\"&B318)","v":0},{"$f":"SUMIFS(Haushaltsbuch2[Einnahmen],Haushaltsbuch2[Kategorie],Q$4,Haushaltsbuch2[Datum],\">\"&B317,Haushaltsbuch2[Datum],\"<=\"&B318)","v":0},{"$f":"SUMIFS(Haushaltsbuch2[Einnahmen],Haushaltsbuch2[Kategorie],R$4,Haushaltsbuch2[Datum],\">\"&B317,Haushaltsbuch2[Datum],\"<=\"&B318)","v":0},null,null,null,null,null,null,null,null,null,null,null,null,null,null,null,null,null,null,{"$f":"SUMIFS(Haushaltsbuch2[Ausgaben],Haushaltsbuch2[Kategorie],AK$4,Haushaltsbuch2[Datum],\">\"&B317,Haushaltsbuch2[Datum],\"<=\"&B318)","v":0},null,null,{"$f":"SUMIFS(Dividenden[Betrag in EUR],Dividenden[Datum],\">\"&B317,Dividenden[Datum],\"<=\"&B318)","v":0},{"$f":"SUMIFS(Optionen[G/V (Netto)],Optionen[Datum],\">\"&B317,Optionen[Datum],\"<=\"&B318)","v":0},null,0,0,null,0,0,null,{"$f":"SUMIFS(Haushaltsbuch2[Einnahmen],Haushaltsbuch2[Datum],\">\"&B317,Haushaltsbuch2[Datum],\"<=\"&B318)+AN318+AO318","v":0},null,0,null,{"$f":"SUMIFS(Haushaltsbuch2[Ausgaben],Haushaltsbuch2[Datum],\">\"&B317,Haushaltsbuch2[Datum],\"<=\"&B318)","v":0}]
[null,35185,null,null,null,null,null,null,null,null,null,null,{"$f":"SUMIFS(Haushaltsbuch2[Einnahmen],Haushaltsbuch2[Kategorie],M$4,Haushaltsbuch2[Datum],\">\"&B318,Haushaltsbuch2[Datum],\"<=\"&B319)","v":0},{"$f":"SUMIFS(Haushaltsbuch2[Einnahmen],Haushaltsbuch2[Kategorie],N$4,Haushaltsbuch2[Datum],\">\"&B318,Haushaltsbuch2[Datum],\"<=\"&B319)","v":0},{"$f":"SUMIFS(Haushaltsbuch2[Einnahmen],Haushaltsbuch2[Kategorie],O$4,Haushaltsbuch2[Datum],\">\"&B318,Haushaltsbuch2[Datum],\"<=\"&B319)","v":0},{"$f":"SUMIFS(Haushaltsbuch2[Einnahmen],Haushaltsbuch2[Kategorie],P$4,Haushaltsbuch2[Datum],\">\"&B318,Haushaltsbuch2[Datum],\"<=\"&B319)","v":0},{"$f":"SUMIFS(Haushaltsbuch2[Einnahmen],Haushaltsbuch2[Kategorie],Q$4,Haushaltsbuch2[Datum],\">\"&B318,Haushaltsbuch2[Datum],\"<=\"&B319)","v":0},{"$f":"SUMIFS(Haushaltsbuch2[Einnahmen],Haushaltsbuch2[Kategorie],R$4,Haushaltsbuch2[Datum],\">\"&B318,Haushaltsbuch2[Datum],\"<=\"&B319)","v":0},null,null,null,null,null,null,null,null,null,null,null,null,null,null,null,null,null,null,{"$f":"SUMIFS(Haushaltsbuch2[Ausgaben],Haushaltsbuch2[Kategorie],AK$4,Haushaltsbuch2[Datum],\">\"&B318,Haushaltsbuch2[Datum],\"<=\"&B319)","v":0},null,null,{"$f":"SUMIFS(Dividenden[Betrag in EUR],Dividenden[Datum],\">\"&B318,Dividenden[Datum],\"<=\"&B319)","v":0},{"$f":"SUMIFS(Optionen[G/V (Netto)],Optionen[Datum],\">\"&B318,Optionen[Datum],\"<=\"&B319)","v":0},null,0,0,null,0,0,null,{"$f":"SUMIFS(Haushaltsbuch2[Einnahmen],Haushaltsbuch2[Datum],\">\"&B318,Haushaltsbuch2[Datum],\"<=\"&B319)+AN319+AO319","v":0},null,0,null,{"$f":"SUMIFS(Haushaltsbuch2[Ausgaben],Haushaltsbuch2[Datum],\">\"&B318,Haushaltsbuch2[Datum],\"<=\"&B319)","v":0}]
[null,35216,null,null,null,null,null,null,null,null,null,null,{"$f":"SUMIFS(Haushaltsbuch2[Einnahmen],Haushaltsbuch2[Kategorie],M$4,Haushaltsbuch2[Datum],\">\"&B319,Haushaltsbuch2[Datum],\"<=\"&B320)","v":0},{"$f":"SUMIFS(Haushaltsbuch2[Einnahmen],Haushaltsbuch2[Kategorie],N$4,Haushaltsbuch2[Datum],\">\"&B319,Haushaltsbuch2[Datum],\"<=\"&B320)","v":0},{"$f":"SUMIFS(Haushaltsbuch2[Einnahmen],Haushaltsbuch2[Kategorie],O$4,Haushaltsbuch2[Datum],\">\"&B319,Haushaltsbuch2[Datum],\"<=\"&B320)","v":0},{"$f":"SUMIFS(Haushaltsbuch2[Einnahmen],Haushaltsbuch2[Kategorie],P$4,Haushaltsbuch2[Datum],\">\"&B319,Haushaltsbuch2[Datum],\"<=\"&B320)","v":0},{"$f":"SUMIFS(Haushaltsbuch2[Einnahmen],Haushaltsbuch2[Kategorie],Q$4,Haushaltsbuch2[Datum],\">\"&B319,Haushaltsbuch2[Datum],\"<=\"&B320)","v":0},{"$f":"SUMIFS(Haushaltsbuch2[Einnahmen],Haushaltsbuch2[Kategorie],R$4,Haushaltsbuch2[Datum],\">\"&B319,Haushaltsbuch2[Datum],\"<=\"&B320)","v":0},null,null,null,null,null,null,null,null,null,null,null,null,null,null,null,null,null,null,{"$f":"SUMIFS(Haushaltsbuch2[Ausgaben],Haushaltsbuch2[Kategorie],AK$4,Haushaltsbuch2[Datum],\">\"&B319,Haushaltsbuch2[Datum],\"<=\"&B320)","v":0},null,null,{"$f":"SUMIFS(Dividenden[Betrag in EUR],Dividenden[Datum],\">\"&B319,Dividenden[Datum],\"<=\"&B320)","v":0},{"$f":"SUMIFS(Optionen[G/V (Netto)],Optionen[Datum],\">\"&B319,Optionen[Datum],\"<=\"&B320)","v":0},null,0,0,null,0,0,null,{"$f":"SUMIFS(Haushaltsbuch2[Einnahmen],Haushaltsbuch2[Datum],\">\"&B319,Haushaltsbuch2[Datum],\"<=\"&B320)+AN320+AO320","v":0},null,0,null,{"$f":"SUMIFS(Haushaltsbuch2[Ausgaben],Haushaltsbuch2[Datum],\">\"&B319,Haushaltsbuch2[Datum],\"<=\"&B320)","v":0}]
[null,35246,null,null,null,null,null,null,null,null,null,null,{"$f":"SUMIFS(Haushaltsbuch2[Einnahmen],Haushaltsbuch2[Kategorie],M$4,Haushaltsbuch2[Datum],\">\"&B320,Haushaltsbuch2[Datum],\"<=\"&B321)","v":0},{"$f":"SUMIFS(Haushaltsbuch2[Einnahmen],Haushaltsbuch2[Kategorie],N$4,Haushaltsbuch2[Datum],\">\"&B320,Haushaltsbuch2[Datum],\"<=\"&B321)","v":0},{"$f":"SUMIFS(Haushaltsbuch2[Einnahmen],Haushaltsbuch2[Kategorie],O$4,Haushaltsbuch2[Datum],\">\"&B320,Haushaltsbuch2[Datum],\"<=\"&B321)","v":0},{"$f":"SUMIFS(Haushaltsbuch2[Einnahmen],Haushaltsbuch2[Kategorie],P$4,Haushaltsbuch2[Datum],\">\"&B320,Haushaltsbuch2[Datum],\"<=\"&B321)","v":0},{"$f":"SUMIFS(Haushaltsbuch2[Einnahmen],Haushaltsbuch2[Kategorie],Q$4,Haushaltsbuch2[Datum],\">\"&B320,Haushaltsbuch2[Datum],\"<=\"&B321)","v":0},{"$f":"SUMIFS(Haushaltsbuch2[Einnahmen],Haushaltsbuch2[Kategorie],R$4,Haushaltsbuch2[Datum],\">\"&B320,Haushaltsbuch2[Datum],\"<=\"&B321)","v":0},null,null,null,null,null,null,null,null,null,null,null,null,null,null,null,null,null,null,{"$f":"SUMIFS(Haushaltsbuch2[Ausgaben],Haushaltsbuch2[Kategorie],AK$4,Haushaltsbuch2[Datum],\">\"&B320,Haushaltsbuch2[Datum],\"<=\"&B321)","v":0},null,null,{"$f":"SUMIFS(Dividenden[Betrag in EUR],Dividenden[Datum],\">\"&B320,Dividenden[Datum],\"<=\"&B321)","v":0},{"$f":"SUMIFS(Optionen[G/V (Netto)],Optionen[Datum],\">\"&B320,Optionen[Datum],\"<=\"&B321)","v":0},null,0,0,null,0,0,null,{"$f":"SUMIFS(Haushaltsbuch2[Einnahmen],Haushaltsbuch2[Datum],\">\"&B320,Haushaltsbuch2[Datum],\"<=\"&B321)+AN321+AO321","v":0},null,0,null,{"$f":"SUMIFS(Haushaltsbuch2[Ausgaben],Haushaltsbuch2[Datum],\">\"&B320,Haushaltsbuch2[Datum],\"<=\"&B321)","v":0}]
[null,35277,null,null,null,null,null,null,null,null,null,null,{"$f":"SUMIFS(Haushaltsbuch2[Einnahmen],Haushaltsbuch2[Kategorie],M$4,Haushaltsbuch2[Datum],\">\"&B321,Haushaltsbuch2[Datum],\"<=\"&B322)","v":0},{"$f":"SUMIFS(Haushaltsbuch2[Einnahmen],Haushaltsbuch2[Kategorie],N$4,Haushaltsbuch2[Datum],\">\"&B321,Haushaltsbuch2[Datum],\"<=\"&B322)","v":0},{"$f":"SUMIFS(Haushaltsbuch2[Einnahmen],Haushaltsbuch2[Kategorie],O$4,Haushaltsbuch2[Datum],\">\"&B321,Haushaltsbuch2[Datum],\"<=\"&B322)","v":0},{"$f":"SUMIFS(Haushaltsbuch2[Einnahmen],Haushaltsbuch2[Kategorie],P$4,Haushaltsbuch2[Datum],\">\"&B321,Haushaltsbuch2[Datum],\"<=\"&B322)","v":0},{"$f":"SUMIFS(Haushaltsbuch2[Einnahmen],Haushaltsbuch2[Kategorie],Q$4,Haushaltsbuch2[Datum],\">\"&B321,Haushaltsbuch2[Datum],\"<=\"&B322)","v":0},{"$f":"SUMIFS(Haushaltsbuch2[Einnahmen],Haushaltsbuch2[Kategorie],R$4,Haushaltsbuch2[Datum],\">\"&B321,Haushaltsbuch2[Datum],\"<=\"&B322)","v":0},null,null,null,null,null,null,null,null,null,null,null,null,null,null,null,null,null,null,{"$f":"SUMIFS(Haushaltsbuch2[Ausgaben],Haushaltsbuch2[Kategorie],AK$4,Haushaltsbuch2[Datum],\">\"&B321,Haushaltsbuch2[Datum],\"<=\"&B322)","v":0},null,null,{"$f":"SUMIFS(Dividenden[Betrag in EUR],Dividenden[Datum],\">\"&B321,Dividenden[Datum],\"<=\"&B322)","v":0},{"$f":"SUMIFS(Optionen[G/V (Netto)],Optionen[Datum],\">\"&B321,Optionen[Datum],\"<=\"&B322)","v":0},null,0,0,null,0,0,null,{"$f":"SUMIFS(Haushaltsbuch2[Einnahmen],Haushaltsbuch2[Datum],\">\"&B321,Haushaltsbuch2[Datum],\"<=\"&B322)+AN322+AO322","v":0},null,0,null,{"$f":"SUMIFS(Haushaltsbuch2[Ausgaben],Haushaltsbuch2[Datum],\">\"&B321,Haushaltsbuch2[Datum],\"<=\"&B322)","v":0}]
[null,35308,null,null,null,null,null,null,null,null,null,null,{"$f":"SUMIFS(Haushaltsbuch2[Einnahmen],Haushaltsbuch2[Kategorie],M$4,Haushaltsbuch2[Datum],\">\"&B322,Haushaltsbuch2[Datum],\"<=\"&B323)","v":0},{"$f":"SUMIFS(Haushaltsbuch2[Einnahmen],Haushaltsbuch2[Kategorie],N$4,Haushaltsbuch2[Datum],\">\"&B322,Haushaltsbuch2[Datum],\"<=\"&B323)","v":0},{"$f":"SUMIFS(Haushaltsbuch2[Einnahmen],Haushaltsbuch2[Kategorie],O$4,Haushaltsbuch2[Datum],\">\"&B322,Haushaltsbuch2[Datum],\"<=\"&B323)","v":0},{"$f":"SUMIFS(Haushaltsbuch2[Einnahmen],Haushaltsbuch2[Kategorie],P$4,Haushaltsbuch2[Datum],\">\"&B322,Haushaltsbuch2[Datum],\"<=\"&B323)","v":0},{"$f":"SUMIFS(Haushaltsbuch2[Einnahmen],Haushaltsbuch2[Kategorie],Q$4,Haushaltsbuch2[Datum],\">\"&B322,Haushaltsbuch2[Datum],\"<=\"&B323)","v":0},{"$f":"SUMIFS(Haushaltsbuch2[Einnahmen],Haushaltsbuch2[Kategorie],R$4,Haushaltsbuch2[Datum],\">\"&B322,Haushaltsbuch2[Datum],\"<=\"&B323)","v":0},null,null,null,null,null,null,null,null,null,null,null,null,null,null,null,null,null,null,{"$f":"SUMIFS(Haushaltsbuch2[Ausgaben],Haushaltsbuch2[Kategorie],AK$4,Haushaltsbuch2[Datum],\">\"&B322,Haushaltsbuch2[Datum],\"<=\"&B323)","v":0},null,null,{"$f":"SUMIFS(Dividenden[Betrag in EUR],Dividenden[Datum],\">\"&B322,Dividenden[Datum],\"<=\"&B323)","v":0},{"$f":"SUMIFS(Optionen[G/V (Netto)],Optionen[Datum],\">\"&B322,Optionen[Datum],\"<=\"&B323)","v":0},null,0,0,null,0,0,null,{"$f":"SUMIFS(Haushaltsbuch2[Einnahmen],Haushaltsbuch2[Datum],\">\"&B322,Haushaltsbuch2[Datum],\"<=\"&B323)+AN323+AO323","v":0},null,0,null,{"$f":"SUMIFS(Haushaltsbuch2[Ausgaben],Haushaltsbuch2[Datum],\">\"&B322,Haushaltsbuch2[Datum],\"<=\"&B323)","v":0}]
[null,35338,null,null,null,null,null,null,null,null,null,null,{"$f":"SUMIFS(Haushaltsbuch2[Einnahmen],Haushaltsbuch2[Kategorie],M$4,Haushaltsbuch2[Datum],\">\"&B323,Haushaltsbuch2[Datum],\"<=\"&B324)","v":0},{"$f":"SUMIFS(Haushaltsbuch2[Einnahmen],Haushaltsbuch2[Kategorie],N$4,Haushaltsbuch2[Datum],\">\"&B323,Haushaltsbuch2[Datum],\"<=\"&B324)","v":0},{"$f":"SUMIFS(Haushaltsbuch2[Einnahmen],Haushaltsbuch2[Kategorie],O$4,Haushaltsbuch2[Datum],\">\"&B323,Haushaltsbuch2[Datum],\"<=\"&B324)","v":0},{"$f":"SUMIFS(Haushaltsbuch2[Einnahmen],Haushaltsbuch2[Kategorie],P$4,Haushaltsbuch2[Datum],\">\"&B323,Haushaltsbuch2[Datum],\"<=\"&B324)","v":0},{"$f":"SUMIFS(Haushaltsbuch2[Einnahmen],Haushaltsbuch2[Kategorie],Q$4,Haushaltsbuch2[Datum],\">\"&B323,Haushaltsbuch2[Datum],\"<=\"&B324)","v":0},{"$f":"SUMIFS(Haushaltsbuch2[Einnahmen],Haushaltsbuch2[Kategorie],R$4,Haushaltsbuch2[Datum],\">\"&B323,Haushaltsbuch2[Datum],\"<=\"&B324)","v":0},null,null,null,null,null,null,null,null,null,null,null,null,null,null,null,null,null,null,{"$f":"SUMIFS(Haushaltsbuch2[Ausgaben],Haushaltsbuch2[Kategorie],AK$4,Haushaltsbuch2[Datum],\">\"&B323,Haushaltsbuch2[Datum],\"<=\"&B324)","v":0},null,null,{"$f":"SUMIFS(Dividenden[Betrag in EUR],Dividenden[Datum],\">\"&B323,Dividenden[Datum],\"<=\"&B324)","v":0},{"$f":"SUMIFS(Optionen[G/V (Netto)],Optionen[Datum],\">\"&B323,Optionen[Datum],\"<=\"&B324)","v":0},null,0,0,null,0,0,null,{"$f":"SUMIFS(Haushaltsbuch2[Einnahmen],Haushaltsbuch2[Datum],\">\"&B323,Haushaltsbuch2[Datum],\"<=\"&B324)+AN324+AO324","v":0},null,0,null,{"$f":"SUMIFS(Haushaltsbuch2[Ausgaben],Haushaltsbuch2[Datum],\">\"&B323,Haushaltsbuch2[Datum],\"<=\"&B324)","v":0}]
[null,35369,null,null,null,null,null,null,null,null,null,null,{"$f":"SUMIFS(Haushaltsbuch2[Einnahmen],Haushaltsbuch2[Kategorie],M$4,Haushaltsbuch2[Datum],\">\"&B324,Haushaltsbuch2[Datum],\"<=\"&B325)","v":0},{"$f":"SUMIFS(Haushaltsbuch2[Einnahmen],Haushaltsbuch2[Kategorie],N$4,Haushaltsbuch2[Datum],\">\"&B324,Haushaltsbuch2[Datum],\"<=\"&B325)","v":0},{"$f":"SUMIFS(Haushaltsbuch2[Einnahmen],Haushaltsbuch2[Kategorie],O$4,Haushaltsbuch2[Datum],\">\"&B324,Haushaltsbuch2[Datum],\"<=\"&B325)","v":0},{"$f":"SUMIFS(Haushaltsbuch2[Einnahmen],Haushaltsbuch2[Kategorie],P$4,Haushaltsbuch2[Datum],\">\"&B324,Haushaltsbuch2[Datum],\"<=\"&B325)","v":0},{"$f":"SUMIFS(Haushaltsbuch2[Einnahmen],Haushaltsbuch2[Kategorie],Q$4,Haushaltsbuch2[Datum],\">\"&B324,Haushaltsbuch2[Datum],\"<=\"&B325)","v":0},{"$f":"SUMIFS(Haushaltsbuch2[Einnahmen],Haushaltsbuch2[Kategorie],R$4,Haushaltsbuch2[Datum],\">\"&B324,Haushaltsbuch2[Datum],\"<=\"&B325)","v":0},null,null,null,null,null,null,null,null,null,null,null,null,null,null,null,null,null,null,{"$f":"SUMIFS(Haushaltsbuch2[Ausgaben],Haushaltsbuch2[Kategorie],AK$4,Haushaltsbuch2[Datum],\">\"&B324,Haushaltsbuch2[Datum],\"<=\"&B325)","v":0},null,null,{"$f":"SUMIFS(Dividenden[Betrag in EUR],Dividenden[Datum],\">\"&B324,Dividenden[Datum],\"<=\"&B325)","v":0},{"$f":"SUMIFS(Optionen[G/V (Netto)],Optionen[Datum],\">\"&B324,Optionen[Datum],\"<=\"&B325)","v":0},null,0,0,null,0,0,null,{"$f":"SUMIFS(Haushaltsbuch2[Einnahmen],Haushaltsbuch2[Datum],\">\"&B324,Haushaltsbuch2[Datum],\"<=\"&B325)+AN325+AO325","v":0},null,0,null,{"$f":"SUMIFS(Haushaltsbuch2[Ausgaben],Haushaltsbuch2[Datum],\">\"&B324,Haushaltsbuch2[Datum],\"<=\"&B325)","v":0}]
[null,35399,null,null,null,null,null,null,null,null,null,null,{"$f":"SUMIFS(Haushaltsbuch2[Einnahmen],Haushaltsbuch2[Kategorie],M$4,Haushaltsbuch2[Datum],\">\"&B325,Haushaltsbuch2[Datum],\"<=\"&B326)","v":0},{"$f":"SUMIFS(Haushaltsbuch2[Einnahmen],Haushaltsbuch2[Kategorie],N$4,Haushaltsbuch2[Datum],\">\"&B325,Haushaltsbuch2[Datum],\"<=\"&B326)","v":0},{"$f":"SUMIFS(Haushaltsbuch2[Einnahmen],Haushaltsbuch2[Kategorie],O$4,Haushaltsbuch2[Datum],\">\"&B325,Haushaltsbuch2[Datum],\"<=\"&B326)","v":0},{"$f":"SUMIFS(Haushaltsbuch2[Einnahmen],Haushaltsbuch2[Kategorie],P$4,Haushaltsbuch2[Datum],\">\"&B325,Haushaltsbuch2[Datum],\"<=\"&B326)","v":0},{"$f":"SUMIFS(Haushaltsbuch2[Einnahmen],Haushaltsbuch2[Kategorie],Q$4,Haushaltsbuch2[Datum],\">\"&B325,Haushaltsbuch2[Datum],\"<=\"&B326)","v":0},{"$f":"SUMIFS(Haushaltsbuch2[Einnahmen],Haushaltsbuch2[Kategorie],R$4,Haushaltsbuch2[Datum],\">\"&B325,Haushaltsbuch2[Datum],\"<=\"&B326)","v":0},null,null,null,null,null,null,null,null,null,null,null,null,null,null,null,null,null,null,{"$f":"SUMIFS(Haushaltsbuch2[Ausgaben],Haushaltsbuch2[Kategorie],AK$4,Haushaltsbuch2[Datum],\">\"&B325,Haushaltsbuch2[Datum],\"<=\"&B326)","v":0},null,null,{"$f":"SUMIFS(Dividenden[Betrag in EUR],Dividenden[Datum],\">\"&B325,Dividenden[Datum],\"<=\"&B326)","v":0},{"$f":"SUMIFS(Optionen[G/V (Netto)],Optionen[Datum],\">\"&B325,Optionen[Datum],\"<=\"&B326)","v":0},null,{"$f":"N326+AN326","v":0},{"$f":"O326+AO326","v":0},null,{"$f":"M326+SUM(P326:R326)+SUM(AQ326:AR326)","v":0},0,null,{"$f":"SUMIFS(Haushaltsbuch2[Einnahmen],Haushaltsbuch2[Datum],\">\"&B325,Haushaltsbuch2[Datum],\"<=\"&B326)+AN326+AO326","v":0},null,0,null,{"$f":"SUMIFS(Haushaltsbuch2[Ausgaben],Haushaltsbuch2[Datum],\">\"&B325,Haushaltsbuch2[Datum],\"<=\"&B326)","v":0}]
[null,{"$f":"EOMONTH(B326,1)","v":35430},null,null,null,null,null,null,null,null,null,null,{"$f":"SUMIFS(Haushaltsbuch2[Einnahmen],Haushaltsbuch2[Kategorie],M$4,Haushaltsbuch2[Datum],\">\"&B326,Haushaltsbuch2[Datum],\"<=\"&B327)","v":0},{"$f":"SUMIFS(Haushaltsbuch2[Einnahmen],Haushaltsbuch2[Kategorie],N$4,Haushaltsbuch2[Datum],\">\"&B326,Haushaltsbuch2[Datum],\"<=\"&B327)","v":0},{"$f":"SUMIFS(Haushaltsbuch2[Einnahmen],Haushaltsbuch2[Kategorie],O$4,Haushaltsbuch2[Datum],\">\"&B326,Haushaltsbuch2[Datum],\"<=\"&B327)","v":0},{"$f":"SUMIFS(Haushaltsbuch2[Einnahmen],Haushaltsbuch2[Kategorie],P$4,Haushaltsbuch2[Datum],\">\"&B326,Haushaltsbuch2[Datum],\"<=\"&B327)","v":0},{"$f":"SUMIFS(Haushaltsbuch2[Einnahmen],Haushaltsbuch2[Kategorie],Q$4,Haushaltsbuch2[Datum],\">\"&B326,Haushaltsbuch2[Datum],\"<=\"&B327)","v":0},{"$f":"SUMIFS(Haushaltsbuch2[Einnahmen],Haushaltsbuch2[Kategorie],R$4,Haushaltsbuch2[Datum],\">\"&B326,Haushaltsbuch2[Datum],\"<=\"&B327)","v":0},null,null,null,null,null,null,null,null,null,null,null,null,null,null,null,null,null,null,{"$f":"SUMIFS(Haushaltsbuch2[Ausgaben],Haushaltsbuch2[Kategorie],AK$4,Haushaltsbuch2[Datum],\">\"&B326,Haushaltsbuch2[Datum],\"<=\"&B327)","v":0},null,null,{"$f":"SUMIFS(Dividenden[Betrag in EUR],Dividenden[Datum],\">\"&B326,Dividenden[Datum],\"<=\"&B327)","v":0},{"$f":"SUMIFS(Optionen[G/V (Netto)],Optionen[Datum],\">\"&B326,Optionen[Datum],\"<=\"&B327)","v":0},null,0,0,null,0,0,null,{"$f":"SUMIFS(Haushaltsbuch2[Einnahmen],Haushaltsbuch2[Datum],\">\"&B326,Haushaltsbuch2[Datum],\"<=\"&B327)+AN327+AO327","v":0},null,0,null,{"$f":"SUMIFS(Haushaltsbuch2[Ausgaben],Haushaltsbuch2[Datum],\">\"&B326,Haushaltsbuch2[Datum],\"<=\"&B327)","v":0}]
[null,35461,null,null,null,null,null,null,null,null,null,null,{"$f":"SUMIFS(Haushaltsbuch2[Einnahmen],Haushaltsbuch2[Kategorie],M$4,Haushaltsbuch2[Datum],\">\"&B327,Haushaltsbuch2[Datum],\"<=\"&B328)","v":0},{"$f":"SUMIFS(Haushaltsbuch2[Einnahmen],Haushaltsbuch2[Kategorie],N$4,Haushaltsbuch2[Datum],\">\"&B327,Haushaltsbuch2[Datum],\"<=\"&B328)","v":0},{"$f":"SUMIFS(Haushaltsbuch2[Einnahmen],Haushaltsbuch2[Kategorie],O$4,Haushaltsbuch2[Datum],\">\"&B327,Haushaltsbuch2[Datum],\"<=\"&B328)","v":0},{"$f":"SUMIFS(Haushaltsbuch2[Einnahmen],Haushaltsbuch2[Kategorie],P$4,Haushaltsbuch2[Datum],\">\"&B327,Haushaltsbuch2[Datum],\"<=\"&B328)","v":0},{"$f":"SUMIFS(Haushaltsbuch2[Einnahmen],Haushaltsbuch2[Kategorie],Q$4,Haushaltsbuch2[Datum],\">\"&B327,Haushaltsbuch2[Datum],\"<=\"&B328)","v":0},{"$f":"SUMIFS(Haushaltsbuch2[Einnahmen],Haushaltsbuch2[Kategorie],R$4,Haushaltsbuch2[Datum],\">\"&B327,Haushaltsbuch2[Datum],\"<=\"&B328)","v":0},null,null,null,null,null,null,null,null,null,null,null,null,null,null,null,null,null,null,{"$f":"SUMIFS(Haushaltsbuch2[Ausgaben],Haushaltsbuch2[Kategorie],AK$4,Haushaltsbuch2[Datum],\">\"&B327,Haushaltsbuch2[Datum],\"<=\"&B328)","v":0},null,null,{"$f":"SUMIFS(Dividenden[Betrag in EUR],Dividenden[Datum],\">\"&B327,Dividenden[Datum],\"<=\"&B328)","v":0},{"$f":"SUMIFS(Optionen[G/V (Netto)],Optionen[Datum],\">\"&B327,Optionen[Datum],\"<=\"&B328)","v":0},null,0,0,null,0,0,null,{"$f":"SUMIFS(Haushaltsbuch2[Einnahmen],Haushaltsbuch2[Datum],\">\"&B327,Haushaltsbuch2[Datum],\"<=\"&B328)+AN328+AO328","v":0},null,0,null,{"$f":"SUMIFS(Haushaltsbuch2[Ausgaben],Haushaltsbuch2[Datum],\">\"&B327,Haushaltsbuch2[Datum],\"<=\"&B328)","v":0}]
[null,35489,null,null,null,null,null,null,null,null,null,null,{"$f":"SUMIFS(Haushaltsbuch2[Einnahmen],Haushaltsbuch2[Kategorie],M$4,Haushaltsbuch2[Datum],\">\"&B328,Haushaltsbuch2[Datum],\"<=\"&B329)","v":0},{"$f":"SUMIFS(Haushaltsbuch2[Einnahmen],Haushaltsbuch2[Kategorie],N$4,Haushaltsbuch2[Datum],\">\"&B328,Haushaltsbuch2[Datum],\"<=\"&B329)","v":0},{"$f":"SUMIFS(Haushaltsbuch2[Einnahmen],Haushaltsbuch2[Kategorie],O$4,Haushaltsbuch2[Datum],\">\"&B328,Haushaltsbuch2[Datum],\"<=\"&B329)","v":0},{"$f":"SUMIFS(Haushaltsbuch2[Einnahmen],Haushaltsbuch2[Kategorie],P$4,Haushaltsbuch2[Datum],\">\"&B328,Haushaltsbuch2[Datum],\"<=\"&B329)","v":0},{"$f":"SUMIFS(Haushaltsbuch2[Einnahmen],Haushaltsbuch2[Kategorie],Q$4,Haushaltsbuch2[Datum],\">\"&B328,Haushaltsbuch2[Datum],\"<=\"&B329)","v":0},{"$f":"SUMIFS(Haushaltsbuch2[Einnahmen],Haushaltsbuch2[Kategorie],R$4,Haushaltsbuch2[Datum],\">\"&B328,Haushaltsbuch2[Datum],\"<=\"&B329)","v":0},null,null,null,null,null,null,null,null,null,null,null,null,null,null,null,null,null,null,{"$f":"SUMIFS(Haushaltsbuch2[Ausgaben],Haushaltsbuch2[Kategorie],AK$4,Haushaltsbuch2[Datum],\">\"&B328,Haushaltsbuch2[Datum],\"<=\"&B329)","v":0},null,null,{"$f":"SUMIFS(Dividenden[Betrag in EUR],Dividenden[Datum],\">\"&B328,Dividenden[Datum],\"<=\"&B329)","v":0},{"$f":"SUMIFS(Optionen[G/V (Netto)],Optionen[Datum],\">\"&B328,Optionen[Datum],\"<=\"&B329)","v":0},null,0,0,null,0,0,null,{"$f":"SUMIFS(Haushaltsbuch2[Einnahmen],Haushaltsbuch2[Datum],\">\"&B328,Haushaltsbuch2[Datum],\"<=\"&B329)+AN329+AO329","v":0},null,0,null,{"$f":"SUMIFS(Haushaltsbuch2[Ausgaben],Haushaltsbuch2[Datum],\">\"&B328,Haushaltsbuch2[Datum],\"<=\"&B329)","v":0}]
[null,35520,null,null,null,null,null,null,null,null,null,null,{"$f":"SUMIFS(Haushaltsbuch2[Einnahmen],Haushaltsbuch2[Kategorie],M$4,Haushaltsbuch2[Datum],\">\"&B329,Haushaltsbuch2[Datum],\"<=\"&B330)","v":0},{"$f":"SUMIFS(Haushaltsbuch2[Einnahmen],Haushaltsbuch2[Kategorie],N$4,Haushaltsbuch2[Datum],\">\"&B329,Haushaltsbuch2[Datum],\"<=\"&B330)","v":0},{"$f":"SUMIFS(Haushaltsbuch2[Einnahmen],Haushaltsbuch2[Kategorie],O$4,Haushaltsbuch2[Datum],\">\"&B329,Haushaltsbuch2[Datum],\"<=\"&B330)","v":0},{"$f":"SUMIFS(Haushaltsbuch2[Einnahmen],Haushaltsbuch2[Kategorie],P$4,Haushaltsbuch2[Datum],\">\"&B329,Haushaltsbuch2[Datum],\"<=\"&B330)","v":0},{"$f":"SUMIFS(Haushaltsbuch2[Einnahmen],Haushaltsbuch2[Kategorie],Q$4,Haushaltsbuch2[Datum],\">\"&B329,Haushaltsbuch2[Datum],\"<=\"&B330)","v":0},{"$f":"SUMIFS(Haushaltsbuch2[Einnahmen],Haushaltsbuch2[Kategorie],R$4,Haushaltsbuch2[Datum],\">\"&B329,Haushaltsbuch2[Datum],\"<=\"&B330)","v":0},null,null,null,null,null,null,null,null,null,null,null,null,null,null,null,null,null,null,{"$f":"SUMIFS(Haushaltsbuch2[Ausgaben],Haushaltsbuch2[Kategorie],AK$4,Haushaltsbuch2[Datum],\">\"&B329,Haushaltsbuch2[Datum],\"<=\"&B330)","v":0},null,null,{"$f":"SUMIFS(Dividenden[Betrag in EUR],Dividenden[Datum],\">\"&B329,Dividenden[Datum],\"<=\"&B330)","v":0},{"$f":"SUMIFS(Optionen[G/V (Netto)],Optionen[Datum],\">\"&B329,Optionen[Datum],\"<=\"&B330)","v":0},null,0,0,null,0,0,null,{"$f":"SUMIFS(Haushaltsbuch2[Einnahmen],Haushaltsbuch2[Datum],\">\"&B329,Haushaltsbuch2[Datum],\"<=\"&B330)+AN330+AO330","v":0},null,0,null,{"$f":"SUMIFS(Haushaltsbuch2[Ausgaben],Haushaltsbuch2[Datum],\">\"&B329,Haushaltsbuch2[Datum],\"<=\"&B330)","v":0}]
[null,35550,null,null,null,null,null,null,null,null,null,null,{"$f":"SUMIFS(Haushaltsbuch2[Einnahmen],Haushaltsbuch2[Kategorie],M$4,Haushaltsbuch2[Datum],\">\"&B330,Haushaltsbuch2[Datum],\"<=\"&B331)","v":0},{"$f":"SUMIFS(Haushaltsbuch2[Einnahmen],Haushaltsbuch2[Kategorie],N$4,Haushaltsbuch2[Datum],\">\"&B330,Haushaltsbuch2[Datum],\"<=\"&B331)","v":0},{"$f":"SUMIFS(Haushaltsbuch2[Einnahmen],Haushaltsbuch2[Kategorie],O$4,Haushaltsbuch2[Datum],\">\"&B330,Haushaltsbuch2[Datum],\"<=\"&B331)","v":0},{"$f":"SUMIFS(Haushaltsbuch2[Einnahmen],Haushaltsbuch2[Kategorie],P$4,Haushaltsbuch2[Datum],\">\"&B330,Haushaltsbuch2[Datum],\"<=\"&B331)","v":0},{"$f":"SUMIFS(Haushaltsbuch2[Einnahmen],Haushaltsbuch2[Kategorie],Q$4,Haushaltsbuch2[Datum],\">\"&B330,Haushaltsbuch2[Datum],\"<=\"&B331)","v":0},{"$f":"SUMIFS(Haushaltsbuch2[Einnahmen],Haushaltsbuch2[Kategorie],R$4,Haushaltsbuch2[Datum],\">\"&B330,Haushaltsbuch2[Datum],\"<=\"&B331)","v":0},null,null,null,null,null,null,null,null,null,null,null,null,null,null,null,null,null,null,{"$f":"SUMIFS(Haushaltsbuch2[Ausgaben],Haushaltsbuch2[Kategorie],AK$4,Haushaltsbuch2[Datum],\">\"&B330,Haushaltsbuch2[Datum],\"<=\"&B331)","v":0},null,null,{"$f":"SUMIFS(Dividenden[Betrag in EUR],Dividenden[Datum],\">\"&B330,Dividenden[Datum],\"<=\"&B331)","v":0},{"$f":"SUMIFS(Optionen[G/V (Netto)],Optionen[Datum],\">\"&B330,Optionen[Datum],\"<=\"&B331)","v":0},null,0,0,null,0,0,null,{"$f":"SUMIFS(Haushaltsbuch2[Einnahmen],Haushaltsbuch2[Datum],\">\"&B330,Haushaltsbuch2[Datum],\"<=\"&B331)+AN331+AO331","v":0},null,0,null,{"$f":"SUMIFS(Haushaltsbuch2[Ausgaben],Haushaltsbuch2[Datum],\">\"&B330,Haushaltsbuch2[Datum],\"<=\"&B331)","v":0}]
[null,35581,null,null,null,null,null,null,null,null,null,null,{"$f":"SUMIFS(Haushaltsbuch2[Einnahmen],Haushaltsbuch2[Kategorie],M$4,Haushaltsbuch2[Datum],\">\"&B331,Haushaltsbuch2[Datum],\"<=\"&B332)","v":0},{"$f":"SUMIFS(Haushaltsbuch2[Einnahmen],Haushaltsbuch2[Kategorie],N$4,Haushaltsbuch2[Datum],\">\"&B331,Haushaltsbuch2[Datum],\"<=\"&B332)","v":0},{"$f":"SUMIFS(Haushaltsbuch2[Einnahmen],Haushaltsbuch2[Kategorie],O$4,Haushaltsbuch2[Datum],\">\"&B331,Haushaltsbuch2[Datum],\"<=\"&B332)","v":0},{"$f":"SUMIFS(Haushaltsbuch2[Einnahmen],Haushaltsbuch2[Kategorie],P$4,Haushaltsbuch2[Datum],\">\"&B331,Haushaltsbuch2[Datum],\"<=\"&B332)","v":0},{"$f":"SUMIFS(Haushaltsbuch2[Einnahmen],Haushaltsbuch2[Kategorie],Q$4,Haushaltsbuch2[Datum],\">\"&B331,Haushaltsbuch2[Datum],\"<=\"&B332)","v":0},{"$f":"SUMIFS(Haushaltsbuch2[Einnahmen],Haushaltsbuch2[Kategorie],R$4,Haushaltsbuch2[Datum],\">\"&B331,Haushaltsbuch2[Datum],\"<=\"&B332)","v":0},null,null,null,null,null,null,null,null,null,null,null,null,null,null,null,null,null,null,{"$f":"SUMIFS(Haushaltsbuch2[Ausgaben],Haushaltsbuch2[Kategorie],AK$4,Haushaltsbuch2[Datum],\">\"&B331,Haushaltsbuch2[Datum],\"<=\"&B332)","v":0},null,null,{"$f":"SUMIFS(Dividenden[Betrag in EUR],Dividenden[Datum],\">\"&B331,Dividenden[Datum],\"<=\"&B332)","v":0},{"$f":"SUMIFS(Optionen[G/V (Netto)],Optionen[Datum],\">\"&B331,Optionen[Datum],\"<=\"&B332)","v":0},null,0,0,null,0,0,null,{"$f":"SUMIFS(Haushaltsbuch2[Einnahmen],Haushaltsbuch2[Datum],\">\"&B331,Haushaltsbuch2[Datum],\"<=\"&B332)+AN332+AO332","v":0},null,0,null,{"$f":"SUMIFS(Haushaltsbuch2[Ausgaben],Haushaltsbuch2[Datum],\">\"&B331,Haushaltsbuch2[Datum],\"<=\"&B332)","v":0}]
[null,35611,null,null,null,null,null,null,null,null,null,null,{"$f":"SUMIFS(Haushaltsbuch2[Einnahmen],Haushaltsbuch2[Kategorie],M$4,Haushaltsbuch2[Datum],\">\"&B332,Haushaltsbuch2[Datum],\"<=\"&B333)","v":0},{"$f":"SUMIFS(Haushaltsbuch2[Einnahmen],Haushaltsbuch2[Kategorie],N$4,Haushaltsbuch2[Datum],\">\"&B332,Haushaltsbuch2[Datum],\"<=\"&B333)","v":0},{"$f":"SUMIFS(Haushaltsbuch2[Einnahmen],Haushaltsbuch2[Kategorie],O$4,Haushaltsbuch2[Datum],\">\"&B332,Haushaltsbuch2[Datum],\"<=\"&B333)","v":0},{"$f":"SUMIFS(Haushaltsbuch2[Einnahmen],Haushaltsbuch2[Kategorie],P$4,Haushaltsbuch2[Datum],\">\"&B332,Haushaltsbuch2[Datum],\"<=\"&B333)","v":0},{"$f":"SUMIFS(Haushaltsbuch2[Einnahmen],Haushaltsbuch2[Kategorie],Q$4,Haushaltsbuch2[Datum],\">\"&B332,Haushaltsbuch2[Datum],\"<=\"&B333)","v":0},{"$f":"SUMIFS(Haushaltsbuch2[Einnahmen],Haushaltsbuch2[Kategorie],R$4,Haushaltsbuch2[Datum],\">\"&B332,Haushaltsbuch2[Datum],\"<=\"&B333)","v":0},null,null,null,null,null,null,null,null,null,null,null,null,null,null,null,null,null,null,{"$f":"SUMIFS(Haushaltsbuch2[Ausgaben],Haushaltsbuch2[Kategorie],AK$4,Haushaltsbuch2[Datum],\">\"&B332,Haushaltsbuch2[Datum],\"<=\"&B333)","v":0},null,null,{"$f":"SUMIFS(Dividenden[Betrag in EUR],Dividenden[Datum],\">\"&B332,Dividenden[Datum],\"<=\"&B333)","v":0},{"$f":"SUMIFS(Optionen[G/V (Netto)],Optionen[Datum],\">\"&B332,Optionen[Datum],\"<=\"&B333)","v":0},null,0,0,null,0,0,null,{"$f":"SUMIFS(Haushaltsbuch2[Einnahmen],Haushaltsbuch2[Datum],\">\"&B332,Haushaltsbuch2[Datum],\"<=\"&B333)+AN333+AO333","v":0},null,0,null,{"$f":"SUMIFS(Haushaltsbuch2[Ausgaben],Haushaltsbuch2[Datum],\">\"&B332,Haushaltsbuch2[Datum],\"<=\"&B333)","v":0}]
[null,35642,null,null,null,null,null,null,null,null,null,null,{"$f":"SUMIFS(Haushaltsbuch2[Einnahmen],Haushaltsbuch2[Kategorie],M$4,Haushaltsbuch2[Datum],\">\"&B333,Haushaltsbuch2[Datum],\"<=\"&B334)","v":0},{"$f":"SUMIFS(Haushaltsbuch2[Einnahmen],Haushaltsbuch2[Kategorie],N$4,Haushaltsbuch2[Datum],\">\"&B333,Haushaltsbuch2[Datum],\"<=\"&B334)","v":0},{"$f":"SUMIFS(Haushaltsbuch2[Einnahmen],Haushaltsbuch2[Kategorie],O$4,Haushaltsbuch2[Datum],\">\"&B333,Haushaltsbuch2[Datum],\"<=\"&B334)","v":0},{"$f":"SUMIFS(Haushaltsbuch2[Einnahmen],Haushaltsbuch2[Kategorie],P$4,Haushaltsbuch2[Datum],\">\"&B333,Haushaltsbuch2[Datum],\"<=\"&B334)","v":0},{"$f":"SUMIFS(Haushaltsbuch2[Einnahmen],Haushaltsbuch2[Kategorie],Q$4,Haushaltsbuch2[Datum],\">\"&B333,Haushaltsbuch2[Datum],\"<=\"&B334)","v":0},{"$f":"SUMIFS(Haushaltsbuch2[Einnahmen],Haushaltsbuch2[Kategorie],R$4,Haushaltsbuch2[Datum],\">\"&B333,Haushaltsbuch2[Datum],\"<=\"&B334)","v":0},null,null,null,null,null,null,null,null,null,null,null,null,null,null,null,null,null,null,{"$f":"SUMIFS(Haushaltsbuch2[Ausgaben],Haushaltsbuch2[Kategorie],AK$4,Haushaltsbuch2[Datum],\">\"&B333,Haushaltsbuch2[Datum],\"<=\"&B334)","v":0},null,null,{"$f":"SUMIFS(Dividenden[Betrag in EUR],Dividenden[Datum],\">\"&B333,Dividenden[Datum],\"<=\"&B334)","v":0},{"$f":"SUMIFS(Optionen[G/V (Netto)],Optionen[Datum],\">\"&B333,Optionen[Datum],\"<=\"&B334)","v":0},null,0,0,null,0,0,null,{"$f":"SUMIFS(Haushaltsbuch2[Einnahmen],Haushaltsbuch2[Datum],\">\"&B333,Haushaltsbuch2[Datum],\"<=\"&B334)+AN334+AO334","v":0},null,0,null,{"$f":"SUMIFS(Haushaltsbuch2[Ausgaben],Haushaltsbuch2[Datum],\">\"&B333,Haushaltsbuch2[Datum],\"<=\"&B334)","v":0}]
[null,35673,null,null,null,null,null,null,null,null,null,null,{"$f":"SUMIFS(Haushaltsbuch2[Einnahmen],Haushaltsbuch2[Kategorie],M$4,Haushaltsbuch2[Datum],\">\"&B334,Haushaltsbuch2[Datum],\"<=\"&B335)","v":0},{"$f":"SUMIFS(Haushaltsbuch2[Einnahmen],Haushaltsbuch2[Kategorie],N$4,Haushaltsbuch2[Datum],\">\"&B334,Haushaltsbuch2[Datum],\"<=\"&B335)","v":0},{"$f":"SUMIFS(Haushaltsbuch2[Einnahmen],Haushaltsbuch2[Kategorie],O$4,Haushaltsbuch2[Datum],\">\"&B334,Haushaltsbuch2[Datum],\"<=\"&B335)","v":0},{"$f":"SUMIFS(Haushaltsbuch2[Einnahmen],Haushaltsbuch2[Kategorie],P$4,Haushaltsbuch2[Datum],\">\"&B334,Haushaltsbuch2[Datum],\"<=\"&B335)","v":0},{"$f":"SUMIFS(Haushaltsbuch2[Einnahmen],Haushaltsbuch2[Kategorie],Q$4,Haushaltsbuch2[Datum],\">\"&B334,Haushaltsbuch2[Datum],\"<=\"&B335)","v":0},{"$f":"SUMIFS(Haushaltsbuch2[Einnahmen],Haushaltsbuch2[Kategorie],R$4,Haushaltsbuch2[Datum],\">\"&B334,Haushaltsbuch2[Datum],\"<=\"&B335)","v":0},null,null,null,null,null,null,null,null,null,null,null,null,null,null,null,null,null,null,{"$f":"SUMIFS(Haushaltsbuch2[Ausgaben],Haushaltsbuch2[Kategorie],AK$4,Haushaltsbuch2[Datum],\">\"&B334,Haushaltsbuch2[Datum],\"<=\"&B335)","v":0},null,null,{"$f":"SUMIFS(Dividenden[Betrag in EUR],Dividenden[Datum],\">\"&B334,Dividenden[Datum],\"<=\"&B335)","v":0},{"$f":"SUMIFS(Optionen[G/V (Netto)],Optionen[Datum],\">\"&B334,Optionen[Datum],\"<=\"&B335)","v":0},null,0,0,null,0,0,null,{"$f":"SUMIFS(Haushaltsbuch2[Einnahmen],Haushaltsbuch2[Datum],\">\"&B334,Haushaltsbuch2[Datum],\"<=\"&B335)+AN335+AO335","v":0},null,0,null,{"$f":"SUMIFS(Haushaltsbuch2[Ausgaben],Haushaltsbuch2[Datum],\">\"&B334,Haushaltsbuch2[Datum],\"<=\"&B335)","v":0}]
[null,35703,null,null,null,null,null,null,null,null,null,null,{"$f":"SUMIFS(Haushaltsbuch2[Einnahmen],Haushaltsbuch2[Kategorie],M$4,Haushaltsbuch2[Datum],\">\"&B335,Haushaltsbuch2[Datum],\"<=\"&B336)","v":0},{"$f":"SUMIFS(Haushaltsbuch2[Einnahmen],Haushaltsbuch2[Kategorie],N$4,Haushaltsbuch2[Datum],\">\"&B335,Haushaltsbuch2[Datum],\"<=\"&B336)","v":0},{"$f":"SUMIFS(Haushaltsbuch2[Einnahmen],Haushaltsbuch2[Kategorie],O$4,Haushaltsbuch2[Datum],\">\"&B335,Haushaltsbuch2[Datum],\"<=\"&B336)","v":0},{"$f":"SUMIFS(Haushaltsbuch2[Einnahmen],Haushaltsbuch2[Kategorie],P$4,Haushaltsbuch2[Datum],\">\"&B335,Haushaltsbuch2[Datum],\"<=\"&B336)","v":0},{"$f":"SUMIFS(Haushaltsbuch2[Einnahmen],Haushaltsbuch2[Kategorie],Q$4,Haushaltsbuch2[Datum],\">\"&B335,Haushaltsbuch2[Datum],\"<=\"&B336)","v":0},{"$f":"SUMIFS(Haushaltsbuch2[Einnahmen],Haushaltsbuch2[Kategorie],R$4,Haushaltsbuch2[Datum],\">\"&B335,Haushaltsbuch2[Datum],\"<=\"&B336)","v":0},null,null,null,null,null,null,null,null,null,null,null,null,null,null,null,null,null,null,{"$f":"SUMIFS(Haushaltsbuch2[Ausgaben],Haushaltsbuch2[Kategorie],AK$4,Haushaltsbuch2[Datum],\">\"&B335,Haushaltsbuch2[Datum],\"<=\"&B336)","v":0},null,null,{"$f":"SUMIFS(Dividenden[Betrag in EUR],Dividenden[Datum],\">\"&B335,Dividenden[Datum],\"<=\"&B336)","v":0},{"$f":"SUMIFS(Optionen[G/V (Netto)],Optionen[Datum],\">\"&B335,Optionen[Datum],\"<=\"&B336)","v":0},null,0,0,null,0,0,null,{"$f":"SUMIFS(Haushaltsbuch2[Einnahmen],Haushaltsbuch2[Datum],\">\"&B335,Haushaltsbuch2[Datum],\"<=\"&B336)+AN336+AO336","v":0},null,0,null,{"$f":"SUMIFS(Haushaltsbuch2[Ausgaben],Haushaltsbuch2[Datum],\">\"&B335,Haushaltsbuch2[Datum],\"<=\"&B336)","v":0}]
[null,35734,null,null,null,null,null,null,null,null,null,null,{"$f":"SUMIFS(Haushaltsbuch2[Einnahmen],Haushaltsbuch2[Kategorie],M$4,Haushaltsbuch2[Datum],\">\"&B336,Haushaltsbuch2[Datum],\"<=\"&B337)","v":0},{"$f":"SUMIFS(Haushaltsbuch2[Einnahmen],Haushaltsbuch2[Kategorie],N$4,Haushaltsbuch2[Datum],\">\"&B336,Haushaltsbuch2[Datum],\"<=\"&B337)","v":0},{"$f":"SUMIFS(Haushaltsbuch2[Einnahmen],Haushaltsbuch2[Kategorie],O$4,Haushaltsbuch2[Datum],\">\"&B336,Haushaltsbuch2[Datum],\"<=\"&B337)","v":0},{"$f":"SUMIFS(Haushaltsbuch2[Einnahmen],Haushaltsbuch2[Kategorie],P$4,Haushaltsbuch2[Datum],\">\"&B336,Haushaltsbuch2[Datum],\"<=\"&B337)","v":0},{"$f":"SUMIFS(Haushaltsbuch2[Einnahmen],Haushaltsbuch2[Kategorie],Q$4,Haushaltsbuch2[Datum],\">\"&B336,Haushaltsbuch2[Datum],\"<=\"&B337)","v":0},{"$f":"SUMIFS(Haushaltsbuch2[Einnahmen],Haushaltsbuch2[Kategorie],R$4,Haushaltsbuch2[Datum],\">\"&B336,Haushaltsbuch2[Datum],\"<=\"&B337)","v":0},null,null,null,null,null,null,null,null,null,null,null,null,null,null,null,null,null,null,{"$f":"SUMIFS(Haushaltsbuch2[Ausgaben],Haushaltsbuch2[Kategorie],AK$4,Haushaltsbuch2[Datum],\">\"&B336,Haushaltsbuch2[Datum],\"<=\"&B337)","v":0},null,null,{"$f":"SUMIFS(Dividenden[Betrag in EUR],Dividenden[Datum],\">\"&B336,Dividenden[Datum],\"<=\"&B337)","v":0},{"$f":"SUMIFS(Optionen[G/V (Netto)],Optionen[Datum],\">\"&B336,Optionen[Datum],\"<=\"&B337)","v":0},null,0,0,null,0,0,null,{"$f":"SUMIFS(Haushaltsbuch2[Einnahmen],Haushaltsbuch2[Datum],\">\"&B336,Haushaltsbuch2[Datum],\"<=\"&B337)+AN337+AO337","v":0},null,0,null,{"$f":"SUMIFS(Haushaltsbuch2[Ausgaben],Haushaltsbuch2[Datum],\">\"&B336,Haushaltsbuch2[Datum],\"<=\"&B337)","v":0}]
[null,35764,null,null,null,null,null,null,null,null,null,null,{"$f":"SUMIFS(Haushaltsbuch2[Einnahmen],Haushaltsbuch2[Kategorie],M$4,Haushaltsbuch2[Datum],\">\"&B337,Haushaltsbuch2[Datum],\"<=\"&B338)","v":0},{"$f":"SUMIFS(Haushaltsbuch2[Einnahmen],Haushaltsbuch2[Kategorie],N$4,Haushaltsbuch2[Datum],\">\"&B337,Haushaltsbuch2[Datum],\"<=\"&B338)","v":0},{"$f":"SUMIFS(Haushaltsbuch2[Einnahmen],Haushaltsbuch2[Kategorie],O$4,Haushaltsbuch2[Datum],\">\"&B337,Haushaltsbuch2[Datum],\"<=\"&B338)","v":0},{"$f":"SUMIFS(Haushaltsbuch2[Einnahmen],Haushaltsbuch2[Kategorie],P$4,Haushaltsbuch2[Datum],\">\"&B337,Haushaltsbuch2[Datum],\"<=\"&B338)","v":0},{"$f":"SUMIFS(Haushaltsbuch2[Einnahmen],Haushaltsbuch2[Kategorie],Q$4,Haushaltsbuch2[Datum],\">\"&B337,Haushaltsbuch2[Datum],\"<=\"&B338)","v":0},{"$f":"SUMIFS(Haushaltsbuch2[Einnahmen],Haushaltsbuch2[Kategorie],R$4,Haushaltsbuch2[Datum],\">\"&B337,Haushaltsbuch2[Datum],\"<=\"&B338)","v":0},null,null,null,null,null,null,null,null,null,null,null,null,null,null,null,null,null,null,{"$f":"SUMIFS(Haushaltsbuch2[Ausgaben],Haushaltsbuch2[Kategorie],AK$4,Haushaltsbuch2[Datum],\">\"&B337,Haushaltsbuch2[Datum],\"<=\"&B338)","v":0},null,null,{"$f":"SUMIFS(Dividenden[Betrag in EUR],Dividenden[Datum],\">\"&B337,Dividenden[Datum],\"<=\"&B338)","v":0},{"$f":"SUMIFS(Optionen[G/V (Netto)],Optionen[Datum],\">\"&B337,Optionen[Datum],\"<=\"&B338)","v":0},null,0,0,null,0,{"$f":"AVERAGE(AT327:AT338)","v":0},null,{"$f":"SUMIFS(Haushaltsbuch2[Einnahmen],Haushaltsbuch2[Datum],\">\"&B337,Haushaltsbuch2[Datum],\"<=\"&B338)+AN338+AO338","v":0},null,{"$f":"AVERAGE(AK327:AK338)","v":0},null,{"$f":"SUMIFS(Haushaltsbuch2[Ausgaben],Haushaltsbuch2[Datum],\">\"&B337,Haushaltsbuch2[Datum],\"<=\"&B338)","v":0}]
[null,35795,null,null,null,null,null,null,null,null,null,null,{"$f":"SUMIFS(Haushaltsbuch2[Einnahmen],Haushaltsbuch2[Kategorie],M$4,Haushaltsbuch2[Datum],\">\"&B338,Haushaltsbuch2[Datum],\"<=\"&B339)","v":0},{"$f":"SUMIFS(Haushaltsbuch2[Einnahmen],Haushaltsbuch2[Kategorie],N$4,Haushaltsbuch2[Datum],\">\"&B338,Haushaltsbuch2[Datum],\"<=\"&B339)","v":0},{"$f":"SUMIFS(Haushaltsbuch2[Einnahmen],Haushaltsbuch2[Kategorie],O$4,Haushaltsbuch2[Datum],\">\"&B338,Haushaltsbuch2[Datum],\"<=\"&B339)","v":0},{"$f":"SUMIFS(Haushaltsbuch2[Einnahmen],Haushaltsbuch2[Kategorie],P$4,Haushaltsbuch2[Datum],\">\"&B338,Haushaltsbuch2[Datum],\"<=\"&B339)","v":0},{"$f":"SUMIFS(Haushaltsbuch2[Einnahmen],Haushaltsbuch2[Kategorie],Q$4,Haushaltsbuch2[Datum],\">\"&B338,Haushaltsbuch2[Datum],\"<=\"&B339)","v":0},{"$f":"SUMIFS(Haushaltsbuch2[Einnahmen],Haushaltsbuch2[Kategorie],R$4,Haushaltsbuch2[Datum],\">\"&B338,Haushaltsbuch2[Datum],\"<=\"&B339)","v":0},null,null,null,null,null,null,null,null,null,null,null,null,null,null,null,null,null,null,{"$f":"SUMIFS(Haushaltsbuch2[Ausgaben],Haushaltsbuch2[Kategorie],AK$4,Haushaltsbuch2[Datum],\">\"&B338,Haushaltsbuch2[Datum],\"<=\"&B339)","v":0},null,null,{"$f":"SUMIFS(Dividenden[Betrag in EUR],Dividenden[Datum],\">\"&B338,Dividenden[Datum],\"<=\"&B339)","v":0},{"$f":"SUMIFS(Optionen[G/V (Netto)],Optionen[Datum],\">\"&B338,Optionen[Datum],\"<=\"&B339)","v":0},null,0,0,null,0,0,null,{"$f":"SUMIFS(Haushaltsbuch2[Einnahmen],Haushaltsbuch2[Datum],\">\"&B338,Haushaltsbuch2[Datum],\"<=\"&B339)+AN339+AO339","v":0},null,0,null,{"$f":"SUMIFS(Haushaltsbuch2[Ausgaben],Haushaltsbuch2[Datum],\">\"&B338,Haushaltsbuch2[Datum],\"<=\"&B339)","v":0}]
[null,35826,null,null,null,null,null,null,null,null,null,null,{"$f":"SUMIFS(Haushaltsbuch2[Einnahmen],Haushaltsbuch2[Kategorie],M$4,Haushaltsbuch2[Datum],\">\"&B339,Haushaltsbuch2[Datum],\"<=\"&B340)","v":0},{"$f":"SUMIFS(Haushaltsbuch2[Einnahmen],Haushaltsbuch2[Kategorie],N$4,Haushaltsbuch2[Datum],\">\"&B339,Haushaltsbuch2[Datum],\"<=\"&B340)","v":0},{"$f":"SUMIFS(Haushaltsbuch2[Einnahmen],Haushaltsbuch2[Kategorie],O$4,Haushaltsbuch2[Datum],\">\"&B339,Haushaltsbuch2[Datum],\"<=\"&B340)","v":0},{"$f":"SUMIFS(Haushaltsbuch2[Einnahmen],Haushaltsbuch2[Kategorie],P$4,Haushaltsbuch2[Datum],\">\"&B339,Haushaltsbuch2[Datum],\"<=\"&B340)","v":0},{"$f":"SUMIFS(Haushaltsbuch2[Einnahmen],Haushaltsbuch2[Kategorie],Q$4,Haushaltsbuch2[Datum],\">\"&B339,Haushaltsbuch2[Datum],\"<=\"&B340)","v":0},{"$f":"SUMIFS(Haushaltsbuch2[Einnahmen],Haushaltsbuch2[Kategorie],R$4,Haushaltsbuch2[Datum],\">\"&B339,Haushaltsbuch2[Datum],\"<=\"&B340)","v":0},null,null,null,null,null,null,null,null,null,null,null,null,null,null,null,null,null,null,{"$f":"SUMIFS(Haushaltsbuch2[Ausgaben],Haushaltsbuch2[Kategorie],AK$4,Haushaltsbuch2[Datum],\">\"&B339,Haushaltsbuch2[Datum],\"<=\"&B340)","v":0},null,null,{"$f":"SUMIFS(Dividenden[Betrag in EUR],Dividenden[Datum],\">\"&B339,Dividenden[Datum],\"<=\"&B340)","v":0},{"$f":"SUMIFS(Optionen[G/V (Netto)],Optionen[Datum],\">\"&B339,Optionen[Datum],\"<=\"&B340)","v":0},null,0,0,null,0,0,null,{"$f":"SUMIFS(Haushaltsbuch2[Einnahmen],Haushaltsbuch2[Datum],\">\"&B339,Haushaltsbuch2[Datum],\"<=\"&B340)+AN340+AO340","v":0},null,0,null,{"$f":"SUMIFS(Haushaltsbuch2[Ausgaben],Haushaltsbuch2[Datum],\">\"&B339,Haushaltsbuch2[Datum],\"<=\"&B340)","v":0}]
[null,35854,null,null,null,null,null,null,null,null,null,null,{"$f":"SUMIFS(Haushaltsbuch2[Einnahmen],Haushaltsbuch2[Kategorie],M$4,Haushaltsbuch2[Datum],\">\"&B340,Haushaltsbuch2[Datum],\"<=\"&B341)","v":0},{"$f":"SUMIFS(Haushaltsbuch2[Einnahmen],Haushaltsbuch2[Kategorie],N$4,Haushaltsbuch2[Datum],\">\"&B340,Haushaltsbuch2[Datum],\"<=\"&B341)","v":0},{"$f":"SUMIFS(Haushaltsbuch2[Einnahmen],Haushaltsbuch2[Kategorie],O$4,Haushaltsbuch2[Datum],\">\"&B340,Haushaltsbuch2[Datum],\"<=\"&B341)","v":0},{"$f":"SUMIFS(Haushaltsbuch2[Einnahmen],Haushaltsbuch2[Kategorie],P$4,Haushaltsbuch2[Datum],\">\"&B340,Haushaltsbuch2[Datum],\"<=\"&B341)","v":0},{"$f":"SUMIFS(Haushaltsbuch2[Einnahmen],Haushaltsbuch2[Kategorie],Q$4,Haushaltsbuch2[Datum],\">\"&B340,Haushaltsbuch2[Datum],\"<=\"&B341)","v":0},{"$f":"SUMIFS(Haushaltsbuch2[Einnahmen],Haushaltsbuch2[Kategorie],R$4,Haushaltsbuch2[Datum],\">\"&B340,Haushaltsbuch2[Datum],\"<=\"&B341)","v":0},null,null,null,null,null,null,null,null,null,null,null,null,null,null,null,null,null,null,{"$f":"SUMIFS(Haushaltsbuch2[Ausgaben],Haushaltsbuch2[Kategorie],AK$4,Haushaltsbuch2[Datum],\">\"&B340,Haushaltsbuch2[Datum],\"<=\"&B341)","v":0},null,null,{"$f":"SUMIFS(Dividenden[Betrag in EUR],Dividenden[Datum],\">\"&B340,Dividenden[Datum],\"<=\"&B341)","v":0},{"$f":"SUMIFS(Optionen[G/V (Netto)],Optionen[Datum],\">\"&B340,Optionen[Datum],\"<=\"&B341)","v":0},null,0,0,null,0,0,null,{"$f":"SUMIFS(Haushaltsbuch2[Einnahmen],Haushaltsbuch2[Datum],\">\"&B340,Haushaltsbuch2[Datum],\"<=\"&B341)+AN341+AO341","v":0},null,0,null,{"$f":"SUMIFS(Haushaltsbuch2[Ausgaben],Haushaltsbuch2[Datum],\">\"&B340,Haushaltsbuch2[Datum],\"<=\"&B341)","v":0}]
[null,35885,null,null,null,null,null,null,null,null,null,null,{"$f":"SUMIFS(Haushaltsbuch2[Einnahmen],Haushaltsbuch2[Kategorie],M$4,Haushaltsbuch2[Datum],\">\"&B341,Haushaltsbuch2[Datum],\"<=\"&B342)","v":0},{"$f":"SUMIFS(Haushaltsbuch2[Einnahmen],Haushaltsbuch2[Kategorie],N$4,Haushaltsbuch2[Datum],\">\"&B341,Haushaltsbuch2[Datum],\"<=\"&B342)","v":0},{"$f":"SUMIFS(Haushaltsbuch2[Einnahmen],Haushaltsbuch2[Kategorie],O$4,Haushaltsbuch2[Datum],\">\"&B341,Haushaltsbuch2[Datum],\"<=\"&B342)","v":0},{"$f":"SUMIFS(Haushaltsbuch2[Einnahmen],Haushaltsbuch2[Kategorie],P$4,Haushaltsbuch2[Datum],\">\"&B341,Haushaltsbuch2[Datum],\"<=\"&B342)","v":0},{"$f":"SUMIFS(Haushaltsbuch2[Einnahmen],Haushaltsbuch2[Kategorie],Q$4,Haushaltsbuch2[Datum],\">\"&B341,Haushaltsbuch2[Datum],\"<=\"&B342)","v":0},{"$f":"SUMIFS(Haushaltsbuch2[Einnahmen],Haushaltsbuch2[Kategorie],R$4,Haushaltsbuch2[Datum],\">\"&B341,Haushaltsbuch2[Datum],\"<=\"&B342)","v":0},null,null,null,null,null,null,null,null,null,null,null,null,null,null,null,null,null,null,{"$f":"SUMIFS(Haushaltsbuch2[Ausgaben],Haushaltsbuch2[Kategorie],AK$4,Haushaltsbuch2[Datum],\">\"&B341,Haushaltsbuch2[Datum],\"<=\"&B342)","v":0},null,null,{"$f":"SUMIFS(Dividenden[Betrag in EUR],Dividenden[Datum],\">\"&B341,Dividenden[Datum],\"<=\"&B342)","v":0},{"$f":"SUMIFS(Optionen[G/V (Netto)],Optionen[Datum],\">\"&B341,Optionen[Datum],\"<=\"&B342)","v":0},null,0,0,null,0,0,null,{"$f":"SUMIFS(Haushaltsbuch2[Einnahmen],Haushaltsbuch2[Datum],\">\"&B341,Haushaltsbuch2[Datum],\"<=\"&B342)+AN342+AO342","v":0},null,0,null,{"$f":"SUMIFS(Haushaltsbuch2[Ausgaben],Haushaltsbuch2[Datum],\">\"&B341,Haushaltsbuch2[Datum],\"<=\"&B342)","v":0}]
[null,35915,null,null,null,null,null,null,null,null,null,null,{"$f":"SUMIFS(Haushaltsbuch2[Einnahmen],Haushaltsbuch2[Kategorie],M$4,Haushaltsbuch2[Datum],\">\"&B342,Haushaltsbuch2[Datum],\"<=\"&B343)","v":0},{"$f":"SUMIFS(Haushaltsbuch2[Einnahmen],Haushaltsbuch2[Kategorie],N$4,Haushaltsbuch2[Datum],\">\"&B342,Haushaltsbuch2[Datum],\"<=\"&B343)","v":0},{"$f":"SUMIFS(Haushaltsbuch2[Einnahmen],Haushaltsbuch2[Kategorie],O$4,Haushaltsbuch2[Datum],\">\"&B342,Haushaltsbuch2[Datum],\"<=\"&B343)","v":0},{"$f":"SUMIFS(Haushaltsbuch2[Einnahmen],Haushaltsbuch2[Kategorie],P$4,Haushaltsbuch2[Datum],\">\"&B342,Haushaltsbuch2[Datum],\"<=\"&B343)","v":0},{"$f":"SUMIFS(Haushaltsbuch2[Einnahmen],Haushaltsbuch2[Kategorie],Q$4,Haushaltsbuch2[Datum],\">\"&B342,Haushaltsbuch2[Datum],\"<=\"&B343)","v":0},{"$f":"SUMIFS(Haushaltsbuch2[Einnahmen],Haushaltsbuch2[Kategorie],R$4,Haushaltsbuch2[Datum],\">\"&B342,Haushaltsbuch2[Datum],\"<=\"&B343)","v":0},null,null,null,null,null,null,null,null,null,null,null,null,null,null,null,null,null,null,{"$f":"SUMIFS(Haushaltsbuch2[Ausgaben],Haushaltsbuch2[Kategorie],AK$4,Haushaltsbuch2[Datum],\">\"&B342,Haushaltsbuch2[Datum],\"<=\"&B343)","v":0},null,null,{"$f":"SUMIFS(Dividenden[Betrag in EUR],Dividenden[Datum],\">\"&B342,Dividenden[Datum],\"<=\"&B343)","v":0},{"$f":"SUMIFS(Optionen[G/V (Netto)],Optionen[Datum],\">\"&B342,Optionen[Datum],\"<=\"&B343)","v":0},null,0,0,null,0,0,null,{"$f":"SUMIFS(Haushaltsbuch2[Einnahmen],Haushaltsbuch2[Datum],\">\"&B342,Haushaltsbuch2[Datum],\"<=\"&B343)+AN343+AO343","v":0},null,0,null,{"$f":"SUMIFS(Haushaltsbuch2[Ausgaben],Haushaltsbuch2[Datum],\">\"&B342,Haushaltsbuch2[Datum],\"<=\"&B343)","v":0}]
[null,35946,null,null,null,null,null,null,null,null,null,null,{"$f":"SUMIFS(Haushaltsbuch2[Einnahmen],Haushaltsbuch2[Kategorie],M$4,Haushaltsbuch2[Datum],\">\"&B343,Haushaltsbuch2[Datum],\"<=\"&B344)","v":0},{"$f":"SUMIFS(Haushaltsbuch2[Einnahmen],Haushaltsbuch2[Kategorie],N$4,Haushaltsbuch2[Datum],\">\"&B343,Haushaltsbuch2[Datum],\"<=\"&B344)","v":0},{"$f":"SUMIFS(Haushaltsbuch2[Einnahmen],Haushaltsbuch2[Kategorie],O$4,Haushaltsbuch2[Datum],\">\"&B343,Haushaltsbuch2[Datum],\"<=\"&B344)","v":0},{"$f":"SUMIFS(Haushaltsbuch2[Einnahmen],Haushaltsbuch2[Kategorie],P$4,Haushaltsbuch2[Datum],\">\"&B343,Haushaltsbuch2[Datum],\"<=\"&B344)","v":0},{"$f":"SUMIFS(Haushaltsbuch2[Einnahmen],Haushaltsbuch2[Kategorie],Q$4,Haushaltsbuch2[Datum],\">\"&B343,Haushaltsbuch2[Datum],\"<=\"&B344)","v":0},{"$f":"SUMIFS(Haushaltsbuch2[Einnahmen],Haushaltsbuch2[Kategorie],R$4,Haushaltsbuch2[Datum],\">\"&B343,Haushaltsbuch2[Datum],\"<=\"&B344)","v":0},null,null,null,null,null,null,null,null,null,null,null,null,null,null,null,null,null,null,{"$f":"SUMIFS(Haushaltsbuch2[Ausgaben],Haushaltsbuch2[Kategorie],AK$4,Haushaltsbuch2[Datum],\">\"&B343,Haushaltsbuch2[Datum],\"<=\"&B344)","v":0},null,null,{"$f":"SUMIFS(Dividenden[Betrag in EUR],Dividenden[Datum],\">\"&B343,Dividenden[Datum],\"<=\"&B344)","v":0},{"$f":"SUMIFS(Optionen[G/V (Netto)],Optionen[Datum],\">\"&B343,Optionen[Datum],\"<=\"&B344)","v":0},null,0,0,null,0,0,null,{"$f":"SUMIFS(Haushaltsbuch2[Einnahmen],Haushaltsbuch2[Datum],\">\"&B343,Haushaltsbuch2[Datum],\"<=\"&B344)+AN344+AO344","v":0},null,0,null,{"$f":"SUMIFS(Haushaltsbuch2[Ausgaben],Haushaltsbuch2[Datum],\">\"&B343,Haushaltsbuch2[Datum],\"<=\"&B344)","v":0}]
[null,35976,null,null,null,null,null,null,null,null,null,null,{"$f":"SUMIFS(Haushaltsbuch2[Einnahmen],Haushaltsbuch2[Kategorie],M$4,Haushaltsbuch2[Datum],\">\"&B344,Haushaltsbuch2[Datum],\"<=\"&B345)","v":0},{"$f":"SUMIFS(Haushaltsbuch2[Einnahmen],Haushaltsbuch2[Kategorie],N$4,Haushaltsbuch2[Datum],\">\"&B344,Haushaltsbuch2[Datum],\"<=\"&B345)","v":0},{"$f":"SUMIFS(Haushaltsbuch2[Einnahmen],Haushaltsbuch2[Kategorie],O$4,Haushaltsbuch2[Datum],\">\"&B344,Haushaltsbuch2[Datum],\"<=\"&B345)","v":0},{"$f":"SUMIFS(Haushaltsbuch2[Einnahmen],Haushaltsbuch2[Kategorie],P$4,Haushaltsbuch2[Datum],\">\"&B344,Haushaltsbuch2[Datum],\"<=\"&B345)","v":0},{"$f":"SUMIFS(Haushaltsbuch2[Einnahmen],Haushaltsbuch2[Kategorie],Q$4,Haushaltsbuch2[Datum],\">\"&B344,Haushaltsbuch2[Datum],\"<=\"&B345)","v":0},{"$f":"SUMIFS(Haushaltsbuch2[Einnahmen],Haushaltsbuch2[Kategorie],R$4,Haushaltsbuch2[Datum],\">\"&B344,Haushaltsbuch2[Datum],\"<=\"&B345)","v":0},null,null,null,null,null,null,null,null,null,null,null,null,null,null,null,null,null,null,{"$f":"SUMIFS(Haushaltsbuch2[Ausgaben],Haushaltsbuch2[Kategorie],AK$4,Haushaltsbuch2[Datum],\">\"&B344,Haushaltsbuch2[Datum],\"<=\"&B345)","v":0},null,null,{"$f":"SUMIFS(Dividenden[Betrag in EUR],Dividenden[Datum],\">\"&B344,Dividenden[Datum],\"<=\"&B345)","v":0},{"$f":"SUMIFS(Optionen[G/V (Netto)],Optionen[Datum],\">\"&B344,Optionen[Datum],\"<=\"&B345)","v":0},null,0,0,null,0,0,null,{"$f":"SUMIFS(Haushaltsbuch2[Einnahmen],Haushaltsbuch2[Datum],\">\"&B344,Haushaltsbuch2[Datum],\"<=\"&B345)+AN345+AO345","v":0},null,0,null,{"$f":"SUMIFS(Haushaltsbuch2[Ausgaben],Haushaltsbuch2[Datum],\">\"&B344,Haushaltsbuch2[Datum],\"<=\"&B345)","v":0}]
[null,36007,null,null,null,null,null,null,null,null,null,null,{"$f":"SUMIFS(Haushaltsbuch2[Einnahmen],Haushaltsbuch2[Kategorie],M$4,Haushaltsbuch2[Datum],\">\"&B345,Haushaltsbuch2[Datum],\"<=\"&B346)","v":0},{"$f":"SUMIFS(Haushaltsbuch2[Einnahmen],Haushaltsbuch2[Kategorie],N$4,Haushaltsbuch2[Datum],\">\"&B345,Haushaltsbuch2[Datum],\"<=\"&B346)","v":0},{"$f":"SUMIFS(Haushaltsbuch2[Einnahmen],Haushaltsbuch2[Kategorie],O$4,Haushaltsbuch2[Datum],\">\"&B345,Haushaltsbuch2[Datum],\"<=\"&B346)","v":0},{"$f":"SUMIFS(Haushaltsbuch2[Einnahmen],Haushaltsbuch2[Kategorie],P$4,Haushaltsbuch2[Datum],\">\"&B345,Haushaltsbuch2[Datum],\"<=\"&B346)","v":0},{"$f":"SUMIFS(Haushaltsbuch2[Einnahmen],Haushaltsbuch2[Kategorie],Q$4,Haushaltsbuch2[Datum],\">\"&B345,Haushaltsbuch2[Datum],\"<=\"&B346)","v":0},{"$f":"SUMIFS(Haushaltsbuch2[Einnahmen],Haushaltsbuch2[Kategorie],R$4,Haushaltsbuch2[Datum],\">\"&B345,Haushaltsbuch2[Datum],\"<=\"&B346)","v":0},null,null,null,null,null,null,null,null,null,null,null,null,null,null,null,null,null,null,{"$f":"SUMIFS(Haushaltsbuch2[Ausgaben],Haushaltsbuch2[Kategorie],AK$4,Haushaltsbuch2[Datum],\">\"&B345,Haushaltsbuch2[Datum],\"<=\"&B346)","v":0},null,null,{"$f":"SUMIFS(Dividenden[Betrag in EUR],Dividenden[Datum],\">\"&B345,Dividenden[Datum],\"<=\"&B346)","v":0},{"$f":"SUMIFS(Optionen[G/V (Netto)],Optionen[Datum],\">\"&B345,Optionen[Datum],\"<=\"&B346)","v":0},null,0,0,null,0,0,null,{"$f":"SUMIFS(Haushaltsbuch2[Einnahmen],Haushaltsbuch2[Datum],\">\"&B345,Haushaltsbuch2[Datum],\"<=\"&B346)+AN346+AO346","v":0},null,0,null,{"$f":"SUMIFS(Haushaltsbuch2[Ausgaben],Haushaltsbuch2[Datum],\">\"&B345,Haushaltsbuch2[Datum],\"<=\"&B346)","v":0}]
[null,36038,null,null,null,null,null,null,null,null,null,null,{"$f":"SUMIFS(Haushaltsbuch2[Einnahmen],Haushaltsbuch2[Kategorie],M$4,Haushaltsbuch2[Datum],\">\"&B346,Haushaltsbuch2[Datum],\"<=\"&B347)","v":0},{"$f":"SUMIFS(Haushaltsbuch2[Einnahmen],Haushaltsbuch2[Kategorie],N$4,Haushaltsbuch2[Datum],\">\"&B346,Haushaltsbuch2[Datum],\"<=\"&B347)","v":0},{"$f":"SUMIFS(Haushaltsbuch2[Einnahmen],Haushaltsbuch2[Kategorie],O$4,Haushaltsbuch2[Datum],\">\"&B346,Haushaltsbuch2[Datum],\"<=\"&B347)","v":0},{"$f":"SUMIFS(Haushaltsbuch2[Einnahmen],Haushaltsbuch2[Kategorie],P$4,Haushaltsbuch2[Datum],\">\"&B346,Haushaltsbuch2[Datum],\"<=\"&B347)","v":0},{"$f":"SUMIFS(Haushaltsbuch2[Einnahmen],Haushaltsbuch2[Kategorie],Q$4,Haushaltsbuch2[Datum],\">\"&B346,Haushaltsbuch2[Datum],\"<=\"&B347)","v":0},{"$f":"SUMIFS(Haushaltsbuch2[Einnahmen],Haushaltsbuch2[Kategorie],R$4,Haushaltsbuch2[Datum],\">\"&B346,Haushaltsbuch2[Datum],\"<=\"&B347)","v":0},null,null,null,null,null,null,null,null,null,null,null,null,null,null,null,null,null,null,{"$f":"SUMIFS(Haushaltsbuch2[Ausgaben],Haushaltsbuch2[Kategorie],AK$4,Haushaltsbuch2[Datum],\">\"&B346,Haushaltsbuch2[Datum],\"<=\"&B347)","v":0},null,null,{"$f":"SUMIFS(Dividenden[Betrag in EUR],Dividenden[Datum],\">\"&B346,Dividenden[Datum],\"<=\"&B347)","v":0},{"$f":"SUMIFS(Optionen[G/V (Netto)],Optionen[Datum],\">\"&B346,Optionen[Datum],\"<=\"&B347)","v":0},null,0,0,null,0,0,null,{"$f":"SUMIFS(Haushaltsbuch2[Einnahmen],Haushaltsbuch2[Datum],\">\"&B346,Haushaltsbuch2[Datum],\"<=\"&B347)+AN347+AO347","v":0},null,0,null,{"$f":"SUMIFS(Haushaltsbuch2[Ausgaben],Haushaltsbuch2[Datum],\">\"&B346,Haushaltsbuch2[Datum],\"<=\"&B347)","v":0}]
[null,36068,null,null,null,null,null,null,null,null,null,null,{"$f":"SUMIFS(Haushaltsbuch2[Einnahmen],Haushaltsbuch2[Kategorie],M$4,Haushaltsbuch2[Datum],\">\"&B347,Haushaltsbuch2[Datum],\"<=\"&B348)","v":0},{"$f":"SUMIFS(Haushaltsbuch2[Einnahmen],Haushaltsbuch2[Kategorie],N$4,Haushaltsbuch2[Datum],\">\"&B347,Haushaltsbuch2[Datum],\"<=\"&B348)","v":0},{"$f":"SUMIFS(Haushaltsbuch2[Einnahmen],Haushaltsbuch2[Kategorie],O$4,Haushaltsbuch2[Datum],\">\"&B347,Haushaltsbuch2[Datum],\"<=\"&B348)","v":0},{"$f":"SUMIFS(Haushaltsbuch2[Einnahmen],Haushaltsbuch2[Kategorie],P$4,Haushaltsbuch2[Datum],\">\"&B347,Haushaltsbuch2[Datum],\"<=\"&B348)","v":0},{"$f":"SUMIFS(Haushaltsbuch2[Einnahmen],Haushaltsbuch2[Kategorie],Q$4,Haushaltsbuch2[Datum],\">\"&B347,Haushaltsbuch2[Datum],\"<=\"&B348)","v":0},{"$f":"SUMIFS(Haushaltsbuch2[Einnahmen],Haushaltsbuch2[Kategorie],R$4,Haushaltsbuch2[Datum],\">\"&B347,Haushaltsbuch2[Datum],\"<=\"&B348)","v":0},null,null,null,null,null,null,null,null,null,null,null,null,null,null,null,null,null,null,{"$f":"SUMIFS(Haushaltsbuch2[Ausgaben],Haushaltsbuch2[Kategorie],AK$4,Haushaltsbuch2[Datum],\">\"&B347,Haushaltsbuch2[Datum],\"<=\"&B348)","v":0},null,null,{"$f":"SUMIFS(Dividenden[Betrag in EUR],Dividenden[Datum],\">\"&B347,Dividenden[Datum],\"<=\"&B348)","v":0},{"$f":"SUMIFS(Optionen[G/V (Netto)],Optionen[Datum],\">\"&B347,Optionen[Datum],\"<=\"&B348)","v":0},null,0,0,null,0,0,null,{"$f":"SUMIFS(Haushaltsbuch2[Einnahmen],Haushaltsbuch2[Datum],\">\"&B347,Haushaltsbuch2[Datum],\"<=\"&B348)+AN348+AO348","v":0},null,0,null,{"$f":"SUMIFS(Haushaltsbuch2[Ausgaben],Haushaltsbuch2[Datum],\">\"&B347,Haushaltsbuch2[Datum],\"<=\"&B348)","v":0}]
[null,36099,null,null,null,null,null,null,null,null,null,null,{"$f":"SUMIFS(Haushaltsbuch2[Einnahmen],Haushaltsbuch2[Kategorie],M$4,Haushaltsbuch2[Datum],\">\"&B348,Haushaltsbuch2[Datum],\"<=\"&B349)","v":0},{"$f":"SUMIFS(Haushaltsbuch2[Einnahmen],Haushaltsbuch2[Kategorie],N$4,Haushaltsbuch2[Datum],\">\"&B348,Haushaltsbuch2[Datum],\"<=\"&B349)","v":0},{"$f":"SUMIFS(Haushaltsbuch2[Einnahmen],Haushaltsbuch2[Kategorie],O$4,Haushaltsbuch2[Datum],\">\"&B348,Haushaltsbuch2[Datum],\"<=\"&B349)","v":0},{"$f":"SUMIFS(Haushaltsbuch2[Einnahmen],Haushaltsbuch2[Kategorie],P$4,Haushaltsbuch2[Datum],\">\"&B348,Haushaltsbuch2[Datum],\"<=\"&B349)","v":0},{"$f":"SUMIFS(Haushaltsbuch2[Einnahmen],Haushaltsbuch2[Kategorie],Q$4,Haushaltsbuch2[Datum],\">\"&B348,Haushaltsbuch2[Datum],\"<=\"&B349)","v":0},{"$f":"SUMIFS(Haushaltsbuch2[Einnahmen],Haushaltsbuch2[Kategorie],R$4,Haushaltsbuch2[Datum],\">\"&B348,Haushaltsbuch2[Datum],\"<=\"&B349)","v":0},null,null,null,null,null,null,null,null,null,null,null,null,null,null,null,null,null,null,{"$f":"SUMIFS(Haushaltsbuch2[Ausgaben],Haushaltsbuch2[Kategorie],AK$4,Haushaltsbuch2[Datum],\">\"&B348,Haushaltsbuch2[Datum],\"<=\"&B349)","v":0},null,null,{"$f":"SUMIFS(Dividenden[Betrag in EUR],Dividenden[Datum],\">\"&B348,Dividenden[Datum],\"<=\"&B349)","v":0},{"$f":"SUMIFS(Optionen[G/V (Netto)],Optionen[Datum],\">\"&B348,Optionen[Datum],\"<=\"&B349)","v":0},null,0,0,null,0,0,null,{"$f":"SUMIFS(Haushaltsbuch2[Einnahmen],Haushaltsbuch2[Datum],\">\"&B348,Haushaltsbuch2[Datum],\"<=\"&B349)+AN349+AO349","v":0},null,0,null,{"$f":"SUMIFS(Haushaltsbuch2[Ausgaben],Haushaltsbuch2[Datum],\">\"&B348,Haushaltsbuch2[Datum],\"<=\"&B349)","v":0}]
[null,36129,null,null,null,null,null,null,null,null,null,null,{"$f":"SUMIFS(Haushaltsbuch2[Einnahmen],Haushaltsbuch2[Kategorie],M$4,Haushaltsbuch2[Datum],\">\"&B349,Haushaltsbuch2[Datum],\"<=\"&B350)","v":0},{"$f":"SUMIFS(Haushaltsbuch2[Einnahmen],Haushaltsbuch2[Kategorie],N$4,Haushaltsbuch2[Datum],\">\"&B349,Haushaltsbuch2[Datum],\"<=\"&B350)","v":0},{"$f":"SUMIFS(Haushaltsbuch2[Einnahmen],Haushaltsbuch2[Kategorie],O$4,Haushaltsbuch2[Datum],\">\"&B349,Haushaltsbuch2[Datum],\"<=\"&B350)","v":0},{"$f":"SUMIFS(Haushaltsbuch2[Einnahmen],Haushaltsbuch2[Kategorie],P$4,Haushaltsbuch2[Datum],\">\"&B349,Haushaltsbuch2[Datum],\"<=\"&B350)","v":0},{"$f":"SUMIFS(Haushaltsbuch2[Einnahmen],Haushaltsbuch2[Kategorie],Q$4,Haushaltsbuch2[Datum],\">\"&B349,Haushaltsbuch2[Datum],\"<=\"&B350)","v":0},{"$f":"SUMIFS(Haushaltsbuch2[Einnahmen],Haushaltsbuch2[Kategorie],R$4,Haushaltsbuch2[Datum],\">\"&B349,Haushaltsbuch2[Datum],\"<=\"&B350)","v":0},null,null,null,null,null,null,null,null,null,null,null,null,null,null,null,null,null,null,{"$f":"SUMIFS(Haushaltsbuch2[Ausgaben],Haushaltsbuch2[Kategorie],AK$4,Haushaltsbuch2[Datum],\">\"&B349,Haushaltsbuch2[Datum],\"<=\"&B350)","v":0},null,null,{"$f":"SUMIFS(Dividenden[Betrag in EUR],Dividenden[Datum],\">\"&B349,Dividenden[Datum],\"<=\"&B350)","v":0},{"$f":"SUMIFS(Optionen[G/V (Netto)],Optionen[Datum],\">\"&B349,Optionen[Datum],\"<=\"&B350)","v":0},null,0,0,null,0,0,null,{"$f":"SUMIFS(Haushaltsbuch2[Einnahmen],Haushaltsbuch2[Datum],\">\"&B349,Haushaltsbuch2[Datum],\"<=\"&B350)+AN350+AO350","v":0},null,0,null,{"$f":"SUMIFS(Haushaltsbuch2[Ausgaben],Haushaltsbuch2[Datum],\">\"&B349,Haushaltsbuch2[Datum],\"<=\"&B350)","v":0}]
[null,36160,null,null,null,null,null,null,null,null,null,null,{"$f":"SUMIFS(Haushaltsbuch2[Einnahmen],Haushaltsbuch2[Kategorie],M$4,Haushaltsbuch2[Datum],\">\"&B350,Haushaltsbuch2[Datum],\"<=\"&B351)","v":0},{"$f":"SUMIFS(Haushaltsbuch2[Einnahmen],Haushaltsbuch2[Kategorie],N$4,Haushaltsbuch2[Datum],\">\"&B350,Haushaltsbuch2[Datum],\"<=\"&B351)","v":0},{"$f":"SUMIFS(Haushaltsbuch2[Einnahmen],Haushaltsbuch2[Kategorie],O$4,Haushaltsbuch2[Datum],\">\"&B350,Haushaltsbuch2[Datum],\"<=\"&B351)","v":0},{"$f":"SUMIFS(Haushaltsbuch2[Einnahmen],Haushaltsbuch2[Kategorie],P$4,Haushaltsbuch2[Datum],\">\"&B350,Haushaltsbuch2[Datum],\"<=\"&B351)","v":0},{"$f":"SUMIFS(Haushaltsbuch2[Einnahmen],Haushaltsbuch2[Kategorie],Q$4,Haushaltsbuch2[Datum],\">\"&B350,Haushaltsbuch2[Datum],\"<=\"&B351)","v":0},{"$f":"SUMIFS(Haushaltsbuch2[Einnahmen],Haushaltsbuch2[Kategorie],R$4,Haushaltsbuch2[Datum],\">\"&B350,Haushaltsbuch2[Datum],\"<=\"&B351)","v":0},null,null,null,null,null,null,null,null,null,null,null,null,null,null,null,null,null,null,{"$f":"SUMIFS(Haushaltsbuch2[Ausgaben],Haushaltsbuch2[Kategorie],AK$4,Haushaltsbuch2[Datum],\">\"&B350,Haushaltsbuch2[Datum],\"<=\"&B351)","v":0},null,null,{"$f":"SUMIFS(Dividenden[Betrag in EUR],Dividenden[Datum],\">\"&B350,Dividenden[Datum],\"<=\"&B351)","v":0},{"$f":"SUMIFS(Optionen[G/V (Netto)],Optionen[Datum],\">\"&B350,Optionen[Datum],\"<=\"&B351)","v":0},null,0,0,null,0,0,null,{"$f":"SUMIFS(Haushaltsbuch2[Einnahmen],Haushaltsbuch2[Datum],\">\"&B350,Haushaltsbuch2[Datum],\"<=\"&B351)+AN351+AO351","v":0},null,0,null,{"$f":"SUMIFS(Haushaltsbuch2[Ausgaben],Haushaltsbuch2[Datum],\">\"&B350,Haushaltsbuch2[Datum],\"<=\"&B351)","v":0}]
[null,36191,null,null,null,null,null,null,null,null,null,null,{"$f":"SUMIFS(Haushaltsbuch2[Einnahmen],Haushaltsbuch2[Kategorie],M$4,Haushaltsbuch2[Datum],\">\"&B351,Haushaltsbuch2[Datum],\"<=\"&B352)","v":0},{"$f":"SUMIFS(Haushaltsbuch2[Einnahmen],Haushaltsbuch2[Kategorie],N$4,Haushaltsbuch2[Datum],\">\"&B351,Haushaltsbuch2[Datum],\"<=\"&B352)","v":0},{"$f":"SUMIFS(Haushaltsbuch2[Einnahmen],Haushaltsbuch2[Kategorie],O$4,Haushaltsbuch2[Datum],\">\"&B351,Haushaltsbuch2[Datum],\"<=\"&B352)","v":0},{"$f":"SUMIFS(Haushaltsbuch2[Einnahmen],Haushaltsbuch2[Kategorie],P$4,Haushaltsbuch2[Datum],\">\"&B351,Haushaltsbuch2[Datum],\"<=\"&B352)","v":0},{"$f":"SUMIFS(Haushaltsbuch2[Einnahmen],Haushaltsbuch2[Kategorie],Q$4,Haushaltsbuch2[Datum],\">\"&B351,Haushaltsbuch2[Datum],\"<=\"&B352)","v":0},{"$f":"SUMIFS(Haushaltsbuch2[Einnahmen],Haushaltsbuch2[Kategorie],R$4,Haushaltsbuch2[Datum],\">\"&B351,Haushaltsbuch2[Datum],\"<=\"&B352)","v":0},null,null,null,null,null,null,null,null,null,null,null,null,null,null,null,null,null,null,{"$f":"SUMIFS(Haushaltsbuch2[Ausgaben],Haushaltsbuch2[Kategorie],AK$4,Haushaltsbuch2[Datum],\">\"&B351,Haushaltsbuch2[Datum],\"<=\"&B352)","v":0},null,null,{"$f":"SUMIFS(Dividenden[Betrag in EUR],Dividenden[Datum],\">\"&B351,Dividenden[Datum],\"<=\"&B352)","v":0},{"$f":"SUMIFS(Optionen[G/V (Netto)],Optionen[Datum],\">\"&B351,Optionen[Datum],\"<=\"&B352)","v":0},null,0,0,null,0,0,null,{"$f":"SUMIFS(Haushaltsbuch2[Einnahmen],Haushaltsbuch2[Datum],\">\"&B351,Haushaltsbuch2[Datum],\"<=\"&B352)+AN352+AO352","v":0},null,0,null,{"$f":"SUMIFS(Haushaltsbuch2[Ausgaben],Haushaltsbuch2[Datum],\">\"&B351,Haushaltsbuch2[Datum],\"<=\"&B352)","v":0}]
[null,36219,null,null,null,null,null,null,null,null,null,null,{"$f":"SUMIFS(Haushaltsbuch2[Einnahmen],Haushaltsbuch2[Kategorie],M$4,Haushaltsbuch2[Datum],\">\"&B352,Haushaltsbuch2[Datum],\"<=\"&B353)","v":0},{"$f":"SUMIFS(Haushaltsbuch2[Einnahmen],Haushaltsbuch2[Kategorie],N$4,Haushaltsbuch2[Datum],\">\"&B352,Haushaltsbuch2[Datum],\"<=\"&B353)","v":0},{"$f":"SUMIFS(Haushaltsbuch2[Einnahmen],Haushaltsbuch2[Kategorie],O$4,Haushaltsbuch2[Datum],\">\"&B352,Haushaltsbuch2[Datum],\"<=\"&B353)","v":0},{"$f":"SUMIFS(Haushaltsbuch2[Einnahmen],Haushaltsbuch2[Kategorie],P$4,Haushaltsbuch2[Datum],\">\"&B352,Haushaltsbuch2[Datum],\"<=\"&B353)","v":0},{"$f":"SUMIFS(Haushaltsbuch2[Einnahmen],Haushaltsbuch2[Kategorie],Q$4,Haushaltsbuch2[Datum],\">\"&B352,Haushaltsbuch2[Datum],\"<=\"&B353)","v":0},{"$f":"SUMIFS(Haushaltsbuch2[Einnahmen],Haushaltsbuch2[Kategorie],R$4,Haushaltsbuch2[Datum],\">\"&B352,Haushaltsbuch2[Datum],\"<=\"&B353)","v":0},null,null,null,null,null,null,null,null,null,null,null,null,null,null,null,null,null,null,{"$f":"SUMIFS(Haushaltsbuch2[Ausgaben],Haushaltsbuch2[Kategorie],AK$4,Haushaltsbuch2[Datum],\">\"&B352,Haushaltsbuch2[Datum],\"<=\"&B353)","v":0},null,null,{"$f":"SUMIFS(Dividenden[Betrag in EUR],Dividenden[Datum],\">\"&B352,Dividenden[Datum],\"<=\"&B353)","v":0},{"$f":"SUMIFS(Optionen[G/V (Netto)],Optionen[Datum],\">\"&B352,Optionen[Datum],\"<=\"&B353)","v":0},null,0,0,null,0,0,null,{"$f":"SUMIFS(Haushaltsbuch2[Einnahmen],Haushaltsbuch2[Datum],\">\"&B352,Haushaltsbuch2[Datum],\"<=\"&B353)+AN353+AO353","v":0},null,0,null,{"$f":"SUMIFS(Haushaltsbuch2[Ausgaben],Haushaltsbuch2[Datum],\">\"&B352,Haushaltsbuch2[Datum],\"<=\"&B353)","v":0}]
[null,36250,null,null,null,null,null,null,null,null,null,null,{"$f":"SUMIFS(Haushaltsbuch2[Einnahmen],Haushaltsbuch2[Kategorie],M$4,Haushaltsbuch2[Datum],\">\"&B353,Haushaltsbuch2[Datum],\"<=\"&B354)","v":0},{"$f":"SUMIFS(Haushaltsbuch2[Einnahmen],Haushaltsbuch2[Kategorie],N$4,Haushaltsbuch2[Datum],\">\"&B353,Haushaltsbuch2[Datum],\"<=\"&B354)","v":0},{"$f":"SUMIFS(Haushaltsbuch2[Einnahmen],Haushaltsbuch2[Kategorie],O$4,Haushaltsbuch2[Datum],\">\"&B353,Haushaltsbuch2[Datum],\"<=\"&B354)","v":0},{"$f":"SUMIFS(Haushaltsbuch2[Einnahmen],Haushaltsbuch2[Kategorie],P$4,Haushaltsbuch2[Datum],\">\"&B353,Haushaltsbuch2[Datum],\"<=\"&B354)","v":0},{"$f":"SUMIFS(Haushaltsbuch2[Einnahmen],Haushaltsbuch2[Kategorie],Q$4,Haushaltsbuch2[Datum],\">\"&B353,Haushaltsbuch2[Datum],\"<=\"&B354)","v":0},{"$f":"SUMIFS(Haushaltsbuch2[Einnahmen],Haushaltsbuch2[Kategorie],R$4,Haushaltsbuch2[Datum],\">\"&B353,Haushaltsbuch2[Datum],\"<=\"&B354)","v":0},null,null,null,null,null,null,null,null,null,null,null,null,null,null,null,null,null,null,{"$f":"SUMIFS(Haushaltsbuch2[Ausgaben],Haushaltsbuch2[Kategorie],AK$4,Haushaltsbuch2[Datum],\">\"&B353,Haushaltsbuch2[Datum],\"<=\"&B354)","v":0},null,null,{"$f":"SUMIFS(Dividenden[Betrag in EUR],Dividenden[Datum],\">\"&B353,Dividenden[Datum],\"<=\"&B354)","v":0},{"$f":"SUMIFS(Optionen[G/V (Netto)],Optionen[Datum],\">\"&B353,Optionen[Datum],\"<=\"&B354)","v":0},null,0,0,null,0,0,null,{"$f":"SUMIFS(Haushaltsbuch2[Einnahmen],Haushaltsbuch2[Datum],\">\"&B353,Haushaltsbuch2[Datum],\"<=\"&B354)+AN354+AO354","v":0},null,0,null,{"$f":"SUMIFS(Haushaltsbuch2[Ausgaben],Haushaltsbuch2[Datum],\">\"&B353,Haushaltsbuch2[Datum],\"<=\"&B354)","v":0}]
[null,36280,null,null,null,null,null,null,null,null,null,null,{"$f":"SUMIFS(Haushaltsbuch2[Einnahmen],Haushaltsbuch2[Kategorie],M$4,Haushaltsbuch2[Datum],\">\"&B354,Haushaltsbuch2[Datum],\"<=\"&B355)","v":0},{"$f":"SUMIFS(Haushaltsbuch2[Einnahmen],Haushaltsbuch2[Kategorie],N$4,Haushaltsbuch2[Datum],\">\"&B354,Haushaltsbuch2[Datum],\"<=\"&B355)","v":0},{"$f":"SUMIFS(Haushaltsbuch2[Einnahmen],Haushaltsbuch2[Kategorie],O$4,Haushaltsbuch2[Datum],\">\"&B354,Haushaltsbuch2[Datum],\"<=\"&B355)","v":0},{"$f":"SUMIFS(Haushaltsbuch2[Einnahmen],Haushaltsbuch2[Kategorie],P$4,Haushaltsbuch2[Datum],\">\"&B354,Haushaltsbuch2[Datum],\"<=\"&B355)","v":0},{"$f":"SUMIFS(Haushaltsbuch2[Einnahmen],Haushaltsbuch2[Kategorie],Q$4,Haushaltsbuch2[Datum],\">\"&B354,Haushaltsbuch2[Datum],\"<=\"&B355)","v":0},{"$f":"SUMIFS(Haushaltsbuch2[Einnahmen],Haushaltsbuch2[Kategorie],R$4,Haushaltsbuch2[Datum],\">\"&B354,Haushaltsbuch2[Datum],\"<=\"&B355)","v":0},null,null,null,null,null,null,null,null,null,null,null,null,null,null,null,null,null,null,{"$f":"SUMIFS(Haushaltsbuch2[Ausgaben],Haushaltsbuch2[Kategorie],AK$4,Haushaltsbuch2[Datum],\">\"&B354,Haushaltsbuch2[Datum],\"<=\"&B355)","v":0},null,null,{"$f":"SUMIFS(Dividenden[Betrag in EUR],Dividenden[Datum],\">\"&B354,Dividenden[Datum],\"<=\"&B355)","v":0},{"$f":"SUMIFS(Optionen[G/V (Netto)],Optionen[Datum],\">\"&B354,Optionen[Datum],\"<=\"&B355)","v":0},null,0,0,null,0,0,null,{"$f":"SUMIFS(Haushaltsbuch2[Einnahmen],Haushaltsbuch2[Datum],\">\"&B354,Haushaltsbuch2[Datum],\"<=\"&B355)+AN355+AO355","v":0},null,0,null,{"$f":"SUMIFS(Haushaltsbuch2[Ausgaben],Haushaltsbuch2[Datum],\">\"&B354,Haushaltsbuch2[Datum],\"<=\"&B355)","v":0}]
[null,36311,null,null,null,null,null,null,null,null,null,null,{"$f":"SUMIFS(Haushaltsbuch2[Einnahmen],Haushaltsbuch2[Kategorie],M$4,Haushaltsbuch2[Datum],\">\"&B355,Haushaltsbuch2[Datum],\"<=\"&B356)","v":0},{"$f":"SUMIFS(Haushaltsbuch2[Einnahmen],Haushaltsbuch2[Kategorie],N$4,Haushaltsbuch2[Datum],\">\"&B355,Haushaltsbuch2[Datum],\"<=\"&B356)","v":0},{"$f":"SUMIFS(Haushaltsbuch2[Einnahmen],Haushaltsbuch2[Kategorie],O$4,Haushaltsbuch2[Datum],\">\"&B355,Haushaltsbuch2[Datum],\"<=\"&B356)","v":0},{"$f":"SUMIFS(Haushaltsbuch2[Einnahmen],Haushaltsbuch2[Kategorie],P$4,Haushaltsbuch2[Datum],\">\"&B355,Haushaltsbuch2[Datum],\"<=\"&B356)","v":0},{"$f":"SUMIFS(Haushaltsbuch2[Einnahmen],Haushaltsbuch2[Kategorie],Q$4,Haushaltsbuch2[Datum],\">\"&B355,Haushaltsbuch2[Datum],\"<=\"&B356)","v":0},{"$f":"SUMIFS(Haushaltsbuch2[Einnahmen],Haushaltsbuch2[Kategorie],R$4,Haushaltsbuch2[Datum],\">\"&B355,Haushaltsbuch2[Datum],\"<=\"&B356)","v":0},null,null,null,null,null,null,null,null,null,null,null,null,null,null,null,null,null,null,{"$f":"SUMIFS(Haushaltsbuch2[Ausgaben],Haushaltsbuch2[Kategorie],AK$4,Haushaltsbuch2[Datum],\">\"&B355,Haushaltsbuch2[Datum],\"<=\"&B356)","v":0},null,null,{"$f":"SUMIFS(Dividenden[Betrag in EUR],Dividenden[Datum],\">\"&B355,Dividenden[Datum],\"<=\"&B356)","v":0},{"$f":"SUMIFS(Optionen[G/V (Netto)],Optionen[Datum],\">\"&B355,Optionen[Datum],\"<=\"&B356)","v":0},null,0,0,null,0,0,null,{"$f":"SUMIFS(Haushaltsbuch2[Einnahmen],Haushaltsbuch2[Datum],\">\"&B355,Haushaltsbuch2[Datum],\"<=\"&B356)+AN356+AO356","v":0},null,0,null,{"$f":"SUMIFS(Haushaltsbuch2[Ausgaben],Haushaltsbuch2[Datum],\">\"&B355,Haushaltsbuch2[Datum],\"<=\"&B356)","v":0}]
[null,36341,null,null,null,null,null,null,null,null,null,null,{"$f":"SUMIFS(Haushaltsbuch2[Einnahmen],Haushaltsbuch2[Kategorie],M$4,Haushaltsbuch2[Datum],\">\"&B356,Haushaltsbuch2[Datum],\"<=\"&B357)","v":0},{"$f":"SUMIFS(Haushaltsbuch2[Einnahmen],Haushaltsbuch2[Kategorie],N$4,Haushaltsbuch2[Datum],\">\"&B356,Haushaltsbuch2[Datum],\"<=\"&B357)","v":0},{"$f":"SUMIFS(Haushaltsbuch2[Einnahmen],Haushaltsbuch2[Kategorie],O$4,Haushaltsbuch2[Datum],\">\"&B356,Haushaltsbuch2[Datum],\"<=\"&B357)","v":0},{"$f":"SUMIFS(Haushaltsbuch2[Einnahmen],Haushaltsbuch2[Kategorie],P$4,Haushaltsbuch2[Datum],\">\"&B356,Haushaltsbuch2[Datum],\"<=\"&B357)","v":0},{"$f":"SUMIFS(Haushaltsbuch2[Einnahmen],Haushaltsbuch2[Kategorie],Q$4,Haushaltsbuch2[Datum],\">\"&B356,Haushaltsbuch2[Datum],\"<=\"&B357)","v":0},{"$f":"SUMIFS(Haushaltsbuch2[Einnahmen],Haushaltsbuch2[Kategorie],R$4,Haushaltsbuch2[Datum],\">\"&B356,Haushaltsbuch2[Datum],\"<=\"&B357)","v":0},null,null,null,null,null,null,null,null,null,null,null,null,null,null,null,null,null,null,{"$f":"SUMIFS(Haushaltsbuch2[Ausgaben],Haushaltsbuch2[Kategorie],AK$4,Haushaltsbuch2[Datum],\">\"&B356,Haushaltsbuch2[Datum],\"<=\"&B357)","v":0},null,null,{"$f":"SUMIFS(Dividenden[Betrag in EUR],Dividenden[Datum],\">\"&B356,Dividenden[Datum],\"<=\"&B357)","v":0},{"$f":"SUMIFS(Optionen[G/V (Netto)],Optionen[Datum],\">\"&B356,Optionen[Datum],\"<=\"&B357)","v":0},null,0,0,null,0,0,null,{"$f":"SUMIFS(Haushaltsbuch2[Einnahmen],Haushaltsbuch2[Datum],\">\"&B356,Haushaltsbuch2[Datum],\"<=\"&B357)+AN357+AO357","v":0},null,0,null,{"$f":"SUMIFS(Haushaltsbuch2[Ausgaben],Haushaltsbuch2[Datum],\">\"&B356,Haushaltsbuch2[Datum],\"<=\"&B357)","v":0}]
[null,36372,null,null,null,null,null,null,null,null,null,null,{"$f":"SUMIFS(Haushaltsbuch2[Einnahmen],Haushaltsbuch2[Kategorie],M$4,Haushaltsbuch2[Datum],\">\"&B357,Haushaltsbuch2[Datum],\"<=\"&B358)","v":0},{"$f":"SUMIFS(Haushaltsbuch2[Einnahmen],Haushaltsbuch2[Kategorie],N$4,Haushaltsbuch2[Datum],\">\"&B357,Haushaltsbuch2[Datum],\"<=\"&B358)","v":0},{"$f":"SUMIFS(Haushaltsbuch2[Einnahmen],Haushaltsbuch2[Kategorie],O$4,Haushaltsbuch2[Datum],\">\"&B357,Haushaltsbuch2[Datum],\"<=\"&B358)","v":0},{"$f":"SUMIFS(Haushaltsbuch2[Einnahmen],Haushaltsbuch2[Kategorie],P$4,Haushaltsbuch2[Datum],\">\"&B357,Haushaltsbuch2[Datum],\"<=\"&B358)","v":0},{"$f":"SUMIFS(Haushaltsbuch2[Einnahmen],Haushaltsbuch2[Kategorie],Q$4,Haushaltsbuch2[Datum],\">\"&B357,Haushaltsbuch2[Datum],\"<=\"&B358)","v":0},{"$f":"SUMIFS(Haushaltsbuch2[Einnahmen],Haushaltsbuch2[Kategorie],R$4,Haushaltsbuch2[Datum],\">\"&B357,Haushaltsbuch2[Datum],\"<=\"&B358)","v":0},null,null,null,null,null,null,null,null,null,null,null,null,null,null,null,null,null,null,{"$f":"SUMIFS(Haushaltsbuch2[Ausgaben],Haushaltsbuch2[Kategorie],AK$4,Haushaltsbuch2[Datum],\">\"&B357,Haushaltsbuch2[Datum],\"<=\"&B358)","v":0},null,null,{"$f":"SUMIFS(Dividenden[Betrag in EUR],Dividenden[Datum],\">\"&B357,Dividenden[Datum],\"<=\"&B358)","v":0},{"$f":"SUMIFS(Optionen[G/V (Netto)],Optionen[Datum],\">\"&B357,Optionen[Datum],\"<=\"&B358)","v":0},null,0,0,null,0,0,null,{"$f":"SUMIFS(Haushaltsbuch2[Einnahmen],Haushaltsbuch2[Datum],\">\"&B357,Haushaltsbuch2[Datum],\"<=\"&B358)+AN358+AO358","v":0},null,0,null,{"$f":"SUMIFS(Haushaltsbuch2[Ausgaben],Haushaltsbuch2[Datum],\">\"&B357,Haushaltsbuch2[Datum],\"<=\"&B358)","v":0}]
[null,36403,null,null,null,null,null,null,null,null,null,null,{"$f":"SUMIFS(Haushaltsbuch2[Einnahmen],Haushaltsbuch2[Kategorie],M$4,Haushaltsbuch2[Datum],\">\"&B358,Haushaltsbuch2[Datum],\"<=\"&B359)","v":0},{"$f":"SUMIFS(Haushaltsbuch2[Einnahmen],Haushaltsbuch2[Kategorie],N$4,Haushaltsbuch2[Datum],\">\"&B358,Haushaltsbuch2[Datum],\"<=\"&B359)","v":0},{"$f":"SUMIFS(Haushaltsbuch2[Einnahmen],Haushaltsbuch2[Kategorie],O$4,Haushaltsbuch2[Datum],\">\"&B358,Haushaltsbuch2[Datum],\"<=\"&B359)","v":0},{"$f":"SUMIFS(Haushaltsbuch2[Einnahmen],Haushaltsbuch2[Kategorie],P$4,Haushaltsbuch2[Datum],\">\"&B358,Haushaltsbuch2[Datum],\"<=\"&B359)","v":0},{"$f":"SUMIFS(Haushaltsbuch2[Einnahmen],Haushaltsbuch2[Kategorie],Q$4,Haushaltsbuch2[Datum],\">\"&B358,Haushaltsbuch2[Datum],\"<=\"&B359)","v":0},{"$f":"SUMIFS(Haushaltsbuch2[Einnahmen],Haushaltsbuch2[Kategorie],R$4,Haushaltsbuch2[Datum],\">\"&B358,Haushaltsbuch2[Datum],\"<=\"&B359)","v":0},null,null,null,null,null,null,null,null,null,null,null,null,null,null,null,null,null,null,{"$f":"SUMIFS(Haushaltsbuch2[Ausgaben],Haushaltsbuch2[Kategorie],AK$4,Haushaltsbuch2[Datum],\">\"&B358,Haushaltsbuch2[Datum],\"<=\"&B359)","v":0},null,null,{"$f":"SUMIFS(Dividenden[Betrag in EUR],Dividenden[Datum],\">\"&B358,Dividenden[Datum],\"<=\"&B359)","v":0},{"$f":"SUMIFS(Optionen[G/V (Netto)],Optionen[Datum],\">\"&B358,Optionen[Datum],\"<=\"&B359)","v":0},null,0,0,null,0,0,null,{"$f":"SUMIFS(Haushaltsbuch2[Einnahmen],Haushaltsbuch2[Datum],\">\"&B358,Haushaltsbuch2[Datum],\"<=\"&B359)+AN359+AO359","v":0},null,0,null,{"$f":"SUMIFS(Haushaltsbuch2[Ausgaben],Haushaltsbuch2[Datum],\">\"&B358,Haushaltsbuch2[Datum],\"<=\"&B359)","v":0}]
[null,36433,null,null,null,null,null,null,null,null,null,null,{"$f":"SUMIFS(Haushaltsbuch2[Einnahmen],Haushaltsbuch2[Kategorie],M$4,Haushaltsbuch2[Datum],\">\"&B359,Haushaltsbuch2[Datum],\"<=\"&B360)","v":0},{"$f":"SUMIFS(Haushaltsbuch2[Einnahmen],Haushaltsbuch2[Kategorie],N$4,Haushaltsbuch2[Datum],\">\"&B359,Haushaltsbuch2[Datum],\"<=\"&B360)","v":0},{"$f":"SUMIFS(Haushaltsbuch2[Einnahmen],Haushaltsbuch2[Kategorie],O$4,Haushaltsbuch2[Datum],\">\"&B359,Haushaltsbuch2[Datum],\"<=\"&B360)","v":0},{"$f":"SUMIFS(Haushaltsbuch2[Einnahmen],Haushaltsbuch2[Kategorie],P$4,Haushaltsbuch2[Datum],\">\"&B359,Haushaltsbuch2[Datum],\"<=\"&B360)","v":0},{"$f":"SUMIFS(Haushaltsbuch2[Einnahmen],Haushaltsbuch2[Kategorie],Q$4,Haushaltsbuch2[Datum],\">\"&B359,Haushaltsbuch2[Datum],\"<=\"&B360)","v":0},{"$f":"SUMIFS(Haushaltsbuch2[Einnahmen],Haushaltsbuch2[Kategorie],R$4,Haushaltsbuch2[Datum],\">\"&B359,Haushaltsbuch2[Datum],\"<=\"&B360)","v":0},null,null,null,null,null,null,null,null,null,null,null,null,null,null,null,null,null,null,{"$f":"SUMIFS(Haushaltsbuch2[Ausgaben],Haushaltsbuch2[Kategorie],AK$4,Haushaltsbuch2[Datum],\">\"&B359,Haushaltsbuch2[Datum],\"<=\"&B360)","v":0},null,null,{"$f":"SUMIFS(Dividenden[Betrag in EUR],Dividenden[Datum],\">\"&B359,Dividenden[Datum],\"<=\"&B360)","v":0},{"$f":"SUMIFS(Optionen[G/V (Netto)],Optionen[Datum],\">\"&B359,Optionen[Datum],\"<=\"&B360)","v":0},null,0,0,null,0,0,null,{"$f":"SUMIFS(Haushaltsbuch2[Einnahmen],Haushaltsbuch2[Datum],\">\"&B359,Haushaltsbuch2[Datum],\"<=\"&B360)+AN360+AO360","v":0},null,0,null,{"$f":"SUMIFS(Haushaltsbuch2[Ausgaben],Haushaltsbuch2[Datum],\">\"&B359,Haushaltsbuch2[Datum],\"<=\"&B360)","v":0}]
[null,36464,null,null,null,null,null,null,null,null,null,null,{"$f":"SUMIFS(Haushaltsbuch2[Einnahmen],Haushaltsbuch2[Kategorie],M$4,Haushaltsbuch2[Datum],\">\"&B360,Haushaltsbuch2[Datum],\"<=\"&B361)","v":0},{"$f":"SUMIFS(Haushaltsbuch2[Einnahmen],Haushaltsbuch2[Kategorie],N$4,Haushaltsbuch2[Datum],\">\"&B360,Haushaltsbuch2[Datum],\"<=\"&B361)","v":0},{"$f":"SUMIFS(Haushaltsbuch2[Einnahmen],Haushaltsbuch2[Kategorie],O$4,Haushaltsbuch2[Datum],\">\"&B360,Haushaltsbuch2[Datum],\"<=\"&B361)","v":0},{"$f":"SUMIFS(Haushaltsbuch2[Einnahmen],Haushaltsbuch2[Kategorie],P$4,Haushaltsbuch2[Datum],\">\"&B360,Haushaltsbuch2[Datum],\"<=\"&B361)","v":0},{"$f":"SUMIFS(Haushaltsbuch2[Einnahmen],Haushaltsbuch2[Kategorie],Q$4,Haushaltsbuch2[Datum],\">\"&B360,Haushaltsbuch2[Datum],\"<=\"&B361)","v":0},{"$f":"SUMIFS(Haushaltsbuch2[Einnahmen],Haushaltsbuch2[Kategorie],R$4,Haushaltsbuch2[Datum],\">\"&B360,Haushaltsbuch2[Datum],\"<=\"&B361)","v":0},null,null,null,null,null,null,null,null,null,null,null,null,null,null,null,null,null,null,{"$f":"SUMIFS(Haushaltsbuch2[Ausgaben],Haushaltsbuch2[Kategorie],AK$4,Haushaltsbuch2[Datum],\">\"&B360,Haushaltsbuch2[Datum],\"<=\"&B361)","v":0},null,null,{"$f":"SUMIFS(Dividenden[Betrag in EUR],Dividenden[Datum],\">\"&B360,Dividenden[Datum],\"<=\"&B361)","v":0},{"$f":"SUMIFS(Optionen[G/V (Netto)],Optionen[Datum],\">\"&B360,Optionen[Datum],\"<=\"&B361)","v":0},null,0,0,null,0,0,null,{"$f":"SUMIFS(Haushaltsbuch2[Einnahmen],Haushaltsbuch2[Datum],\">\"&B360,Haushaltsbuch2[Datum],\"<=\"&B361)+AN361+AO361","v":0},null,0,null,{"$f":"SUMIFS(Haushaltsbuch2[Ausgaben],Haushaltsbuch2[Datum],\">\"&B360,Haushaltsbuch2[Datum],\"<=\"&B361)","v":0}]
[null,36494,null,null,null,null,null,null,null,null,null,null,{"$f":"SUMIFS(Haushaltsbuch2[Einnahmen],Haushaltsbuch2[Kategorie],M$4,Haushaltsbuch2[Datum],\">\"&B361,Haushaltsbuch2[Datum],\"<=\"&B362)","v":0},{"$f":"SUMIFS(Haushaltsbuch2[Einnahmen],Haushaltsbuch2[Kategorie],N$4,Haushaltsbuch2[Datum],\">\"&B361,Haushaltsbuch2[Datum],\"<=\"&B362)","v":0},{"$f":"SUMIFS(Haushaltsbuch2[Einnahmen],Haushaltsbuch2[Kategorie],O$4,Haushaltsbuch2[Datum],\">\"&B361,Haushaltsbuch2[Datum],\"<=\"&B362)","v":0},{"$f":"SUMIFS(Haushaltsbuch2[Einnahmen],Haushaltsbuch2[Kategorie],P$4,Haushaltsbuch2[Datum],\">\"&B361,Haushaltsbuch2[Datum],\"<=\"&B362)","v":0},{"$f":"SUMIFS(Haushaltsbuch2[Einnahmen],Haushaltsbuch2[Kategorie],Q$4,Haushaltsbuch2[Datum],\">\"&B361,Haushaltsbuch2[Datum],\"<=\"&B362)","v":0},{"$f":"SUMIFS(Haushaltsbuch2[Einnahmen],Haushaltsbuch2[Kategorie],R$4,Haushaltsbuch2[Datum],\">\"&B361,Haushaltsbuch2[Datum],\"<=\"&B362)","v":0},null,null,null,null,null,null,null,null,null,null,null,null,null,null,null,null,null,null,{"$f":"SUMIFS(Haushaltsbuch2[Ausgaben],Haushaltsbuch2[Kategorie],AK$4,Haushaltsbuch2[Datum],\">\"&B361,Haushaltsbuch2[Datum],\"<=\"&B362)","v":0},null,null,{"$f":"SUMIFS(Dividenden[Betrag in EUR],Dividenden[Datum],\">\"&B361,Dividenden[Datum],\"<=\"&B362)","v":0},{"$f":"SUMIFS(Optionen[G/V (Netto)],Optionen[Datum],\">\"&B361,Optionen[Datum],\"<=\"&B362)","v":0},null,0,0,null,0,0,null,{"$f":"SUMIFS(Haushaltsbuch2[Einnahmen],Haushaltsbuch2[Datum],\">\"&B361,Haushaltsbuch2[Datum],\"<=\"&B362)+AN362+AO362","v":0},null,0,null,{"$f":"SUMIFS(Haushaltsbuch2[Ausgaben],Haushaltsbuch2[Datum],\">\"&B361,Haushaltsbuch2[Datum],\"<=\"&B362)","v":0}]
[null,36525,null,null,null,null,null,null,null,null,null,null,{"$f":"SUMIFS(Haushaltsbuch2[Einnahmen],Haushaltsbuch2[Kategorie],M$4,Haushaltsbuch2[Datum],\">\"&B362,Haushaltsbuch2[Datum],\"<=\"&B363)","v":0},{"$f":"SUMIFS(Haushaltsbuch2[Einnahmen],Haushaltsbuch2[Kategorie],N$4,Haushaltsbuch2[Datum],\">\"&B362,Haushaltsbuch2[Datum],\"<=\"&B363)","v":0},{"$f":"SUMIFS(Haushaltsbuch2[Einnahmen],Haushaltsbuch2[Kategorie],O$4,Haushaltsbuch2[Datum],\">\"&B362,Haushaltsbuch2[Datum],\"<=\"&B363)","v":0},{"$f":"SUMIFS(Haushaltsbuch2[Einnahmen],Haushaltsbuch2[Kategorie],P$4,Haushaltsbuch2[Datum],\">\"&B362,Haushaltsbuch2[Datum],\"<=\"&B363)","v":0},{"$f":"SUMIFS(Haushaltsbuch2[Einnahmen],Haushaltsbuch2[Kategorie],Q$4,Haushaltsbuch2[Datum],\">\"&B362,Haushaltsbuch2[Datum],\"<=\"&B363)","v":0},{"$f":"SUMIFS(Haushaltsbuch2[Einnahmen],Haushaltsbuch2[Kategorie],R$4,Haushaltsbuch2[Datum],\">\"&B362,Haushaltsbuch2[Datum],\"<=\"&B363)","v":0},null,null,null,null,null,null,null,null,null,null,null,null,null,null,null,null,null,null,{"$f":"SUMIFS(Haushaltsbuch2[Ausgaben],Haushaltsbuch2[Kategorie],AK$4,Haushaltsbuch2[Datum],\">\"&B362,Haushaltsbuch2[Datum],\"<=\"&B363)","v":0},null,null,{"$f":"SUMIFS(Dividenden[Betrag in EUR],Dividenden[Datum],\">\"&B362,Dividenden[Datum],\"<=\"&B363)","v":0},{"$f":"SUMIFS(Optionen[G/V (Netto)],Optionen[Datum],\">\"&B362,Optionen[Datum],\"<=\"&B363)","v":0},null,0,0,null,0,0,null,{"$f":"SUMIFS(Haushaltsbuch2[Einnahmen],Haushaltsbuch2[Datum],\">\"&B362,Haushaltsbuch2[Datum],\"<=\"&B363)+AN363+AO363","v":0},null,0,null,{"$f":"SUMIFS(Haushaltsbuch2[Ausgaben],Haushaltsbuch2[Datum],\">\"&B362,Haushaltsbuch2[Datum],\"<=\"&B363)","v":0}]
[null,36556,null,null,null,null,null,null,null,null,null,null,{"$f":"SUMIFS(Haushaltsbuch2[Einnahmen],Haushaltsbuch2[Kategorie],M$4,Haushaltsbuch2[Datum],\">\"&B363,Haushaltsbuch2[Datum],\"<=\"&B364)","v":0},{"$f":"SUMIFS(Haushaltsbuch2[Einnahmen],Haushaltsbuch2[Kategorie],N$4,Haushaltsbuch2[Datum],\">\"&B363,Haushaltsbuch2[Datum],\"<=\"&B364)","v":0},{"$f":"SUMIFS(Haushaltsbuch2[Einnahmen],Haushaltsbuch2[Kategorie],O$4,Haushaltsbuch2[Datum],\">\"&B363,Haushaltsbuch2[Datum],\"<=\"&B364)","v":0},{"$f":"SUMIFS(Haushaltsbuch2[Einnahmen],Haushaltsbuch2[Kategorie],P$4,Haushaltsbuch2[Datum],\">\"&B363,Haushaltsbuch2[Datum],\"<=\"&B364)","v":0},{"$f":"SUMIFS(Haushaltsbuch2[Einnahmen],Haushaltsbuch2[Kategorie],Q$4,Haushaltsbuch2[Datum],\">\"&B363,Haushaltsbuch2[Datum],\"<=\"&B364)","v":0},{"$f":"SUMIFS(Haushaltsbuch2[Einnahmen],Haushaltsbuch2[Kategorie],R$4,Haushaltsbuch2[Datum],\">\"&B363,Haushaltsbuch2[Datum],\"<=\"&B364)","v":0},null,null,null,null,null,null,null,null,null,null,null,null,null,null,null,null,null,null,{"$f":"SUMIFS(Haushaltsbuch2[Ausgaben],Haushaltsbuch2[Kategorie],AK$4,Haushaltsbuch2[Datum],\">\"&B363,Haushaltsbuch2[Datum],\"<=\"&B364)","v":0},null,null,{"$f":"SUMIFS(Dividenden[Betrag in EUR],Dividenden[Datum],\">\"&B363,Dividenden[Datum],\"<=\"&B364)","v":0},{"$f":"SUMIFS(Optionen[G/V (Netto)],Optionen[Datum],\">\"&B363,Optionen[Datum],\"<=\"&B364)","v":0},null,0,0,null,0,0,null,{"$f":"SUMIFS(Haushaltsbuch2[Einnahmen],Haushaltsbuch2[Datum],\">\"&B363,Haushaltsbuch2[Datum],\"<=\"&B364)+AN364+AO364","v":0},null,0,null,{"$f":"SUMIFS(Haushaltsbuch2[Ausgaben],Haushaltsbuch2[Datum],\">\"&B363,Haushaltsbuch2[Datum],\"<=\"&B364)","v":0}]
[null,36585,null,null,null,null,null,null,null,null,null,null,{"$f":"SUMIFS(Haushaltsbuch2[Einnahmen],Haushaltsbuch2[Kategorie],M$4,Haushaltsbuch2[Datum],\">\"&B364,Haushaltsbuch2[Datum],\"<=\"&B365)","v":0},{"$f":"SUMIFS(Haushaltsbuch2[Einnahmen],Haushaltsbuch2[Kategorie],N$4,Haushaltsbuch2[Datum],\">\"&B364,Haushaltsbuch2[Datum],\"<=\"&B365)","v":0},{"$f":"SUMIFS(Haushaltsbuch2[Einnahmen],Haushaltsbuch2[Kategorie],O$4,Haushaltsbuch2[Datum],\">\"&B364,Haushaltsbuch2[Datum],\"<=\"&B365)","v":0},{"$f":"SUMIFS(Haushaltsbuch2[Einnahmen],Haushaltsbuch2[Kategorie],P$4,Haushaltsbuch2[Datum],\">\"&B364,Haushaltsbuch2[Datum],\"<=\"&B365)","v":0},{"$f":"SUMIFS(Haushaltsbuch2[Einnahmen],Haushaltsbuch2[Kategorie],Q$4,Haushaltsbuch2[Datum],\">\"&B364,Haushaltsbuch2[Datum],\"<=\"&B365)","v":0},{"$f":"SUMIFS(Haushaltsbuch2[Einnahmen],Haushaltsbuch2[Kategorie],R$4,Haushaltsbuch2[Datum],\">\"&B364,Haushaltsbuch2[Datum],\"<=\"&B365)","v":0},null,null,null,null,null,null,null,null,null,null,null,null,null,null,null,null,null,null,{"$f":"SUMIFS(Haushaltsbuch2[Ausgaben],Haushaltsbuch2[Kategorie],AK$4,Haushaltsbuch2[Datum],\">\"&B364,Haushaltsbuch2[Datum],\"<=\"&B365)","v":0},null,null,{"$f":"SUMIFS(Dividenden[Betrag in EUR],Dividenden[Datum],\">\"&B364,Dividenden[Datum],\"<=\"&B365)","v":0},{"$f":"SUMIFS(Optionen[G/V (Netto)],Optionen[Datum],\">\"&B364,Optionen[Datum],\"<=\"&B365)","v":0},null,0,0,null,0,0,null,{"$f":"SUMIFS(Haushaltsbuch2[Einnahmen],Haushaltsbuch2[Datum],\">\"&B364,Haushaltsbuch2[Datum],\"<=\"&B365)+AN365+AO365","v":0},null,0,null,{"$f":"SUMIFS(Haushaltsbuch2[Ausgaben],Haushaltsbuch2[Datum],\">\"&B364,Haushaltsbuch2[Datum],\"<=\"&B365)","v":0}]
[null,36616,null,null,null,null,null,null,null,null,null,null,{"$f":"SUMIFS(Haushaltsbuch2[Einnahmen],Haushaltsbuch2[Kategorie],M$4,Haushaltsbuch2[Datum],\">\"&B365,Haushaltsbuch2[Datum],\"<=\"&B366)","v":0},{"$f":"SUMIFS(Haushaltsbuch2[Einnahmen],Haushaltsbuch2[Kategorie],N$4,Haushaltsbuch2[Datum],\">\"&B365,Haushaltsbuch2[Datum],\"<=\"&B366)","v":0},{"$f":"SUMIFS(Haushaltsbuch2[Einnahmen],Haushaltsbuch2[Kategorie],O$4,Haushaltsbuch2[Datum],\">\"&B365,Haushaltsbuch2[Datum],\"<=\"&B366)","v":0},{"$f":"SUMIFS(Haushaltsbuch2[Einnahmen],Haushaltsbuch2[Kategorie],P$4,Haushaltsbuch2[Datum],\">\"&B365,Haushaltsbuch2[Datum],\"<=\"&B366)","v":0},{"$f":"SUMIFS(Haushaltsbuch2[Einnahmen],Haushaltsbuch2[Kategorie],Q$4,Haushaltsbuch2[Datum],\">\"&B365,Haushaltsbuch2[Datum],\"<=\"&B366)","v":0},{"$f":"SUMIFS(Haushaltsbuch2[Einnahmen],Haushaltsbuch2[Kategorie],R$4,Haushaltsbuch2[Datum],\">\"&B365,Haushaltsbuch2[Datum],\"<=\"&B366)","v":0},null,null,null,null,null,null,null,null,null,null,null,null,null,null,null,null,null,null,{"$f":"SUMIFS(Haushaltsbuch2[Ausgaben],Haushaltsbuch2[Kategorie],AK$4,Haushaltsbuch2[Datum],\">\"&B365,Haushaltsbuch2[Datum],\"<=\"&B366)","v":0},null,null,{"$f":"SUMIFS(Dividenden[Betrag in EUR],Dividenden[Datum],\">\"&B365,Dividenden[Datum],\"<=\"&B366)","v":0},{"$f":"SUMIFS(Optionen[G/V (Netto)],Optionen[Datum],\">\"&B365,Optionen[Datum],\"<=\"&B366)","v":0},null,0,0,null,0,0,null,{"$f":"SUMIFS(Haushaltsbuch2[Einnahmen],Haushaltsbuch2[Datum],\">\"&B365,Haushaltsbuch2[Datum],\"<=\"&B366)+AN366+AO366","v":0},null,0,null,{"$f":"SUMIFS(Haushaltsbuch2[Ausgaben],Haushaltsbuch2[Datum],\">\"&B365,Haushaltsbuch2[Datum],\"<=\"&B366)","v":0}]
[null,36646,null,null,null,null,null,null,null,null,null,null,{"$f":"SUMIFS(Haushaltsbuch2[Einnahmen],Haushaltsbuch2[Kategorie],M$4,Haushaltsbuch2[Datum],\">\"&B366,Haushaltsbuch2[Datum],\"<=\"&B367)","v":0},{"$f":"SUMIFS(Haushaltsbuch2[Einnahmen],Haushaltsbuch2[Kategorie],N$4,Haushaltsbuch2[Datum],\">\"&B366,Haushaltsbuch2[Datum],\"<=\"&B367)","v":0},{"$f":"SUMIFS(Haushaltsbuch2[Einnahmen],Haushaltsbuch2[Kategorie],O$4,Haushaltsbuch2[Datum],\">\"&B366,Haushaltsbuch2[Datum],\"<=\"&B367)","v":0},{"$f":"SUMIFS(Haushaltsbuch2[Einnahmen],Haushaltsbuch2[Kategorie],P$4,Haushaltsbuch2[Datum],\">\"&B366,Haushaltsbuch2[Datum],\"<=\"&B367)","v":0},{"$f":"SUMIFS(Haushaltsbuch2[Einnahmen],Haushaltsbuch2[Kategorie],Q$4,Haushaltsbuch2[Datum],\">\"&B366,Haushaltsbuch2[Datum],\"<=\"&B367)","v":0},{"$f":"SUMIFS(Haushaltsbuch2[Einnahmen],Haushaltsbuch2[Kategorie],R$4,Haushaltsbuch2[Datum],\">\"&B366,Haushaltsbuch2[Datum],\"<=\"&B367)","v":0},null,null,null,null,null,null,null,null,null,null,null,null,null,null,null,null,null,null,{"$f":"SUMIFS(Haushaltsbuch2[Ausgaben],Haushaltsbuch2[Kategorie],AK$4,Haushaltsbuch2[Datum],\">\"&B366,Haushaltsbuch2[Datum],\"<=\"&B367)","v":0},null,null,{"$f":"SUMIFS(Dividenden[Betrag in EUR],Dividenden[Datum],\">\"&B366,Dividenden[Datum],\"<=\"&B367)","v":0},{"$f":"SUMIFS(Optionen[G/V (Netto)],Optionen[Datum],\">\"&B366,Optionen[Datum],\"<=\"&B367)","v":0},null,0,0,null,0,0,null,{"$f":"SUMIFS(Haushaltsbuch2[Einnahmen],Haushaltsbuch2[Datum],\">\"&B366,Haushaltsbuch2[Datum],\"<=\"&B367)+AN367+AO367","v":0},null,0,null,{"$f":"SUMIFS(Haushaltsbuch2[Ausgaben],Haushaltsbuch2[Datum],\">\"&B366,Haushaltsbuch2[Datum],\"<=\"&B367)","v":0}]
[null,36677,null,null,null,null,null,null,null,null,null,null,{"$f":"SUMIFS(Haushaltsbuch2[Einnahmen],Haushaltsbuch2[Kategorie],M$4,Haushaltsbuch2[Datum],\">\"&B367,Haushaltsbuch2[Datum],\"<=\"&B368)","v":0},{"$f":"SUMIFS(Haushaltsbuch2[Einnahmen],Haushaltsbuch2[Kategorie],N$4,Haushaltsbuch2[Datum],\">\"&B367,Haushaltsbuch2[Datum],\"<=\"&B368)","v":0},{"$f":"SUMIFS(Haushaltsbuch2[Einnahmen],Haushaltsbuch2[Kategorie],O$4,Haushaltsbuch2[Datum],\">\"&B367,Haushaltsbuch2[Datum],\"<=\"&B368)","v":0},{"$f":"SUMIFS(Haushaltsbuch2[Einnahmen],Haushaltsbuch2[Kategorie],P$4,Haushaltsbuch2[Datum],\">\"&B367,Haushaltsbuch2[Datum],\"<=\"&B368)","v":0},{"$f":"SUMIFS(Haushaltsbuch2[Einnahmen],Haushaltsbuch2[Kategorie],Q$4,Haushaltsbuch2[Datum],\">\"&B367,Haushaltsbuch2[Datum],\"<=\"&B368)","v":0},{"$f":"SUMIFS(Haushaltsbuch2[Einnahmen],Haushaltsbuch2[Kategorie],R$4,Haushaltsbuch2[Datum],\">\"&B367,Haushaltsbuch2[Datum],\"<=\"&B368)","v":0},null,null,null,null,null,null,null,null,null,null,null,null,null,null,null,null,null,null,{"$f":"SUMIFS(Haushaltsbuch2[Ausgaben],Haushaltsbuch2[Kategorie],AK$4,Haushaltsbuch2[Datum],\">\"&B367,Haushaltsbuch2[Datum],\"<=\"&B368)","v":0},null,null,{"$f":"SUMIFS(Dividenden[Betrag in EUR],Dividenden[Datum],\">\"&B367,Dividenden[Datum],\"<=\"&B368)","v":0},{"$f":"SUMIFS(Optionen[G/V (Netto)],Optionen[Datum],\">\"&B367,Optionen[Datum],\"<=\"&B368)","v":0},null,0,0,null,0,0,null,{"$f":"SUMIFS(Haushaltsbuch2[Einnahmen],Haushaltsbuch2[Datum],\">\"&B367,Haushaltsbuch2[Datum],\"<=\"&B368)+AN368+AO368","v":0},null,0,null,{"$f":"SUMIFS(Haushaltsbuch2[Ausgaben],Haushaltsbuch2[Datum],\">\"&B367,Haushaltsbuch2[Datum],\"<=\"&B368)","v":0}]
[null,36707,null,null,null,null,null,null,null,null,null,null,{"$f":"SUMIFS(Haushaltsbuch2[Einnahmen],Haushaltsbuch2[Kategorie],M$4,Haushaltsbuch2[Datum],\">\"&B368,Haushaltsbuch2[Datum],\"<=\"&B369)","v":0},{"$f":"SUMIFS(Haushaltsbuch2[Einnahmen],Haushaltsbuch2[Kategorie],N$4,Haushaltsbuch2[Datum],\">\"&B368,Haushaltsbuch2[Datum],\"<=\"&B369)","v":0},{"$f":"SUMIFS(Haushaltsbuch2[Einnahmen],Haushaltsbuch2[Kategorie],O$4,Haushaltsbuch2[Datum],\">\"&B368,Haushaltsbuch2[Datum],\"<=\"&B369)","v":0},{"$f":"SUMIFS(Haushaltsbuch2[Einnahmen],Haushaltsbuch2[Kategorie],P$4,Haushaltsbuch2[Datum],\">\"&B368,Haushaltsbuch2[Datum],\"<=\"&B369)","v":0},{"$f":"SUMIFS(Haushaltsbuch2[Einnahmen],Haushaltsbuch2[Kategorie],Q$4,Haushaltsbuch2[Datum],\">\"&B368,Haushaltsbuch2[Datum],\"<=\"&B369)","v":0},{"$f":"SUMIFS(Haushaltsbuch2[Einnahmen],Haushaltsbuch2[Kategorie],R$4,Haushaltsbuch2[Datum],\">\"&B368,Haushaltsbuch2[Datum],\"<=\"&B369)","v":0},null,null,null,null,null,null,null,null,null,null,null,null,null,null,null,null,null,null,{"$f":"SUMIFS(Haushaltsbuch2[Ausgaben],Haushaltsbuch2[Kategorie],AK$4,Haushaltsbuch2[Datum],\">\"&B368,Haushaltsbuch2[Datum],\"<=\"&B369)","v":0},null,null,{"$f":"SUMIFS(Dividenden[Betrag in EUR],Dividenden[Datum],\">\"&B368,Dividenden[Datum],\"<=\"&B369)","v":0},{"$f":"SUMIFS(Optionen[G/V (Netto)],Optionen[Datum],\">\"&B368,Optionen[Datum],\"<=\"&B369)","v":0},null,0,0,null,0,0,null,{"$f":"SUMIFS(Haushaltsbuch2[Einnahmen],Haushaltsbuch2[Datum],\">\"&B368,Haushaltsbuch2[Datum],\"<=\"&B369)+AN369+AO369","v":0},null,0,null,{"$f":"SUMIFS(Haushaltsbuch2[Ausgaben],Haushaltsbuch2[Datum],\">\"&B368,Haushaltsbuch2[Datum],\"<=\"&B369)","v":0}]
[null,36738,null,null,null,null,null,null,null,null,null,null,{"$f":"SUMIFS(Haushaltsbuch2[Einnahmen],Haushaltsbuch2[Kategorie],M$4,Haushaltsbuch2[Datum],\">\"&B369,Haushaltsbuch2[Datum],\"<=\"&B370)","v":0},{"$f":"SUMIFS(Haushaltsbuch2[Einnahmen],Haushaltsbuch2[Kategorie],N$4,Haushaltsbuch2[Datum],\">\"&B369,Haushaltsbuch2[Datum],\"<=\"&B370)","v":0},{"$f":"SUMIFS(Haushaltsbuch2[Einnahmen],Haushaltsbuch2[Kategorie],O$4,Haushaltsbuch2[Datum],\">\"&B369,Haushaltsbuch2[Datum],\"<=\"&B370)","v":0},{"$f":"SUMIFS(Haushaltsbuch2[Einnahmen],Haushaltsbuch2[Kategorie],P$4,Haushaltsbuch2[Datum],\">\"&B369,Haushaltsbuch2[Datum],\"<=\"&B370)","v":0},{"$f":"SUMIFS(Haushaltsbuch2[Einnahmen],Haushaltsbuch2[Kategorie],Q$4,Haushaltsbuch2[Datum],\">\"&B369,Haushaltsbuch2[Datum],\"<=\"&B370)","v":0},{"$f":"SUMIFS(Haushaltsbuch2[Einnahmen],Haushaltsbuch2[Kategorie],R$4,Haushaltsbuch2[Datum],\">\"&B369,Haushaltsbuch2[Datum],\"<=\"&B370)","v":0},null,null,null,null,null,null,null,null,null,null,null,null,null,null,null,null,null,null,{"$f":"SUMIFS(Haushaltsbuch2[Ausgaben],Haushaltsbuch2[Kategorie],AK$4,Haushaltsbuch2[Datum],\">\"&B369,Haushaltsbuch2[Datum],\"<=\"&B370)","v":0},null,null,{"$f":"SUMIFS(Dividenden[Betrag in EUR],Dividenden[Datum],\">\"&B369,Dividenden[Datum],\"<=\"&B370)","v":0},{"$f":"SUMIFS(Optionen[G/V (Netto)],Optionen[Datum],\">\"&B369,Optionen[Datum],\"<=\"&B370)","v":0},null,0,0,null,0,0,null,{"$f":"SUMIFS(Haushaltsbuch2[Einnahmen],Haushaltsbuch2[Datum],\">\"&B369,Haushaltsbuch2[Datum],\"<=\"&B370)+AN370+AO370","v":0},null,0,null,{"$f":"SUMIFS(Haushaltsbuch2[Ausgaben],Haushaltsbuch2[Datum],\">\"&B369,Haushaltsbuch2[Datum],\"<=\"&B370)","v":0}]
[null,36769,null,null,null,null,null,null,null,null,null,null,{"$f":"SUMIFS(Haushaltsbuch2[Einnahmen],Haushaltsbuch2[Kategorie],M$4,Haushaltsbuch2[Datum],\">\"&B370,Haushaltsbuch2[Datum],\"<=\"&B371)","v":0},{"$f":"SUMIFS(Haushaltsbuch2[Einnahmen],Haushaltsbuch2[Kategorie],N$4,Haushaltsbuch2[Datum],\">\"&B370,Haushaltsbuch2[Datum],\"<=\"&B371)","v":0},{"$f":"SUMIFS(Haushaltsbuch2[Einnahmen],Haushaltsbuch2[Kategorie],O$4,Haushaltsbuch2[Datum],\">\"&B370,Haushaltsbuch2[Datum],\"<=\"&B371)","v":0},{"$f":"SUMIFS(Haushaltsbuch2[Einnahmen],Haushaltsbuch2[Kategorie],P$4,Haushaltsbuch2[Datum],\">\"&B370,Haushaltsbuch2[Datum],\"<=\"&B371)","v":0},{"$f":"SUMIFS(Haushaltsbuch2[Einnahmen],Haushaltsbuch2[Kategorie],Q$4,Haushaltsbuch2[Datum],\">\"&B370,Haushaltsbuch2[Datum],\"<=\"&B371)","v":0},{"$f":"SUMIFS(Haushaltsbuch2[Einnahmen],Haushaltsbuch2[Kategorie],R$4,Haushaltsbuch2[Datum],\">\"&B370,Haushaltsbuch2[Datum],\"<=\"&B371)","v":0},null,null,null,null,null,null,null,null,null,null,null,null,null,null,null,null,null,null,{"$f":"SUMIFS(Haushaltsbuch2[Ausgaben],Haushaltsbuch2[Kategorie],AK$4,Haushaltsbuch2[Datum],\">\"&B370,Haushaltsbuch2[Datum],\"<=\"&B371)","v":0},null,null,{"$f":"SUMIFS(Dividenden[Betrag in EUR],Dividenden[Datum],\">\"&B370,Dividenden[Datum],\"<=\"&B371)","v":0},{"$f":"SUMIFS(Optionen[G/V (Netto)],Optionen[Datum],\">\"&B370,Optionen[Datum],\"<=\"&B371)","v":0},null,0,0,null,0,0,null,{"$f":"SUMIFS(Haushaltsbuch2[Einnahmen],Haushaltsbuch2[Datum],\">\"&B370,Haushaltsbuch2[Datum],\"<=\"&B371)+AN371+AO371","v":0},null,0,null,{"$f":"SUMIFS(Haushaltsbuch2[Ausgaben],Haushaltsbuch2[Datum],\">\"&B370,Haushaltsbuch2[Datum],\"<=\"&B371)","v":0}]
[null,36799,null,null,null,null,null,null,null,null,null,null,{"$f":"SUMIFS(Haushaltsbuch2[Einnahmen],Haushaltsbuch2[Kategorie],M$4,Haushaltsbuch2[Datum],\">\"&B371,Haushaltsbuch2[Datum],\"<=\"&B372)","v":0},{"$f":"SUMIFS(Haushaltsbuch2[Einnahmen],Haushaltsbuch2[Kategorie],N$4,Haushaltsbuch2[Datum],\">\"&B371,Haushaltsbuch2[Datum],\"<=\"&B372)","v":0},{"$f":"SUMIFS(Haushaltsbuch2[Einnahmen],Haushaltsbuch2[Kategorie],O$4,Haushaltsbuch2[Datum],\">\"&B371,Haushaltsbuch2[Datum],\"<=\"&B372)","v":0},{"$f":"SUMIFS(Haushaltsbuch2[Einnahmen],Haushaltsbuch2[Kategorie],P$4,Haushaltsbuch2[Datum],\">\"&B371,Haushaltsbuch2[Datum],\"<=\"&B372)","v":0},{"$f":"SUMIFS(Haushaltsbuch2[Einnahmen],Haushaltsbuch2[Kategorie],Q$4,Haushaltsbuch2[Datum],\">\"&B371,Haushaltsbuch2[Datum],\"<=\"&B372)","v":0},{"$f":"SUMIFS(Haushaltsbuch2[Einnahmen],Haushaltsbuch2[Kategorie],R$4,Haushaltsbuch2[Datum],\">\"&B371,Haushaltsbuch2[Datum],\"<=\"&B372)","v":0},null,null,null,null,null,null,null,null,null,null,null,null,null,null,null,null,null,null,{"$f":"SUMIFS(Haushaltsbuch2[Ausgaben],Haushaltsbuch2[Kategorie],AK$4,Haushaltsbuch2[Datum],\">\"&B371,Haushaltsbuch2[Datum],\"<=\"&B372)","v":0},null,null,{"$f":"SUMIFS(Dividenden[Betrag in EUR],Dividenden[Datum],\">\"&B371,Dividenden[Datum],\"<=\"&B372)","v":0},{"$f":"SUMIFS(Optionen[G/V (Netto)],Optionen[Datum],\">\"&B371,Optionen[Datum],\"<=\"&B372)","v":0},null,0,0,null,0,0,null,{"$f":"SUMIFS(Haushaltsbuch2[Einnahmen],Haushaltsbuch2[Datum],\">\"&B371,Haushaltsbuch2[Datum],\"<=\"&B372)+AN372+AO372","v":0},null,0,null,{"$f":"SUMIFS(Haushaltsbuch2[Ausgaben],Haushaltsbuch2[Datum],\">\"&B371,Haushaltsbuch2[Datum],\"<=\"&B372)","v":0}]
[null,36830,null,null,null,null,null,null,null,null,null,null,{"$f":"SUMIFS(Haushaltsbuch2[Einnahmen],Haushaltsbuch2[Kategorie],M$4,Haushaltsbuch2[Datum],\">\"&B372,Haushaltsbuch2[Datum],\"<=\"&B373)","v":0},{"$f":"SUMIFS(Haushaltsbuch2[Einnahmen],Haushaltsbuch2[Kategorie],N$4,Haushaltsbuch2[Datum],\">\"&B372,Haushaltsbuch2[Datum],\"<=\"&B373)","v":0},{"$f":"SUMIFS(Haushaltsbuch2[Einnahmen],Haushaltsbuch2[Kategorie],O$4,Haushaltsbuch2[Datum],\">\"&B372,Haushaltsbuch2[Datum],\"<=\"&B373)","v":0},{"$f":"SUMIFS(Haushaltsbuch2[Einnahmen],Haushaltsbuch2[Kategorie],P$4,Haushaltsbuch2[Datum],\">\"&B372,Haushaltsbuch2[Datum],\"<=\"&B373)","v":0},{"$f":"SUMIFS(Haushaltsbuch2[Einnahmen],Haushaltsbuch2[Kategorie],Q$4,Haushaltsbuch2[Datum],\">\"&B372,Haushaltsbuch2[Datum],\"<=\"&B373)","v":0},{"$f":"SUMIFS(Haushaltsbuch2[Einnahmen],Haushaltsbuch2[Kategorie],R$4,Haushaltsbuch2[Datum],\">\"&B372,Haushaltsbuch2[Datum],\"<=\"&B373)","v":0},null,null,null,null,null,null,null,null,null,null,null,null,null,null,null,null,null,null,{"$f":"SUMIFS(Haushaltsbuch2[Ausgaben],Haushaltsbuch2[Kategorie],AK$4,Haushaltsbuch2[Datum],\">\"&B372,Haushaltsbuch2[Datum],\"<=\"&B373)","v":0},null,null,{"$f":"SUMIFS(Dividenden[Betrag in EUR],Dividenden[Datum],\">\"&B372,Dividenden[Datum],\"<=\"&B373)","v":0},{"$f":"SUMIFS(Optionen[G/V (Netto)],Optionen[Datum],\">\"&B372,Optionen[Datum],\"<=\"&B373)","v":0},null,0,0,null,0,0,null,{"$f":"SUMIFS(Haushaltsbuch2[Einnahmen],Haushaltsbuch2[Datum],\">\"&B372,Haushaltsbuch2[Datum],\"<=\"&B373)+AN373+AO373","v":0},null,0,null,{"$f":"SUMIFS(Haushaltsbuch2[Ausgaben],Haushaltsbuch2[Datum],\">\"&B372,Haushaltsbuch2[Datum],\"<=\"&B373)","v":0}]
[null,36860,null,null,null,null,null,null,null,null,null,null,{"$f":"SUMIFS(Haushaltsbuch2[Einnahmen],Haushaltsbuch2[Kategorie],M$4,Haushaltsbuch2[Datum],\">\"&B373,Haushaltsbuch2[Datum],\"<=\"&B374)","v":0},{"$f":"SUMIFS(Haushaltsbuch2[Einnahmen],Haushaltsbuch2[Kategorie],N$4,Haushaltsbuch2[Datum],\">\"&B373,Haushaltsbuch2[Datum],\"<=\"&B374)","v":0},{"$f":"SUMIFS(Haushaltsbuch2[Einnahmen],Haushaltsbuch2[Kategorie],O$4,Haushaltsbuch2[Datum],\">\"&B373,Haushaltsbuch2[Datum],\"<=\"&B374)","v":0},{"$f":"SUMIFS(Haushaltsbuch2[Einnahmen],Haushaltsbuch2[Kategorie],P$4,Haushaltsbuch2[Datum],\">\"&B373,Haushaltsbuch2[Datum],\"<=\"&B374)","v":0},{"$f":"SUMIFS(Haushaltsbuch2[Einnahmen],Haushaltsbuch2[Kategorie],Q$4,Haushaltsbuch2[Datum],\">\"&B373,Haushaltsbuch2[Datum],\"<=\"&B374)","v":0},{"$f":"SUMIFS(Haushaltsbuch2[Einnahmen],Haushaltsbuch2[Kategorie],R$4,Haushaltsbuch2[Datum],\">\"&B373,Haushaltsbuch2[Datum],\"<=\"&B374)","v":0},null,null,null,null,null,null,null,null,null,null,null,null,null,null,null,null,null,null,{"$f":"SUMIFS(Haushaltsbuch2[Ausgaben],Haushaltsbuch2[Kategorie],AK$4,Haushaltsbuch2[Datum],\">\"&B373,Haushaltsbuch2[Datum],\"<=\"&B374)","v":0},null,null,{"$f":"SUMIFS(Dividenden[Betrag in EUR],Dividenden[Datum],\">\"&B373,Dividenden[Datum],\"<=\"&B374)","v":0},{"$f":"SUMIFS(Optionen[G/V (Netto)],Optionen[Datum],\">\"&B373,Optionen[Datum],\"<=\"&B374)","v":0},null,0,0,null,0,0,null,{"$f":"SUMIFS(Haushaltsbuch2[Einnahmen],Haushaltsbuch2[Datum],\">\"&B373,Haushaltsbuch2[Datum],\"<=\"&B374)+AN374+AO374","v":0},null,0,null,{"$f":"SUMIFS(Haushaltsbuch2[Ausgaben],Haushaltsbuch2[Datum],\">\"&B373,Haushaltsbuch2[Datum],\"<=\"&B374)","v":0}]
[null,36891,null,null,null,null,null,null,null,null,null,null,{"$f":"SUMIFS(Haushaltsbuch2[Einnahmen],Haushaltsbuch2[Kategorie],M$4,Haushaltsbuch2[Datum],\">\"&B374,Haushaltsbuch2[Datum],\"<=\"&B375)","v":0},{"$f":"SUMIFS(Haushaltsbuch2[Einnahmen],Haushaltsbuch2[Kategorie],N$4,Haushaltsbuch2[Datum],\">\"&B374,Haushaltsbuch2[Datum],\"<=\"&B375)","v":0},{"$f":"SUMIFS(Haushaltsbuch2[Einnahmen],Haushaltsbuch2[Kategorie],O$4,Haushaltsbuch2[Datum],\">\"&B374,Haushaltsbuch2[Datum],\"<=\"&B375)","v":0},{"$f":"SUMIFS(Haushaltsbuch2[Einnahmen],Haushaltsbuch2[Kategorie],P$4,Haushaltsbuch2[Datum],\">\"&B374,Haushaltsbuch2[Datum],\"<=\"&B375)","v":0},{"$f":"SUMIFS(Haushaltsbuch2[Einnahmen],Haushaltsbuch2[Kategorie],Q$4,Haushaltsbuch2[Datum],\">\"&B374,Haushaltsbuch2[Datum],\"<=\"&B375)","v":0},{"$f":"SUMIFS(Haushaltsbuch2[Einnahmen],Haushaltsbuch2[Kategorie],R$4,Haushaltsbuch2[Datum],\">\"&B374,Haushaltsbuch2[Datum],\"<=\"&B375)","v":0},null,null,null,null,null,null,null,null,null,null,null,null,null,null,null,null,null,null,{"$f":"SUMIFS(Haushaltsbuch2[Ausgaben],Haushaltsbuch2[Kategorie],AK$4,Haushaltsbuch2[Datum],\">\"&B374,Haushaltsbuch2[Datum],\"<=\"&B375)","v":0},null,null,{"$f":"SUMIFS(Dividenden[Betrag in EUR],Dividenden[Datum],\">\"&B374,Dividenden[Datum],\"<=\"&B375)","v":0},{"$f":"SUMIFS(Optionen[G/V (Netto)],Optionen[Datum],\">\"&B374,Optionen[Datum],\"<=\"&B375)","v":0},null,0,0,null,0,0,null,{"$f":"SUMIFS(Haushaltsbuch2[Einnahmen],Haushaltsbuch2[Datum],\">\"&B374,Haushaltsbuch2[Datum],\"<=\"&B375)+AN375+AO375","v":0},null,0,null,{"$f":"SUMIFS(Haushaltsbuch2[Ausgaben],Haushaltsbuch2[Datum],\">\"&B374,Haushaltsbuch2[Datum],\"<=\"&B375)","v":0}]
[null,36922,null,null,null,null,null,null,null,null,null,null,{"$f":"SUMIFS(Haushaltsbuch2[Einnahmen],Haushaltsbuch2[Kategorie],M$4,Haushaltsbuch2[Datum],\">\"&B375,Haushaltsbuch2[Datum],\"<=\"&B376)","v":0},{"$f":"SUMIFS(Haushaltsbuch2[Einnahmen],Haushaltsbuch2[Kategorie],N$4,Haushaltsbuch2[Datum],\">\"&B375,Haushaltsbuch2[Datum],\"<=\"&B376)","v":0},{"$f":"SUMIFS(Haushaltsbuch2[Einnahmen],Haushaltsbuch2[Kategorie],O$4,Haushaltsbuch2[Datum],\">\"&B375,Haushaltsbuch2[Datum],\"<=\"&B376)","v":0},{"$f":"SUMIFS(Haushaltsbuch2[Einnahmen],Haushaltsbuch2[Kategorie],P$4,Haushaltsbuch2[Datum],\">\"&B375,Haushaltsbuch2[Datum],\"<=\"&B376)","v":0},{"$f":"SUMIFS(Haushaltsbuch2[Einnahmen],Haushaltsbuch2[Kategorie],Q$4,Haushaltsbuch2[Datum],\">\"&B375,Haushaltsbuch2[Datum],\"<=\"&B376)","v":0},{"$f":"SUMIFS(Haushaltsbuch2[Einnahmen],Haushaltsbuch2[Kategorie],R$4,Haushaltsbuch2[Datum],\">\"&B375,Haushaltsbuch2[Datum],\"<=\"&B376)","v":0},null,null,null,null,null,null,null,null,null,null,null,null,null,null,null,null,null,null,{"$f":"SUMIFS(Haushaltsbuch2[Ausgaben],Haushaltsbuch2[Kategorie],AK$4,Haushaltsbuch2[Datum],\">\"&B375,Haushaltsbuch2[Datum],\"<=\"&B376)","v":0},null,null,{"$f":"SUMIFS(Dividenden[Betrag in EUR],Dividenden[Datum],\">\"&B375,Dividenden[Datum],\"<=\"&B376)","v":0},{"$f":"SUMIFS(Optionen[G/V (Netto)],Optionen[Datum],\">\"&B375,Optionen[Datum],\"<=\"&B376)","v":0},null,0,0,null,0,0,null,{"$f":"SUMIFS(Haushaltsbuch2[Einnahmen],Haushaltsbuch2[Datum],\">\"&B375,Haushaltsbuch2[Datum],\"<=\"&B376)+AN376+AO376","v":0},null,0,null,{"$f":"SUMIFS(Haushaltsbuch2[Ausgaben],Haushaltsbuch2[Datum],\">\"&B375,Haushaltsbuch2[Datum],\"<=\"&B376)","v":0}]
[null,36950,null,null,null,null,null,null,null,null,null,null,{"$f":"SUMIFS(Haushaltsbuch2[Einnahmen],Haushaltsbuch2[Kategorie],M$4,Haushaltsbuch2[Datum],\">\"&B376,Haushaltsbuch2[Datum],\"<=\"&B377)","v":0},{"$f":"SUMIFS(Haushaltsbuch2[Einnahmen],Haushaltsbuch2[Kategorie],N$4,Haushaltsbuch2[Datum],\">\"&B376,Haushaltsbuch2[Datum],\"<=\"&B377)","v":0},{"$f":"SUMIFS(Haushaltsbuch2[Einnahmen],Haushaltsbuch2[Kategorie],O$4,Haushaltsbuch2[Datum],\">\"&B376,Haushaltsbuch2[Datum],\"<=\"&B377)","v":0},{"$f":"SUMIFS(Haushaltsbuch2[Einnahmen],Haushaltsbuch2[Kategorie],P$4,Haushaltsbuch2[Datum],\">\"&B376,Haushaltsbuch2[Datum],\"<=\"&B377)","v":0},{"$f":"SUMIFS(Haushaltsbuch2[Einnahmen],Haushaltsbuch2[Kategorie],Q$4,Haushaltsbuch2[Datum],\">\"&B376,Haushaltsbuch2[Datum],\"<=\"&B377)","v":0},{"$f":"SUMIFS(Haushaltsbuch2[Einnahmen],Haushaltsbuch2[Kategorie],R$4,Haushaltsbuch2[Datum],\">\"&B376,Haushaltsbuch2[Datum],\"<=\"&B377)","v":0},null,null,null,null,null,null,null,null,null,null,null,null,null,null,null,null,null,null,{"$f":"SUMIFS(Haushaltsbuch2[Ausgaben],Haushaltsbuch2[Kategorie],AK$4,Haushaltsbuch2[Datum],\">\"&B376,Haushaltsbuch2[Datum],\"<=\"&B377)","v":0},null,null,{"$f":"SUMIFS(Dividenden[Betrag in EUR],Dividenden[Datum],\">\"&B376,Dividenden[Datum],\"<=\"&B377)","v":0},{"$f":"SUMIFS(Optionen[G/V (Netto)],Optionen[Datum],\">\"&B376,Optionen[Datum],\"<=\"&B377)","v":0},null,0,0,null,0,0,null,{"$f":"SUMIFS(Haushaltsbuch2[Einnahmen],Haushaltsbuch2[Datum],\">\"&B376,Haushaltsbuch2[Datum],\"<=\"&B377)+AN377+AO377","v":0},null,0,null,{"$f":"SUMIFS(Haushaltsbuch2[Ausgaben],Haushaltsbuch2[Datum],\">\"&B376,Haushaltsbuch2[Datum],\"<=\"&B377)","v":0}]
[null,36981,null,null,null,null,null,null,null,null,null,null,{"$f":"SUMIFS(Haushaltsbuch2[Einnahmen],Haushaltsbuch2[Kategorie],M$4,Haushaltsbuch2[Datum],\">\"&B377,Haushaltsbuch2[Datum],\"<=\"&B378)","v":0},{"$f":"SUMIFS(Haushaltsbuch2[Einnahmen],Haushaltsbuch2[Kategorie],N$4,Haushaltsbuch2[Datum],\">\"&B377,Haushaltsbuch2[Datum],\"<=\"&B378)","v":0},{"$f":"SUMIFS(Haushaltsbuch2[Einnahmen],Haushaltsbuch2[Kategorie],O$4,Haushaltsbuch2[Datum],\">\"&B377,Haushaltsbuch2[Datum],\"<=\"&B378)","v":0},{"$f":"SUMIFS(Haushaltsbuch2[Einnahmen],Haushaltsbuch2[Kategorie],P$4,Haushaltsbuch2[Datum],\">\"&B377,Haushaltsbuch2[Datum],\"<=\"&B378)","v":0},{"$f":"SUMIFS(Haushaltsbuch2[Einnahmen],Haushaltsbuch2[Kategorie],Q$4,Haushaltsbuch2[Datum],\">\"&B377,Haushaltsbuch2[Datum],\"<=\"&B378)","v":0},{"$f":"SUMIFS(Haushaltsbuch2[Einnahmen],Haushaltsbuch2[Kategorie],R$4,Haushaltsbuch2[Datum],\">\"&B377,Haushaltsbuch2[Datum],\"<=\"&B378)","v":0},null,null,null,null,null,null,null,null,null,null,null,null,null,null,null,null,null,null,{"$f":"SUMIFS(Haushaltsbuch2[Ausgaben],Haushaltsbuch2[Kategorie],AK$4,Haushaltsbuch2[Datum],\">\"&B377,Haushaltsbuch2[Datum],\"<=\"&B378)","v":0},null,null,{"$f":"SUMIFS(Dividenden[Betrag in EUR],Dividenden[Datum],\">\"&B377,Dividenden[Datum],\"<=\"&B378)","v":0},{"$f":"SUMIFS(Optionen[G/V (Netto)],Optionen[Datum],\">\"&B377,Optionen[Datum],\"<=\"&B378)","v":0},null,0,0,null,0,0,null,{"$f":"SUMIFS(Haushaltsbuch2[Einnahmen],Haushaltsbuch2[Datum],\">\"&B377,Haushaltsbuch2[Datum],\"<=\"&B378)+AN378+AO378","v":0},null,0,null,{"$f":"SUMIFS(Haushaltsbuch2[Ausgaben],Haushaltsbuch2[Datum],\">\"&B377,Haushaltsbuch2[Datum],\"<=\"&B378)","v":0}]
[null,37011,null,null,null,null,null,null,null,null,null,null,{"$f":"SUMIFS(Haushaltsbuch2[Einnahmen],Haushaltsbuch2[Kategorie],M$4,Haushaltsbuch2[Datum],\">\"&B378,Haushaltsbuch2[Datum],\"<=\"&B379)","v":0},{"$f":"SUMIFS(Haushaltsbuch2[Einnahmen],Haushaltsbuch2[Kategorie],N$4,Haushaltsbuch2[Datum],\">\"&B378,Haushaltsbuch2[Datum],\"<=\"&B379)","v":0},{"$f":"SUMIFS(Haushaltsbuch2[Einnahmen],Haushaltsbuch2[Kategorie],O$4,Haushaltsbuch2[Datum],\">\"&B378,Haushaltsbuch2[Datum],\"<=\"&B379)","v":0},{"$f":"SUMIFS(Haushaltsbuch2[Einnahmen],Haushaltsbuch2[Kategorie],P$4,Haushaltsbuch2[Datum],\">\"&B378,Haushaltsbuch2[Datum],\"<=\"&B379)","v":0},{"$f":"SUMIFS(Haushaltsbuch2[Einnahmen],Haushaltsbuch2[Kategorie],Q$4,Haushaltsbuch2[Datum],\">\"&B378,Haushaltsbuch2[Datum],\"<=\"&B379)","v":0},{"$f":"SUMIFS(Haushaltsbuch2[Einnahmen],Haushaltsbuch2[Kategorie],R$4,Haushaltsbuch2[Datum],\">\"&B378,Haushaltsbuch2[Datum],\"<=\"&B379)","v":0},null,null,null,null,null,null,null,null,null,null,null,null,null,null,null,null,null,null,{"$f":"SUMIFS(Haushaltsbuch2[Ausgaben],Haushaltsbuch2[Kategorie],AK$4,Haushaltsbuch2[Datum],\">\"&B378,Haushaltsbuch2[Datum],\"<=\"&B379)","v":0},null,null,{"$f":"SUMIFS(Dividenden[Betrag in EUR],Dividenden[Datum],\">\"&B378,Dividenden[Datum],\"<=\"&B379)","v":0},{"$f":"SUMIFS(Optionen[G/V (Netto)],Optionen[Datum],\">\"&B378,Optionen[Datum],\"<=\"&B379)","v":0},null,0,0,null,0,0,null,{"$f":"SUMIFS(Haushaltsbuch2[Einnahmen],Haushaltsbuch2[Datum],\">\"&B378,Haushaltsbuch2[Datum],\"<=\"&B379)+AN379+AO379","v":0},null,0,null,{"$f":"SUMIFS(Haushaltsbuch2[Ausgaben],Haushaltsbuch2[Datum],\">\"&B378,Haushaltsbuch2[Datum],\"<=\"&B379)","v":0}]
[null,37042,null,null,null,null,null,null,null,null,null,null,{"$f":"SUMIFS(Haushaltsbuch2[Einnahmen],Haushaltsbuch2[Kategorie],M$4,Haushaltsbuch2[Datum],\">\"&B379,Haushaltsbuch2[Datum],\"<=\"&B380)","v":0},{"$f":"SUMIFS(Haushaltsbuch2[Einnahmen],Haushaltsbuch2[Kategorie],N$4,Haushaltsbuch2[Datum],\">\"&B379,Haushaltsbuch2[Datum],\"<=\"&B380)","v":0},{"$f":"SUMIFS(Haushaltsbuch2[Einnahmen],Haushaltsbuch2[Kategorie],O$4,Haushaltsbuch2[Datum],\">\"&B379,Haushaltsbuch2[Datum],\"<=\"&B380)","v":0},{"$f":"SUMIFS(Haushaltsbuch2[Einnahmen],Haushaltsbuch2[Kategorie],P$4,Haushaltsbuch2[Datum],\">\"&B379,Haushaltsbuch2[Datum],\"<=\"&B380)","v":0},{"$f":"SUMIFS(Haushaltsbuch2[Einnahmen],Haushaltsbuch2[Kategorie],Q$4,Haushaltsbuch2[Datum],\">\"&B379,Haushaltsbuch2[Datum],\"<=\"&B380)","v":0},{"$f":"SUMIFS(Haushaltsbuch2[Einnahmen],Haushaltsbuch2[Kategorie],R$4,Haushaltsbuch2[Datum],\">\"&B379,Haushaltsbuch2[Datum],\"<=\"&B380)","v":0},null,null,null,null,null,null,null,null,null,null,null,null,null,null,null,null,null,null,{"$f":"SUMIFS(Haushaltsbuch2[Ausgaben],Haushaltsbuch2[Kategorie],AK$4,Haushaltsbuch2[Datum],\">\"&B379,Haushaltsbuch2[Datum],\"<=\"&B380)","v":0},null,null,{"$f":"SUMIFS(Dividenden[Betrag in EUR],Dividenden[Datum],\">\"&B379,Dividenden[Datum],\"<=\"&B380)","v":0},{"$f":"SUMIFS(Optionen[G/V (Netto)],Optionen[Datum],\">\"&B379,Optionen[Datum],\"<=\"&B380)","v":0},null,0,0,null,0,0,null,{"$f":"SUMIFS(Haushaltsbuch2[Einnahmen],Haushaltsbuch2[Datum],\">\"&B379,Haushaltsbuch2[Datum],\"<=\"&B380)+AN380+AO380","v":0},null,0,null,{"$f":"SUMIFS(Haushaltsbuch2[Ausgaben],Haushaltsbuch2[Datum],\">\"&B379,Haushaltsbuch2[Datum],\"<=\"&B380)","v":0}]
[null,37072,null,null,null,null,null,null,null,null,null,null,{"$f":"SUMIFS(Haushaltsbuch2[Einnahmen],Haushaltsbuch2[Kategorie],M$4,Haushaltsbuch2[Datum],\">\"&B380,Haushaltsbuch2[Datum],\"<=\"&B381)","v":0},{"$f":"SUMIFS(Haushaltsbuch2[Einnahmen],Haushaltsbuch2[Kategorie],N$4,Haushaltsbuch2[Datum],\">\"&B380,Haushaltsbuch2[Datum],\"<=\"&B381)","v":0},{"$f":"SUMIFS(Haushaltsbuch2[Einnahmen],Haushaltsbuch2[Kategorie],O$4,Haushaltsbuch2[Datum],\">\"&B380,Haushaltsbuch2[Datum],\"<=\"&B381)","v":0},{"$f":"SUMIFS(Haushaltsbuch2[Einnahmen],Haushaltsbuch2[Kategorie],P$4,Haushaltsbuch2[Datum],\">\"&B380,Haushaltsbuch2[Datum],\"<=\"&B381)","v":0},{"$f":"SUMIFS(Haushaltsbuch2[Einnahmen],Haushaltsbuch2[Kategorie],Q$4,Haushaltsbuch2[Datum],\">\"&B380,Haushaltsbuch2[Datum],\"<=\"&B381)","v":0},{"$f":"SUMIFS(Haushaltsbuch2[Einnahmen],Haushaltsbuch2[Kategorie],R$4,Haushaltsbuch2[Datum],\">\"&B380,Haushaltsbuch2[Datum],\"<=\"&B381)","v":0},null,null,null,null,null,null,null,null,null,null,null,null,null,null,null,null,null,null,{"$f":"SUMIFS(Haushaltsbuch2[Ausgaben],Haushaltsbuch2[Kategorie],AK$4,Haushaltsbuch2[Datum],\">\"&B380,Haushaltsbuch2[Datum],\"<=\"&B381)","v":0},null,null,{"$f":"SUMIFS(Dividenden[Betrag in EUR],Dividenden[Datum],\">\"&B380,Dividenden[Datum],\"<=\"&B381)","v":0},{"$f":"SUMIFS(Optionen[G/V (Netto)],Optionen[Datum],\">\"&B380,Optionen[Datum],\"<=\"&B381)","v":0},null,0,0,null,0,0,null,{"$f":"SUMIFS(Haushaltsbuch2[Einnahmen],Haushaltsbuch2[Datum],\">\"&B380,Haushaltsbuch2[Datum],\"<=\"&B381)+AN381+AO381","v":0},null,0,null,{"$f":"SUMIFS(Haushaltsbuch2[Ausgaben],Haushaltsbuch2[Datum],\">\"&B380,Haushaltsbuch2[Datum],\"<=\"&B381)","v":0}]
[null,37103,null,null,null,null,null,null,null,null,null,null,{"$f":"SUMIFS(Haushaltsbuch2[Einnahmen],Haushaltsbuch2[Kategorie],M$4,Haushaltsbuch2[Datum],\">\"&B381,Haushaltsbuch2[Datum],\"<=\"&B382)","v":0},{"$f":"SUMIFS(Haushaltsbuch2[Einnahmen],Haushaltsbuch2[Kategorie],N$4,Haushaltsbuch2[Datum],\">\"&B381,Haushaltsbuch2[Datum],\"<=\"&B382)","v":0},{"$f":"SUMIFS(Haushaltsbuch2[Einnahmen],Haushaltsbuch2[Kategorie],O$4,Haushaltsbuch2[Datum],\">\"&B381,Haushaltsbuch2[Datum],\"<=\"&B382)","v":0},{"$f":"SUMIFS(Haushaltsbuch2[Einnahmen],Haushaltsbuch2[Kategorie],P$4,Haushaltsbuch2[Datum],\">\"&B381,Haushaltsbuch2[Datum],\"<=\"&B382)","v":0},{"$f":"SUMIFS(Haushaltsbuch2[Einnahmen],Haushaltsbuch2[Kategorie],Q$4,Haushaltsbuch2[Datum],\">\"&B381,Haushaltsbuch2[Datum],\"<=\"&B382)","v":0},{"$f":"SUMIFS(Haushaltsbuch2[Einnahmen],Haushaltsbuch2[Kategorie],R$4,Haushaltsbuch2[Datum],\">\"&B381,Haushaltsbuch2[Datum],\"<=\"&B382)","v":0},null,null,null,null,null,null,null,null,null,null,null,null,null,null,null,null,null,null,{"$f":"SUMIFS(Haushaltsbuch2[Ausgaben],Haushaltsbuch2[Kategorie],AK$4,Haushaltsbuch2[Datum],\">\"&B381,Haushaltsbuch2[Datum],\"<=\"&B382)","v":0},null,null,{"$f":"SUMIFS(Dividenden[Betrag in EUR],Dividenden[Datum],\">\"&B381,Dividenden[Datum],\"<=\"&B382)","v":0},{"$f":"SUMIFS(Optionen[G/V (Netto)],Optionen[Datum],\">\"&B381,Optionen[Datum],\"<=\"&B382)","v":0},null,0,0,null,0,0,null,{"$f":"SUMIFS(Haushaltsbuch2[Einnahmen],Haushaltsbuch2[Datum],\">\"&B381,Haushaltsbuch2[Datum],\"<=\"&B382)+AN382+AO382","v":0},null,0,null,{"$f":"SUMIFS(Haushaltsbuch2[Ausgaben],Haushaltsbuch2[Datum],\">\"&B381,Haushaltsbuch2[Datum],\"<=\"&B382)","v":0}]
[null,37134,null,null,null,null,null,null,null,null,null,null,{"$f":"SUMIFS(Haushaltsbuch2[Einnahmen],Haushaltsbuch2[Kategorie],M$4,Haushaltsbuch2[Datum],\">\"&B382,Haushaltsbuch2[Datum],\"<=\"&B383)","v":0},{"$f":"SUMIFS(Haushaltsbuch2[Einnahmen],Haushaltsbuch2[Kategorie],N$4,Haushaltsbuch2[Datum],\">\"&B382,Haushaltsbuch2[Datum],\"<=\"&B383)","v":0},{"$f":"SUMIFS(Haushaltsbuch2[Einnahmen],Haushaltsbuch2[Kategorie],O$4,Haushaltsbuch2[Datum],\">\"&B382,Haushaltsbuch2[Datum],\"<=\"&B383)","v":0},{"$f":"SUMIFS(Haushaltsbuch2[Einnahmen],Haushaltsbuch2[Kategorie],P$4,Haushaltsbuch2[Datum],\">\"&B382,Haushaltsbuch2[Datum],\"<=\"&B383)","v":0},{"$f":"SUMIFS(Haushaltsbuch2[Einnahmen],Haushaltsbuch2[Kategorie],Q$4,Haushaltsbuch2[Datum],\">\"&B382,Haushaltsbuch2[Datum],\"<=\"&B383)","v":0},{"$f":"SUMIFS(Haushaltsbuch2[Einnahmen],Haushaltsbuch2[Kategorie],R$4,Haushaltsbuch2[Datum],\">\"&B382,Haushaltsbuch2[Datum],\"<=\"&B383)","v":0},null,null,null,null,null,null,null,null,null,null,null,null,null,null,null,null,null,null,{"$f":"SUMIFS(Haushaltsbuch2[Ausgaben],Haushaltsbuch2[Kategorie],AK$4,Haushaltsbuch2[Datum],\">\"&B382,Haushaltsbuch2[Datum],\"<=\"&B383)","v":0},null,null,{"$f":"SUMIFS(Dividenden[Betrag in EUR],Dividenden[Datum],\">\"&B382,Dividenden[Datum],\"<=\"&B383)","v":0},{"$f":"SUMIFS(Optionen[G/V (Netto)],Optionen[Datum],\">\"&B382,Optionen[Datum],\"<=\"&B383)","v":0},null,0,0,null,0,0,null,{"$f":"SUMIFS(Haushaltsbuch2[Einnahmen],Haushaltsbuch2[Datum],\">\"&B382,Haushaltsbuch2[Datum],\"<=\"&B383)+AN383+AO383","v":0},null,0,null,{"$f":"SUMIFS(Haushaltsbuch2[Ausgaben],Haushaltsbuch2[Datum],\">\"&B382,Haushaltsbuch2[Datum],\"<=\"&B383)","v":0}]
[null,37164,null,null,null,null,null,null,null,null,null,null,{"$f":"SUMIFS(Haushaltsbuch2[Einnahmen],Haushaltsbuch2[Kategorie],M$4,Haushaltsbuch2[Datum],\">\"&B383,Haushaltsbuch2[Datum],\"<=\"&B384)","v":0},{"$f":"SUMIFS(Haushaltsbuch2[Einnahmen],Haushaltsbuch2[Kategorie],N$4,Haushaltsbuch2[Datum],\">\"&B383,Haushaltsbuch2[Datum],\"<=\"&B384)","v":0},{"$f":"SUMIFS(Haushaltsbuch2[Einnahmen],Haushaltsbuch2[Kategorie],O$4,Haushaltsbuch2[Datum],\">\"&B383,Haushaltsbuch2[Datum],\"<=\"&B384)","v":0},{"$f":"SUMIFS(Haushaltsbuch2[Einnahmen],Haushaltsbuch2[Kategorie],P$4,Haushaltsbuch2[Datum],\">\"&B383,Haushaltsbuch2[Datum],\"<=\"&B384)","v":0},{"$f":"SUMIFS(Haushaltsbuch2[Einnahmen],Haushaltsbuch2[Kategorie],Q$4,Haushaltsbuch2[Datum],\">\"&B383,Haushaltsbuch2[Datum],\"<=\"&B384)","v":0},{"$f":"SUMIFS(Haushaltsbuch2[Einnahmen],Haushaltsbuch2[Kategorie],R$4,Haushaltsbuch2[Datum],\">\"&B383,Haushaltsbuch2[Datum],\"<=\"&B384)","v":0},null,null,null,null,null,null,null,null,null,null,null,null,null,null,null,null,null,null,{"$f":"SUMIFS(Haushaltsbuch2[Ausgaben],Haushaltsbuch2[Kategorie],AK$4,Haushaltsbuch2[Datum],\">\"&B383,Haushaltsbuch2[Datum],\"<=\"&B384)","v":0},null,null,{"$f":"SUMIFS(Dividenden[Betrag in EUR],Dividenden[Datum],\">\"&B383,Dividenden[Datum],\"<=\"&B384)","v":0},{"$f":"SUMIFS(Optionen[G/V (Netto)],Optionen[Datum],\">\"&B383,Optionen[Datum],\"<=\"&B384)","v":0},null,0,0,null,0,0,null,{"$f":"SUMIFS(Haushaltsbuch2[Einnahmen],Haushaltsbuch2[Datum],\">\"&B383,Haushaltsbuch2[Datum],\"<=\"&B384)+AN384+AO384","v":0},null,0,null,{"$f":"SUMIFS(Haushaltsbuch2[Ausgaben],Haushaltsbuch2[Datum],\">\"&B383,Haushaltsbuch2[Datum],\"<=\"&B384)","v":0}]
[null,37195,null,null,null,null,null,null,null,null,null,null,{"$f":"SUMIFS(Haushaltsbuch2[Einnahmen],Haushaltsbuch2[Kategorie],M$4,Haushaltsbuch2[Datum],\">\"&B384,Haushaltsbuch2[Datum],\"<=\"&B385)","v":0},{"$f":"SUMIFS(Haushaltsbuch2[Einnahmen],Haushaltsbuch2[Kategorie],N$4,Haushaltsbuch2[Datum],\">\"&B384,Haushaltsbuch2[Datum],\"<=\"&B385)","v":0},{"$f":"SUMIFS(Haushaltsbuch2[Einnahmen],Haushaltsbuch2[Kategorie],O$4,Haushaltsbuch2[Datum],\">\"&B384,Haushaltsbuch2[Datum],\"<=\"&B385)","v":0},{"$f":"SUMIFS(Haushaltsbuch2[Einnahmen],Haushaltsbuch2[Kategorie],P$4,Haushaltsbuch2[Datum],\">\"&B384,Haushaltsbuch2[Datum],\"<=\"&B385)","v":0},{"$f":"SUMIFS(Haushaltsbuch2[Einnahmen],Haushaltsbuch2[Kategorie],Q$4,Haushaltsbuch2[Datum],\">\"&B384,Haushaltsbuch2[Datum],\"<=\"&B385)","v":0},{"$f":"SUMIFS(Haushaltsbuch2[Einnahmen],Haushaltsbuch2[Kategorie],R$4,Haushaltsbuch2[Datum],\">\"&B384,Haushaltsbuch2[Datum],\"<=\"&B385)","v":0},null,null,null,null,null,null,null,null,null,null,null,null,null,null,null,null,null,null,{"$f":"SUMIFS(Haushaltsbuch2[Ausgaben],Haushaltsbuch2[Kategorie],AK$4,Haushaltsbuch2[Datum],\">\"&B384,Haushaltsbuch2[Datum],\"<=\"&B385)","v":0},null,null,{"$f":"SUMIFS(Dividenden[Betrag in EUR],Dividenden[Datum],\">\"&B384,Dividenden[Datum],\"<=\"&B385)","v":0},{"$f":"SUMIFS(Optionen[G/V (Netto)],Optionen[Datum],\">\"&B384,Optionen[Datum],\"<=\"&B385)","v":0},null,0,0,null,0,0,null,{"$f":"SUMIFS(Haushaltsbuch2[Einnahmen],Haushaltsbuch2[Datum],\">\"&B384,Haushaltsbuch2[Datum],\"<=\"&B385)+AN385+AO385","v":0},null,0,null,{"$f":"SUMIFS(Haushaltsbuch2[Ausgaben],Haushaltsbuch2[Datum],\">\"&B384,Haushaltsbuch2[Datum],\"<=\"&B385)","v":0}]
[null,37225,null,null,null,null,null,null,null,null,null,null,{"$f":"SUMIFS(Haushaltsbuch2[Einnahmen],Haushaltsbuch2[Kategorie],M$4,Haushaltsbuch2[Datum],\">\"&B385,Haushaltsbuch2[Datum],\"<=\"&B386)","v":0},{"$f":"SUMIFS(Haushaltsbuch2[Einnahmen],Haushaltsbuch2[Kategorie],N$4,Haushaltsbuch2[Datum],\">\"&B385,Haushaltsbuch2[Datum],\"<=\"&B386)","v":0},{"$f":"SUMIFS(Haushaltsbuch2[Einnahmen],Haushaltsbuch2[Kategorie],O$4,Haushaltsbuch2[Datum],\">\"&B385,Haushaltsbuch2[Datum],\"<=\"&B386)","v":0},{"$f":"SUMIFS(Haushaltsbuch2[Einnahmen],Haushaltsbuch2[Kategorie],P$4,Haushaltsbuch2[Datum],\">\"&B385,Haushaltsbuch2[Datum],\"<=\"&B386)","v":0},{"$f":"SUMIFS(Haushaltsbuch2[Einnahmen],Haushaltsbuch2[Kategorie],Q$4,Haushaltsbuch2[Datum],\">\"&B385,Haushaltsbuch2[Datum],\"<=\"&B386)","v":0},{"$f":"SUMIFS(Haushaltsbuch2[Einnahmen],Haushaltsbuch2[Kategorie],R$4,Haushaltsbuch2[Datum],\">\"&B385,Haushaltsbuch2[Datum],\"<=\"&B386)","v":0},null,null,null,null,null,null,null,null,null,null,null,null,null,null,null,null,null,null,{"$f":"SUMIFS(Haushaltsbuch2[Ausgaben],Haushaltsbuch2[Kategorie],AK$4,Haushaltsbuch2[Datum],\">\"&B385,Haushaltsbuch2[Datum],\"<=\"&B386)","v":0},null,null,{"$f":"SUMIFS(Dividenden[Betrag in EUR],Dividenden[Datum],\">\"&B385,Dividenden[Datum],\"<=\"&B386)","v":0},{"$f":"SUMIFS(Optionen[G/V (Netto)],Optionen[Datum],\">\"&B385,Optionen[Datum],\"<=\"&B386)","v":0},null,0,0,null,0,0,null,{"$f":"SUMIFS(Haushaltsbuch2[Einnahmen],Haushaltsbuch2[Datum],\">\"&B385,Haushaltsbuch2[Datum],\"<=\"&B386)+AN386+AO386","v":0},null,0,null,{"$f":"SUMIFS(Haushaltsbuch2[Ausgaben],Haushaltsbuch2[Datum],\">\"&B385,Haushaltsbuch2[Datum],\"<=\"&B386)","v":0}]
[null,37256,null,null,null,null,null,null,null,null,null,null,{"$f":"SUMIFS(Haushaltsbuch2[Einnahmen],Haushaltsbuch2[Kategorie],M$4,Haushaltsbuch2[Datum],\">\"&B386,Haushaltsbuch2[Datum],\"<=\"&B387)","v":0},{"$f":"SUMIFS(Haushaltsbuch2[Einnahmen],Haushaltsbuch2[Kategorie],N$4,Haushaltsbuch2[Datum],\">\"&B386,Haushaltsbuch2[Datum],\"<=\"&B387)","v":0},{"$f":"SUMIFS(Haushaltsbuch2[Einnahmen],Haushaltsbuch2[Kategorie],O$4,Haushaltsbuch2[Datum],\">\"&B386,Haushaltsbuch2[Datum],\"<=\"&B387)","v":0},{"$f":"SUMIFS(Haushaltsbuch2[Einnahmen],Haushaltsbuch2[Kategorie],P$4,Haushaltsbuch2[Datum],\">\"&B386,Haushaltsbuch2[Datum],\"<=\"&B387)","v":0},{"$f":"SUMIFS(Haushaltsbuch2[Einnahmen],Haushaltsbuch2[Kategorie],Q$4,Haushaltsbuch2[Datum],\">\"&B386,Haushaltsbuch2[Datum],\"<=\"&B387)","v":0},{"$f":"SUMIFS(Haushaltsbuch2[Einnahmen],Haushaltsbuch2[Kategorie],R$4,Haushaltsbuch2[Datum],\">\"&B386,Haushaltsbuch2[Datum],\"<=\"&B387)","v":0},null,null,null,null,null,null,null,null,null,null,null,null,null,null,null,null,null,null,{"$f":"SUMIFS(Haushaltsbuch2[Ausgaben],Haushaltsbuch2[Kategorie],AK$4,Haushaltsbuch2[Datum],\">\"&B386,Haushaltsbuch2[Datum],\"<=\"&B387)","v":0},null,null,{"$f":"SUMIFS(Dividenden[Betrag in EUR],Dividenden[Datum],\">\"&B386,Dividenden[Datum],\"<=\"&B387)","v":0},{"$f":"SUMIFS(Optionen[G/V (Netto)],Optionen[Datum],\">\"&B386,Optionen[Datum],\"<=\"&B387)","v":0},null,0,0,null,0,0,null,{"$f":"SUMIFS(Haushaltsbuch2[Einnahmen],Haushaltsbuch2[Datum],\">\"&B386,Haushaltsbuch2[Datum],\"<=\"&B387)+AN387+AO387","v":0},null,0,null,{"$f":"SUMIFS(Haushaltsbuch2[Ausgaben],Haushaltsbuch2[Datum],\">\"&B386,Haushaltsbuch2[Datum],\"<=\"&B387)","v":0}]
[null,37287,null,null,null,null,null,null,null,null,null,null,{"$f":"SUMIFS(Haushaltsbuch2[Einnahmen],Haushaltsbuch2[Kategorie],M$4,Haushaltsbuch2[Datum],\">\"&B387,Haushaltsbuch2[Datum],\"<=\"&B388)","v":0},{"$f":"SUMIFS(Haushaltsbuch2[Einnahmen],Haushaltsbuch2[Kategorie],N$4,Haushaltsbuch2[Datum],\">\"&B387,Haushaltsbuch2[Datum],\"<=\"&B388)","v":0},{"$f":"SUMIFS(Haushaltsbuch2[Einnahmen],Haushaltsbuch2[Kategorie],O$4,Haushaltsbuch2[Datum],\">\"&B387,Haushaltsbuch2[Datum],\"<=\"&B388)","v":0},{"$f":"SUMIFS(Haushaltsbuch2[Einnahmen],Haushaltsbuch2[Kategorie],P$4,Haushaltsbuch2[Datum],\">\"&B387,Haushaltsbuch2[Datum],\"<=\"&B388)","v":0},{"$f":"SUMIFS(Haushaltsbuch2[Einnahmen],Haushaltsbuch2[Kategorie],Q$4,Haushaltsbuch2[Datum],\">\"&B387,Haushaltsbuch2[Datum],\"<=\"&B388)","v":0},{"$f":"SUMIFS(Haushaltsbuch2[Einnahmen],Haushaltsbuch2[Kategorie],R$4,Haushaltsbuch2[Datum],\">\"&B387,Haushaltsbuch2[Datum],\"<=\"&B388)","v":0},null,null,null,null,null,null,null,null,null,null,null,null,null,null,null,null,null,null,{"$f":"SUMIFS(Haushaltsbuch2[Ausgaben],Haushaltsbuch2[Kategorie],AK$4,Haushaltsbuch2[Datum],\">\"&B387,Haushaltsbuch2[Datum],\"<=\"&B388)","v":0},null,null,{"$f":"SUMIFS(Dividenden[Betrag in EUR],Dividenden[Datum],\">\"&B387,Dividenden[Datum],\"<=\"&B388)","v":0},{"$f":"SUMIFS(Optionen[G/V (Netto)],Optionen[Datum],\">\"&B387,Optionen[Datum],\"<=\"&B388)","v":0},null,0,0,null,0,0,null,{"$f":"SUMIFS(Haushaltsbuch2[Einnahmen],Haushaltsbuch2[Datum],\">\"&B387,Haushaltsbuch2[Datum],\"<=\"&B388)+AN388+AO388","v":0},null,0,null,{"$f":"SUMIFS(Haushaltsbuch2[Ausgaben],Haushaltsbuch2[Datum],\">\"&B387,Haushaltsbuch2[Datum],\"<=\"&B388)","v":0}]
[null,37315,null,null,null,null,null,null,null,null,null,null,{"$f":"SUMIFS(Haushaltsbuch2[Einnahmen],Haushaltsbuch2[Kategorie],M$4,Haushaltsbuch2[Datum],\">\"&B388,Haushaltsbuch2[Datum],\"<=\"&B389)","v":0},{"$f":"SUMIFS(Haushaltsbuch2[Einnahmen],Haushaltsbuch2[Kategorie],N$4,Haushaltsbuch2[Datum],\">\"&B388,Haushaltsbuch2[Datum],\"<=\"&B389)","v":0},{"$f":"SUMIFS(Haushaltsbuch2[Einnahmen],Haushaltsbuch2[Kategorie],O$4,Haushaltsbuch2[Datum],\">\"&B388,Haushaltsbuch2[Datum],\"<=\"&B389)","v":0},{"$f":"SUMIFS(Haushaltsbuch2[Einnahmen],Haushaltsbuch2[Kategorie],P$4,Haushaltsbuch2[Datum],\">\"&B388,Haushaltsbuch2[Datum],\"<=\"&B389)","v":0},{"$f":"SUMIFS(Haushaltsbuch2[Einnahmen],Haushaltsbuch2[Kategorie],Q$4,Haushaltsbuch2[Datum],\">\"&B388,Haushaltsbuch2[Datum],\"<=\"&B389)","v":0},{"$f":"SUMIFS(Haushaltsbuch2[Einnahmen],Haushaltsbuch2[Kategorie],R$4,Haushaltsbuch2[Datum],\">\"&B388,Haushaltsbuch2[Datum],\"<=\"&B389)","v":0},null,null,null,null,null,null,null,null,null,null,null,null,null,null,null,null,null,null,{"$f":"SUMIFS(Haushaltsbuch2[Ausgaben],Haushaltsbuch2[Kategorie],AK$4,Haushaltsbuch2[Datum],\">\"&B388,Haushaltsbuch2[Datum],\"<=\"&B389)","v":0},null,null,{"$f":"SUMIFS(Dividenden[Betrag in EUR],Dividenden[Datum],\">\"&B388,Dividenden[Datum],\"<=\"&B389)","v":0},{"$f":"SUMIFS(Optionen[G/V (Netto)],Optionen[Datum],\">\"&B388,Optionen[Datum],\"<=\"&B389)","v":0},null,0,0,null,0,0,null,{"$f":"SUMIFS(Haushaltsbuch2[Einnahmen],Haushaltsbuch2[Datum],\">\"&B388,Haushaltsbuch2[Datum],\"<=\"&B389)+AN389+AO389","v":0},null,0,null,{"$f":"SUMIFS(Haushaltsbuch2[Ausgaben],Haushaltsbuch2[Datum],\">\"&B388,Haushaltsbuch2[Datum],\"<=\"&B389)","v":0}]
[null,37346,null,null,null,null,null,null,null,null,null,null,{"$f":"SUMIFS(Haushaltsbuch2[Einnahmen],Haushaltsbuch2[Kategorie],M$4,Haushaltsbuch2[Datum],\">\"&B389,Haushaltsbuch2[Datum],\"<=\"&B390)","v":0},{"$f":"SUMIFS(Haushaltsbuch2[Einnahmen],Haushaltsbuch2[Kategorie],N$4,Haushaltsbuch2[Datum],\">\"&B389,Haushaltsbuch2[Datum],\"<=\"&B390)","v":0},{"$f":"SUMIFS(Haushaltsbuch2[Einnahmen],Haushaltsbuch2[Kategorie],O$4,Haushaltsbuch2[Datum],\">\"&B389,Haushaltsbuch2[Datum],\"<=\"&B390)","v":0},{"$f":"SUMIFS(Haushaltsbuch2[Einnahmen],Haushaltsbuch2[Kategorie],P$4,Haushaltsbuch2[Datum],\">\"&B389,Haushaltsbuch2[Datum],\"<=\"&B390)","v":0},{"$f":"SUMIFS(Haushaltsbuch2[Einnahmen],Haushaltsbuch2[Kategorie],Q$4,Haushaltsbuch2[Datum],\">\"&B389,Haushaltsbuch2[Datum],\"<=\"&B390)","v":0},{"$f":"SUMIFS(Haushaltsbuch2[Einnahmen],Haushaltsbuch2[Kategorie],R$4,Haushaltsbuch2[Datum],\">\"&B389,Haushaltsbuch2[Datum],\"<=\"&B390)","v":0},null,null,null,null,null,null,null,null,null,null,null,null,null,null,null,null,null,null,{"$f":"SUMIFS(Haushaltsbuch2[Ausgaben],Haushaltsbuch2[Kategorie],AK$4,Haushaltsbuch2[Datum],\">\"&B389,Haushaltsbuch2[Datum],\"<=\"&B390)","v":0},null,null,{"$f":"SUMIFS(Dividenden[Betrag in EUR],Dividenden[Datum],\">\"&B389,Dividenden[Datum],\"<=\"&B390)","v":0},{"$f":"SUMIFS(Optionen[G/V (Netto)],Optionen[Datum],\">\"&B389,Optionen[Datum],\"<=\"&B390)","v":0},null,{"$f":"N390+AN390","v":0},{"$f":"O390+AO390","v":0},null,{"$f":"M390+SUM(P390:R390)+SUM(AQ390:AR390)","v":0},0,null,{"$f":"SUMIFS(Haushaltsbuch2[Einnahmen],Haushaltsbuch2[Datum],\">\"&B389,Haushaltsbuch2[Datum],\"<=\"&B390)+AN390+AO390","v":0},null,0,null,{"$f":"SUMIFS(Haushaltsbuch2[Ausgaben],Haushaltsbuch2[Datum],\">\"&B389,Haushaltsbuch2[Datum],\"<=\"&B390)","v":0}]
[null,{"$f":"EOMONTH(B390,1)","v":37376},null,null,null,null,null,null,null,null,null,null,{"$f":"SUMIFS(Haushaltsbuch2[Einnahmen],Haushaltsbuch2[Kategorie],M$4,Haushaltsbuch2[Datum],\">\"&B390,Haushaltsbuch2[Datum],\"<=\"&B391)","v":0},{"$f":"SUMIFS(Haushaltsbuch2[Einnahmen],Haushaltsbuch2[Kategorie],N$4,Haushaltsbuch2[Datum],\">\"&B390,Haushaltsbuch2[Datum],\"<=\"&B391)","v":0},{"$f":"SUMIFS(Haushaltsbuch2[Einnahmen],Haushaltsbuch2[Kategorie],O$4,Haushaltsbuch2[Datum],\">\"&B390,Haushaltsbuch2[Datum],\"<=\"&B391)","v":0},{"$f":"SUMIFS(Haushaltsbuch2[Einnahmen],Haushaltsbuch2[Kategorie],P$4,Haushaltsbuch2[Datum],\">\"&B390,Haushaltsbuch2[Datum],\"<=\"&B391)","v":0},{"$f":"SUMIFS(Haushaltsbuch2[Einnahmen],Haushaltsbuch2[Kategorie],Q$4,Haushaltsbuch2[Datum],\">\"&B390,Haushaltsbuch2[Datum],\"<=\"&B391)","v":0},{"$f":"SUMIFS(Haushaltsbuch2[Einnahmen],Haushaltsbuch2[Kategorie],R$4,Haushaltsbuch2[Datum],\">\"&B390,Haushaltsbuch2[Datum],\"<=\"&B391)","v":0},null,null,null,null,null,null,null,null,null,null,null,null,null,null,null,null,null,null,{"$f":"SUMIFS(Haushaltsbuch2[Ausgaben],Haushaltsbuch2[Kategorie],AK$4,Haushaltsbuch2[Datum],\">\"&B390,Haushaltsbuch2[Datum],\"<=\"&B391)","v":0},null,null,{"$f":"SUMIFS(Dividenden[Betrag in EUR],Dividenden[Datum],\">\"&B390,Dividenden[Datum],\"<=\"&B391)","v":0},{"$f":"SUMIFS(Optionen[G/V (Netto)],Optionen[Datum],\">\"&B390,Optionen[Datum],\"<=\"&B391)","v":0},null,0,0,null,0,0,null,{"$f":"SUMIFS(Haushaltsbuch2[Einnahmen],Haushaltsbuch2[Datum],\">\"&B390,Haushaltsbuch2[Datum],\"<=\"&B391)+AN391+AO391","v":0},null,0,null,{"$f":"SUMIFS(Haushaltsbuch2[Ausgaben],Haushaltsbuch2[Datum],\">\"&B390,Haushaltsbuch2[Datum],\"<=\"&B391)","v":0}]
[null,37407,null,null,null,null,null,null,null,null,null,null,{"$f":"SUMIFS(Haushaltsbuch2[Einnahmen],Haushaltsbuch2[Kategorie],M$4,Haushaltsbuch2[Datum],\">\"&B391,Haushaltsbuch2[Datum],\"<=\"&B392)","v":0},{"$f":"SUMIFS(Haushaltsbuch2[Einnahmen],Haushaltsbuch2[Kategorie],N$4,Haushaltsbuch2[Datum],\">\"&B391,Haushaltsbuch2[Datum],\"<=\"&B392)","v":0},{"$f":"SUMIFS(Haushaltsbuch2[Einnahmen],Haushaltsbuch2[Kategorie],O$4,Haushaltsbuch2[Datum],\">\"&B391,Haushaltsbuch2[Datum],\"<=\"&B392)","v":0},{"$f":"SUMIFS(Haushaltsbuch2[Einnahmen],Haushaltsbuch2[Kategorie],P$4,Haushaltsbuch2[Datum],\">\"&B391,Haushaltsbuch2[Datum],\"<=\"&B392)","v":0},{"$f":"SUMIFS(Haushaltsbuch2[Einnahmen],Haushaltsbuch2[Kategorie],Q$4,Haushaltsbuch2[Datum],\">\"&B391,Haushaltsbuch2[Datum],\"<=\"&B392)","v":0},{"$f":"SUMIFS(Haushaltsbuch2[Einnahmen],Haushaltsbuch2[Kategorie],R$4,Haushaltsbuch2[Datum],\">\"&B391,Haushaltsbuch2[Datum],\"<=\"&B392)","v":0},null,null,null,null,null,null,null,null,null,null,null,null,null,null,null,null,null,null,{"$f":"SUMIFS(Haushaltsbuch2[Ausgaben],Haushaltsbuch2[Kategorie],AK$4,Haushaltsbuch2[Datum],\">\"&B391,Haushaltsbuch2[Datum],\"<=\"&B392)","v":0},null,null,{"$f":"SUMIFS(Dividenden[Betrag in EUR],Dividenden[Datum],\">\"&B391,Dividenden[Datum],\"<=\"&B392)","v":0},{"$f":"SUMIFS(Optionen[G/V (Netto)],Optionen[Datum],\">\"&B391,Optionen[Datum],\"<=\"&B392)","v":0},null,0,0,null,0,0,null,{"$f":"SUMIFS(Haushaltsbuch2[Einnahmen],Haushaltsbuch2[Datum],\">\"&B391,Haushaltsbuch2[Datum],\"<=\"&B392)+AN392+AO392","v":0},null,0,null,{"$f":"SUMIFS(Haushaltsbuch2[Ausgaben],Haushaltsbuch2[Datum],\">\"&B391,Haushaltsbuch2[Datum],\"<=\"&B392)","v":0}]
[null,37437,null,null,null,null,null,null,null,null,null,null,{"$f":"SUMIFS(Haushaltsbuch2[Einnahmen],Haushaltsbuch2[Kategorie],M$4,Haushaltsbuch2[Datum],\">\"&B392,Haushaltsbuch2[Datum],\"<=\"&B393)","v":0},{"$f":"SUMIFS(Haushaltsbuch2[Einnahmen],Haushaltsbuch2[Kategorie],N$4,Haushaltsbuch2[Datum],\">\"&B392,Haushaltsbuch2[Datum],\"<=\"&B393)","v":0},{"$f":"SUMIFS(Haushaltsbuch2[Einnahmen],Haushaltsbuch2[Kategorie],O$4,Haushaltsbuch2[Datum],\">\"&B392,Haushaltsbuch2[Datum],\"<=\"&B393)","v":0},{"$f":"SUMIFS(Haushaltsbuch2[Einnahmen],Haushaltsbuch2[Kategorie],P$4,Haushaltsbuch2[Datum],\">\"&B392,Haushaltsbuch2[Datum],\"<=\"&B393)","v":0},{"$f":"SUMIFS(Haushaltsbuch2[Einnahmen],Haushaltsbuch2[Kategorie],Q$4,Haushaltsbuch2[Datum],\">\"&B392,Haushaltsbuch2[Datum],\"<=\"&B393)","v":0},{"$f":"SUMIFS(Haushaltsbuch2[Einnahmen],Haushaltsbuch2[Kategorie],R$4,Haushaltsbuch2[Datum],\">\"&B392,Haushaltsbuch2[Datum],\"<=\"&B393)","v":0},null,null,null,null,null,null,null,null,null,null,null,null,null,null,null,null,null,null,{"$f":"SUMIFS(Haushaltsbuch2[Ausgaben],Haushaltsbuch2[Kategorie],AK$4,Haushaltsbuch2[Datum],\">\"&B392,Haushaltsbuch2[Datum],\"<=\"&B393)","v":0},null,null,{"$f":"SUMIFS(Dividenden[Betrag in EUR],Dividenden[Datum],\">\"&B392,Dividenden[Datum],\"<=\"&B393)","v":0},{"$f":"SUMIFS(Optionen[G/V (Netto)],Optionen[Datum],\">\"&B392,Optionen[Datum],\"<=\"&B393)","v":0},null,0,0,null,0,0,null,{"$f":"SUMIFS(Haushaltsbuch2[Einnahmen],Haushaltsbuch2[Datum],\">\"&B392,Haushaltsbuch2[Datum],\"<=\"&B393)+AN393+AO393","v":0},null,0,null,{"$f":"SUMIFS(Haushaltsbuch2[Ausgaben],Haushaltsbuch2[Datum],\">\"&B392,Haushaltsbuch2[Datum],\"<=\"&B393)","v":0}]
[null,37468,null,null,null,null,null,null,null,null,null,null,{"$f":"SUMIFS(Haushaltsbuch2[Einnahmen],Haushaltsbuch2[Kategorie],M$4,Haushaltsbuch2[Datum],\">\"&B393,Haushaltsbuch2[Datum],\"<=\"&B394)","v":0},{"$f":"SUMIFS(Haushaltsbuch2[Einnahmen],Haushaltsbuch2[Kategorie],N$4,Haushaltsbuch2[Datum],\">\"&B393,Haushaltsbuch2[Datum],\"<=\"&B394)","v":0},{"$f":"SUMIFS(Haushaltsbuch2[Einnahmen],Haushaltsbuch2[Kategorie],O$4,Haushaltsbuch2[Datum],\">\"&B393,Haushaltsbuch2[Datum],\"<=\"&B394)","v":0},{"$f":"SUMIFS(Haushaltsbuch2[Einnahmen],Haushaltsbuch2[Kategorie],P$4,Haushaltsbuch2[Datum],\">\"&B393,Haushaltsbuch2[Datum],\"<=\"&B394)","v":0},{"$f":"SUMIFS(Haushaltsbuch2[Einnahmen],Haushaltsbuch2[Kategorie],Q$4,Haushaltsbuch2[Datum],\">\"&B393,Haushaltsbuch2[Datum],\"<=\"&B394)","v":0},{"$f":"SUMIFS(Haushaltsbuch2[Einnahmen],Haushaltsbuch2[Kategorie],R$4,Haushaltsbuch2[Datum],\">\"&B393,Haushaltsbuch2[Datum],\"<=\"&B394)","v":0},null,null,null,null,null,null,null,null,null,null,null,null,null,null,null,null,null,null,{"$f":"SUMIFS(Haushaltsbuch2[Ausgaben],Haushaltsbuch2[Kategorie],AK$4,Haushaltsbuch2[Datum],\">\"&B393,Haushaltsbuch2[Datum],\"<=\"&B394)","v":0},null,null,{"$f":"SUMIFS(Dividenden[Betrag in EUR],Dividenden[Datum],\">\"&B393,Dividenden[Datum],\"<=\"&B394)","v":0},{"$f":"SUMIFS(Optionen[G/V (Netto)],Optionen[Datum],\">\"&B393,Optionen[Datum],\"<=\"&B394)","v":0},null,0,0,null,0,0,null,{"$f":"SUMIFS(Haushaltsbuch2[Einnahmen],Haushaltsbuch2[Datum],\">\"&B393,Haushaltsbuch2[Datum],\"<=\"&B394)+AN394+AO394","v":0},null,0,null,{"$f":"SUMIFS(Haushaltsbuch2[Ausgaben],Haushaltsbuch2[Datum],\">\"&B393,Haushaltsbuch2[Datum],\"<=\"&B394)","v":0}]
[null,37499,null,null,null,null,null,null,null,null,null,null,{"$f":"SUMIFS(Haushaltsbuch2[Einnahmen],Haushaltsbuch2[Kategorie],M$4,Haushaltsbuch2[Datum],\">\"&B394,Haushaltsbuch2[Datum],\"<=\"&B395)","v":0},{"$f":"SUMIFS(Haushaltsbuch2[Einnahmen],Haushaltsbuch2[Kategorie],N$4,Haushaltsbuch2[Datum],\">\"&B394,Haushaltsbuch2[Datum],\"<=\"&B395)","v":0},{"$f":"SUMIFS(Haushaltsbuch2[Einnahmen],Haushaltsbuch2[Kategorie],O$4,Haushaltsbuch2[Datum],\">\"&B394,Haushaltsbuch2[Datum],\"<=\"&B395)","v":0},{"$f":"SUMIFS(Haushaltsbuch2[Einnahmen],Haushaltsbuch2[Kategorie],P$4,Haushaltsbuch2[Datum],\">\"&B394,Haushaltsbuch2[Datum],\"<=\"&B395)","v":0},{"$f":"SUMIFS(Haushaltsbuch2[Einnahmen],Haushaltsbuch2[Kategorie],Q$4,Haushaltsbuch2[Datum],\">\"&B394,Haushaltsbuch2[Datum],\"<=\"&B395)","v":0},{"$f":"SUMIFS(Haushaltsbuch2[Einnahmen],Haushaltsbuch2[Kategorie],R$4,Haushaltsbuch2[Datum],\">\"&B394,Haushaltsbuch2[Datum],\"<=\"&B395)","v":0},null,null,null,null,null,null,null,null,null,null,null,null,null,null,null,null,null,null,{"$f":"SUMIFS(Haushaltsbuch2[Ausgaben],Haushaltsbuch2[Kategorie],AK$4,Haushaltsbuch2[Datum],\">\"&B394,Haushaltsbuch2[Datum],\"<=\"&B395)","v":0},null,null,{"$f":"SUMIFS(Dividenden[Betrag in EUR],Dividenden[Datum],\">\"&B394,Dividenden[Datum],\"<=\"&B395)","v":0},{"$f":"SUMIFS(Optionen[G/V (Netto)],Optionen[Datum],\">\"&B394,Optionen[Datum],\"<=\"&B395)","v":0},null,0,0,null,0,0,null,{"$f":"SUMIFS(Haushaltsbuch2[Einnahmen],Haushaltsbuch2[Datum],\">\"&B394,Haushaltsbuch2[Datum],\"<=\"&B395)+AN395+AO395","v":0},null,0,null,{"$f":"SUMIFS(Haushaltsbuch2[Ausgaben],Haushaltsbuch2[Datum],\">\"&B394,Haushaltsbuch2[Datum],\"<=\"&B395)","v":0}]
[null,37529,null,null,null,null,null,null,null,null,null,null,{"$f":"SUMIFS(Haushaltsbuch2[Einnahmen],Haushaltsbuch2[Kategorie],M$4,Haushaltsbuch2[Datum],\">\"&B395,Haushaltsbuch2[Datum],\"<=\"&B396)","v":0},{"$f":"SUMIFS(Haushaltsbuch2[Einnahmen],Haushaltsbuch2[Kategorie],N$4,Haushaltsbuch2[Datum],\">\"&B395,Haushaltsbuch2[Datum],\"<=\"&B396)","v":0},{"$f":"SUMIFS(Haushaltsbuch2[Einnahmen],Haushaltsbuch2[Kategorie],O$4,Haushaltsbuch2[Datum],\">\"&B395,Haushaltsbuch2[Datum],\"<=\"&B396)","v":0},{"$f":"SUMIFS(Haushaltsbuch2[Einnahmen],Haushaltsbuch2[Kategorie],P$4,Haushaltsbuch2[Datum],\">\"&B395,Haushaltsbuch2[Datum],\"<=\"&B396)","v":0},{"$f":"SUMIFS(Haushaltsbuch2[Einnahmen],Haushaltsbuch2[Kategorie],Q$4,Haushaltsbuch2[Datum],\">\"&B395,Haushaltsbuch2[Datum],\"<=\"&B396)","v":0},{"$f":"SUMIFS(Haushaltsbuch2[Einnahmen],Haushaltsbuch2[Kategorie],R$4,Haushaltsbuch2[Datum],\">\"&B395,Haushaltsbuch2[Datum],\"<=\"&B396)","v":0},null,null,null,null,null,null,null,null,null,null,null,null,null,null,null,null,null,null,{"$f":"SUMIFS(Haushaltsbuch2[Ausgaben],Haushaltsbuch2[Kategorie],AK$4,Haushaltsbuch2[Datum],\">\"&B395,Haushaltsbuch2[Datum],\"<=\"&B396)","v":0},null,null,{"$f":"SUMIFS(Dividenden[Betrag in EUR],Dividenden[Datum],\">\"&B395,Dividenden[Datum],\"<=\"&B396)","v":0},{"$f":"SUMIFS(Optionen[G/V (Netto)],Optionen[Datum],\">\"&B395,Optionen[Datum],\"<=\"&B396)","v":0},null,0,0,null,0,0,null,{"$f":"SUMIFS(Haushaltsbuch2[Einnahmen],Haushaltsbuch2[Datum],\">\"&B395,Haushaltsbuch2[Datum],\"<=\"&B396)+AN396+AO396","v":0},null,0,null,{"$f":"SUMIFS(Haushaltsbuch2[Ausgaben],Haushaltsbuch2[Datum],\">\"&B395,Haushaltsbuch2[Datum],\"<=\"&B396)","v":0}]
[null,37560,null,null,null,null,null,null,null,null,null,null,{"$f":"SUMIFS(Haushaltsbuch2[Einnahmen],Haushaltsbuch2[Kategorie],M$4,Haushaltsbuch2[Datum],\">\"&B396,Haushaltsbuch2[Datum],\"<=\"&B397)","v":0},{"$f":"SUMIFS(Haushaltsbuch2[Einnahmen],Haushaltsbuch2[Kategorie],N$4,Haushaltsbuch2[Datum],\">\"&B396,Haushaltsbuch2[Datum],\"<=\"&B397)","v":0},{"$f":"SUMIFS(Haushaltsbuch2[Einnahmen],Haushaltsbuch2[Kategorie],O$4,Haushaltsbuch2[Datum],\">\"&B396,Haushaltsbuch2[Datum],\"<=\"&B397)","v":0},{"$f":"SUMIFS(Haushaltsbuch2[Einnahmen],Haushaltsbuch2[Kategorie],P$4,Haushaltsbuch2[Datum],\">\"&B396,Haushaltsbuch2[Datum],\"<=\"&B397)","v":0},{"$f":"SUMIFS(Haushaltsbuch2[Einnahmen],Haushaltsbuch2[Kategorie],Q$4,Haushaltsbuch2[Datum],\">\"&B396,Haushaltsbuch2[Datum],\"<=\"&B397)","v":0},{"$f":"SUMIFS(Haushaltsbuch2[Einnahmen],Haushaltsbuch2[Kategorie],R$4,Haushaltsbuch2[Datum],\">\"&B396,Haushaltsbuch2[Datum],\"<=\"&B397)","v":0},null,null,null,null,null,null,null,null,null,null,null,null,null,null,null,null,null,null,{"$f":"SUMIFS(Haushaltsbuch2[Ausgaben],Haushaltsbuch2[Kategorie],AK$4,Haushaltsbuch2[Datum],\">\"&B396,Haushaltsbuch2[Datum],\"<=\"&B397)","v":0},null,null,{"$f":"SUMIFS(Dividenden[Betrag in EUR],Dividenden[Datum],\">\"&B396,Dividenden[Datum],\"<=\"&B397)","v":0},{"$f":"SUMIFS(Optionen[G/V (Netto)],Optionen[Datum],\">\"&B396,Optionen[Datum],\"<=\"&B397)","v":0},null,0,0,null,0,0,null,{"$f":"SUMIFS(Haushaltsbuch2[Einnahmen],Haushaltsbuch2[Datum],\">\"&B396,Haushaltsbuch2[Datum],\"<=\"&B397)+AN397+AO397","v":0},null,0,null,{"$f":"SUMIFS(Haushaltsbuch2[Ausgaben],Haushaltsbuch2[Datum],\">\"&B396,Haushaltsbuch2[Datum],\"<=\"&B397)","v":0}]
[null,37590,null,null,null,null,null,null,null,null,null,null,{"$f":"SUMIFS(Haushaltsbuch2[Einnahmen],Haushaltsbuch2[Kategorie],M$4,Haushaltsbuch2[Datum],\">\"&B397,Haushaltsbuch2[Datum],\"<=\"&B398)","v":0},{"$f":"SUMIFS(Haushaltsbuch2[Einnahmen],Haushaltsbuch2[Kategorie],N$4,Haushaltsbuch2[Datum],\">\"&B397,Haushaltsbuch2[Datum],\"<=\"&B398)","v":0},{"$f":"SUMIFS(Haushaltsbuch2[Einnahmen],Haushaltsbuch2[Kategorie],O$4,Haushaltsbuch2[Datum],\">\"&B397,Haushaltsbuch2[Datum],\"<=\"&B398)","v":0},{"$f":"SUMIFS(Haushaltsbuch2[Einnahmen],Haushaltsbuch2[Kategorie],P$4,Haushaltsbuch2[Datum],\">\"&B397,Haushaltsbuch2[Datum],\"<=\"&B398)","v":0},{"$f":"SUMIFS(Haushaltsbuch2[Einnahmen],Haushaltsbuch2[Kategorie],Q$4,Haushaltsbuch2[Datum],\">\"&B397,Haushaltsbuch2[Datum],\"<=\"&B398)","v":0},{"$f":"SUMIFS(Haushaltsbuch2[Einnahmen],Haushaltsbuch2[Kategorie],R$4,Haushaltsbuch2[Datum],\">\"&B397,Haushaltsbuch2[Datum],\"<=\"&B398)","v":0},null,null,null,null,null,null,null,null,null,null,null,null,null,null,null,null,null,null,{"$f":"SUMIFS(Haushaltsbuch2[Ausgaben],Haushaltsbuch2[Kategorie],AK$4,Haushaltsbuch2[Datum],\">\"&B397,Haushaltsbuch2[Datum],\"<=\"&B398)","v":0},null,null,{"$f":"SUMIFS(Dividenden[Betrag in EUR],Dividenden[Datum],\">\"&B397,Dividenden[Datum],\"<=\"&B398)","v":0},{"$f":"SUMIFS(Optionen[G/V (Netto)],Optionen[Datum],\">\"&B397,Optionen[Datum],\"<=\"&B398)","v":0},null,0,0,null,0,0,null,{"$f":"SUMIFS(Haushaltsbuch2[Einnahmen],Haushaltsbuch2[Datum],\">\"&B397,Haushaltsbuch2[Datum],\"<=\"&B398)+AN398+AO398","v":0},null,0,null,{"$f":"SUMIFS(Haushaltsbuch2[Ausgaben],Haushaltsbuch2[Datum],\">\"&B397,Haushaltsbuch2[Datum],\"<=\"&B398)","v":0}]
[null,37621,null,null,null,null,null,null,null,null,null,null,{"$f":"SUMIFS(Haushaltsbuch2[Einnahmen],Haushaltsbuch2[Kategorie],M$4,Haushaltsbuch2[Datum],\">\"&B398,Haushaltsbuch2[Datum],\"<=\"&B399)","v":0},{"$f":"SUMIFS(Haushaltsbuch2[Einnahmen],Haushaltsbuch2[Kategorie],N$4,Haushaltsbuch2[Datum],\">\"&B398,Haushaltsbuch2[Datum],\"<=\"&B399)","v":0},{"$f":"SUMIFS(Haushaltsbuch2[Einnahmen],Haushaltsbuch2[Kategorie],O$4,Haushaltsbuch2[Datum],\">\"&B398,Haushaltsbuch2[Datum],\"<=\"&B399)","v":0},{"$f":"SUMIFS(Haushaltsbuch2[Einnahmen],Haushaltsbuch2[Kategorie],P$4,Haushaltsbuch2[Datum],\">\"&B398,Haushaltsbuch2[Datum],\"<=\"&B399)","v":0},{"$f":"SUMIFS(Haushaltsbuch2[Einnahmen],Haushaltsbuch2[Kategorie],Q$4,Haushaltsbuch2[Datum],\">\"&B398,Haushaltsbuch2[Datum],\"<=\"&B399)","v":0},{"$f":"SUMIFS(Haushaltsbuch2[Einnahmen],Haushaltsbuch2[Kategorie],R$4,Haushaltsbuch2[Datum],\">\"&B398,Haushaltsbuch2[Datum],\"<=\"&B399)","v":0},null,null,null,null,null,null,null,null,null,null,null,null,null,null,null,null,null,null,{"$f":"SUMIFS(Haushaltsbuch2[Ausgaben],Haushaltsbuch2[Kategorie],AK$4,Haushaltsbuch2[Datum],\">\"&B398,Haushaltsbuch2[Datum],\"<=\"&B399)","v":0},null,null,{"$f":"SUMIFS(Dividenden[Betrag in EUR],Dividenden[Datum],\">\"&B398,Dividenden[Datum],\"<=\"&B399)","v":0},{"$f":"SUMIFS(Optionen[G/V (Netto)],Optionen[Datum],\">\"&B398,Optionen[Datum],\"<=\"&B399)","v":0},null,0,0,null,0,0,null,{"$f":"SUMIFS(Haushaltsbuch2[Einnahmen],Haushaltsbuch2[Datum],\">\"&B398,Haushaltsbuch2[Datum],\"<=\"&B399)+AN399+AO399","v":0},null,0,null,{"$f":"SUMIFS(Haushaltsbuch2[Ausgaben],Haushaltsbuch2[Datum],\">\"&B398,Haushaltsbuch2[Datum],\"<=\"&B399)","v":0}]
[null,37652,null,null,null,null,null,null,null,null,null,null,{"$f":"SUMIFS(Haushaltsbuch2[Einnahmen],Haushaltsbuch2[Kategorie],M$4,Haushaltsbuch2[Datum],\">\"&B399,Haushaltsbuch2[Datum],\"<=\"&B400)","v":0},{"$f":"SUMIFS(Haushaltsbuch2[Einnahmen],Haushaltsbuch2[Kategorie],N$4,Haushaltsbuch2[Datum],\">\"&B399,Haushaltsbuch2[Datum],\"<=\"&B400)","v":0},{"$f":"SUMIFS(Haushaltsbuch2[Einnahmen],Haushaltsbuch2[Kategorie],O$4,Haushaltsbuch2[Datum],\">\"&B399,Haushaltsbuch2[Datum],\"<=\"&B400)","v":0},{"$f":"SUMIFS(Haushaltsbuch2[Einnahmen],Haushaltsbuch2[Kategorie],P$4,Haushaltsbuch2[Datum],\">\"&B399,Haushaltsbuch2[Datum],\"<=\"&B400)","v":0},{"$f":"SUMIFS(Haushaltsbuch2[Einnahmen],Haushaltsbuch2[Kategorie],Q$4,Haushaltsbuch2[Datum],\">\"&B399,Haushaltsbuch2[Datum],\"<=\"&B400)","v":0},{"$f":"SUMIFS(Haushaltsbuch2[Einnahmen],Haushaltsbuch2[Kategorie],R$4,Haushaltsbuch2[Datum],\">\"&B399,Haushaltsbuch2[Datum],\"<=\"&B400)","v":0},null,null,null,null,null,null,null,null,null,null,null,null,null,null,null,null,null,null,{"$f":"SUMIFS(Haushaltsbuch2[Ausgaben],Haushaltsbuch2[Kategorie],AK$4,Haushaltsbuch2[Datum],\">\"&B399,Haushaltsbuch2[Datum],\"<=\"&B400)","v":0},null,null,{"$f":"SUMIFS(Dividenden[Betrag in EUR],Dividenden[Datum],\">\"&B399,Dividenden[Datum],\"<=\"&B400)","v":0},{"$f":"SUMIFS(Optionen[G/V (Netto)],Optionen[Datum],\">\"&B399,Optionen[Datum],\"<=\"&B400)","v":0},null,0,0,null,0,0,null,{"$f":"SUMIFS(Haushaltsbuch2[Einnahmen],Haushaltsbuch2[Datum],\">\"&B399,Haushaltsbuch2[Datum],\"<=\"&B400)+AN400+AO400","v":0},null,0,null,{"$f":"SUMIFS(Haushaltsbuch2[Ausgaben],Haushaltsbuch2[Datum],\">\"&B399,Haushaltsbuch2[Datum],\"<=\"&B400)","v":0}]
[null,37680,null,null,null,null,null,null,null,null,null,null,{"$f":"SUMIFS(Haushaltsbuch2[Einnahmen],Haushaltsbuch2[Kategorie],M$4,Haushaltsbuch2[Datum],\">\"&B400,Haushaltsbuch2[Datum],\"<=\"&B401)","v":0},{"$f":"SUMIFS(Haushaltsbuch2[Einnahmen],Haushaltsbuch2[Kategorie],N$4,Haushaltsbuch2[Datum],\">\"&B400,Haushaltsbuch2[Datum],\"<=\"&B401)","v":0},{"$f":"SUMIFS(Haushaltsbuch2[Einnahmen],Haushaltsbuch2[Kategorie],O$4,Haushaltsbuch2[Datum],\">\"&B400,Haushaltsbuch2[Datum],\"<=\"&B401)","v":0},{"$f":"SUMIFS(Haushaltsbuch2[Einnahmen],Haushaltsbuch2[Kategorie],P$4,Haushaltsbuch2[Datum],\">\"&B400,Haushaltsbuch2[Datum],\"<=\"&B401)","v":0},{"$f":"SUMIFS(Haushaltsbuch2[Einnahmen],Haushaltsbuch2[Kategorie],Q$4,Haushaltsbuch2[Datum],\">\"&B400,Haushaltsbuch2[Datum],\"<=\"&B401)","v":0},{"$f":"SUMIFS(Haushaltsbuch2[Einnahmen],Haushaltsbuch2[Kategorie],R$4,Haushaltsbuch2[Datum],\">\"&B400,Haushaltsbuch2[Datum],\"<=\"&B401)","v":0},null,null,null,null,null,null,null,null,null,null,null,null,null,null,null,null,null,null,{"$f":"SUMIFS(Haushaltsbuch2[Ausgaben],Haushaltsbuch2[Kategorie],AK$4,Haushaltsbuch2[Datum],\">\"&B400,Haushaltsbuch2[Datum],\"<=\"&B401)","v":0},null,null,{"$f":"SUMIFS(Dividenden[Betrag in EUR],Dividenden[Datum],\">\"&B400,Dividenden[Datum],\"<=\"&B401)","v":0},{"$f":"SUMIFS(Optionen[G/V (Netto)],Optionen[Datum],\">\"&B400,Optionen[Datum],\"<=\"&B401)","v":0},null,0,0,null,0,0,null,{"$f":"SUMIFS(Haushaltsbuch2[Einnahmen],Haushaltsbuch2[Datum],\">\"&B400,Haushaltsbuch2[Datum],\"<=\"&B401)+AN401+AO401","v":0},null,0,null,{"$f":"SUMIFS(Haushaltsbuch2[Ausgaben],Haushaltsbuch2[Datum],\">\"&B400,Haushaltsbuch2[Datum],\"<=\"&B401)","v":0}]
[null,37711,null,null,null,null,null,null,null,null,null,null,{"$f":"SUMIFS(Haushaltsbuch2[Einnahmen],Haushaltsbuch2[Kategorie],M$4,Haushaltsbuch2[Datum],\">\"&B401,Haushaltsbuch2[Datum],\"<=\"&B402)","v":0},{"$f":"SUMIFS(Haushaltsbuch2[Einnahmen],Haushaltsbuch2[Kategorie],N$4,Haushaltsbuch2[Datum],\">\"&B401,Haushaltsbuch2[Datum],\"<=\"&B402)","v":0},{"$f":"SUMIFS(Haushaltsbuch2[Einnahmen],Haushaltsbuch2[Kategorie],O$4,Haushaltsbuch2[Datum],\">\"&B401,Haushaltsbuch2[Datum],\"<=\"&B402)","v":0},{"$f":"SUMIFS(Haushaltsbuch2[Einnahmen],Haushaltsbuch2[Kategorie],P$4,Haushaltsbuch2[Datum],\">\"&B401,Haushaltsbuch2[Datum],\"<=\"&B402)","v":0},{"$f":"SUMIFS(Haushaltsbuch2[Einnahmen],Haushaltsbuch2[Kategorie],Q$4,Haushaltsbuch2[Datum],\">\"&B401,Haushaltsbuch2[Datum],\"<=\"&B402)","v":0},{"$f":"SUMIFS(Haushaltsbuch2[Einnahmen],Haushaltsbuch2[Kategorie],R$4,Haushaltsbuch2[Datum],\">\"&B401,Haushaltsbuch2[Datum],\"<=\"&B402)","v":0},null,null,null,null,null,null,null,null,null,null,null,null,null,null,null,null,null,null,{"$f":"SUMIFS(Haushaltsbuch2[Ausgaben],Haushaltsbuch2[Kategorie],AK$4,Haushaltsbuch2[Datum],\">\"&B401,Haushaltsbuch2[Datum],\"<=\"&B402)","v":0},null,null,{"$f":"SUMIFS(Dividenden[Betrag in EUR],Dividenden[Datum],\">\"&B401,Dividenden[Datum],\"<=\"&B402)","v":0},{"$f":"SUMIFS(Optionen[G/V (Netto)],Optionen[Datum],\">\"&B401,Optionen[Datum],\"<=\"&B402)","v":0},null,0,0,null,0,{"$f":"AVERAGE(AT391:AT402)","v":0},null,{"$f":"SUMIFS(Haushaltsbuch2[Einnahmen],Haushaltsbuch2[Datum],\">\"&B401,Haushaltsbuch2[Datum],\"<=\"&B402)+AN402+AO402","v":0},null,{"$f":"AVERAGE(AK391:AK402)","v":0},null,{"$f":"SUMIFS(Haushaltsbuch2[Ausgaben],Haushaltsbuch2[Datum],\">\"&B401,Haushaltsbuch2[Datum],\"<=\"&B402)","v":0}]
[null,37741,null,null,null,null,null,null,null,null,null,null,{"$f":"SUMIFS(Haushaltsbuch2[Einnahmen],Haushaltsbuch2[Kategorie],M$4,Haushaltsbuch2[Datum],\">\"&B402,Haushaltsbuch2[Datum],\"<=\"&B403)","v":0},{"$f":"SUMIFS(Haushaltsbuch2[Einnahmen],Haushaltsbuch2[Kategorie],N$4,Haushaltsbuch2[Datum],\">\"&B402,Haushaltsbuch2[Datum],\"<=\"&B403)","v":0},{"$f":"SUMIFS(Haushaltsbuch2[Einnahmen],Haushaltsbuch2[Kategorie],O$4,Haushaltsbuch2[Datum],\">\"&B402,Haushaltsbuch2[Datum],\"<=\"&B403)","v":0},{"$f":"SUMIFS(Haushaltsbuch2[Einnahmen],Haushaltsbuch2[Kategorie],P$4,Haushaltsbuch2[Datum],\">\"&B402,Haushaltsbuch2[Datum],\"<=\"&B403)","v":0},{"$f":"SUMIFS(Haushaltsbuch2[Einnahmen],Haushaltsbuch2[Kategorie],Q$4,Haushaltsbuch2[Datum],\">\"&B402,Haushaltsbuch2[Datum],\"<=\"&B403)","v":0},{"$f":"SUMIFS(Haushaltsbuch2[Einnahmen],Haushaltsbuch2[Kategorie],R$4,Haushaltsbuch2[Datum],\">\"&B402,Haushaltsbuch2[Datum],\"<=\"&B403)","v":0},null,null,null,null,null,null,null,null,null,null,null,null,null,null,null,null,null,null,{"$f":"SUMIFS(Haushaltsbuch2[Ausgaben],Haushaltsbuch2[Kategorie],AK$4,Haushaltsbuch2[Datum],\">\"&B402,Haushaltsbuch2[Datum],\"<=\"&B403)","v":0},null,null,{"$f":"SUMIFS(Dividenden[Betrag in EUR],Dividenden[Datum],\">\"&B402,Dividenden[Datum],\"<=\"&B403)","v":0},{"$f":"SUMIFS(Optionen[G/V (Netto)],Optionen[Datum],\">\"&B402,Optionen[Datum],\"<=\"&B403)","v":0},null,0,0,null,0,0,null,{"$f":"SUMIFS(Haushaltsbuch2[Einnahmen],Haushaltsbuch2[Datum],\">\"&B402,Haushaltsbuch2[Datum],\"<=\"&B403)+AN403+AO403","v":0},null,0,null,{"$f":"SUMIFS(Haushaltsbuch2[Ausgaben],Haushaltsbuch2[Datum],\">\"&B402,Haushaltsbuch2[Datum],\"<=\"&B403)","v":0}]
[null,37772,null,null,null,null,null,null,null,null,null,null,{"$f":"SUMIFS(Haushaltsbuch2[Einnahmen],Haushaltsbuch2[Kategorie],M$4,Haushaltsbuch2[Datum],\">\"&B403,Haushaltsbuch2[Datum],\"<=\"&B404)","v":0},{"$f":"SUMIFS(Haushaltsbuch2[Einnahmen],Haushaltsbuch2[Kategorie],N$4,Haushaltsbuch2[Datum],\">\"&B403,Haushaltsbuch2[Datum],\"<=\"&B404)","v":0},{"$f":"SUMIFS(Haushaltsbuch2[Einnahmen],Haushaltsbuch2[Kategorie],O$4,Haushaltsbuch2[Datum],\">\"&B403,Haushaltsbuch2[Datum],\"<=\"&B404)","v":0},{"$f":"SUMIFS(Haushaltsbuch2[Einnahmen],Haushaltsbuch2[Kategorie],P$4,Haushaltsbuch2[Datum],\">\"&B403,Haushaltsbuch2[Datum],\"<=\"&B404)","v":0},{"$f":"SUMIFS(Haushaltsbuch2[Einnahmen],Haushaltsbuch2[Kategorie],Q$4,Haushaltsbuch2[Datum],\">\"&B403,Haushaltsbuch2[Datum],\"<=\"&B404)","v":0},{"$f":"SUMIFS(Haushaltsbuch2[Einnahmen],Haushaltsbuch2[Kategorie],R$4,Haushaltsbuch2[Datum],\">\"&B403,Haushaltsbuch2[Datum],\"<=\"&B404)","v":0},null,null,null,null,null,null,null,null,null,null,null,null,null,null,null,null,null,null,{"$f":"SUMIFS(Haushaltsbuch2[Ausgaben],Haushaltsbuch2[Kategorie],AK$4,Haushaltsbuch2[Datum],\">\"&B403,Haushaltsbuch2[Datum],\"<=\"&B404)","v":0},null,null,{"$f":"SUMIFS(Dividenden[Betrag in EUR],Dividenden[Datum],\">\"&B403,Dividenden[Datum],\"<=\"&B404)","v":0},{"$f":"SUMIFS(Optionen[G/V (Netto)],Optionen[Datum],\">\"&B403,Optionen[Datum],\"<=\"&B404)","v":0},null,0,0,null,0,0,null,{"$f":"SUMIFS(Haushaltsbuch2[Einnahmen],Haushaltsbuch2[Datum],\">\"&B403,Haushaltsbuch2[Datum],\"<=\"&B404)+AN404+AO404","v":0},null,0,null,{"$f":"SUMIFS(Haushaltsbuch2[Ausgaben],Haushaltsbuch2[Datum],\">\"&B403,Haushaltsbuch2[Datum],\"<=\"&B404)","v":0}]
[null,37802,null,null,null,null,null,null,null,null,null,null,{"$f":"SUMIFS(Haushaltsbuch2[Einnahmen],Haushaltsbuch2[Kategorie],M$4,Haushaltsbuch2[Datum],\">\"&B404,Haushaltsbuch2[Datum],\"<=\"&B405)","v":0},{"$f":"SUMIFS(Haushaltsbuch2[Einnahmen],Haushaltsbuch2[Kategorie],N$4,Haushaltsbuch2[Datum],\">\"&B404,Haushaltsbuch2[Datum],\"<=\"&B405)","v":0},{"$f":"SUMIFS(Haushaltsbuch2[Einnahmen],Haushaltsbuch2[Kategorie],O$4,Haushaltsbuch2[Datum],\">\"&B404,Haushaltsbuch2[Datum],\"<=\"&B405)","v":0},{"$f":"SUMIFS(Haushaltsbuch2[Einnahmen],Haushaltsbuch2[Kategorie],P$4,Haushaltsbuch2[Datum],\">\"&B404,Haushaltsbuch2[Datum],\"<=\"&B405)","v":0},{"$f":"SUMIFS(Haushaltsbuch2[Einnahmen],Haushaltsbuch2[Kategorie],Q$4,Haushaltsbuch2[Datum],\">\"&B404,Haushaltsbuch2[Datum],\"<=\"&B405)","v":0},{"$f":"SUMIFS(Haushaltsbuch2[Einnahmen],Haushaltsbuch2[Kategorie],R$4,Haushaltsbuch2[Datum],\">\"&B404,Haushaltsbuch2[Datum],\"<=\"&B405)","v":0},null,null,null,null,null,null,null,null,null,null,null,null,null,null,null,null,null,null,{"$f":"SUMIFS(Haushaltsbuch2[Ausgaben],Haushaltsbuch2[Kategorie],AK$4,Haushaltsbuch2[Datum],\">\"&B404,Haushaltsbuch2[Datum],\"<=\"&B405)","v":0},null,null,{"$f":"SUMIFS(Dividenden[Betrag in EUR],Dividenden[Datum],\">\"&B404,Dividenden[Datum],\"<=\"&B405)","v":0},{"$f":"SUMIFS(Optionen[G/V (Netto)],Optionen[Datum],\">\"&B404,Optionen[Datum],\"<=\"&B405)","v":0},null,0,0,null,0,0,null,{"$f":"SUMIFS(Haushaltsbuch2[Einnahmen],Haushaltsbuch2[Datum],\">\"&B404,Haushaltsbuch2[Datum],\"<=\"&B405)+AN405+AO405","v":0},null,0,null,{"$f":"SUMIFS(Haushaltsbuch2[Ausgaben],Haushaltsbuch2[Datum],\">\"&B404,Haushaltsbuch2[Datum],\"<=\"&B405)","v":0}]
[null,37833,null,null,null,null,null,null,null,null,null,null,{"$f":"SUMIFS(Haushaltsbuch2[Einnahmen],Haushaltsbuch2[Kategorie],M$4,Haushaltsbuch2[Datum],\">\"&B405,Haushaltsbuch2[Datum],\"<=\"&B406)","v":0},{"$f":"SUMIFS(Haushaltsbuch2[Einnahmen],Haushaltsbuch2[Kategorie],N$4,Haushaltsbuch2[Datum],\">\"&B405,Haushaltsbuch2[Datum],\"<=\"&B406)","v":0},{"$f":"SUMIFS(Haushaltsbuch2[Einnahmen],Haushaltsbuch2[Kategorie],O$4,Haushaltsbuch2[Datum],\">\"&B405,Haushaltsbuch2[Datum],\"<=\"&B406)","v":0},{"$f":"SUMIFS(Haushaltsbuch2[Einnahmen],Haushaltsbuch2[Kategorie],P$4,Haushaltsbuch2[Datum],\">\"&B405,Haushaltsbuch2[Datum],\"<=\"&B406)","v":0},{"$f":"SUMIFS(Haushaltsbuch2[Einnahmen],Haushaltsbuch2[Kategorie],Q$4,Haushaltsbuch2[Datum],\">\"&B405,Haushaltsbuch2[Datum],\"<=\"&B406)","v":0},{"$f":"SUMIFS(Haushaltsbuch2[Einnahmen],Haushaltsbuch2[Kategorie],R$4,Haushaltsbuch2[Datum],\">\"&B405,Haushaltsbuch2[Datum],\"<=\"&B406)","v":0},null,null,null,null,null,null,null,null,null,null,null,null,null,null,null,null,null,null,{"$f":"SUMIFS(Haushaltsbuch2[Ausgaben],Haushaltsbuch2[Kategorie],AK$4,Haushaltsbuch2[Datum],\">\"&B405,Haushaltsbuch2[Datum],\"<=\"&B406)","v":0},null,null,{"$f":"SUMIFS(Dividenden[Betrag in EUR],Dividenden[Datum],\">\"&B405,Dividenden[Datum],\"<=\"&B406)","v":0},{"$f":"SUMIFS(Optionen[G/V (Netto)],Optionen[Datum],\">\"&B405,Optionen[Datum],\"<=\"&B406)","v":0},null,0,0,null,0,0,null,{"$f":"SUMIFS(Haushaltsbuch2[Einnahmen],Haushaltsbuch2[Datum],\">\"&B405,Haushaltsbuch2[Datum],\"<=\"&B406)+AN406+AO406","v":0},null,0,null,{"$f":"SUMIFS(Haushaltsbuch2[Ausgaben],Haushaltsbuch2[Datum],\">\"&B405,Haushaltsbuch2[Datum],\"<=\"&B406)","v":0}]
[null,37864,null,null,null,null,null,null,null,null,null,null,{"$f":"SUMIFS(Haushaltsbuch2[Einnahmen],Haushaltsbuch2[Kategorie],M$4,Haushaltsbuch2[Datum],\">\"&B406,Haushaltsbuch2[Datum],\"<=\"&B407)","v":0},{"$f":"SUMIFS(Haushaltsbuch2[Einnahmen],Haushaltsbuch2[Kategorie],N$4,Haushaltsbuch2[Datum],\">\"&B406,Haushaltsbuch2[Datum],\"<=\"&B407)","v":0},{"$f":"SUMIFS(Haushaltsbuch2[Einnahmen],Haushaltsbuch2[Kategorie],O$4,Haushaltsbuch2[Datum],\">\"&B406,Haushaltsbuch2[Datum],\"<=\"&B407)","v":0},{"$f":"SUMIFS(Haushaltsbuch2[Einnahmen],Haushaltsbuch2[Kategorie],P$4,Haushaltsbuch2[Datum],\">\"&B406,Haushaltsbuch2[Datum],\"<=\"&B407)","v":0},{"$f":"SUMIFS(Haushaltsbuch2[Einnahmen],Haushaltsbuch2[Kategorie],Q$4,Haushaltsbuch2[Datum],\">\"&B406,Haushaltsbuch2[Datum],\"<=\"&B407)","v":0},{"$f":"SUMIFS(Haushaltsbuch2[Einnahmen],Haushaltsbuch2[Kategorie],R$4,Haushaltsbuch2[Datum],\">\"&B406,Haushaltsbuch2[Datum],\"<=\"&B407)","v":0},null,null,null,null,null,null,null,null,null,null,null,null,null,null,null,null,null,null,{"$f":"SUMIFS(Haushaltsbuch2[Ausgaben],Haushaltsbuch2[Kategorie],AK$4,Haushaltsbuch2[Datum],\">\"&B406,Haushaltsbuch2[Datum],\"<=\"&B407)","v":0},null,null,{"$f":"SUMIFS(Dividenden[Betrag in EUR],Dividenden[Datum],\">\"&B406,Dividenden[Datum],\"<=\"&B407)","v":0},{"$f":"SUMIFS(Optionen[G/V (Netto)],Optionen[Datum],\">\"&B406,Optionen[Datum],\"<=\"&B407)","v":0},null,0,0,null,0,0,null,{"$f":"SUMIFS(Haushaltsbuch2[Einnahmen],Haushaltsbuch2[Datum],\">\"&B406,Haushaltsbuch2[Datum],\"<=\"&B407)+AN407+AO407","v":0},null,0,null,{"$f":"SUMIFS(Haushaltsbuch2[Ausgaben],Haushaltsbuch2[Datum],\">\"&B406,Haushaltsbuch2[Datum],\"<=\"&B407)","v":0}]
[null,37894,null,null,null,null,null,null,null,null,null,null,{"$f":"SUMIFS(Haushaltsbuch2[Einnahmen],Haushaltsbuch2[Kategorie],M$4,Haushaltsbuch2[Datum],\">\"&B407,Haushaltsbuch2[Datum],\"<=\"&B408)","v":0},{"$f":"SUMIFS(Haushaltsbuch2[Einnahmen],Haushaltsbuch2[Kategorie],N$4,Haushaltsbuch2[Datum],\">\"&B407,Haushaltsbuch2[Datum],\"<=\"&B408)","v":0},{"$f":"SUMIFS(Haushaltsbuch2[Einnahmen],Haushaltsbuch2[Kategorie],O$4,Haushaltsbuch2[Datum],\">\"&B407,Haushaltsbuch2[Datum],\"<=\"&B408)","v":0},{"$f":"SUMIFS(Haushaltsbuch2[Einnahmen],Haushaltsbuch2[Kategorie],P$4,Haushaltsbuch2[Datum],\">\"&B407,Haushaltsbuch2[Datum],\"<=\"&B408)","v":0},{"$f":"SUMIFS(Haushaltsbuch2[Einnahmen],Haushaltsbuch2[Kategorie],Q$4,Haushaltsbuch2[Datum],\">\"&B407,Haushaltsbuch2[Datum],\"<=\"&B408)","v":0},{"$f":"SUMIFS(Haushaltsbuch2[Einnahmen],Haushaltsbuch2[Kategorie],R$4,Haushaltsbuch2[Datum],\">\"&B407,Haushaltsbuch2[Datum],\"<=\"&B408)","v":0},null,null,null,null,null,null,null,null,null,null,null,null,null,null,null,null,null,null,{"$f":"SUMIFS(Haushaltsbuch2[Ausgaben],Haushaltsbuch2[Kategorie],AK$4,Haushaltsbuch2[Datum],\">\"&B407,Haushaltsbuch2[Datum],\"<=\"&B408)","v":0},null,null,{"$f":"SUMIFS(Dividenden[Betrag in EUR],Dividenden[Datum],\">\"&B407,Dividenden[Datum],\"<=\"&B408)","v":0},{"$f":"SUMIFS(Optionen[G/V (Netto)],Optionen[Datum],\">\"&B407,Optionen[Datum],\"<=\"&B408)","v":0},null,0,0,null,0,0,null,{"$f":"SUMIFS(Haushaltsbuch2[Einnahmen],Haushaltsbuch2[Datum],\">\"&B407,Haushaltsbuch2[Datum],\"<=\"&B408)+AN408+AO408","v":0},null,0,null,{"$f":"SUMIFS(Haushaltsbuch2[Ausgaben],Haushaltsbuch2[Datum],\">\"&B407,Haushaltsbuch2[Datum],\"<=\"&B408)","v":0}]
[null,37925,null,null,null,null,null,null,null,null,null,null,{"$f":"SUMIFS(Haushaltsbuch2[Einnahmen],Haushaltsbuch2[Kategorie],M$4,Haushaltsbuch2[Datum],\">\"&B408,Haushaltsbuch2[Datum],\"<=\"&B409)","v":0},{"$f":"SUMIFS(Haushaltsbuch2[Einnahmen],Haushaltsbuch2[Kategorie],N$4,Haushaltsbuch2[Datum],\">\"&B408,Haushaltsbuch2[Datum],\"<=\"&B409)","v":0},{"$f":"SUMIFS(Haushaltsbuch2[Einnahmen],Haushaltsbuch2[Kategorie],O$4,Haushaltsbuch2[Datum],\">\"&B408,Haushaltsbuch2[Datum],\"<=\"&B409)","v":0},{"$f":"SUMIFS(Haushaltsbuch2[Einnahmen],Haushaltsbuch2[Kategorie],P$4,Haushaltsbuch2[Datum],\">\"&B408,Haushaltsbuch2[Datum],\"<=\"&B409)","v":0},{"$f":"SUMIFS(Haushaltsbuch2[Einnahmen],Haushaltsbuch2[Kategorie],Q$4,Haushaltsbuch2[Datum],\">\"&B408,Haushaltsbuch2[Datum],\"<=\"&B409)","v":0},{"$f":"SUMIFS(Haushaltsbuch2[Einnahmen],Haushaltsbuch2[Kategorie],R$4,Haushaltsbuch2[Datum],\">\"&B408,Haushaltsbuch2[Datum],\"<=\"&B409)","v":0},null,null,null,null,null,null,null,null,null,null,null,null,null,null,null,null,null,null,{"$f":"SUMIFS(Haushaltsbuch2[Ausgaben],Haushaltsbuch2[Kategorie],AK$4,Haushaltsbuch2[Datum],\">\"&B408,Haushaltsbuch2[Datum],\"<=\"&B409)","v":0},null,null,{"$f":"SUMIFS(Dividenden[Betrag in EUR],Dividenden[Datum],\">\"&B408,Dividenden[Datum],\"<=\"&B409)","v":0},{"$f":"SUMIFS(Optionen[G/V (Netto)],Optionen[Datum],\">\"&B408,Optionen[Datum],\"<=\"&B409)","v":0},null,0,0,null,0,0,null,{"$f":"SUMIFS(Haushaltsbuch2[Einnahmen],Haushaltsbuch2[Datum],\">\"&B408,Haushaltsbuch2[Datum],\"<=\"&B409)+AN409+AO409","v":0},null,0,null,{"$f":"SUMIFS(Haushaltsbuch2[Ausgaben],Haushaltsbuch2[Datum],\">\"&B408,Haushaltsbuch2[Datum],\"<=\"&B409)","v":0}]
[null,37955,null,null,null,null,null,null,null,null,null,null,{"$f":"SUMIFS(Haushaltsbuch2[Einnahmen],Haushaltsbuch2[Kategorie],M$4,Haushaltsbuch2[Datum],\">\"&B409,Haushaltsbuch2[Datum],\"<=\"&B410)","v":0},{"$f":"SUMIFS(Haushaltsbuch2[Einnahmen],Haushaltsbuch2[Kategorie],N$4,Haushaltsbuch2[Datum],\">\"&B409,Haushaltsbuch2[Datum],\"<=\"&B410)","v":0},{"$f":"SUMIFS(Haushaltsbuch2[Einnahmen],Haushaltsbuch2[Kategorie],O$4,Haushaltsbuch2[Datum],\">\"&B409,Haushaltsbuch2[Datum],\"<=\"&B410)","v":0},{"$f":"SUMIFS(Haushaltsbuch2[Einnahmen],Haushaltsbuch2[Kategorie],P$4,Haushaltsbuch2[Datum],\">\"&B409,Haushaltsbuch2[Datum],\"<=\"&B410)","v":0},{"$f":"SUMIFS(Haushaltsbuch2[Einnahmen],Haushaltsbuch2[Kategorie],Q$4,Haushaltsbuch2[Datum],\">\"&B409,Haushaltsbuch2[Datum],\"<=\"&B410)","v":0},{"$f":"SUMIFS(Haushaltsbuch2[Einnahmen],Haushaltsbuch2[Kategorie],R$4,Haushaltsbuch2[Datum],\">\"&B409,Haushaltsbuch2[Datum],\"<=\"&B410)","v":0},null,null,null,null,null,null,null,null,null,null,null,null,null,null,null,null,null,null,{"$f":"SUMIFS(Haushaltsbuch2[Ausgaben],Haushaltsbuch2[Kategorie],AK$4,Haushaltsbuch2[Datum],\">\"&B409,Haushaltsbuch2[Datum],\"<=\"&B410)","v":0},null,null,{"$f":"SUMIFS(Dividenden[Betrag in EUR],Dividenden[Datum],\">\"&B409,Dividenden[Datum],\"<=\"&B410)","v":0},{"$f":"SUMIFS(Optionen[G/V (Netto)],Optionen[Datum],\">\"&B409,Optionen[Datum],\"<=\"&B410)","v":0},null,0,0,null,0,0,null,{"$f":"SUMIFS(Haushaltsbuch2[Einnahmen],Haushaltsbuch2[Datum],\">\"&B409,Haushaltsbuch2[Datum],\"<=\"&B410)+AN410+AO410","v":0},null,0,null,{"$f":"SUMIFS(Haushaltsbuch2[Ausgaben],Haushaltsbuch2[Datum],\">\"&B409,Haushaltsbuch2[Datum],\"<=\"&B410)","v":0}]
[null,37986,null,null,null,null,null,null,null,null,null,null,{"$f":"SUMIFS(Haushaltsbuch2[Einnahmen],Haushaltsbuch2[Kategorie],M$4,Haushaltsbuch2[Datum],\">\"&B410,Haushaltsbuch2[Datum],\"<=\"&B411)","v":0},{"$f":"SUMIFS(Haushaltsbuch2[Einnahmen],Haushaltsbuch2[Kategorie],N$4,Haushaltsbuch2[Datum],\">\"&B410,Haushaltsbuch2[Datum],\"<=\"&B411)","v":0},{"$f":"SUMIFS(Haushaltsbuch2[Einnahmen],Haushaltsbuch2[Kategorie],O$4,Haushaltsbuch2[Datum],\">\"&B410,Haushaltsbuch2[Datum],\"<=\"&B411)","v":0},{"$f":"SUMIFS(Haushaltsbuch2[Einnahmen],Haushaltsbuch2[Kategorie],P$4,Haushaltsbuch2[Datum],\">\"&B410,Haushaltsbuch2[Datum],\"<=\"&B411)","v":0},{"$f":"SUMIFS(Haushaltsbuch2[Einnahmen],Haushaltsbuch2[Kategorie],Q$4,Haushaltsbuch2[Datum],\">\"&B410,Haushaltsbuch2[Datum],\"<=\"&B411)","v":0},{"$f":"SUMIFS(Haushaltsbuch2[Einnahmen],Haushaltsbuch2[Kategorie],R$4,Haushaltsbuch2[Datum],\">\"&B410,Haushaltsbuch2[Datum],\"<=\"&B411)","v":0},null,null,null,null,null,null,null,null,null,null,null,null,null,null,null,null,null,null,{"$f":"SUMIFS(Haushaltsbuch2[Ausgaben],Haushaltsbuch2[Kategorie],AK$4,Haushaltsbuch2[Datum],\">\"&B410,Haushaltsbuch2[Datum],\"<=\"&B411)","v":0},null,null,{"$f":"SUMIFS(Dividenden[Betrag in EUR],Dividenden[Datum],\">\"&B410,Dividenden[Datum],\"<=\"&B411)","v":0},{"$f":"SUMIFS(Optionen[G/V (Netto)],Optionen[Datum],\">\"&B410,Optionen[Datum],\"<=\"&B411)","v":0},null,0,0,null,0,0,null,{"$f":"SUMIFS(Haushaltsbuch2[Einnahmen],Haushaltsbuch2[Datum],\">\"&B410,Haushaltsbuch2[Datum],\"<=\"&B411)+AN411+AO411","v":0},null,0,null,{"$f":"SUMIFS(Haushaltsbuch2[Ausgaben],Haushaltsbuch2[Datum],\">\"&B410,Haushaltsbuch2[Datum],\"<=\"&B411)","v":0}]
[null,38017,null,null,null,null,null,null,null,null,null,null,{"$f":"SUMIFS(Haushaltsbuch2[Einnahmen],Haushaltsbuch2[Kategorie],M$4,Haushaltsbuch2[Datum],\">\"&B411,Haushaltsbuch2[Datum],\"<=\"&B412)","v":0},{"$f":"SUMIFS(Haushaltsbuch2[Einnahmen],Haushaltsbuch2[Kategorie],N$4,Haushaltsbuch2[Datum],\">\"&B411,Haushaltsbuch2[Datum],\"<=\"&B412)","v":0},{"$f":"SUMIFS(Haushaltsbuch2[Einnahmen],Haushaltsbuch2[Kategorie],O$4,Haushaltsbuch2[Datum],\">\"&B411,Haushaltsbuch2[Datum],\"<=\"&B412)","v":0},{"$f":"SUMIFS(Haushaltsbuch2[Einnahmen],Haushaltsbuch2[Kategorie],P$4,Haushaltsbuch2[Datum],\">\"&B411,Haushaltsbuch2[Datum],\"<=\"&B412)","v":0},{"$f":"SUMIFS(Haushaltsbuch2[Einnahmen],Haushaltsbuch2[Kategorie],Q$4,Haushaltsbuch2[Datum],\">\"&B411,Haushaltsbuch2[Datum],\"<=\"&B412)","v":0},{"$f":"SUMIFS(Haushaltsbuch2[Einnahmen],Haushaltsbuch2[Kategorie],R$4,Haushaltsbuch2[Datum],\">\"&B411,Haushaltsbuch2[Datum],\"<=\"&B412)","v":0},null,null,null,null,null,null,null,null,null,null,null,null,null,null,null,null,null,null,{"$f":"SUMIFS(Haushaltsbuch2[Ausgaben],Haushaltsbuch2[Kategorie],AK$4,Haushaltsbuch2[Datum],\">\"&B411,Haushaltsbuch2[Datum],\"<=\"&B412)","v":0},null,null,{"$f":"SUMIFS(Dividenden[Betrag in EUR],Dividenden[Datum],\">\"&B411,Dividenden[Datum],\"<=\"&B412)","v":0},{"$f":"SUMIFS(Optionen[G/V (Netto)],Optionen[Datum],\">\"&B411,Optionen[Datum],\"<=\"&B412)","v":0},null,0,0,null,0,0,null,{"$f":"SUMIFS(Haushaltsbuch2[Einnahmen],Haushaltsbuch2[Datum],\">\"&B411,Haushaltsbuch2[Datum],\"<=\"&B412)+AN412+AO412","v":0},null,0,null,{"$f":"SUMIFS(Haushaltsbuch2[Ausgaben],Haushaltsbuch2[Datum],\">\"&B411,Haushaltsbuch2[Datum],\"<=\"&B412)","v":0}]
[null,38046,null,null,null,null,null,null,null,null,null,null,{"$f":"SUMIFS(Haushaltsbuch2[Einnahmen],Haushaltsbuch2[Kategorie],M$4,Haushaltsbuch2[Datum],\">\"&B412,Haushaltsbuch2[Datum],\"<=\"&B413)","v":0},{"$f":"SUMIFS(Haushaltsbuch2[Einnahmen],Haushaltsbuch2[Kategorie],N$4,Haushaltsbuch2[Datum],\">\"&B412,Haushaltsbuch2[Datum],\"<=\"&B413)","v":0},{"$f":"SUMIFS(Haushaltsbuch2[Einnahmen],Haushaltsbuch2[Kategorie],O$4,Haushaltsbuch2[Datum],\">\"&B412,Haushaltsbuch2[Datum],\"<=\"&B413)","v":0},{"$f":"SUMIFS(Haushaltsbuch2[Einnahmen],Haushaltsbuch2[Kategorie],P$4,Haushaltsbuch2[Datum],\">\"&B412,Haushaltsbuch2[Datum],\"<=\"&B413)","v":0},{"$f":"SUMIFS(Haushaltsbuch2[Einnahmen],Haushaltsbuch2[Kategorie],Q$4,Haushaltsbuch2[Datum],\">\"&B412,Haushaltsbuch2[Datum],\"<=\"&B413)","v":0},{"$f":"SUMIFS(Haushaltsbuch2[Einnahmen],Haushaltsbuch2[Kategorie],R$4,Haushaltsbuch2[Datum],\">\"&B412,Haushaltsbuch2[Datum],\"<=\"&B413)","v":0},null,null,null,null,null,null,null,null,null,null,null,null,null,null,null,null,null,null,{"$f":"SUMIFS(Haushaltsbuch2[Ausgaben],Haushaltsbuch2[Kategorie],AK$4,Haushaltsbuch2[Datum],\">\"&B412,Haushaltsbuch2[Datum],\"<=\"&B413)","v":0},null,null,{"$f":"SUMIFS(Dividenden[Betrag in EUR],Dividenden[Datum],\">\"&B412,Dividenden[Datum],\"<=\"&B413)","v":0},{"$f":"SUMIFS(Optionen[G/V (Netto)],Optionen[Datum],\">\"&B412,Optionen[Datum],\"<=\"&B413)","v":0},null,0,0,null,0,0,null,{"$f":"SUMIFS(Haushaltsbuch2[Einnahmen],Haushaltsbuch2[Datum],\">\"&B412,Haushaltsbuch2[Datum],\"<=\"&B413)+AN413+AO413","v":0},null,0,null,{"$f":"SUMIFS(Haushaltsbuch2[Ausgaben],Haushaltsbuch2[Datum],\">\"&B412,Haushaltsbuch2[Datum],\"<=\"&B413)","v":0}]
[null,38077,null,null,null,null,null,null,null,null,null,null,{"$f":"SUMIFS(Haushaltsbuch2[Einnahmen],Haushaltsbuch2[Kategorie],M$4,Haushaltsbuch2[Datum],\">\"&B413,Haushaltsbuch2[Datum],\"<=\"&B414)","v":0},{"$f":"SUMIFS(Haushaltsbuch2[Einnahmen],Haushaltsbuch2[Kategorie],N$4,Haushaltsbuch2[Datum],\">\"&B413,Haushaltsbuch2[Datum],\"<=\"&B414)","v":0},{"$f":"SUMIFS(Haushaltsbuch2[Einnahmen],Haushaltsbuch2[Kategorie],O$4,Haushaltsbuch2[Datum],\">\"&B413,Haushaltsbuch2[Datum],\"<=\"&B414)","v":0},{"$f":"SUMIFS(Haushaltsbuch2[Einnahmen],Haushaltsbuch2[Kategorie],P$4,Haushaltsbuch2[Datum],\">\"&B413,Haushaltsbuch2[Datum],\"<=\"&B414)","v":0},{"$f":"SUMIFS(Haushaltsbuch2[Einnahmen],Haushaltsbuch2[Kategorie],Q$4,Haushaltsbuch2[Datum],\">\"&B413,Haushaltsbuch2[Datum],\"<=\"&B414)","v":0},{"$f":"SUMIFS(Haushaltsbuch2[Einnahmen],Haushaltsbuch2[Kategorie],R$4,Haushaltsbuch2[Datum],\">\"&B413,Haushaltsbuch2[Datum],\"<=\"&B414)","v":0},null,null,null,null,null,null,null,null,null,null,null,null,null,null,null,null,null,null,{"$f":"SUMIFS(Haushaltsbuch2[Ausgaben],Haushaltsbuch2[Kategorie],AK$4,Haushaltsbuch2[Datum],\">\"&B413,Haushaltsbuch2[Datum],\"<=\"&B414)","v":0},null,null,{"$f":"SUMIFS(Dividenden[Betrag in EUR],Dividenden[Datum],\">\"&B413,Dividenden[Datum],\"<=\"&B414)","v":0},{"$f":"SUMIFS(Optionen[G/V (Netto)],Optionen[Datum],\">\"&B413,Optionen[Datum],\"<=\"&B414)","v":0},null,0,0,null,0,0,null,{"$f":"SUMIFS(Haushaltsbuch2[Einnahmen],Haushaltsbuch2[Datum],\">\"&B413,Haushaltsbuch2[Datum],\"<=\"&B414)+AN414+AO414","v":0},null,0,null,{"$f":"SUMIFS(Haushaltsbuch2[Ausgaben],Haushaltsbuch2[Datum],\">\"&B413,Haushaltsbuch2[Datum],\"<=\"&B414)","v":0}]
[null,38107,null,null,null,null,null,null,null,null,null,null,{"$f":"SUMIFS(Haushaltsbuch2[Einnahmen],Haushaltsbuch2[Kategorie],M$4,Haushaltsbuch2[Datum],\">\"&B414,Haushaltsbuch2[Datum],\"<=\"&B415)","v":0},{"$f":"SUMIFS(Haushaltsbuch2[Einnahmen],Haushaltsbuch2[Kategorie],N$4,Haushaltsbuch2[Datum],\">\"&B414,Haushaltsbuch2[Datum],\"<=\"&B415)","v":0},{"$f":"SUMIFS(Haushaltsbuch2[Einnahmen],Haushaltsbuch2[Kategorie],O$4,Haushaltsbuch2[Datum],\">\"&B414,Haushaltsbuch2[Datum],\"<=\"&B415)","v":0},{"$f":"SUMIFS(Haushaltsbuch2[Einnahmen],Haushaltsbuch2[Kategorie],P$4,Haushaltsbuch2[Datum],\">\"&B414,Haushaltsbuch2[Datum],\"<=\"&B415)","v":0},{"$f":"SUMIFS(Haushaltsbuch2[Einnahmen],Haushaltsbuch2[Kategorie],Q$4,Haushaltsbuch2[Datum],\">\"&B414,Haushaltsbuch2[Datum],\"<=\"&B415)","v":0},{"$f":"SUMIFS(Haushaltsbuch2[Einnahmen],Haushaltsbuch2[Kategorie],R$4,Haushaltsbuch2[Datum],\">\"&B414,Haushaltsbuch2[Datum],\"<=\"&B415)","v":0},null,null,null,null,null,null,null,null,null,null,null,null,null,null,null,null,null,null,{"$f":"SUMIFS(Haushaltsbuch2[Ausgaben],Haushaltsbuch2[Kategorie],AK$4,Haushaltsbuch2[Datum],\">\"&B414,Haushaltsbuch2[Datum],\"<=\"&B415)","v":0},null,null,{"$f":"SUMIFS(Dividenden[Betrag in EUR],Dividenden[Datum],\">\"&B414,Dividenden[Datum],\"<=\"&B415)","v":0},{"$f":"SUMIFS(Optionen[G/V (Netto)],Optionen[Datum],\">\"&B414,Optionen[Datum],\"<=\"&B415)","v":0},null,0,0,null,0,0,null,{"$f":"SUMIFS(Haushaltsbuch2[Einnahmen],Haushaltsbuch2[Datum],\">\"&B414,Haushaltsbuch2[Datum],\"<=\"&B415)+AN415+AO415","v":0},null,0,null,{"$f":"SUMIFS(Haushaltsbuch2[Ausgaben],Haushaltsbuch2[Datum],\">\"&B414,Haushaltsbuch2[Datum],\"<=\"&B415)","v":0}]
[null,38138,null,null,null,null,null,null,null,null,null,null,{"$f":"SUMIFS(Haushaltsbuch2[Einnahmen],Haushaltsbuch2[Kategorie],M$4,Haushaltsbuch2[Datum],\">\"&B415,Haushaltsbuch2[Datum],\"<=\"&B416)","v":0},{"$f":"SUMIFS(Haushaltsbuch2[Einnahmen],Haushaltsbuch2[Kategorie],N$4,Haushaltsbuch2[Datum],\">\"&B415,Haushaltsbuch2[Datum],\"<=\"&B416)","v":0},{"$f":"SUMIFS(Haushaltsbuch2[Einnahmen],Haushaltsbuch2[Kategorie],O$4,Haushaltsbuch2[Datum],\">\"&B415,Haushaltsbuch2[Datum],\"<=\"&B416)","v":0},{"$f":"SUMIFS(Haushaltsbuch2[Einnahmen],Haushaltsbuch2[Kategorie],P$4,Haushaltsbuch2[Datum],\">\"&B415,Haushaltsbuch2[Datum],\"<=\"&B416)","v":0},{"$f":"SUMIFS(Haushaltsbuch2[Einnahmen],Haushaltsbuch2[Kategorie],Q$4,Haushaltsbuch2[Datum],\">\"&B415,Haushaltsbuch2[Datum],\"<=\"&B416)","v":0},{"$f":"SUMIFS(Haushaltsbuch2[Einnahmen],Haushaltsbuch2[Kategorie],R$4,Haushaltsbuch2[Datum],\">\"&B415,Haushaltsbuch2[Datum],\"<=\"&B416)","v":0},null,null,null,null,null,null,null,null,null,null,null,null,null,null,null,null,null,null,{"$f":"SUMIFS(Haushaltsbuch2[Ausgaben],Haushaltsbuch2[Kategorie],AK$4,Haushaltsbuch2[Datum],\">\"&B415,Haushaltsbuch2[Datum],\"<=\"&B416)","v":0},null,null,{"$f":"SUMIFS(Dividenden[Betrag in EUR],Dividenden[Datum],\">\"&B415,Dividenden[Datum],\"<=\"&B416)","v":0},{"$f":"SUMIFS(Optionen[G/V (Netto)],Optionen[Datum],\">\"&B415,Optionen[Datum],\"<=\"&B416)","v":0},null,0,0,null,0,0,null,{"$f":"SUMIFS(Haushaltsbuch2[Einnahmen],Haushaltsbuch2[Datum],\">\"&B415,Haushaltsbuch2[Datum],\"<=\"&B416)+AN416+AO416","v":0},null,0,null,{"$f":"SUMIFS(Haushaltsbuch2[Ausgaben],Haushaltsbuch2[Datum],\">\"&B415,Haushaltsbuch2[Datum],\"<=\"&B416)","v":0}]
[null,38168,null,null,null,null,null,null,null,null,null,null,{"$f":"SUMIFS(Haushaltsbuch2[Einnahmen],Haushaltsbuch2[Kategorie],M$4,Haushaltsbuch2[Datum],\">\"&B416,Haushaltsbuch2[Datum],\"<=\"&B417)","v":0},{"$f":"SUMIFS(Haushaltsbuch2[Einnahmen],Haushaltsbuch2[Kategorie],N$4,Haushaltsbuch2[Datum],\">\"&B416,Haushaltsbuch2[Datum],\"<=\"&B417)","v":0},{"$f":"SUMIFS(Haushaltsbuch2[Einnahmen],Haushaltsbuch2[Kategorie],O$4,Haushaltsbuch2[Datum],\">\"&B416,Haushaltsbuch2[Datum],\"<=\"&B417)","v":0},{"$f":"SUMIFS(Haushaltsbuch2[Einnahmen],Haushaltsbuch2[Kategorie],P$4,Haushaltsbuch2[Datum],\">\"&B416,Haushaltsbuch2[Datum],\"<=\"&B417)","v":0},{"$f":"SUMIFS(Haushaltsbuch2[Einnahmen],Haushaltsbuch2[Kategorie],Q$4,Haushaltsbuch2[Datum],\">\"&B416,Haushaltsbuch2[Datum],\"<=\"&B417)","v":0},{"$f":"SUMIFS(Haushaltsbuch2[Einnahmen],Haushaltsbuch2[Kategorie],R$4,Haushaltsbuch2[Datum],\">\"&B416,Haushaltsbuch2[Datum],\"<=\"&B417)","v":0},null,null,null,null,null,null,null,null,null,null,null,null,null,null,null,null,null,null,{"$f":"SUMIFS(Haushaltsbuch2[Ausgaben],Haushaltsbuch2[Kategorie],AK$4,Haushaltsbuch2[Datum],\">\"&B416,Haushaltsbuch2[Datum],\"<=\"&B417)","v":0},null,null,{"$f":"SUMIFS(Dividenden[Betrag in EUR],Dividenden[Datum],\">\"&B416,Dividenden[Datum],\"<=\"&B417)","v":0},{"$f":"SUMIFS(Optionen[G/V (Netto)],Optionen[Datum],\">\"&B416,Optionen[Datum],\"<=\"&B417)","v":0},null,0,0,null,0,0,null,{"$f":"SUMIFS(Haushaltsbuch2[Einnahmen],Haushaltsbuch2[Datum],\">\"&B416,Haushaltsbuch2[Datum],\"<=\"&B417)+AN417+AO417","v":0},null,0,null,{"$f":"SUMIFS(Haushaltsbuch2[Ausgaben],Haushaltsbuch2[Datum],\">\"&B416,Haushaltsbuch2[Datum],\"<=\"&B417)","v":0}]
[null,38199,null,null,null,null,null,null,null,null,null,null,{"$f":"SUMIFS(Haushaltsbuch2[Einnahmen],Haushaltsbuch2[Kategorie],M$4,Haushaltsbuch2[Datum],\">\"&B417,Haushaltsbuch2[Datum],\"<=\"&B418)","v":0},{"$f":"SUMIFS(Haushaltsbuch2[Einnahmen],Haushaltsbuch2[Kategorie],N$4,Haushaltsbuch2[Datum],\">\"&B417,Haushaltsbuch2[Datum],\"<=\"&B418)","v":0},{"$f":"SUMIFS(Haushaltsbuch2[Einnahmen],Haushaltsbuch2[Kategorie],O$4,Haushaltsbuch2[Datum],\">\"&B417,Haushaltsbuch2[Datum],\"<=\"&B418)","v":0},{"$f":"SUMIFS(Haushaltsbuch2[Einnahmen],Haushaltsbuch2[Kategorie],P$4,Haushaltsbuch2[Datum],\">\"&B417,Haushaltsbuch2[Datum],\"<=\"&B418)","v":0},{"$f":"SUMIFS(Haushaltsbuch2[Einnahmen],Haushaltsbuch2[Kategorie],Q$4,Haushaltsbuch2[Datum],\">\"&B417,Haushaltsbuch2[Datum],\"<=\"&B418)","v":0},{"$f":"SUMIFS(Haushaltsbuch2[Einnahmen],Haushaltsbuch2[Kategorie],R$4,Haushaltsbuch2[Datum],\">\"&B417,Haushaltsbuch2[Datum],\"<=\"&B418)","v":0},null,null,null,null,null,null,null,null,null,null,null,null,null,null,null,null,null,null,{"$f":"SUMIFS(Haushaltsbuch2[Ausgaben],Haushaltsbuch2[Kategorie],AK$4,Haushaltsbuch2[Datum],\">\"&B417,Haushaltsbuch2[Datum],\"<=\"&B418)","v":0},null,null,{"$f":"SUMIFS(Dividenden[Betrag in EUR],Dividenden[Datum],\">\"&B417,Dividenden[Datum],\"<=\"&B418)","v":0},{"$f":"SUMIFS(Optionen[G/V (Netto)],Optionen[Datum],\">\"&B417,Optionen[Datum],\"<=\"&B418)","v":0},null,0,0,null,0,0,null,{"$f":"SUMIFS(Haushaltsbuch2[Einnahmen],Haushaltsbuch2[Datum],\">\"&B417,Haushaltsbuch2[Datum],\"<=\"&B418)+AN418+AO418","v":0},null,0,null,{"$f":"SUMIFS(Haushaltsbuch2[Ausgaben],Haushaltsbuch2[Datum],\">\"&B417,Haushaltsbuch2[Datum],\"<=\"&B418)","v":0}]
[null,38230,null,null,null,null,null,null,null,null,null,null,{"$f":"SUMIFS(Haushaltsbuch2[Einnahmen],Haushaltsbuch2[Kategorie],M$4,Haushaltsbuch2[Datum],\">\"&B418,Haushaltsbuch2[Datum],\"<=\"&B419)","v":0},{"$f":"SUMIFS(Haushaltsbuch2[Einnahmen],Haushaltsbuch2[Kategorie],N$4,Haushaltsbuch2[Datum],\">\"&B418,Haushaltsbuch2[Datum],\"<=\"&B419)","v":0},{"$f":"SUMIFS(Haushaltsbuch2[Einnahmen],Haushaltsbuch2[Kategorie],O$4,Haushaltsbuch2[Datum],\">\"&B418,Haushaltsbuch2[Datum],\"<=\"&B419)","v":0},{"$f":"SUMIFS(Haushaltsbuch2[Einnahmen],Haushaltsbuch2[Kategorie],P$4,Haushaltsbuch2[Datum],\">\"&B418,Haushaltsbuch2[Datum],\"<=\"&B419)","v":0},{"$f":"SUMIFS(Haushaltsbuch2[Einnahmen],Haushaltsbuch2[Kategorie],Q$4,Haushaltsbuch2[Datum],\">\"&B418,Haushaltsbuch2[Datum],\"<=\"&B419)","v":0},{"$f":"SUMIFS(Haushaltsbuch2[Einnahmen],Haushaltsbuch2[Kategorie],R$4,Haushaltsbuch2[Datum],\">\"&B418,Haushaltsbuch2[Datum],\"<=\"&B419)","v":0},null,null,null,null,null,null,null,null,null,null,null,null,null,null,null,null,null,null,{"$f":"SUMIFS(Haushaltsbuch2[Ausgaben],Haushaltsbuch2[Kategorie],AK$4,Haushaltsbuch2[Datum],\">\"&B418,Haushaltsbuch2[Datum],\"<=\"&B419)","v":0},null,null,{"$f":"SUMIFS(Dividenden[Betrag in EUR],Dividenden[Datum],\">\"&B418,Dividenden[Datum],\"<=\"&B419)","v":0},{"$f":"SUMIFS(Optionen[G/V (Netto)],Optionen[Datum],\">\"&B418,Optionen[Datum],\"<=\"&B419)","v":0},null,0,0,null,0,0,null,{"$f":"SUMIFS(Haushaltsbuch2[Einnahmen],Haushaltsbuch2[Datum],\">\"&B418,Haushaltsbuch2[Datum],\"<=\"&B419)+AN419+AO419","v":0},null,0,null,{"$f":"SUMIFS(Haushaltsbuch2[Ausgaben],Haushaltsbuch2[Datum],\">\"&B418,Haushaltsbuch2[Datum],\"<=\"&B419)","v":0}]
[null,38260,null,null,null,null,null,null,null,null,null,null,{"$f":"SUMIFS(Haushaltsbuch2[Einnahmen],Haushaltsbuch2[Kategorie],M$4,Haushaltsbuch2[Datum],\">\"&B419,Haushaltsbuch2[Datum],\"<=\"&B420)","v":0},{"$f":"SUMIFS(Haushaltsbuch2[Einnahmen],Haushaltsbuch2[Kategorie],N$4,Haushaltsbuch2[Datum],\">\"&B419,Haushaltsbuch2[Datum],\"<=\"&B420)","v":0},{"$f":"SUMIFS(Haushaltsbuch2[Einnahmen],Haushaltsbuch2[Kategorie],O$4,Haushaltsbuch2[Datum],\">\"&B419,Haushaltsbuch2[Datum],\"<=\"&B420)","v":0},{"$f":"SUMIFS(Haushaltsbuch2[Einnahmen],Haushaltsbuch2[Kategorie],P$4,Haushaltsbuch2[Datum],\">\"&B419,Haushaltsbuch2[Datum],\"<=\"&B420)","v":0},{"$f":"SUMIFS(Haushaltsbuch2[Einnahmen],Haushaltsbuch2[Kategorie],Q$4,Haushaltsbuch2[Datum],\">\"&B419,Haushaltsbuch2[Datum],\"<=\"&B420)","v":0},{"$f":"SUMIFS(Haushaltsbuch2[Einnahmen],Haushaltsbuch2[Kategorie],R$4,Haushaltsbuch2[Datum],\">\"&B419,Haushaltsbuch2[Datum],\"<=\"&B420)","v":0},null,null,null,null,null,null,null,null,null,null,null,null,null,null,null,null,null,null,{"$f":"SUMIFS(Haushaltsbuch2[Ausgaben],Haushaltsbuch2[Kategorie],AK$4,Haushaltsbuch2[Datum],\">\"&B419,Haushaltsbuch2[Datum],\"<=\"&B420)","v":0},null,null,{"$f":"SUMIFS(Dividenden[Betrag in EUR],Dividenden[Datum],\">\"&B419,Dividenden[Datum],\"<=\"&B420)","v":0},{"$f":"SUMIFS(Optionen[G/V (Netto)],Optionen[Datum],\">\"&B419,Optionen[Datum],\"<=\"&B420)","v":0},null,0,0,null,0,0,null,{"$f":"SUMIFS(Haushaltsbuch2[Einnahmen],Haushaltsbuch2[Datum],\">\"&B419,Haushaltsbuch2[Datum],\"<=\"&B420)+AN420+AO420","v":0},null,0,null,{"$f":"SUMIFS(Haushaltsbuch2[Ausgaben],Haushaltsbuch2[Datum],\">\"&B419,Haushaltsbuch2[Datum],\"<=\"&B420)","v":0}]
[null,38291,null,null,null,null,null,null,null,null,null,null,{"$f":"SUMIFS(Haushaltsbuch2[Einnahmen],Haushaltsbuch2[Kategorie],M$4,Haushaltsbuch2[Datum],\">\"&B420,Haushaltsbuch2[Datum],\"<=\"&B421)","v":0},{"$f":"SUMIFS(Haushaltsbuch2[Einnahmen],Haushaltsbuch2[Kategorie],N$4,Haushaltsbuch2[Datum],\">\"&B420,Haushaltsbuch2[Datum],\"<=\"&B421)","v":0},{"$f":"SUMIFS(Haushaltsbuch2[Einnahmen],Haushaltsbuch2[Kategorie],O$4,Haushaltsbuch2[Datum],\">\"&B420,Haushaltsbuch2[Datum],\"<=\"&B421)","v":0},{"$f":"SUMIFS(Haushaltsbuch2[Einnahmen],Haushaltsbuch2[Kategorie],P$4,Haushaltsbuch2[Datum],\">\"&B420,Haushaltsbuch2[Datum],\"<=\"&B421)","v":0},{"$f":"SUMIFS(Haushaltsbuch2[Einnahmen],Haushaltsbuch2[Kategorie],Q$4,Haushaltsbuch2[Datum],\">\"&B420,Haushaltsbuch2[Datum],\"<=\"&B421)","v":0},{"$f":"SUMIFS(Haushaltsbuch2[Einnahmen],Haushaltsbuch2[Kategorie],R$4,Haushaltsbuch2[Datum],\">\"&B420,Haushaltsbuch2[Datum],\"<=\"&B421)","v":0},null,null,null,null,null,null,null,null,null,null,null,null,null,null,null,null,null,null,{"$f":"SUMIFS(Haushaltsbuch2[Ausgaben],Haushaltsbuch2[Kategorie],AK$4,Haushaltsbuch2[Datum],\">\"&B420,Haushaltsbuch2[Datum],\"<=\"&B421)","v":0},null,null,{"$f":"SUMIFS(Dividenden[Betrag in EUR],Dividenden[Datum],\">\"&B420,Dividenden[Datum],\"<=\"&B421)","v":0},{"$f":"SUMIFS(Optionen[G/V (Netto)],Optionen[Datum],\">\"&B420,Optionen[Datum],\"<=\"&B421)","v":0},null,0,0,null,0,0,null,{"$f":"SUMIFS(Haushaltsbuch2[Einnahmen],Haushaltsbuch2[Datum],\">\"&B420,Haushaltsbuch2[Datum],\"<=\"&B421)+AN421+AO421","v":0},null,0,null,{"$f":"SUMIFS(Haushaltsbuch2[Ausgaben],Haushaltsbuch2[Datum],\">\"&B420,Haushaltsbuch2[Datum],\"<=\"&B421)","v":0}]
[null,38321,null,null,null,null,null,null,null,null,null,null,{"$f":"SUMIFS(Haushaltsbuch2[Einnahmen],Haushaltsbuch2[Kategorie],M$4,Haushaltsbuch2[Datum],\">\"&B421,Haushaltsbuch2[Datum],\"<=\"&B422)","v":0},{"$f":"SUMIFS(Haushaltsbuch2[Einnahmen],Haushaltsbuch2[Kategorie],N$4,Haushaltsbuch2[Datum],\">\"&B421,Haushaltsbuch2[Datum],\"<=\"&B422)","v":0},{"$f":"SUMIFS(Haushaltsbuch2[Einnahmen],Haushaltsbuch2[Kategorie],O$4,Haushaltsbuch2[Datum],\">\"&B421,Haushaltsbuch2[Datum],\"<=\"&B422)","v":0},{"$f":"SUMIFS(Haushaltsbuch2[Einnahmen],Haushaltsbuch2[Kategorie],P$4,Haushaltsbuch2[Datum],\">\"&B421,Haushaltsbuch2[Datum],\"<=\"&B422)","v":0},{"$f":"SUMIFS(Haushaltsbuch2[Einnahmen],Haushaltsbuch2[Kategorie],Q$4,Haushaltsbuch2[Datum],\">\"&B421,Haushaltsbuch2[Datum],\"<=\"&B422)","v":0},{"$f":"SUMIFS(Haushaltsbuch2[Einnahmen],Haushaltsbuch2[Kategorie],R$4,Haushaltsbuch2[Datum],\">\"&B421,Haushaltsbuch2[Datum],\"<=\"&B422)","v":0},null,null,null,null,null,null,null,null,null,null,null,null,null,null,null,null,null,null,{"$f":"SUMIFS(Haushaltsbuch2[Ausgaben],Haushaltsbuch2[Kategorie],AK$4,Haushaltsbuch2[Datum],\">\"&B421,Haushaltsbuch2[Datum],\"<=\"&B422)","v":0},null,null,{"$f":"SUMIFS(Dividenden[Betrag in EUR],Dividenden[Datum],\">\"&B421,Dividenden[Datum],\"<=\"&B422)","v":0},{"$f":"SUMIFS(Optionen[G/V (Netto)],Optionen[Datum],\">\"&B421,Optionen[Datum],\"<=\"&B422)","v":0},null,0,0,null,0,0,null,{"$f":"SUMIFS(Haushaltsbuch2[Einnahmen],Haushaltsbuch2[Datum],\">\"&B421,Haushaltsbuch2[Datum],\"<=\"&B422)+AN422+AO422","v":0},null,0,null,{"$f":"SUMIFS(Haushaltsbuch2[Ausgaben],Haushaltsbuch2[Datum],\">\"&B421,Haushaltsbuch2[Datum],\"<=\"&B422)","v":0}]
[null,38352,null,null,null,null,null,null,null,null,null,null,{"$f":"SUMIFS(Haushaltsbuch2[Einnahmen],Haushaltsbuch2[Kategorie],M$4,Haushaltsbuch2[Datum],\">\"&B422,Haushaltsbuch2[Datum],\"<=\"&B423)","v":0},{"$f":"SUMIFS(Haushaltsbuch2[Einnahmen],Haushaltsbuch2[Kategorie],N$4,Haushaltsbuch2[Datum],\">\"&B422,Haushaltsbuch2[Datum],\"<=\"&B423)","v":0},{"$f":"SUMIFS(Haushaltsbuch2[Einnahmen],Haushaltsbuch2[Kategorie],O$4,Haushaltsbuch2[Datum],\">\"&B422,Haushaltsbuch2[Datum],\"<=\"&B423)","v":0},{"$f":"SUMIFS(Haushaltsbuch2[Einnahmen],Haushaltsbuch2[Kategorie],P$4,Haushaltsbuch2[Datum],\">\"&B422,Haushaltsbuch2[Datum],\"<=\"&B423)","v":0},{"$f":"SUMIFS(Haushaltsbuch2[Einnahmen],Haushaltsbuch2[Kategorie],Q$4,Haushaltsbuch2[Datum],\">\"&B422,Haushaltsbuch2[Datum],\"<=\"&B423)","v":0},{"$f":"SUMIFS(Haushaltsbuch2[Einnahmen],Haushaltsbuch2[Kategorie],R$4,Haushaltsbuch2[Datum],\">\"&B422,Haushaltsbuch2[Datum],\"<=\"&B423)","v":0},null,null,null,null,null,null,null,null,null,null,null,null,null,null,null,null,null,null,{"$f":"SUMIFS(Haushaltsbuch2[Ausgaben],Haushaltsbuch2[Kategorie],AK$4,Haushaltsbuch2[Datum],\">\"&B422,Haushaltsbuch2[Datum],\"<=\"&B423)","v":0},null,null,{"$f":"SUMIFS(Dividenden[Betrag in EUR],Dividenden[Datum],\">\"&B422,Dividenden[Datum],\"<=\"&B423)","v":0},{"$f":"SUMIFS(Optionen[G/V (Netto)],Optionen[Datum],\">\"&B422,Optionen[Datum],\"<=\"&B423)","v":0},null,0,0,null,0,0,null,{"$f":"SUMIFS(Haushaltsbuch2[Einnahmen],Haushaltsbuch2[Datum],\">\"&B422,Haushaltsbuch2[Datum],\"<=\"&B423)+AN423+AO423","v":0},null,0,null,{"$f":"SUMIFS(Haushaltsbuch2[Ausgaben],Haushaltsbuch2[Datum],\">\"&B422,Haushaltsbuch2[Datum],\"<=\"&B423)","v":0}]
[null,38383,null,null,null,null,null,null,null,null,null,null,{"$f":"SUMIFS(Haushaltsbuch2[Einnahmen],Haushaltsbuch2[Kategorie],M$4,Haushaltsbuch2[Datum],\">\"&B423,Haushaltsbuch2[Datum],\"<=\"&B424)","v":0},{"$f":"SUMIFS(Haushaltsbuch2[Einnahmen],Haushaltsbuch2[Kategorie],N$4,Haushaltsbuch2[Datum],\">\"&B423,Haushaltsbuch2[Datum],\"<=\"&B424)","v":0},{"$f":"SUMIFS(Haushaltsbuch2[Einnahmen],Haushaltsbuch2[Kategorie],O$4,Haushaltsbuch2[Datum],\">\"&B423,Haushaltsbuch2[Datum],\"<=\"&B424)","v":0},{"$f":"SUMIFS(Haushaltsbuch2[Einnahmen],Haushaltsbuch2[Kategorie],P$4,Haushaltsbuch2[Datum],\">\"&B423,Haushaltsbuch2[Datum],\"<=\"&B424)","v":0},{"$f":"SUMIFS(Haushaltsbuch2[Einnahmen],Haushaltsbuch2[Kategorie],Q$4,Haushaltsbuch2[Datum],\">\"&B423,Haushaltsbuch2[Datum],\"<=\"&B424)","v":0},{"$f":"SUMIFS(Haushaltsbuch2[Einnahmen],Haushaltsbuch2[Kategorie],R$4,Haushaltsbuch2[Datum],\">\"&B423,Haushaltsbuch2[Datum],\"<=\"&B424)","v":0},null,null,null,null,null,null,null,null,null,null,null,null,null,null,null,null,null,null,{"$f":"SUMIFS(Haushaltsbuch2[Ausgaben],Haushaltsbuch2[Kategorie],AK$4,Haushaltsbuch2[Datum],\">\"&B423,Haushaltsbuch2[Datum],\"<=\"&B424)","v":0},null,null,{"$f":"SUMIFS(Dividenden[Betrag in EUR],Dividenden[Datum],\">\"&B423,Dividenden[Datum],\"<=\"&B424)","v":0},{"$f":"SUMIFS(Optionen[G/V (Netto)],Optionen[Datum],\">\"&B423,Optionen[Datum],\"<=\"&B424)","v":0},null,0,0,null,0,0,null,{"$f":"SUMIFS(Haushaltsbuch2[Einnahmen],Haushaltsbuch2[Datum],\">\"&B423,Haushaltsbuch2[Datum],\"<=\"&B424)+AN424+AO424","v":0},null,0,null,{"$f":"SUMIFS(Haushaltsbuch2[Ausgaben],Haushaltsbuch2[Datum],\">\"&B423,Haushaltsbuch2[Datum],\"<=\"&B424)","v":0}]
[null,38411,null,null,null,null,null,null,null,null,null,null,{"$f":"SUMIFS(Haushaltsbuch2[Einnahmen],Haushaltsbuch2[Kategorie],M$4,Haushaltsbuch2[Datum],\">\"&B424,Haushaltsbuch2[Datum],\"<=\"&B425)","v":0},{"$f":"SUMIFS(Haushaltsbuch2[Einnahmen],Haushaltsbuch2[Kategorie],N$4,Haushaltsbuch2[Datum],\">\"&B424,Haushaltsbuch2[Datum],\"<=\"&B425)","v":0},{"$f":"SUMIFS(Haushaltsbuch2[Einnahmen],Haushaltsbuch2[Kategorie],O$4,Haushaltsbuch2[Datum],\">\"&B424,Haushaltsbuch2[Datum],\"<=\"&B425)","v":0},{"$f":"SUMIFS(Haushaltsbuch2[Einnahmen],Haushaltsbuch2[Kategorie],P$4,Haushaltsbuch2[Datum],\">\"&B424,Haushaltsbuch2[Datum],\"<=\"&B425)","v":0},{"$f":"SUMIFS(Haushaltsbuch2[Einnahmen],Haushaltsbuch2[Kategorie],Q$4,Haushaltsbuch2[Datum],\">\"&B424,Haushaltsbuch2[Datum],\"<=\"&B425)","v":0},{"$f":"SUMIFS(Haushaltsbuch2[Einnahmen],Haushaltsbuch2[Kategorie],R$4,Haushaltsbuch2[Datum],\">\"&B424,Haushaltsbuch2[Datum],\"<=\"&B425)","v":0},null,null,null,null,null,null,null,null,null,null,null,null,null,null,null,null,null,null,{"$f":"SUMIFS(Haushaltsbuch2[Ausgaben],Haushaltsbuch2[Kategorie],AK$4,Haushaltsbuch2[Datum],\">\"&B424,Haushaltsbuch2[Datum],\"<=\"&B425)","v":0},null,null,{"$f":"SUMIFS(Dividenden[Betrag in EUR],Dividenden[Datum],\">\"&B424,Dividenden[Datum],\"<=\"&B425)","v":0},{"$f":"SUMIFS(Optionen[G/V (Netto)],Optionen[Datum],\">\"&B424,Optionen[Datum],\"<=\"&B425)","v":0},null,0,0,null,0,0,null,{"$f":"SUMIFS(Haushaltsbuch2[Einnahmen],Haushaltsbuch2[Datum],\">\"&B424,Haushaltsbuch2[Datum],\"<=\"&B425)+AN425+AO425","v":0},null,0,null,{"$f":"SUMIFS(Haushaltsbuch2[Ausgaben],Haushaltsbuch2[Datum],\">\"&B424,Haushaltsbuch2[Datum],\"<=\"&B425)","v":0}]
[null,38442,null,null,null,null,null,null,null,null,null,null,{"$f":"SUMIFS(Haushaltsbuch2[Einnahmen],Haushaltsbuch2[Kategorie],M$4,Haushaltsbuch2[Datum],\">\"&B425,Haushaltsbuch2[Datum],\"<=\"&B426)","v":0},{"$f":"SUMIFS(Haushaltsbuch2[Einnahmen],Haushaltsbuch2[Kategorie],N$4,Haushaltsbuch2[Datum],\">\"&B425,Haushaltsbuch2[Datum],\"<=\"&B426)","v":0},{"$f":"SUMIFS(Haushaltsbuch2[Einnahmen],Haushaltsbuch2[Kategorie],O$4,Haushaltsbuch2[Datum],\">\"&B425,Haushaltsbuch2[Datum],\"<=\"&B426)","v":0},{"$f":"SUMIFS(Haushaltsbuch2[Einnahmen],Haushaltsbuch2[Kategorie],P$4,Haushaltsbuch2[Datum],\">\"&B425,Haushaltsbuch2[Datum],\"<=\"&B426)","v":0},{"$f":"SUMIFS(Haushaltsbuch2[Einnahmen],Haushaltsbuch2[Kategorie],Q$4,Haushaltsbuch2[Datum],\">\"&B425,Haushaltsbuch2[Datum],\"<=\"&B426)","v":0},{"$f":"SUMIFS(Haushaltsbuch2[Einnahmen],Haushaltsbuch2[Kategorie],R$4,Haushaltsbuch2[Datum],\">\"&B425,Haushaltsbuch2[Datum],\"<=\"&B426)","v":0},null,null,null,null,null,null,null,null,null,null,null,null,null,null,null,null,null,null,{"$f":"SUMIFS(Haushaltsbuch2[Ausgaben],Haushaltsbuch2[Kategorie],AK$4,Haushaltsbuch2[Datum],\">\"&B425,Haushaltsbuch2[Datum],\"<=\"&B426)","v":0},null,null,{"$f":"SUMIFS(Dividenden[Betrag in EUR],Dividenden[Datum],\">\"&B425,Dividenden[Datum],\"<=\"&B426)","v":0},{"$f":"SUMIFS(Optionen[G/V (Netto)],Optionen[Datum],\">\"&B425,Optionen[Datum],\"<=\"&B426)","v":0},null,0,0,null,0,0,null,{"$f":"SUMIFS(Haushaltsbuch2[Einnahmen],Haushaltsbuch2[Datum],\">\"&B425,Haushaltsbuch2[Datum],\"<=\"&B426)+AN426+AO426","v":0},null,0,null,{"$f":"SUMIFS(Haushaltsbuch2[Ausgaben],Haushaltsbuch2[Datum],\">\"&B425,Haushaltsbuch2[Datum],\"<=\"&B426)","v":0}]
[null,38472,null,null,null,null,null,null,null,null,null,null,{"$f":"SUMIFS(Haushaltsbuch2[Einnahmen],Haushaltsbuch2[Kategorie],M$4,Haushaltsbuch2[Datum],\">\"&B426,Haushaltsbuch2[Datum],\"<=\"&B427)","v":0},{"$f":"SUMIFS(Haushaltsbuch2[Einnahmen],Haushaltsbuch2[Kategorie],N$4,Haushaltsbuch2[Datum],\">\"&B426,Haushaltsbuch2[Datum],\"<=\"&B427)","v":0},{"$f":"SUMIFS(Haushaltsbuch2[Einnahmen],Haushaltsbuch2[Kategorie],O$4,Haushaltsbuch2[Datum],\">\"&B426,Haushaltsbuch2[Datum],\"<=\"&B427)","v":0},{"$f":"SUMIFS(Haushaltsbuch2[Einnahmen],Haushaltsbuch2[Kategorie],P$4,Haushaltsbuch2[Datum],\">\"&B426,Haushaltsbuch2[Datum],\"<=\"&B427)","v":0},{"$f":"SUMIFS(Haushaltsbuch2[Einnahmen],Haushaltsbuch2[Kategorie],Q$4,Haushaltsbuch2[Datum],\">\"&B426,Haushaltsbuch2[Datum],\"<=\"&B427)","v":0},{"$f":"SUMIFS(Haushaltsbuch2[Einnahmen],Haushaltsbuch2[Kategorie],R$4,Haushaltsbuch2[Datum],\">\"&B426,Haushaltsbuch2[Datum],\"<=\"&B427)","v":0},null,null,null,null,null,null,null,null,null,null,null,null,null,null,null,null,null,null,{"$f":"SUMIFS(Haushaltsbuch2[Ausgaben],Haushaltsbuch2[Kategorie],AK$4,Haushaltsbuch2[Datum],\">\"&B426,Haushaltsbuch2[Datum],\"<=\"&B427)","v":0},null,null,{"$f":"SUMIFS(Dividenden[Betrag in EUR],Dividenden[Datum],\">\"&B426,Dividenden[Datum],\"<=\"&B427)","v":0},{"$f":"SUMIFS(Optionen[G/V (Netto)],Optionen[Datum],\">\"&B426,Optionen[Datum],\"<=\"&B427)","v":0},null,0,0,null,0,0,null,{"$f":"SUMIFS(Haushaltsbuch2[Einnahmen],Haushaltsbuch2[Datum],\">\"&B426,Haushaltsbuch2[Datum],\"<=\"&B427)+AN427+AO427","v":0},null,0,null,{"$f":"SUMIFS(Haushaltsbuch2[Ausgaben],Haushaltsbuch2[Datum],\">\"&B426,Haushaltsbuch2[Datum],\"<=\"&B427)","v":0}]
[null,38503,null,null,null,null,null,null,null,null,null,null,{"$f":"SUMIFS(Haushaltsbuch2[Einnahmen],Haushaltsbuch2[Kategorie],M$4,Haushaltsbuch2[Datum],\">\"&B427,Haushaltsbuch2[Datum],\"<=\"&B428)","v":0},{"$f":"SUMIFS(Haushaltsbuch2[Einnahmen],Haushaltsbuch2[Kategorie],N$4,Haushaltsbuch2[Datum],\">\"&B427,Haushaltsbuch2[Datum],\"<=\"&B428)","v":0},{"$f":"SUMIFS(Haushaltsbuch2[Einnahmen],Haushaltsbuch2[Kategorie],O$4,Haushaltsbuch2[Datum],\">\"&B427,Haushaltsbuch2[Datum],\"<=\"&B428)","v":0},{"$f":"SUMIFS(Haushaltsbuch2[Einnahmen],Haushaltsbuch2[Kategorie],P$4,Haushaltsbuch2[Datum],\">\"&B427,Haushaltsbuch2[Datum],\"<=\"&B428)","v":0},{"$f":"SUMIFS(Haushaltsbuch2[Einnahmen],Haushaltsbuch2[Kategorie],Q$4,Haushaltsbuch2[Datum],\">\"&B427,Haushaltsbuch2[Datum],\"<=\"&B428)","v":0},{"$f":"SUMIFS(Haushaltsbuch2[Einnahmen],Haushaltsbuch2[Kategorie],R$4,Haushaltsbuch2[Datum],\">\"&B427,Haushaltsbuch2[Datum],\"<=\"&B428)","v":0},null,null,null,null,null,null,null,null,null,null,null,null,null,null,null,null,null,null,{"$f":"SUMIFS(Haushaltsbuch2[Ausgaben],Haushaltsbuch2[Kategorie],AK$4,Haushaltsbuch2[Datum],\">\"&B427,Haushaltsbuch2[Datum],\"<=\"&B428)","v":0},null,null,{"$f":"SUMIFS(Dividenden[Betrag in EUR],Dividenden[Datum],\">\"&B427,Dividenden[Datum],\"<=\"&B428)","v":0},{"$f":"SUMIFS(Optionen[G/V (Netto)],Optionen[Datum],\">\"&B427,Optionen[Datum],\"<=\"&B428)","v":0},null,0,0,null,0,0,null,{"$f":"SUMIFS(Haushaltsbuch2[Einnahmen],Haushaltsbuch2[Datum],\">\"&B427,Haushaltsbuch2[Datum],\"<=\"&B428)+AN428+AO428","v":0},null,0,null,{"$f":"SUMIFS(Haushaltsbuch2[Ausgaben],Haushaltsbuch2[Datum],\">\"&B427,Haushaltsbuch2[Datum],\"<=\"&B428)","v":0}]
[null,38533,null,null,null,null,null,null,null,null,null,null,{"$f":"SUMIFS(Haushaltsbuch2[Einnahmen],Haushaltsbuch2[Kategorie],M$4,Haushaltsbuch2[Datum],\">\"&B428,Haushaltsbuch2[Datum],\"<=\"&B429)","v":0},{"$f":"SUMIFS(Haushaltsbuch2[Einnahmen],Haushaltsbuch2[Kategorie],N$4,Haushaltsbuch2[Datum],\">\"&B428,Haushaltsbuch2[Datum],\"<=\"&B429)","v":0},{"$f":"SUMIFS(Haushaltsbuch2[Einnahmen],Haushaltsbuch2[Kategorie],O$4,Haushaltsbuch2[Datum],\">\"&B428,Haushaltsbuch2[Datum],\"<=\"&B429)","v":0},{"$f":"SUMIFS(Haushaltsbuch2[Einnahmen],Haushaltsbuch2[Kategorie],P$4,Haushaltsbuch2[Datum],\">\"&B428,Haushaltsbuch2[Datum],\"<=\"&B429)","v":0},{"$f":"SUMIFS(Haushaltsbuch2[Einnahmen],Haushaltsbuch2[Kategorie],Q$4,Haushaltsbuch2[Datum],\">\"&B428,Haushaltsbuch2[Datum],\"<=\"&B429)","v":0},{"$f":"SUMIFS(Haushaltsbuch2[Einnahmen],Haushaltsbuch2[Kategorie],R$4,Haushaltsbuch2[Datum],\">\"&B428,Haushaltsbuch2[Datum],\"<=\"&B429)","v":0},null,null,null,null,null,null,null,null,null,null,null,null,null,null,null,null,null,null,{"$f":"SUMIFS(Haushaltsbuch2[Ausgaben],Haushaltsbuch2[Kategorie],AK$4,Haushaltsbuch2[Datum],\">\"&B428,Haushaltsbuch2[Datum],\"<=\"&B429)","v":0},null,null,{"$f":"SUMIFS(Dividenden[Betrag in EUR],Dividenden[Datum],\">\"&B428,Dividenden[Datum],\"<=\"&B429)","v":0},{"$f":"SUMIFS(Optionen[G/V (Netto)],Optionen[Datum],\">\"&B428,Optionen[Datum],\"<=\"&B429)","v":0},null,0,0,null,0,0,null,{"$f":"SUMIFS(Haushaltsbuch2[Einnahmen],Haushaltsbuch2[Datum],\">\"&B428,Haushaltsbuch2[Datum],\"<=\"&B429)+AN429+AO429","v":0},null,0,null,{"$f":"SUMIFS(Haushaltsbuch2[Ausgaben],Haushaltsbuch2[Datum],\">\"&B428,Haushaltsbuch2[Datum],\"<=\"&B429)","v":0}]
[null,38564,null,null,null,null,null,null,null,null,null,null,{"$f":"SUMIFS(Haushaltsbuch2[Einnahmen],Haushaltsbuch2[Kategorie],M$4,Haushaltsbuch2[Datum],\">\"&B429,Haushaltsbuch2[Datum],\"<=\"&B430)","v":0},{"$f":"SUMIFS(Haushaltsbuch2[Einnahmen],Haushaltsbuch2[Kategorie],N$4,Haushaltsbuch2[Datum],\">\"&B429,Haushaltsbuch2[Datum],\"<=\"&B430)","v":0},{"$f":"SUMIFS(Haushaltsbuch2[Einnahmen],Haushaltsbuch2[Kategorie],O$4,Haushaltsbuch2[Datum],\">\"&B429,Haushaltsbuch2[Datum],\"<=\"&B430)","v":0},{"$f":"SUMIFS(Haushaltsbuch2[Einnahmen],Haushaltsbuch2[Kategorie],P$4,Haushaltsbuch2[Datum],\">\"&B429,Haushaltsbuch2[Datum],\"<=\"&B430)","v":0},{"$f":"SUMIFS(Haushaltsbuch2[Einnahmen],Haushaltsbuch2[Kategorie],Q$4,Haushaltsbuch2[Datum],\">\"&B429,Haushaltsbuch2[Datum],\"<=\"&B430)","v":0},{"$f":"SUMIFS(Haushaltsbuch2[Einnahmen],Haushaltsbuch2[Kategorie],R$4,Haushaltsbuch2[Datum],\">\"&B429,Haushaltsbuch2[Datum],\"<=\"&B430)","v":0},null,null,null,null,null,null,null,null,null,null,null,null,null,null,null,null,null,null,{"$f":"SUMIFS(Haushaltsbuch2[Ausgaben],Haushaltsbuch2[Kategorie],AK$4,Haushaltsbuch2[Datum],\">\"&B429,Haushaltsbuch2[Datum],\"<=\"&B430)","v":0},null,null,{"$f":"SUMIFS(Dividenden[Betrag in EUR],Dividenden[Datum],\">\"&B429,Dividenden[Datum],\"<=\"&B430)","v":0},{"$f":"SUMIFS(Optionen[G/V (Netto)],Optionen[Datum],\">\"&B429,Optionen[Datum],\"<=\"&B430)","v":0},null,0,0,null,0,0,null,{"$f":"SUMIFS(Haushaltsbuch2[Einnahmen],Haushaltsbuch2[Datum],\">\"&B429,Haushaltsbuch2[Datum],\"<=\"&B430)+AN430+AO430","v":0},null,0,null,{"$f":"SUMIFS(Haushaltsbuch2[Ausgaben],Haushaltsbuch2[Datum],\">\"&B429,Haushaltsbuch2[Datum],\"<=\"&B430)","v":0}]
[null,38595,null,null,null,null,null,null,null,null,null,null,{"$f":"SUMIFS(Haushaltsbuch2[Einnahmen],Haushaltsbuch2[Kategorie],M$4,Haushaltsbuch2[Datum],\">\"&B430,Haushaltsbuch2[Datum],\"<=\"&B431)","v":0},{"$f":"SUMIFS(Haushaltsbuch2[Einnahmen],Haushaltsbuch2[Kategorie],N$4,Haushaltsbuch2[Datum],\">\"&B430,Haushaltsbuch2[Datum],\"<=\"&B431)","v":0},{"$f":"SUMIFS(Haushaltsbuch2[Einnahmen],Haushaltsbuch2[Kategorie],O$4,Haushaltsbuch2[Datum],\">\"&B430,Haushaltsbuch2[Datum],\"<=\"&B431)","v":0},{"$f":"SUMIFS(Haushaltsbuch2[Einnahmen],Haushaltsbuch2[Kategorie],P$4,Haushaltsbuch2[Datum],\">\"&B430,Haushaltsbuch2[Datum],\"<=\"&B431)","v":0},{"$f":"SUMIFS(Haushaltsbuch2[Einnahmen],Haushaltsbuch2[Kategorie],Q$4,Haushaltsbuch2[Datum],\">\"&B430,Haushaltsbuch2[Datum],\"<=\"&B431)","v":0},{"$f":"SUMIFS(Haushaltsbuch2[Einnahmen],Haushaltsbuch2[Kategorie],R$4,Haushaltsbuch2[Datum],\">\"&B430,Haushaltsbuch2[Datum],\"<=\"&B431)","v":0},null,null,null,null,null,null,null,null,null,null,null,null,null,null,null,null,null,null,{"$f":"SUMIFS(Haushaltsbuch2[Ausgaben],Haushaltsbuch2[Kategorie],AK$4,Haushaltsbuch2[Datum],\">\"&B430,Haushaltsbuch2[Datum],\"<=\"&B431)","v":0},null,null,{"$f":"SUMIFS(Dividenden[Betrag in EUR],Dividenden[Datum],\">\"&B430,Dividenden[Datum],\"<=\"&B431)","v":0},{"$f":"SUMIFS(Optionen[G/V (Netto)],Optionen[Datum],\">\"&B430,Optionen[Datum],\"<=\"&B431)","v":0},null,0,0,null,0,0,null,{"$f":"SUMIFS(Haushaltsbuch2[Einnahmen],Haushaltsbuch2[Datum],\">\"&B430,Haushaltsbuch2[Datum],\"<=\"&B431)+AN431+AO431","v":0},null,0,null,{"$f":"SUMIFS(Haushaltsbuch2[Ausgaben],Haushaltsbuch2[Datum],\">\"&B430,Haushaltsbuch2[Datum],\"<=\"&B431)","v":0}]
[null,38625,null,null,null,null,null,null,null,null,null,null,{"$f":"SUMIFS(Haushaltsbuch2[Einnahmen],Haushaltsbuch2[Kategorie],M$4,Haushaltsbuch2[Datum],\">\"&B431,Haushaltsbuch2[Datum],\"<=\"&B432)","v":0},{"$f":"SUMIFS(Haushaltsbuch2[Einnahmen],Haushaltsbuch2[Kategorie],N$4,Haushaltsbuch2[Datum],\">\"&B431,Haushaltsbuch2[Datum],\"<=\"&B432)","v":0},{"$f":"SUMIFS(Haushaltsbuch2[Einnahmen],Haushaltsbuch2[Kategorie],O$4,Haushaltsbuch2[Datum],\">\"&B431,Haushaltsbuch2[Datum],\"<=\"&B432)","v":0},{"$f":"SUMIFS(Haushaltsbuch2[Einnahmen],Haushaltsbuch2[Kategorie],P$4,Haushaltsbuch2[Datum],\">\"&B431,Haushaltsbuch2[Datum],\"<=\"&B432)","v":0},{"$f":"SUMIFS(Haushaltsbuch2[Einnahmen],Haushaltsbuch2[Kategorie],Q$4,Haushaltsbuch2[Datum],\">\"&B431,Haushaltsbuch2[Datum],\"<=\"&B432)","v":0},{"$f":"SUMIFS(Haushaltsbuch2[Einnahmen],Haushaltsbuch2[Kategorie],R$4,Haushaltsbuch2[Datum],\">\"&B431,Haushaltsbuch2[Datum],\"<=\"&B432)","v":0},null,null,null,null,null,null,null,null,null,null,null,null,null,null,null,null,null,null,{"$f":"SUMIFS(Haushaltsbuch2[Ausgaben],Haushaltsbuch2[Kategorie],AK$4,Haushaltsbuch2[Datum],\">\"&B431,Haushaltsbuch2[Datum],\"<=\"&B432)","v":0},null,null,{"$f":"SUMIFS(Dividenden[Betrag in EUR],Dividenden[Datum],\">\"&B431,Dividenden[Datum],\"<=\"&B432)","v":0},{"$f":"SUMIFS(Optionen[G/V (Netto)],Optionen[Datum],\">\"&B431,Optionen[Datum],\"<=\"&B432)","v":0},null,0,0,null,0,0,null,{"$f":"SUMIFS(Haushaltsbuch2[Einnahmen],Haushaltsbuch2[Datum],\">\"&B431,Haushaltsbuch2[Datum],\"<=\"&B432)+AN432+AO432","v":0},null,0,null,{"$f":"SUMIFS(Haushaltsbuch2[Ausgaben],Haushaltsbuch2[Datum],\">\"&B431,Haushaltsbuch2[Datum],\"<=\"&B432)","v":0}]
[null,38656,null,null,null,null,null,null,null,null,null,null,{"$f":"SUMIFS(Haushaltsbuch2[Einnahmen],Haushaltsbuch2[Kategorie],M$4,Haushaltsbuch2[Datum],\">\"&B432,Haushaltsbuch2[Datum],\"<=\"&B433)","v":0},{"$f":"SUMIFS(Haushaltsbuch2[Einnahmen],Haushaltsbuch2[Kategorie],N$4,Haushaltsbuch2[Datum],\">\"&B432,Haushaltsbuch2[Datum],\"<=\"&B433)","v":0},{"$f":"SUMIFS(Haushaltsbuch2[Einnahmen],Haushaltsbuch2[Kategorie],O$4,Haushaltsbuch2[Datum],\">\"&B432,Haushaltsbuch2[Datum],\"<=\"&B433)","v":0},{"$f":"SUMIFS(Haushaltsbuch2[Einnahmen],Haushaltsbuch2[Kategorie],P$4,Haushaltsbuch2[Datum],\">\"&B432,Haushaltsbuch2[Datum],\"<=\"&B433)","v":0},{"$f":"SUMIFS(Haushaltsbuch2[Einnahmen],Haushaltsbuch2[Kategorie],Q$4,Haushaltsbuch2[Datum],\">\"&B432,Haushaltsbuch2[Datum],\"<=\"&B433)","v":0},{"$f":"SUMIFS(Haushaltsbuch2[Einnahmen],Haushaltsbuch2[Kategorie],R$4,Haushaltsbuch2[Datum],\">\"&B432,Haushaltsbuch2[Datum],\"<=\"&B433)","v":0},null,null,null,null,null,null,null,null,null,null,null,null,null,null,null,null,null,null,{"$f":"SUMIFS(Haushaltsbuch2[Ausgaben],Haushaltsbuch2[Kategorie],AK$4,Haushaltsbuch2[Datum],\">\"&B432,Haushaltsbuch2[Datum],\"<=\"&B433)","v":0},null,null,{"$f":"SUMIFS(Dividenden[Betrag in EUR],Dividenden[Datum],\">\"&B432,Dividenden[Datum],\"<=\"&B433)","v":0},{"$f":"SUMIFS(Optionen[G/V (Netto)],Optionen[Datum],\">\"&B432,Optionen[Datum],\"<=\"&B433)","v":0},null,0,0,null,0,0,null,{"$f":"SUMIFS(Haushaltsbuch2[Einnahmen],Haushaltsbuch2[Datum],\">\"&B432,Haushaltsbuch2[Datum],\"<=\"&B433)+AN433+AO433","v":0},null,0,null,{"$f":"SUMIFS(Haushaltsbuch2[Ausgaben],Haushaltsbuch2[Datum],\">\"&B432,Haushaltsbuch2[Datum],\"<=\"&B433)","v":0}]
[null,38686,null,null,null,null,null,null,null,null,null,null,{"$f":"SUMIFS(Haushaltsbuch2[Einnahmen],Haushaltsbuch2[Kategorie],M$4,Haushaltsbuch2[Datum],\">\"&B433,Haushaltsbuch2[Datum],\"<=\"&B434)","v":0},{"$f":"SUMIFS(Haushaltsbuch2[Einnahmen],Haushaltsbuch2[Kategorie],N$4,Haushaltsbuch2[Datum],\">\"&B433,Haushaltsbuch2[Datum],\"<=\"&B434)","v":0},{"$f":"SUMIFS(Haushaltsbuch2[Einnahmen],Haushaltsbuch2[Kategorie],O$4,Haushaltsbuch2[Datum],\">\"&B433,Haushaltsbuch2[Datum],\"<=\"&B434)","v":0},{"$f":"SUMIFS(Haushaltsbuch2[Einnahmen],Haushaltsbuch2[Kategorie],P$4,Haushaltsbuch2[Datum],\">\"&B433,Haushaltsbuch2[Datum],\"<=\"&B434)","v":0},{"$f":"SUMIFS(Haushaltsbuch2[Einnahmen],Haushaltsbuch2[Kategorie],Q$4,Haushaltsbuch2[Datum],\">\"&B433,Haushaltsbuch2[Datum],\"<=\"&B434)","v":0},{"$f":"SUMIFS(Haushaltsbuch2[Einnahmen],Haushaltsbuch2[Kategorie],R$4,Haushaltsbuch2[Datum],\">\"&B433,Haushaltsbuch2[Datum],\"<=\"&B434)","v":0},null,null,null,null,null,null,null,null,null,null,null,null,null,null,null,null,null,null,{"$f":"SUMIFS(Haushaltsbuch2[Ausgaben],Haushaltsbuch2[Kategorie],AK$4,Haushaltsbuch2[Datum],\">\"&B433,Haushaltsbuch2[Datum],\"<=\"&B434)","v":0},null,null,{"$f":"SUMIFS(Dividenden[Betrag in EUR],Dividenden[Datum],\">\"&B433,Dividenden[Datum],\"<=\"&B434)","v":0},{"$f":"SUMIFS(Optionen[G/V (Netto)],Optionen[Datum],\">\"&B433,Optionen[Datum],\"<=\"&B434)","v":0},null,0,0,null,0,0,null,{"$f":"SUMIFS(Haushaltsbuch2[Einnahmen],Haushaltsbuch2[Datum],\">\"&B433,Haushaltsbuch2[Datum],\"<=\"&B434)+AN434+AO434","v":0},null,0,null,{"$f":"SUMIFS(Haushaltsbuch2[Ausgaben],Haushaltsbuch2[Datum],\">\"&B433,Haushaltsbuch2[Datum],\"<=\"&B434)","v":0}]
[null,38717,null,null,null,null,null,null,null,null,null,null,{"$f":"SUMIFS(Haushaltsbuch2[Einnahmen],Haushaltsbuch2[Kategorie],M$4,Haushaltsbuch2[Datum],\">\"&B434,Haushaltsbuch2[Datum],\"<=\"&B435)","v":0},{"$f":"SUMIFS(Haushaltsbuch2[Einnahmen],Haushaltsbuch2[Kategorie],N$4,Haushaltsbuch2[Datum],\">\"&B434,Haushaltsbuch2[Datum],\"<=\"&B435)","v":0},{"$f":"SUMIFS(Haushaltsbuch2[Einnahmen],Haushaltsbuch2[Kategorie],O$4,Haushaltsbuch2[Datum],\">\"&B434,Haushaltsbuch2[Datum],\"<=\"&B435)","v":0},{"$f":"SUMIFS(Haushaltsbuch2[Einnahmen],Haushaltsbuch2[Kategorie],P$4,Haushaltsbuch2[Datum],\">\"&B434,Haushaltsbuch2[Datum],\"<=\"&B435)","v":0},{"$f":"SUMIFS(Haushaltsbuch2[Einnahmen],Haushaltsbuch2[Kategorie],Q$4,Haushaltsbuch2[Datum],\">\"&B434,Haushaltsbuch2[Datum],\"<=\"&B435)","v":0},{"$f":"SUMIFS(Haushaltsbuch2[Einnahmen],Haushaltsbuch2[Kategorie],R$4,Haushaltsbuch2[Datum],\">\"&B434,Haushaltsbuch2[Datum],\"<=\"&B435)","v":0},null,null,null,null,null,null,null,null,null,null,null,null,null,null,null,null,null,null,{"$f":"SUMIFS(Haushaltsbuch2[Ausgaben],Haushaltsbuch2[Kategorie],AK$4,Haushaltsbuch2[Datum],\">\"&B434,Haushaltsbuch2[Datum],\"<=\"&B435)","v":0},null,null,{"$f":"SUMIFS(Dividenden[Betrag in EUR],Dividenden[Datum],\">\"&B434,Dividenden[Datum],\"<=\"&B435)","v":0},{"$f":"SUMIFS(Optionen[G/V (Netto)],Optionen[Datum],\">\"&B434,Optionen[Datum],\"<=\"&B435)","v":0},null,0,0,null,0,0,null,{"$f":"SUMIFS(Haushaltsbuch2[Einnahmen],Haushaltsbuch2[Datum],\">\"&B434,Haushaltsbuch2[Datum],\"<=\"&B435)+AN435+AO435","v":0},null,0,null,{"$f":"SUMIFS(Haushaltsbuch2[Ausgaben],Haushaltsbuch2[Datum],\">\"&B434,Haushaltsbuch2[Datum],\"<=\"&B435)","v":0}]
[null,38748,null,null,null,null,null,null,null,null,null,null,{"$f":"SUMIFS(Haushaltsbuch2[Einnahmen],Haushaltsbuch2[Kategorie],M$4,Haushaltsbuch2[Datum],\">\"&B435,Haushaltsbuch2[Datum],\"<=\"&B436)","v":0},{"$f":"SUMIFS(Haushaltsbuch2[Einnahmen],Haushaltsbuch2[Kategorie],N$4,Haushaltsbuch2[Datum],\">\"&B435,Haushaltsbuch2[Datum],\"<=\"&B436)","v":0},{"$f":"SUMIFS(Haushaltsbuch2[Einnahmen],Haushaltsbuch2[Kategorie],O$4,Haushaltsbuch2[Datum],\">\"&B435,Haushaltsbuch2[Datum],\"<=\"&B436)","v":0},{"$f":"SUMIFS(Haushaltsbuch2[Einnahmen],Haushaltsbuch2[Kategorie],P$4,Haushaltsbuch2[Datum],\">\"&B435,Haushaltsbuch2[Datum],\"<=\"&B436)","v":0},{"$f":"SUMIFS(Haushaltsbuch2[Einnahmen],Haushaltsbuch2[Kategorie],Q$4,Haushaltsbuch2[Datum],\">\"&B435,Haushaltsbuch2[Datum],\"<=\"&B436)","v":0},{"$f":"SUMIFS(Haushaltsbuch2[Einnahmen],Haushaltsbuch2[Kategorie],R$4,Haushaltsbuch2[Datum],\">\"&B435,Haushaltsbuch2[Datum],\"<=\"&B436)","v":0},null,null,null,null,null,null,null,null,null,null,null,null,null,null,null,null,null,null,{"$f":"SUMIFS(Haushaltsbuch2[Ausgaben],Haushaltsbuch2[Kategorie],AK$4,Haushaltsbuch2[Datum],\">\"&B435,Haushaltsbuch2[Datum],\"<=\"&B436)","v":0},null,null,{"$f":"SUMIFS(Dividenden[Betrag in EUR],Dividenden[Datum],\">\"&B435,Dividenden[Datum],\"<=\"&B436)","v":0},{"$f":"SUMIFS(Optionen[G/V (Netto)],Optionen[Datum],\">\"&B435,Optionen[Datum],\"<=\"&B436)","v":0},null,0,0,null,0,0,null,{"$f":"SUMIFS(Haushaltsbuch2[Einnahmen],Haushaltsbuch2[Datum],\">\"&B435,Haushaltsbuch2[Datum],\"<=\"&B436)+AN436+AO436","v":0},null,0,null,{"$f":"SUMIFS(Haushaltsbuch2[Ausgaben],Haushaltsbuch2[Datum],\">\"&B435,Haushaltsbuch2[Datum],\"<=\"&B436)","v":0}]
[null,38776,null,null,null,null,null,null,null,null,null,null,{"$f":"SUMIFS(Haushaltsbuch2[Einnahmen],Haushaltsbuch2[Kategorie],M$4,Haushaltsbuch2[Datum],\">\"&B436,Haushaltsbuch2[Datum],\"<=\"&B437)","v":0},{"$f":"SUMIFS(Haushaltsbuch2[Einnahmen],Haushaltsbuch2[Kategorie],N$4,Haushaltsbuch2[Datum],\">\"&B436,Haushaltsbuch2[Datum],\"<=\"&B437)","v":0},{"$f":"SUMIFS(Haushaltsbuch2[Einnahmen],Haushaltsbuch2[Kategorie],O$4,Haushaltsbuch2[Datum],\">\"&B436,Haushaltsbuch2[Datum],\"<=\"&B437)","v":0},{"$f":"SUMIFS(Haushaltsbuch2[Einnahmen],Haushaltsbuch2[Kategorie],P$4,Haushaltsbuch2[Datum],\">\"&B436,Haushaltsbuch2[Datum],\"<=\"&B437)","v":0},{"$f":"SUMIFS(Haushaltsbuch2[Einnahmen],Haushaltsbuch2[Kategorie],Q$4,Haushaltsbuch2[Datum],\">\"&B436,Haushaltsbuch2[Datum],\"<=\"&B437)","v":0},{"$f":"SUMIFS(Haushaltsbuch2[Einnahmen],Haushaltsbuch2[Kategorie],R$4,Haushaltsbuch2[Datum],\">\"&B436,Haushaltsbuch2[Datum],\"<=\"&B437)","v":0},null,null,null,null,null,null,null,null,null,null,null,null,null,null,null,null,null,null,{"$f":"SUMIFS(Haushaltsbuch2[Ausgaben],Haushaltsbuch2[Kategorie],AK$4,Haushaltsbuch2[Datum],\">\"&B436,Haushaltsbuch2[Datum],\"<=\"&B437)","v":0},null,null,{"$f":"SUMIFS(Dividenden[Betrag in EUR],Dividenden[Datum],\">\"&B436,Dividenden[Datum],\"<=\"&B437)","v":0},{"$f":"SUMIFS(Optionen[G/V (Netto)],Optionen[Datum],\">\"&B436,Optionen[Datum],\"<=\"&B437)","v":0},null,0,0,null,0,0,null,{"$f":"SUMIFS(Haushaltsbuch2[Einnahmen],Haushaltsbuch2[Datum],\">\"&B436,Haushaltsbuch2[Datum],\"<=\"&B437)+AN437+AO437","v":0},null,0,null,{"$f":"SUMIFS(Haushaltsbuch2[Ausgaben],Haushaltsbuch2[Datum],\">\"&B436,Haushaltsbuch2[Datum],\"<=\"&B437)","v":0}]
[null,38807,null,null,null,null,null,null,null,null,null,null,{"$f":"SUMIFS(Haushaltsbuch2[Einnahmen],Haushaltsbuch2[Kategorie],M$4,Haushaltsbuch2[Datum],\">\"&B437,Haushaltsbuch2[Datum],\"<=\"&B438)","v":0},{"$f":"SUMIFS(Haushaltsbuch2[Einnahmen],Haushaltsbuch2[Kategorie],N$4,Haushaltsbuch2[Datum],\">\"&B437,Haushaltsbuch2[Datum],\"<=\"&B438)","v":0},{"$f":"SUMIFS(Haushaltsbuch2[Einnahmen],Haushaltsbuch2[Kategorie],O$4,Haushaltsbuch2[Datum],\">\"&B437,Haushaltsbuch2[Datum],\"<=\"&B438)","v":0},{"$f":"SUMIFS(Haushaltsbuch2[Einnahmen],Haushaltsbuch2[Kategorie],P$4,Haushaltsbuch2[Datum],\">\"&B437,Haushaltsbuch2[Datum],\"<=\"&B438)","v":0},{"$f":"SUMIFS(Haushaltsbuch2[Einnahmen],Haushaltsbuch2[Kategorie],Q$4,Haushaltsbuch2[Datum],\">\"&B437,Haushaltsbuch2[Datum],\"<=\"&B438)","v":0},{"$f":"SUMIFS(Haushaltsbuch2[Einnahmen],Haushaltsbuch2[Kategorie],R$4,Haushaltsbuch2[Datum],\">\"&B437,Haushaltsbuch2[Datum],\"<=\"&B438)","v":0},null,null,null,null,null,null,null,null,null,null,null,null,null,null,null,null,null,null,{"$f":"SUMIFS(Haushaltsbuch2[Ausgaben],Haushaltsbuch2[Kategorie],AK$4,Haushaltsbuch2[Datum],\">\"&B437,Haushaltsbuch2[Datum],\"<=\"&B438)","v":0},null,null,{"$f":"SUMIFS(Dividenden[Betrag in EUR],Dividenden[Datum],\">\"&B437,Dividenden[Datum],\"<=\"&B438)","v":0},{"$f":"SUMIFS(Optionen[G/V (Netto)],Optionen[Datum],\">\"&B437,Optionen[Datum],\"<=\"&B438)","v":0},null,0,0,null,0,0,null,{"$f":"SUMIFS(Haushaltsbuch2[Einnahmen],Haushaltsbuch2[Datum],\">\"&B437,Haushaltsbuch2[Datum],\"<=\"&B438)+AN438+AO438","v":0},null,0,null,{"$f":"SUMIFS(Haushaltsbuch2[Ausgaben],Haushaltsbuch2[Datum],\">\"&B437,Haushaltsbuch2[Datum],\"<=\"&B438)","v":0}]
[null,38837,null,null,null,null,null,null,null,null,null,null,{"$f":"SUMIFS(Haushaltsbuch2[Einnahmen],Haushaltsbuch2[Kategorie],M$4,Haushaltsbuch2[Datum],\">\"&B438,Haushaltsbuch2[Datum],\"<=\"&B439)","v":0},{"$f":"SUMIFS(Haushaltsbuch2[Einnahmen],Haushaltsbuch2[Kategorie],N$4,Haushaltsbuch2[Datum],\">\"&B438,Haushaltsbuch2[Datum],\"<=\"&B439)","v":0},{"$f":"SUMIFS(Haushaltsbuch2[Einnahmen],Haushaltsbuch2[Kategorie],O$4,Haushaltsbuch2[Datum],\">\"&B438,Haushaltsbuch2[Datum],\"<=\"&B439)","v":0},{"$f":"SUMIFS(Haushaltsbuch2[Einnahmen],Haushaltsbuch2[Kategorie],P$4,Haushaltsbuch2[Datum],\">\"&B438,Haushaltsbuch2[Datum],\"<=\"&B439)","v":0},{"$f":"SUMIFS(Haushaltsbuch2[Einnahmen],Haushaltsbuch2[Kategorie],Q$4,Haushaltsbuch2[Datum],\">\"&B438,Haushaltsbuch2[Datum],\"<=\"&B439)","v":0},{"$f":"SUMIFS(Haushaltsbuch2[Einnahmen],Haushaltsbuch2[Kategorie],R$4,Haushaltsbuch2[Datum],\">\"&B438,Haushaltsbuch2[Datum],\"<=\"&B439)","v":0},null,null,null,null,null,null,null,null,null,null,null,null,null,null,null,null,null,null,{"$f":"SUMIFS(Haushaltsbuch2[Ausgaben],Haushaltsbuch2[Kategorie],AK$4,Haushaltsbuch2[Datum],\">\"&B438,Haushaltsbuch2[Datum],\"<=\"&B439)","v":0},null,null,{"$f":"SUMIFS(Dividenden[Betrag in EUR],Dividenden[Datum],\">\"&B438,Dividenden[Datum],\"<=\"&B439)","v":0},{"$f":"SUMIFS(Optionen[G/V (Netto)],Optionen[Datum],\">\"&B438,Optionen[Datum],\"<=\"&B439)","v":0},null,0,0,null,0,0,null,{"$f":"SUMIFS(Haushaltsbuch2[Einnahmen],Haushaltsbuch2[Datum],\">\"&B438,Haushaltsbuch2[Datum],\"<=\"&B439)+AN439+AO439","v":0},null,0,null,{"$f":"SUMIFS(Haushaltsbuch2[Ausgaben],Haushaltsbuch2[Datum],\">\"&B438,Haushaltsbuch2[Datum],\"<=\"&B439)","v":0}]
[null,38868,null,null,null,null,null,null,null,null,null,null,{"$f":"SUMIFS(Haushaltsbuch2[Einnahmen],Haushaltsbuch2[Kategorie],M$4,Haushaltsbuch2[Datum],\">\"&B439,Haushaltsbuch2[Datum],\"<=\"&B440)","v":0},{"$f":"SUMIFS(Haushaltsbuch2[Einnahmen],Haushaltsbuch2[Kategorie],N$4,Haushaltsbuch2[Datum],\">\"&B439,Haushaltsbuch2[Datum],\"<=\"&B440)","v":0},{"$f":"SUMIFS(Haushaltsbuch2[Einnahmen],Haushaltsbuch2[Kategorie],O$4,Haushaltsbuch2[Datum],\">\"&B439,Haushaltsbuch2[Datum],\"<=\"&B440)","v":0},{"$f":"SUMIFS(Haushaltsbuch2[Einnahmen],Haushaltsbuch2[Kategorie],P$4,Haushaltsbuch2[Datum],\">\"&B439,Haushaltsbuch2[Datum],\"<=\"&B440)","v":0},{"$f":"SUMIFS(Haushaltsbuch2[Einnahmen],Haushaltsbuch2[Kategorie],Q$4,Haushaltsbuch2[Datum],\">\"&B439,Haushaltsbuch2[Datum],\"<=\"&B440)","v":0},{"$f":"SUMIFS(Haushaltsbuch2[Einnahmen],Haushaltsbuch2[Kategorie],R$4,Haushaltsbuch2[Datum],\">\"&B439,Haushaltsbuch2[Datum],\"<=\"&B440)","v":0},null,null,null,null,null,null,null,null,null,null,null,null,null,null,null,null,null,null,{"$f":"SUMIFS(Haushaltsbuch2[Ausgaben],Haushaltsbuch2[Kategorie],AK$4,Haushaltsbuch2[Datum],\">\"&B439,Haushaltsbuch2[Datum],\"<=\"&B440)","v":0},null,null,{"$f":"SUMIFS(Dividenden[Betrag in EUR],Dividenden[Datum],\">\"&B439,Dividenden[Datum],\"<=\"&B440)","v":0},{"$f":"SUMIFS(Optionen[G/V (Netto)],Optionen[Datum],\">\"&B439,Optionen[Datum],\"<=\"&B440)","v":0},null,0,0,null,0,0,null,{"$f":"SUMIFS(Haushaltsbuch2[Einnahmen],Haushaltsbuch2[Datum],\">\"&B439,Haushaltsbuch2[Datum],\"<=\"&B440)+AN440+AO440","v":0},null,0,null,{"$f":"SUMIFS(Haushaltsbuch2[Ausgaben],Haushaltsbuch2[Datum],\">\"&B439,Haushaltsbuch2[Datum],\"<=\"&B440)","v":0}]
[null,38898,null,null,null,null,null,null,null,null,null,null,{"$f":"SUMIFS(Haushaltsbuch2[Einnahmen],Haushaltsbuch2[Kategorie],M$4,Haushaltsbuch2[Datum],\">\"&B440,Haushaltsbuch2[Datum],\"<=\"&B441)","v":0},{"$f":"SUMIFS(Haushaltsbuch2[Einnahmen],Haushaltsbuch2[Kategorie],N$4,Haushaltsbuch2[Datum],\">\"&B440,Haushaltsbuch2[Datum],\"<=\"&B441)","v":0},{"$f":"SUMIFS(Haushaltsbuch2[Einnahmen],Haushaltsbuch2[Kategorie],O$4,Haushaltsbuch2[Datum],\">\"&B440,Haushaltsbuch2[Datum],\"<=\"&B441)","v":0},{"$f":"SUMIFS(Haushaltsbuch2[Einnahmen],Haushaltsbuch2[Kategorie],P$4,Haushaltsbuch2[Datum],\">\"&B440,Haushaltsbuch2[Datum],\"<=\"&B441)","v":0},{"$f":"SUMIFS(Haushaltsbuch2[Einnahmen],Haushaltsbuch2[Kategorie],Q$4,Haushaltsbuch2[Datum],\">\"&B440,Haushaltsbuch2[Datum],\"<=\"&B441)","v":0},{"$f":"SUMIFS(Haushaltsbuch2[Einnahmen],Haushaltsbuch2[Kategorie],R$4,Haushaltsbuch2[Datum],\">\"&B440,Haushaltsbuch2[Datum],\"<=\"&B441)","v":0},null,null,null,null,null,null,null,null,null,null,null,null,null,null,null,null,null,null,{"$f":"SUMIFS(Haushaltsbuch2[Ausgaben],Haushaltsbuch2[Kategorie],AK$4,Haushaltsbuch2[Datum],\">\"&B440,Haushaltsbuch2[Datum],\"<=\"&B441)","v":0},null,null,{"$f":"SUMIFS(Dividenden[Betrag in EUR],Dividenden[Datum],\">\"&B440,Dividenden[Datum],\"<=\"&B441)","v":0},{"$f":"SUMIFS(Optionen[G/V (Netto)],Optionen[Datum],\">\"&B440,Optionen[Datum],\"<=\"&B441)","v":0},null,0,0,null,0,0,null,{"$f":"SUMIFS(Haushaltsbuch2[Einnahmen],Haushaltsbuch2[Datum],\">\"&B440,Haushaltsbuch2[Datum],\"<=\"&B441)+AN441+AO441","v":0},null,0,null,{"$f":"SUMIFS(Haushaltsbuch2[Ausgaben],Haushaltsbuch2[Datum],\">\"&B440,Haushaltsbuch2[Datum],\"<=\"&B441)","v":0}]
[null,38929,null,null,null,null,null,null,null,null,null,null,{"$f":"SUMIFS(Haushaltsbuch2[Einnahmen],Haushaltsbuch2[Kategorie],M$4,Haushaltsbuch2[Datum],\">\"&B441,Haushaltsbuch2[Datum],\"<=\"&B442)","v":0},{"$f":"SUMIFS(Haushaltsbuch2[Einnahmen],Haushaltsbuch2[Kategorie],N$4,Haushaltsbuch2[Datum],\">\"&B441,Haushaltsbuch2[Datum],\"<=\"&B442)","v":0},{"$f":"SUMIFS(Haushaltsbuch2[Einnahmen],Haushaltsbuch2[Kategorie],O$4,Haushaltsbuch2[Datum],\">\"&B441,Haushaltsbuch2[Datum],\"<=\"&B442)","v":0},{"$f":"SUMIFS(Haushaltsbuch2[Einnahmen],Haushaltsbuch2[Kategorie],P$4,Haushaltsbuch2[Datum],\">\"&B441,Haushaltsbuch2[Datum],\"<=\"&B442)","v":0},{"$f":"SUMIFS(Haushaltsbuch2[Einnahmen],Haushaltsbuch2[Kategorie],Q$4,Haushaltsbuch2[Datum],\">\"&B441,Haushaltsbuch2[Datum],\"<=\"&B442)","v":0},{"$f":"SUMIFS(Haushaltsbuch2[Einnahmen],Haushaltsbuch2[Kategorie],R$4,Haushaltsbuch2[Datum],\">\"&B441,Haushaltsbuch2[Datum],\"<=\"&B442)","v":0},null,null,null,null,null,null,null,null,null,null,null,null,null,null,null,null,null,null,{"$f":"SUMIFS(Haushaltsbuch2[Ausgaben],Haushaltsbuch2[Kategorie],AK$4,Haushaltsbuch2[Datum],\">\"&B441,Haushaltsbuch2[Datum],\"<=\"&B442)","v":0},null,null,{"$f":"SUMIFS(Dividenden[Betrag in EUR],Dividenden[Datum],\">\"&B441,Dividenden[Datum],\"<=\"&B442)","v":0},{"$f":"SUMIFS(Optionen[G/V (Netto)],Optionen[Datum],\">\"&B441,Optionen[Datum],\"<=\"&B442)","v":0},null,0,0,null,0,0,null,{"$f":"SUMIFS(Haushaltsbuch2[Einnahmen],Haushaltsbuch2[Datum],\">\"&B441,Haushaltsbuch2[Datum],\"<=\"&B442)+AN442+AO442","v":0},null,0,null,{"$f":"SUMIFS(Haushaltsbuch2[Ausgaben],Haushaltsbuch2[Datum],\">\"&B441,Haushaltsbuch2[Datum],\"<=\"&B442)","v":0}]
[null,38960,null,null,null,null,null,null,null,null,null,null,{"$f":"SUMIFS(Haushaltsbuch2[Einnahmen],Haushaltsbuch2[Kategorie],M$4,Haushaltsbuch2[Datum],\">\"&B442,Haushaltsbuch2[Datum],\"<=\"&B443)","v":0},{"$f":"SUMIFS(Haushaltsbuch2[Einnahmen],Haushaltsbuch2[Kategorie],N$4,Haushaltsbuch2[Datum],\">\"&B442,Haushaltsbuch2[Datum],\"<=\"&B443)","v":0},{"$f":"SUMIFS(Haushaltsbuch2[Einnahmen],Haushaltsbuch2[Kategorie],O$4,Haushaltsbuch2[Datum],\">\"&B442,Haushaltsbuch2[Datum],\"<=\"&B443)","v":0},{"$f":"SUMIFS(Haushaltsbuch2[Einnahmen],Haushaltsbuch2[Kategorie],P$4,Haushaltsbuch2[Datum],\">\"&B442,Haushaltsbuch2[Datum],\"<=\"&B443)","v":0},{"$f":"SUMIFS(Haushaltsbuch2[Einnahmen],Haushaltsbuch2[Kategorie],Q$4,Haushaltsbuch2[Datum],\">\"&B442,Haushaltsbuch2[Datum],\"<=\"&B443)","v":0},{"$f":"SUMIFS(Haushaltsbuch2[Einnahmen],Haushaltsbuch2[Kategorie],R$4,Haushaltsbuch2[Datum],\">\"&B442,Haushaltsbuch2[Datum],\"<=\"&B443)","v":0},null,null,null,null,null,null,null,null,null,null,null,null,null,null,null,null,null,null,{"$f":"SUMIFS(Haushaltsbuch2[Ausgaben],Haushaltsbuch2[Kategorie],AK$4,Haushaltsbuch2[Datum],\">\"&B442,Haushaltsbuch2[Datum],\"<=\"&B443)","v":0},null,null,{"$f":"SUMIFS(Dividenden[Betrag in EUR],Dividenden[Datum],\">\"&B442,Dividenden[Datum],\"<=\"&B443)","v":0},{"$f":"SUMIFS(Optionen[G/V (Netto)],Optionen[Datum],\">\"&B442,Optionen[Datum],\"<=\"&B443)","v":0},null,0,0,null,0,0,null,{"$f":"SUMIFS(Haushaltsbuch2[Einnahmen],Haushaltsbuch2[Datum],\">\"&B442,Haushaltsbuch2[Datum],\"<=\"&B443)+AN443+AO443","v":0},null,0,null,{"$f":"SUMIFS(Haushaltsbuch2[Ausgaben],Haushaltsbuch2[Datum],\">\"&B442,Haushaltsbuch2[Datum],\"<=\"&B443)","v":0}]
[null,38990,null,null,null,null,null,null,null,null,null,null,{"$f":"SUMIFS(Haushaltsbuch2[Einnahmen],Haushaltsbuch2[Kategorie],M$4,Haushaltsbuch2[Datum],\">\"&B443,Haushaltsbuch2[Datum],\"<=\"&B444)","v":0},{"$f":"SUMIFS(Haushaltsbuch2[Einnahmen],Haushaltsbuch2[Kategorie],N$4,Haushaltsbuch2[Datum],\">\"&B443,Haushaltsbuch2[Datum],\"<=\"&B444)","v":0},{"$f":"SUMIFS(Haushaltsbuch2[Einnahmen],Haushaltsbuch2[Kategorie],O$4,Haushaltsbuch2[Datum],\">\"&B443,Haushaltsbuch2[Datum],\"<=\"&B444)","v":0},{"$f":"SUMIFS(Haushaltsbuch2[Einnahmen],Haushaltsbuch2[Kategorie],P$4,Haushaltsbuch2[Datum],\">\"&B443,Haushaltsbuch2[Datum],\"<=\"&B444)","v":0},{"$f":"SUMIFS(Haushaltsbuch2[Einnahmen],Haushaltsbuch2[Kategorie],Q$4,Haushaltsbuch2[Datum],\">\"&B443,Haushaltsbuch2[Datum],\"<=\"&B444)","v":0},{"$f":"SUMIFS(Haushaltsbuch2[Einnahmen],Haushaltsbuch2[Kategorie],R$4,Haushaltsbuch2[Datum],\">\"&B443,Haushaltsbuch2[Datum],\"<=\"&B444)","v":0},null,null,null,null,null,null,null,null,null,null,null,null,null,null,null,null,null,null,{"$f":"SUMIFS(Haushaltsbuch2[Ausgaben],Haushaltsbuch2[Kategorie],AK$4,Haushaltsbuch2[Datum],\">\"&B443,Haushaltsbuch2[Datum],\"<=\"&B444)","v":0},null,null,{"$f":"SUMIFS(Dividenden[Betrag in EUR],Dividenden[Datum],\">\"&B443,Dividenden[Datum],\"<=\"&B444)","v":0},{"$f":"SUMIFS(Optionen[G/V (Netto)],Optionen[Datum],\">\"&B443,Optionen[Datum],\"<=\"&B444)","v":0},null,0,0,null,0,0,null,{"$f":"SUMIFS(Haushaltsbuch2[Einnahmen],Haushaltsbuch2[Datum],\">\"&B443,Haushaltsbuch2[Datum],\"<=\"&B444)+AN444+AO444","v":0},null,0,null,{"$f":"SUMIFS(Haushaltsbuch2[Ausgaben],Haushaltsbuch2[Datum],\">\"&B443,Haushaltsbuch2[Datum],\"<=\"&B444)","v":0}]
[null,39021,null,null,null,null,null,null,null,null,null,null,{"$f":"SUMIFS(Haushaltsbuch2[Einnahmen],Haushaltsbuch2[Kategorie],M$4,Haushaltsbuch2[Datum],\">\"&B444,Haushaltsbuch2[Datum],\"<=\"&B445)","v":0},{"$f":"SUMIFS(Haushaltsbuch2[Einnahmen],Haushaltsbuch2[Kategorie],N$4,Haushaltsbuch2[Datum],\">\"&B444,Haushaltsbuch2[Datum],\"<=\"&B445)","v":0},{"$f":"SUMIFS(Haushaltsbuch2[Einnahmen],Haushaltsbuch2[Kategorie],O$4,Haushaltsbuch2[Datum],\">\"&B444,Haushaltsbuch2[Datum],\"<=\"&B445)","v":0},{"$f":"SUMIFS(Haushaltsbuch2[Einnahmen],Haushaltsbuch2[Kategorie],P$4,Haushaltsbuch2[Datum],\">\"&B444,Haushaltsbuch2[Datum],\"<=\"&B445)","v":0},{"$f":"SUMIFS(Haushaltsbuch2[Einnahmen],Haushaltsbuch2[Kategorie],Q$4,Haushaltsbuch2[Datum],\">\"&B444,Haushaltsbuch2[Datum],\"<=\"&B445)","v":0},{"$f":"SUMIFS(Haushaltsbuch2[Einnahmen],Haushaltsbuch2[Kategorie],R$4,Haushaltsbuch2[Datum],\">\"&B444,Haushaltsbuch2[Datum],\"<=\"&B445)","v":0},null,null,null,null,null,null,null,null,null,null,null,null,null,null,null,null,null,null,{"$f":"SUMIFS(Haushaltsbuch2[Ausgaben],Haushaltsbuch2[Kategorie],AK$4,Haushaltsbuch2[Datum],\">\"&B444,Haushaltsbuch2[Datum],\"<=\"&B445)","v":0},null,null,{"$f":"SUMIFS(Dividenden[Betrag in EUR],Dividenden[Datum],\">\"&B444,Dividenden[Datum],\"<=\"&B445)","v":0},{"$f":"SUMIFS(Optionen[G/V (Netto)],Optionen[Datum],\">\"&B444,Optionen[Datum],\"<=\"&B445)","v":0},null,0,0,null,0,0,null,{"$f":"SUMIFS(Haushaltsbuch2[Einnahmen],Haushaltsbuch2[Datum],\">\"&B444,Haushaltsbuch2[Datum],\"<=\"&B445)+AN445+AO445","v":0},null,0,null,{"$f":"SUMIFS(Haushaltsbuch2[Ausgaben],Haushaltsbuch2[Datum],\">\"&B444,Haushaltsbuch2[Datum],\"<=\"&B445)","v":0}]
[null,39051,null,null,null,null,null,null,null,null,null,null,{"$f":"SUMIFS(Haushaltsbuch2[Einnahmen],Haushaltsbuch2[Kategorie],M$4,Haushaltsbuch2[Datum],\">\"&B445,Haushaltsbuch2[Datum],\"<=\"&B446)","v":0},{"$f":"SUMIFS(Haushaltsbuch2[Einnahmen],Haushaltsbuch2[Kategorie],N$4,Haushaltsbuch2[Datum],\">\"&B445,Haushaltsbuch2[Datum],\"<=\"&B446)","v":0},{"$f":"SUMIFS(Haushaltsbuch2[Einnahmen],Haushaltsbuch2[Kategorie],O$4,Haushaltsbuch2[Datum],\">\"&B445,Haushaltsbuch2[Datum],\"<=\"&B446)","v":0},{"$f":"SUMIFS(Haushaltsbuch2[Einnahmen],Haushaltsbuch2[Kategorie],P$4,Haushaltsbuch2[Datum],\">\"&B445,Haushaltsbuch2[Datum],\"<=\"&B446)","v":0},{"$f":"SUMIFS(Haushaltsbuch2[Einnahmen],Haushaltsbuch2[Kategorie],Q$4,Haushaltsbuch2[Datum],\">\"&B445,Haushaltsbuch2[Datum],\"<=\"&B446)","v":0},{"$f":"SUMIFS(Haushaltsbuch2[Einnahmen],Haushaltsbuch2[Kategorie],R$4,Haushaltsbuch2[Datum],\">\"&B445,Haushaltsbuch2[Datum],\"<=\"&B446)","v":0},null,null,null,null,null,null,null,null,null,null,null,null,null,null,null,null,null,null,{"$f":"SUMIFS(Haushaltsbuch2[Ausgaben],Haushaltsbuch2[Kategorie],AK$4,Haushaltsbuch2[Datum],\">\"&B445,Haushaltsbuch2[Datum],\"<=\"&B446)","v":0},null,null,{"$f":"SUMIFS(Dividenden[Betrag in EUR],Dividenden[Datum],\">\"&B445,Dividenden[Datum],\"<=\"&B446)","v":0},{"$f":"SUMIFS(Optionen[G/V (Netto)],Optionen[Datum],\">\"&B445,Optionen[Datum],\"<=\"&B446)","v":0},null,0,0,null,0,0,null,{"$f":"SUMIFS(Haushaltsbuch2[Einnahmen],Haushaltsbuch2[Datum],\">\"&B445,Haushaltsbuch2[Datum],\"<=\"&B446)+AN446+AO446","v":0},null,0,null,{"$f":"SUMIFS(Haushaltsbuch2[Ausgaben],Haushaltsbuch2[Datum],\">\"&B445,Haushaltsbuch2[Datum],\"<=\"&B446)","v":0}]
[null,39082,null,null,null,null,null,null,null,null,null,null,{"$f":"SUMIFS(Haushaltsbuch2[Einnahmen],Haushaltsbuch2[Kategorie],M$4,Haushaltsbuch2[Datum],\">\"&B446,Haushaltsbuch2[Datum],\"<=\"&B447)","v":0},{"$f":"SUMIFS(Haushaltsbuch2[Einnahmen],Haushaltsbuch2[Kategorie],N$4,Haushaltsbuch2[Datum],\">\"&B446,Haushaltsbuch2[Datum],\"<=\"&B447)","v":0},{"$f":"SUMIFS(Haushaltsbuch2[Einnahmen],Haushaltsbuch2[Kategorie],O$4,Haushaltsbuch2[Datum],\">\"&B446,Haushaltsbuch2[Datum],\"<=\"&B447)","v":0},{"$f":"SUMIFS(Haushaltsbuch2[Einnahmen],Haushaltsbuch2[Kategorie],P$4,Haushaltsbuch2[Datum],\">\"&B446,Haushaltsbuch2[Datum],\"<=\"&B447)","v":0},{"$f":"SUMIFS(Haushaltsbuch2[Einnahmen],Haushaltsbuch2[Kategorie],Q$4,Haushaltsbuch2[Datum],\">\"&B446,Haushaltsbuch2[Datum],\"<=\"&B447)","v":0},{"$f":"SUMIFS(Haushaltsbuch2[Einnahmen],Haushaltsbuch2[Kategorie],R$4,Haushaltsbuch2[Datum],\">\"&B446,Haushaltsbuch2[Datum],\"<=\"&B447)","v":0},null,null,null,null,null,null,null,null,null,null,null,null,null,null,null,null,null,null,{"$f":"SUMIFS(Haushaltsbuch2[Ausgaben],Haushaltsbuch2[Kategorie],AK$4,Haushaltsbuch2[Datum],\">\"&B446,Haushaltsbuch2[Datum],\"<=\"&B447)","v":0},null,null,{"$f":"SUMIFS(Dividenden[Betrag in EUR],Dividenden[Datum],\">\"&B446,Dividenden[Datum],\"<=\"&B447)","v":0},{"$f":"SUMIFS(Optionen[G/V (Netto)],Optionen[Datum],\">\"&B446,Optionen[Datum],\"<=\"&B447)","v":0},null,0,0,null,0,0,null,{"$f":"SUMIFS(Haushaltsbuch2[Einnahmen],Haushaltsbuch2[Datum],\">\"&B446,Haushaltsbuch2[Datum],\"<=\"&B447)+AN447+AO447","v":0},null,0,null,{"$f":"SUMIFS(Haushaltsbuch2[Ausgaben],Haushaltsbuch2[Datum],\">\"&B446,Haushaltsbuch2[Datum],\"<=\"&B447)","v":0}]
[null,39113,null,null,null,null,null,null,null,null,null,null,{"$f":"SUMIFS(Haushaltsbuch2[Einnahmen],Haushaltsbuch2[Kategorie],M$4,Haushaltsbuch2[Datum],\">\"&B447,Haushaltsbuch2[Datum],\"<=\"&B448)","v":0},{"$f":"SUMIFS(Haushaltsbuch2[Einnahmen],Haushaltsbuch2[Kategorie],N$4,Haushaltsbuch2[Datum],\">\"&B447,Haushaltsbuch2[Datum],\"<=\"&B448)","v":0},{"$f":"SUMIFS(Haushaltsbuch2[Einnahmen],Haushaltsbuch2[Kategorie],O$4,Haushaltsbuch2[Datum],\">\"&B447,Haushaltsbuch2[Datum],\"<=\"&B448)","v":0},{"$f":"SUMIFS(Haushaltsbuch2[Einnahmen],Haushaltsbuch2[Kategorie],P$4,Haushaltsbuch2[Datum],\">\"&B447,Haushaltsbuch2[Datum],\"<=\"&B448)","v":0},{"$f":"SUMIFS(Haushaltsbuch2[Einnahmen],Haushaltsbuch2[Kategorie],Q$4,Haushaltsbuch2[Datum],\">\"&B447,Haushaltsbuch2[Datum],\"<=\"&B448)","v":0},{"$f":"SUMIFS(Haushaltsbuch2[Einnahmen],Haushaltsbuch2[Kategorie],R$4,Haushaltsbuch2[Datum],\">\"&B447,Haushaltsbuch2[Datum],\"<=\"&B448)","v":0},null,null,null,null,null,null,null,null,null,null,null,null,null,null,null,null,null,null,{"$f":"SUMIFS(Haushaltsbuch2[Ausgaben],Haushaltsbuch2[Kategorie],AK$4,Haushaltsbuch2[Datum],\">\"&B447,Haushaltsbuch2[Datum],\"<=\"&B448)","v":0},null,null,{"$f":"SUMIFS(Dividenden[Betrag in EUR],Dividenden[Datum],\">\"&B447,Dividenden[Datum],\"<=\"&B448)","v":0},{"$f":"SUMIFS(Optionen[G/V (Netto)],Optionen[Datum],\">\"&B447,Optionen[Datum],\"<=\"&B448)","v":0},null,0,0,null,0,0,null,{"$f":"SUMIFS(Haushaltsbuch2[Einnahmen],Haushaltsbuch2[Datum],\">\"&B447,Haushaltsbuch2[Datum],\"<=\"&B448)+AN448+AO448","v":0},null,0,null,{"$f":"SUMIFS(Haushaltsbuch2[Ausgaben],Haushaltsbuch2[Datum],\">\"&B447,Haushaltsbuch2[Datum],\"<=\"&B448)","v":0}]
[null,39141,null,null,null,null,null,null,null,null,null,null,{"$f":"SUMIFS(Haushaltsbuch2[Einnahmen],Haushaltsbuch2[Kategorie],M$4,Haushaltsbuch2[Datum],\">\"&B448,Haushaltsbuch2[Datum],\"<=\"&B449)","v":0},{"$f":"SUMIFS(Haushaltsbuch2[Einnahmen],Haushaltsbuch2[Kategorie],N$4,Haushaltsbuch2[Datum],\">\"&B448,Haushaltsbuch2[Datum],\"<=\"&B449)","v":0},{"$f":"SUMIFS(Haushaltsbuch2[Einnahmen],Haushaltsbuch2[Kategorie],O$4,Haushaltsbuch2[Datum],\">\"&B448,Haushaltsbuch2[Datum],\"<=\"&B449)","v":0},{"$f":"SUMIFS(Haushaltsbuch2[Einnahmen],Haushaltsbuch2[Kategorie],P$4,Haushaltsbuch2[Datum],\">\"&B448,Haushaltsbuch2[Datum],\"<=\"&B449)","v":0},{"$f":"SUMIFS(Haushaltsbuch2[Einnahmen],Haushaltsbuch2[Kategorie],Q$4,Haushaltsbuch2[Datum],\">\"&B448,Haushaltsbuch2[Datum],\"<=\"&B449)","v":0},{"$f":"SUMIFS(Haushaltsbuch2[Einnahmen],Haushaltsbuch2[Kategorie],R$4,Haushaltsbuch2[Datum],\">\"&B448,Haushaltsbuch2[Datum],\"<=\"&B449)","v":0},null,null,null,null,null,null,null,null,null,null,null,null,null,null,null,null,null,null,{"$f":"SUMIFS(Haushaltsbuch2[Ausgaben],Haushaltsbuch2[Kategorie],AK$4,Haushaltsbuch2[Datum],\">\"&B448,Haushaltsbuch2[Datum],\"<=\"&B449)","v":0},null,null,{"$f":"SUMIFS(Dividenden[Betrag in EUR],Dividenden[Datum],\">\"&B448,Dividenden[Datum],\"<=\"&B449)","v":0},{"$f":"SUMIFS(Optionen[G/V (Netto)],Optionen[Datum],\">\"&B448,Optionen[Datum],\"<=\"&B449)","v":0},null,0,0,null,0,0,null,{"$f":"SUMIFS(Haushaltsbuch2[Einnahmen],Haushaltsbuch2[Datum],\">\"&B448,Haushaltsbuch2[Datum],\"<=\"&B449)+AN449+AO449","v":0},null,0,null,{"$f":"SUMIFS(Haushaltsbuch2[Ausgaben],Haushaltsbuch2[Datum],\">\"&B448,Haushaltsbuch2[Datum],\"<=\"&B449)","v":0}]
[null,39172,null,null,null,null,null,null,null,null,null,null,{"$f":"SUMIFS(Haushaltsbuch2[Einnahmen],Haushaltsbuch2[Kategorie],M$4,Haushaltsbuch2[Datum],\">\"&B449,Haushaltsbuch2[Datum],\"<=\"&B450)","v":0},{"$f":"SUMIFS(Haushaltsbuch2[Einnahmen],Haushaltsbuch2[Kategorie],N$4,Haushaltsbuch2[Datum],\">\"&B449,Haushaltsbuch2[Datum],\"<=\"&B450)","v":0},{"$f":"SUMIFS(Haushaltsbuch2[Einnahmen],Haushaltsbuch2[Kategorie],O$4,Haushaltsbuch2[Datum],\">\"&B449,Haushaltsbuch2[Datum],\"<=\"&B450)","v":0},{"$f":"SUMIFS(Haushaltsbuch2[Einnahmen],Haushaltsbuch2[Kategorie],P$4,Haushaltsbuch2[Datum],\">\"&B449,Haushaltsbuch2[Datum],\"<=\"&B450)","v":0},{"$f":"SUMIFS(Haushaltsbuch2[Einnahmen],Haushaltsbuch2[Kategorie],Q$4,Haushaltsbuch2[Datum],\">\"&B449,Haushaltsbuch2[Datum],\"<=\"&B450)","v":0},{"$f":"SUMIFS(Haushaltsbuch2[Einnahmen],Haushaltsbuch2[Kategorie],R$4,Haushaltsbuch2[Datum],\">\"&B449,Haushaltsbuch2[Datum],\"<=\"&B450)","v":0},null,null,null,null,null,null,null,null,null,null,null,null,null,null,null,null,null,null,{"$f":"SUMIFS(Haushaltsbuch2[Ausgaben],Haushaltsbuch2[Kategorie],AK$4,Haushaltsbuch2[Datum],\">\"&B449,Haushaltsbuch2[Datum],\"<=\"&B450)","v":0},null,null,{"$f":"SUMIFS(Dividenden[Betrag in EUR],Dividenden[Datum],\">\"&B449,Dividenden[Datum],\"<=\"&B450)","v":0},{"$f":"SUMIFS(Optionen[G/V (Netto)],Optionen[Datum],\">\"&B449,Optionen[Datum],\"<=\"&B450)","v":0},null,0,0,null,0,0,null,{"$f":"SUMIFS(Haushaltsbuch2[Einnahmen],Haushaltsbuch2[Datum],\">\"&B449,Haushaltsbuch2[Datum],\"<=\"&B450)+AN450+AO450","v":0},null,0,null,{"$f":"SUMIFS(Haushaltsbuch2[Ausgaben],Haushaltsbuch2[Datum],\">\"&B449,Haushaltsbuch2[Datum],\"<=\"&B450)","v":0}]
[null,39202,null,null,null,null,null,null,null,null,null,null,{"$f":"SUMIFS(Haushaltsbuch2[Einnahmen],Haushaltsbuch2[Kategorie],M$4,Haushaltsbuch2[Datum],\">\"&B450,Haushaltsbuch2[Datum],\"<=\"&B451)","v":0},{"$f":"SUMIFS(Haushaltsbuch2[Einnahmen],Haushaltsbuch2[Kategorie],N$4,Haushaltsbuch2[Datum],\">\"&B450,Haushaltsbuch2[Datum],\"<=\"&B451)","v":0},{"$f":"SUMIFS(Haushaltsbuch2[Einnahmen],Haushaltsbuch2[Kategorie],O$4,Haushaltsbuch2[Datum],\">\"&B450,Haushaltsbuch2[Datum],\"<=\"&B451)","v":0},{"$f":"SUMIFS(Haushaltsbuch2[Einnahmen],Haushaltsbuch2[Kategorie],P$4,Haushaltsbuch2[Datum],\">\"&B450,Haushaltsbuch2[Datum],\"<=\"&B451)","v":0},{"$f":"SUMIFS(Haushaltsbuch2[Einnahmen],Haushaltsbuch2[Kategorie],Q$4,Haushaltsbuch2[Datum],\">\"&B450,Haushaltsbuch2[Datum],\"<=\"&B451)","v":0},{"$f":"SUMIFS(Haushaltsbuch2[Einnahmen],Haushaltsbuch2[Kategorie],R$4,Haushaltsbuch2[Datum],\">\"&B450,Haushaltsbuch2[Datum],\"<=\"&B451)","v":0},null,null,null,null,null,null,null,null,null,null,null,null,null,null,null,null,null,null,{"$f":"SUMIFS(Haushaltsbuch2[Ausgaben],Haushaltsbuch2[Kategorie],AK$4,Haushaltsbuch2[Datum],\">\"&B450,Haushaltsbuch2[Datum],\"<=\"&B451)","v":0},null,null,{"$f":"SUMIFS(Dividenden[Betrag in EUR],Dividenden[Datum],\">\"&B450,Dividenden[Datum],\"<=\"&B451)","v":0},{"$f":"SUMIFS(Optionen[G/V (Netto)],Optionen[Datum],\">\"&B450,Optionen[Datum],\"<=\"&B451)","v":0},null,0,0,null,0,0,null,{"$f":"SUMIFS(Haushaltsbuch2[Einnahmen],Haushaltsbuch2[Datum],\">\"&B450,Haushaltsbuch2[Datum],\"<=\"&B451)+AN451+AO451","v":0},null,0,null,{"$f":"SUMIFS(Haushaltsbuch2[Ausgaben],Haushaltsbuch2[Datum],\">\"&B450,Haushaltsbuch2[Datum],\"<=\"&B451)","v":0}]
[null,39233,null,null,null,null,null,null,null,null,null,null,{"$f":"SUMIFS(Haushaltsbuch2[Einnahmen],Haushaltsbuch2[Kategorie],M$4,Haushaltsbuch2[Datum],\">\"&B451,Haushaltsbuch2[Datum],\"<=\"&B452)","v":0},{"$f":"SUMIFS(Haushaltsbuch2[Einnahmen],Haushaltsbuch2[Kategorie],N$4,Haushaltsbuch2[Datum],\">\"&B451,Haushaltsbuch2[Datum],\"<=\"&B452)","v":0},{"$f":"SUMIFS(Haushaltsbuch2[Einnahmen],Haushaltsbuch2[Kategorie],O$4,Haushaltsbuch2[Datum],\">\"&B451,Haushaltsbuch2[Datum],\"<=\"&B452)","v":0},{"$f":"SUMIFS(Haushaltsbuch2[Einnahmen],Haushaltsbuch2[Kategorie],P$4,Haushaltsbuch2[Datum],\">\"&B451,Haushaltsbuch2[Datum],\"<=\"&B452)","v":0},{"$f":"SUMIFS(Haushaltsbuch2[Einnahmen],Haushaltsbuch2[Kategorie],Q$4,Haushaltsbuch2[Datum],\">\"&B451,Haushaltsbuch2[Datum],\"<=\"&B452)","v":0},{"$f":"SUMIFS(Haushaltsbuch2[Einnahmen],Haushaltsbuch2[Kategorie],R$4,Haushaltsbuch2[Datum],\">\"&B451,Haushaltsbuch2[Datum],\"<=\"&B452)","v":0},null,null,null,null,null,null,null,null,null,null,null,null,null,null,null,null,null,null,{"$f":"SUMIFS(Haushaltsbuch2[Ausgaben],Haushaltsbuch2[Kategorie],AK$4,Haushaltsbuch2[Datum],\">\"&B451,Haushaltsbuch2[Datum],\"<=\"&B452)","v":0},null,null,{"$f":"SUMIFS(Dividenden[Betrag in EUR],Dividenden[Datum],\">\"&B451,Dividenden[Datum],\"<=\"&B452)","v":0},{"$f":"SUMIFS(Optionen[G/V (Netto)],Optionen[Datum],\">\"&B451,Optionen[Datum],\"<=\"&B452)","v":0},null,0,0,null,0,0,null,{"$f":"SUMIFS(Haushaltsbuch2[Einnahmen],Haushaltsbuch2[Datum],\">\"&B451,Haushaltsbuch2[Datum],\"<=\"&B452)+AN452+AO452","v":0},null,0,null,{"$f":"SUMIFS(Haushaltsbuch2[Ausgaben],Haushaltsbuch2[Datum],\">\"&B451,Haushaltsbuch2[Datum],\"<=\"&B452)","v":0}]
[null,39263,null,null,null,null,null,null,null,null,null,null,{"$f":"SUMIFS(Haushaltsbuch2[Einnahmen],Haushaltsbuch2[Kategorie],M$4,Haushaltsbuch2[Datum],\">\"&B452,Haushaltsbuch2[Datum],\"<=\"&B453)","v":0},{"$f":"SUMIFS(Haushaltsbuch2[Einnahmen],Haushaltsbuch2[Kategorie],N$4,Haushaltsbuch2[Datum],\">\"&B452,Haushaltsbuch2[Datum],\"<=\"&B453)","v":0},{"$f":"SUMIFS(Haushaltsbuch2[Einnahmen],Haushaltsbuch2[Kategorie],O$4,Haushaltsbuch2[Datum],\">\"&B452,Haushaltsbuch2[Datum],\"<=\"&B453)","v":0},{"$f":"SUMIFS(Haushaltsbuch2[Einnahmen],Haushaltsbuch2[Kategorie],P$4,Haushaltsbuch2[Datum],\">\"&B452,Haushaltsbuch2[Datum],\"<=\"&B453)","v":0},{"$f":"SUMIFS(Haushaltsbuch2[Einnahmen],Haushaltsbuch2[Kategorie],Q$4,Haushaltsbuch2[Datum],\">\"&B452,Haushaltsbuch2[Datum],\"<=\"&B453)","v":0},{"$f":"SUMIFS(Haushaltsbuch2[Einnahmen],Haushaltsbuch2[Kategorie],R$4,Haushaltsbuch2[Datum],\">\"&B452,Haushaltsbuch2[Datum],\"<=\"&B453)","v":0},null,null,null,null,null,null,null,null,null,null,null,null,null,null,null,null,null,null,{"$f":"SUMIFS(Haushaltsbuch2[Ausgaben],Haushaltsbuch2[Kategorie],AK$4,Haushaltsbuch2[Datum],\">\"&B452,Haushaltsbuch2[Datum],\"<=\"&B453)","v":0},null,null,{"$f":"SUMIFS(Dividenden[Betrag in EUR],Dividenden[Datum],\">\"&B452,Dividenden[Datum],\"<=\"&B453)","v":0},{"$f":"SUMIFS(Optionen[G/V (Netto)],Optionen[Datum],\">\"&B452,Optionen[Datum],\"<=\"&B453)","v":0},null,0,0,null,0,0,null,{"$f":"SUMIFS(Haushaltsbuch2[Einnahmen],Haushaltsbuch2[Datum],\">\"&B452,Haushaltsbuch2[Datum],\"<=\"&B453)+AN453+AO453","v":0},null,0,null,{"$f":"SUMIFS(Haushaltsbuch2[Ausgaben],Haushaltsbuch2[Datum],\">\"&B452,Haushaltsbuch2[Datum],\"<=\"&B453)","v":0}]
[null,39294,null,null,null,null,null,null,null,null,null,null,{"$f":"SUMIFS(Haushaltsbuch2[Einnahmen],Haushaltsbuch2[Kategorie],M$4,Haushaltsbuch2[Datum],\">\"&B453,Haushaltsbuch2[Datum],\"<=\"&B454)","v":0},{"$f":"SUMIFS(Haushaltsbuch2[Einnahmen],Haushaltsbuch2[Kategorie],N$4,Haushaltsbuch2[Datum],\">\"&B453,Haushaltsbuch2[Datum],\"<=\"&B454)","v":0},{"$f":"SUMIFS(Haushaltsbuch2[Einnahmen],Haushaltsbuch2[Kategorie],O$4,Haushaltsbuch2[Datum],\">\"&B453,Haushaltsbuch2[Datum],\"<=\"&B454)","v":0},{"$f":"SUMIFS(Haushaltsbuch2[Einnahmen],Haushaltsbuch2[Kategorie],P$4,Haushaltsbuch2[Datum],\">\"&B453,Haushaltsbuch2[Datum],\"<=\"&B454)","v":0},{"$f":"SUMIFS(Haushaltsbuch2[Einnahmen],Haushaltsbuch2[Kategorie],Q$4,Haushaltsbuch2[Datum],\">\"&B453,Haushaltsbuch2[Datum],\"<=\"&B454)","v":0},{"$f":"SUMIFS(Haushaltsbuch2[Einnahmen],Haushaltsbuch2[Kategorie],R$4,Haushaltsbuch2[Datum],\">\"&B453,Haushaltsbuch2[Datum],\"<=\"&B454)","v":0},null,null,null,null,null,null,null,null,null,null,null,null,null,null,null,null,null,null,{"$f":"SUMIFS(Haushaltsbuch2[Ausgaben],Haushaltsbuch2[Kategorie],AK$4,Haushaltsbuch2[Datum],\">\"&B453,Haushaltsbuch2[Datum],\"<=\"&B454)","v":0},null,null,{"$f":"SUMIFS(Dividenden[Betrag in EUR],Dividenden[Datum],\">\"&B453,Dividenden[Datum],\"<=\"&B454)","v":0},{"$f":"SUMIFS(Optionen[G/V (Netto)],Optionen[Datum],\">\"&B453,Optionen[Datum],\"<=\"&B454)","v":0},null,{"$f":"N454+AN454","v":0},{"$f":"O454+AO454","v":0},null,{"$f":"M454+SUM(P454:R454)+SUM(AQ454:AR454)","v":0},0,null,{"$f":"SUMIFS(Haushaltsbuch2[Einnahmen],Haushaltsbuch2[Datum],\">\"&B453,Haushaltsbuch2[Datum],\"<=\"&B454)+AN454+AO454","v":0},null,0,null,{"$f":"SUMIFS(Haushaltsbuch2[Ausgaben],Haushaltsbuch2[Datum],\">\"&B453,Haushaltsbuch2[Datum],\"<=\"&B454)","v":0}]
[null,{"$f":"EOMONTH(B454,1)","v":39325},null,null,null,null,null,null,null,null,null,null,{"$f":"SUMIFS(Haushaltsbuch2[Einnahmen],Haushaltsbuch2[Kategorie],M$4,Haushaltsbuch2[Datum],\">\"&B454,Haushaltsbuch2[Datum],\"<=\"&B455)","v":0},{"$f":"SUMIFS(Haushaltsbuch2[Einnahmen],Haushaltsbuch2[Kategorie],N$4,Haushaltsbuch2[Datum],\">\"&B454,Haushaltsbuch2[Datum],\"<=\"&B455)","v":0},{"$f":"SUMIFS(Haushaltsbuch2[Einnahmen],Haushaltsbuch2[Kategorie],O$4,Haushaltsbuch2[Datum],\">\"&B454,Haushaltsbuch2[Datum],\"<=\"&B455)","v":0},{"$f":"SUMIFS(Haushaltsbuch2[Einnahmen],Haushaltsbuch2[Kategorie],P$4,Haushaltsbuch2[Datum],\">\"&B454,Haushaltsbuch2[Datum],\"<=\"&B455)","v":0},{"$f":"SUMIFS(Haushaltsbuch2[Einnahmen],Haushaltsbuch2[Kategorie],Q$4,Haushaltsbuch2[Datum],\">\"&B454,Haushaltsbuch2[Datum],\"<=\"&B455)","v":0},{"$f":"SUMIFS(Haushaltsbuch2[Einnahmen],Haushaltsbuch2[Kategorie],R$4,Haushaltsbuch2[Datum],\">\"&B454,Haushaltsbuch2[Datum],\"<=\"&B455)","v":0},null,null,null,null,null,null,null,null,null,null,null,null,null,null,null,null,null,null,{"$f":"SUMIFS(Haushaltsbuch2[Ausgaben],Haushaltsbuch2[Kategorie],AK$4,Haushaltsbuch2[Datum],\">\"&B454,Haushaltsbuch2[Datum],\"<=\"&B455)","v":0},null,null,{"$f":"SUMIFS(Dividenden[Betrag in EUR],Dividenden[Datum],\">\"&B454,Dividenden[Datum],\"<=\"&B455)","v":0},{"$f":"SUMIFS(Optionen[G/V (Netto)],Optionen[Datum],\">\"&B454,Optionen[Datum],\"<=\"&B455)","v":0},null,0,0,null,0,0,null,{"$f":"SUMIFS(Haushaltsbuch2[Einnahmen],Haushaltsbuch2[Datum],\">\"&B454,Haushaltsbuch2[Datum],\"<=\"&B455)+AN455+AO455","v":0},null,0,null,{"$f":"SUMIFS(Haushaltsbuch2[Ausgaben],Haushaltsbuch2[Datum],\">\"&B454,Haushaltsbuch2[Datum],\"<=\"&B455)","v":0}]
[null,39355,null,null,null,null,null,null,null,null,null,null,{"$f":"SUMIFS(Haushaltsbuch2[Einnahmen],Haushaltsbuch2[Kategorie],M$4,Haushaltsbuch2[Datum],\">\"&B455,Haushaltsbuch2[Datum],\"<=\"&B456)","v":0},{"$f":"SUMIFS(Haushaltsbuch2[Einnahmen],Haushaltsbuch2[Kategorie],N$4,Haushaltsbuch2[Datum],\">\"&B455,Haushaltsbuch2[Datum],\"<=\"&B456)","v":0},{"$f":"SUMIFS(Haushaltsbuch2[Einnahmen],Haushaltsbuch2[Kategorie],O$4,Haushaltsbuch2[Datum],\">\"&B455,Haushaltsbuch2[Datum],\"<=\"&B456)","v":0},{"$f":"SUMIFS(Haushaltsbuch2[Einnahmen],Haushaltsbuch2[Kategorie],P$4,Haushaltsbuch2[Datum],\">\"&B455,Haushaltsbuch2[Datum],\"<=\"&B456)","v":0},{"$f":"SUMIFS(Haushaltsbuch2[Einnahmen],Haushaltsbuch2[Kategorie],Q$4,Haushaltsbuch2[Datum],\">\"&B455,Haushaltsbuch2[Datum],\"<=\"&B456)","v":0},{"$f":"SUMIFS(Haushaltsbuch2[Einnahmen],Haushaltsbuch2[Kategorie],R$4,Haushaltsbuch2[Datum],\">\"&B455,Haushaltsbuch2[Datum],\"<=\"&B456)","v":0},null,null,null,null,null,null,null,null,null,null,null,null,null,null,null,null,null,null,{"$f":"SUMIFS(Haushaltsbuch2[Ausgaben],Haushaltsbuch2[Kategorie],AK$4,Haushaltsbuch2[Datum],\">\"&B455,Haushaltsbuch2[Datum],\"<=\"&B456)","v":0},null,null,{"$f":"SUMIFS(Dividenden[Betrag in EUR],Dividenden[Datum],\">\"&B455,Dividenden[Datum],\"<=\"&B456)","v":0},{"$f":"SUMIFS(Optionen[G/V (Netto)],Optionen[Datum],\">\"&B455,Optionen[Datum],\"<=\"&B456)","v":0},null,0,0,null,0,0,null,{"$f":"SUMIFS(Haushaltsbuch2[Einnahmen],Haushaltsbuch2[Datum],\">\"&B455,Haushaltsbuch2[Datum],\"<=\"&B456)+AN456+AO456","v":0},null,0,null,{"$f":"SUMIFS(Haushaltsbuch2[Ausgaben],Haushaltsbuch2[Datum],\">\"&B455,Haushaltsbuch2[Datum],\"<=\"&B456)","v":0}]
[null,39386,null,null,null,null,null,null,null,null,null,null,{"$f":"SUMIFS(Haushaltsbuch2[Einnahmen],Haushaltsbuch2[Kategorie],M$4,Haushaltsbuch2[Datum],\">\"&B456,Haushaltsbuch2[Datum],\"<=\"&B457)","v":0},{"$f":"SUMIFS(Haushaltsbuch2[Einnahmen],Haushaltsbuch2[Kategorie],N$4,Haushaltsbuch2[Datum],\">\"&B456,Haushaltsbuch2[Datum],\"<=\"&B457)","v":0},{"$f":"SUMIFS(Haushaltsbuch2[Einnahmen],Haushaltsbuch2[Kategorie],O$4,Haushaltsbuch2[Datum],\">\"&B456,Haushaltsbuch2[Datum],\"<=\"&B457)","v":0},{"$f":"SUMIFS(Haushaltsbuch2[Einnahmen],Haushaltsbuch2[Kategorie],P$4,Haushaltsbuch2[Datum],\">\"&B456,Haushaltsbuch2[Datum],\"<=\"&B457)","v":0},{"$f":"SUMIFS(Haushaltsbuch2[Einnahmen],Haushaltsbuch2[Kategorie],Q$4,Haushaltsbuch2[Datum],\">\"&B456,Haushaltsbuch2[Datum],\"<=\"&B457)","v":0},{"$f":"SUMIFS(Haushaltsbuch2[Einnahmen],Haushaltsbuch2[Kategorie],R$4,Haushaltsbuch2[Datum],\">\"&B456,Haushaltsbuch2[Datum],\"<=\"&B457)","v":0},null,null,null,null,null,null,null,null,null,null,null,null,null,null,null,null,null,null,{"$f":"SUMIFS(Haushaltsbuch2[Ausgaben],Haushaltsbuch2[Kategorie],AK$4,Haushaltsbuch2[Datum],\">\"&B456,Haushaltsbuch2[Datum],\"<=\"&B457)","v":0},null,null,{"$f":"SUMIFS(Dividenden[Betrag in EUR],Dividenden[Datum],\">\"&B456,Dividenden[Datum],\"<=\"&B457)","v":0},{"$f":"SUMIFS(Optionen[G/V (Netto)],Optionen[Datum],\">\"&B456,Optionen[Datum],\"<=\"&B457)","v":0},null,0,0,null,0,0,null,{"$f":"SUMIFS(Haushaltsbuch2[Einnahmen],Haushaltsbuch2[Datum],\">\"&B456,Haushaltsbuch2[Datum],\"<=\"&B457)+AN457+AO457","v":0},null,0,null,{"$f":"SUMIFS(Haushaltsbuch2[Ausgaben],Haushaltsbuch2[Datum],\">\"&B456,Haushaltsbuch2[Datum],\"<=\"&B457)","v":0}]
[null,39416,null,null,null,null,null,null,null,null,null,null,{"$f":"SUMIFS(Haushaltsbuch2[Einnahmen],Haushaltsbuch2[Kategorie],M$4,Haushaltsbuch2[Datum],\">\"&B457,Haushaltsbuch2[Datum],\"<=\"&B458)","v":0},{"$f":"SUMIFS(Haushaltsbuch2[Einnahmen],Haushaltsbuch2[Kategorie],N$4,Haushaltsbuch2[Datum],\">\"&B457,Haushaltsbuch2[Datum],\"<=\"&B458)","v":0},{"$f":"SUMIFS(Haushaltsbuch2[Einnahmen],Haushaltsbuch2[Kategorie],O$4,Haushaltsbuch2[Datum],\">\"&B457,Haushaltsbuch2[Datum],\"<=\"&B458)","v":0},{"$f":"SUMIFS(Haushaltsbuch2[Einnahmen],Haushaltsbuch2[Kategorie],P$4,Haushaltsbuch2[Datum],\">\"&B457,Haushaltsbuch2[Datum],\"<=\"&B458)","v":0},{"$f":"SUMIFS(Haushaltsbuch2[Einnahmen],Haushaltsbuch2[Kategorie],Q$4,Haushaltsbuch2[Datum],\">\"&B457,Haushaltsbuch2[Datum],\"<=\"&B458)","v":0},{"$f":"SUMIFS(Haushaltsbuch2[Einnahmen],Haushaltsbuch2[Kategorie],R$4,Haushaltsbuch2[Datum],\">\"&B457,Haushaltsbuch2[Datum],\"<=\"&B458)","v":0},null,null,null,null,null,null,null,null,null,null,null,null,null,null,null,null,null,null,{"$f":"SUMIFS(Haushaltsbuch2[Ausgaben],Haushaltsbuch2[Kategorie],AK$4,Haushaltsbuch2[Datum],\">\"&B457,Haushaltsbuch2[Datum],\"<=\"&B458)","v":0},null,null,{"$f":"SUMIFS(Dividenden[Betrag in EUR],Dividenden[Datum],\">\"&B457,Dividenden[Datum],\"<=\"&B458)","v":0},{"$f":"SUMIFS(Optionen[G/V (Netto)],Optionen[Datum],\">\"&B457,Optionen[Datum],\"<=\"&B458)","v":0},null,0,0,null,0,0,null,{"$f":"SUMIFS(Haushaltsbuch2[Einnahmen],Haushaltsbuch2[Datum],\">\"&B457,Haushaltsbuch2[Datum],\"<=\"&B458)+AN458+AO458","v":0},null,0,null,{"$f":"SUMIFS(Haushaltsbuch2[Ausgaben],Haushaltsbuch2[Datum],\">\"&B457,Haushaltsbuch2[Datum],\"<=\"&B458)","v":0}]
[null,39447,null,null,null,null,null,null,null,null,null,null,{"$f":"SUMIFS(Haushaltsbuch2[Einnahmen],Haushaltsbuch2[Kategorie],M$4,Haushaltsbuch2[Datum],\">\"&B458,Haushaltsbuch2[Datum],\"<=\"&B459)","v":0},{"$f":"SUMIFS(Haushaltsbuch2[Einnahmen],Haushaltsbuch2[Kategorie],N$4,Haushaltsbuch2[Datum],\">\"&B458,Haushaltsbuch2[Datum],\"<=\"&B459)","v":0},{"$f":"SUMIFS(Haushaltsbuch2[Einnahmen],Haushaltsbuch2[Kategorie],O$4,Haushaltsbuch2[Datum],\">\"&B458,Haushaltsbuch2[Datum],\"<=\"&B459)","v":0},{"$f":"SUMIFS(Haushaltsbuch2[Einnahmen],Haushaltsbuch2[Kategorie],P$4,Haushaltsbuch2[Datum],\">\"&B458,Haushaltsbuch2[Datum],\"<=\"&B459)","v":0},{"$f":"SUMIFS(Haushaltsbuch2[Einnahmen],Haushaltsbuch2[Kategorie],Q$4,Haushaltsbuch2[Datum],\">\"&B458,Haushaltsbuch2[Datum],\"<=\"&B459)","v":0},{"$f":"SUMIFS(Haushaltsbuch2[Einnahmen],Haushaltsbuch2[Kategorie],R$4,Haushaltsbuch2[Datum],\">\"&B458,Haushaltsbuch2[Datum],\"<=\"&B459)","v":0},null,null,null,null,null,null,null,null,null,null,null,null,null,null,null,null,null,null,{"$f":"SUMIFS(Haushaltsbuch2[Ausgaben],Haushaltsbuch2[Kategorie],AK$4,Haushaltsbuch2[Datum],\">\"&B458,Haushaltsbuch2[Datum],\"<=\"&B459)","v":0},null,null,{"$f":"SUMIFS(Dividenden[Betrag in EUR],Dividenden[Datum],\">\"&B458,Dividenden[Datum],\"<=\"&B459)","v":0},{"$f":"SUMIFS(Optionen[G/V (Netto)],Optionen[Datum],\">\"&B458,Optionen[Datum],\"<=\"&B459)","v":0},null,0,0,null,0,0,null,{"$f":"SUMIFS(Haushaltsbuch2[Einnahmen],Haushaltsbuch2[Datum],\">\"&B458,Haushaltsbuch2[Datum],\"<=\"&B459)+AN459+AO459","v":0},null,0,null,{"$f":"SUMIFS(Haushaltsbuch2[Ausgaben],Haushaltsbuch2[Datum],\">\"&B458,Haushaltsbuch2[Datum],\"<=\"&B459)","v":0}]
[null,39478,null,null,null,null,null,null,null,null,null,null,{"$f":"SUMIFS(Haushaltsbuch2[Einnahmen],Haushaltsbuch2[Kategorie],M$4,Haushaltsbuch2[Datum],\">\"&B459,Haushaltsbuch2[Datum],\"<=\"&B460)","v":0},{"$f":"SUMIFS(Haushaltsbuch2[Einnahmen],Haushaltsbuch2[Kategorie],N$4,Haushaltsbuch2[Datum],\">\"&B459,Haushaltsbuch2[Datum],\"<=\"&B460)","v":0},{"$f":"SUMIFS(Haushaltsbuch2[Einnahmen],Haushaltsbuch2[Kategorie],O$4,Haushaltsbuch2[Datum],\">\"&B459,Haushaltsbuch2[Datum],\"<=\"&B460)","v":0},{"$f":"SUMIFS(Haushaltsbuch2[Einnahmen],Haushaltsbuch2[Kategorie],P$4,Haushaltsbuch2[Datum],\">\"&B459,Haushaltsbuch2[Datum],\"<=\"&B460)","v":0},{"$f":"SUMIFS(Haushaltsbuch2[Einnahmen],Haushaltsbuch2[Kategorie],Q$4,Haushaltsbuch2[Datum],\">\"&B459,Haushaltsbuch2[Datum],\"<=\"&B460)","v":0},{"$f":"SUMIFS(Haushaltsbuch2[Einnahmen],Haushaltsbuch2[Kategorie],R$4,Haushaltsbuch2[Datum],\">\"&B459,Haushaltsbuch2[Datum],\"<=\"&B460)","v":0},null,null,null,null,null,null,null,null,null,null,null,null,null,null,null,null,null,null,{"$f":"SUMIFS(Haushaltsbuch2[Ausgaben],Haushaltsbuch2[Kategorie],AK$4,Haushaltsbuch2[Datum],\">\"&B459,Haushaltsbuch2[Datum],\"<=\"&B460)","v":0},null,null,{"$f":"SUMIFS(Dividenden[Betrag in EUR],Dividenden[Datum],\">\"&B459,Dividenden[Datum],\"<=\"&B460)","v":0},{"$f":"SUMIFS(Optionen[G/V (Netto)],Optionen[Datum],\">\"&B459,Optionen[Datum],\"<=\"&B460)","v":0},null,0,0,null,0,0,null,{"$f":"SUMIFS(Haushaltsbuch2[Einnahmen],Haushaltsbuch2[Datum],\">\"&B459,Haushaltsbuch2[Datum],\"<=\"&B460)+AN460+AO460","v":0},null,0,null,{"$f":"SUMIFS(Haushaltsbuch2[Ausgaben],Haushaltsbuch2[Datum],\">\"&B459,Haushaltsbuch2[Datum],\"<=\"&B460)","v":0}]
[null,39507,null,null,null,null,null,null,null,null,null,null,{"$f":"SUMIFS(Haushaltsbuch2[Einnahmen],Haushaltsbuch2[Kategorie],M$4,Haushaltsbuch2[Datum],\">\"&B460,Haushaltsbuch2[Datum],\"<=\"&B461)","v":0},{"$f":"SUMIFS(Haushaltsbuch2[Einnahmen],Haushaltsbuch2[Kategorie],N$4,Haushaltsbuch2[Datum],\">\"&B460,Haushaltsbuch2[Datum],\"<=\"&B461)","v":0},{"$f":"SUMIFS(Haushaltsbuch2[Einnahmen],Haushaltsbuch2[Kategorie],O$4,Haushaltsbuch2[Datum],\">\"&B460,Haushaltsbuch2[Datum],\"<=\"&B461)","v":0},{"$f":"SUMIFS(Haushaltsbuch2[Einnahmen],Haushaltsbuch2[Kategorie],P$4,Haushaltsbuch2[Datum],\">\"&B460,Haushaltsbuch2[Datum],\"<=\"&B461)","v":0},{"$f":"SUMIFS(Haushaltsbuch2[Einnahmen],Haushaltsbuch2[Kategorie],Q$4,Haushaltsbuch2[Datum],\">\"&B460,Haushaltsbuch2[Datum],\"<=\"&B461)","v":0},{"$f":"SUMIFS(Haushaltsbuch2[Einnahmen],Haushaltsbuch2[Kategorie],R$4,Haushaltsbuch2[Datum],\">\"&B460,Haushaltsbuch2[Datum],\"<=\"&B461)","v":0},null,null,null,null,null,null,null,null,null,null,null,null,null,null,null,null,null,null,{"$f":"SUMIFS(Haushaltsbuch2[Ausgaben],Haushaltsbuch2[Kategorie],AK$4,Haushaltsbuch2[Datum],\">\"&B460,Haushaltsbuch2[Datum],\"<=\"&B461)","v":0},null,null,{"$f":"SUMIFS(Dividenden[Betrag in EUR],Dividenden[Datum],\">\"&B460,Dividenden[Datum],\"<=\"&B461)","v":0},{"$f":"SUMIFS(Optionen[G/V (Netto)],Optionen[Datum],\">\"&B460,Optionen[Datum],\"<=\"&B461)","v":0},null,0,0,null,0,0,null,{"$f":"SUMIFS(Haushaltsbuch2[Einnahmen],Haushaltsbuch2[Datum],\">\"&B460,Haushaltsbuch2[Datum],\"<=\"&B461)+AN461+AO461","v":0},null,0,null,{"$f":"SUMIFS(Haushaltsbuch2[Ausgaben],Haushaltsbuch2[Datum],\">\"&B460,Haushaltsbuch2[Datum],\"<=\"&B461)","v":0}]
[null,39538,null,null,null,null,null,null,null,null,null,null,{"$f":"SUMIFS(Haushaltsbuch2[Einnahmen],Haushaltsbuch2[Kategorie],M$4,Haushaltsbuch2[Datum],\">\"&B461,Haushaltsbuch2[Datum],\"<=\"&B462)","v":0},{"$f":"SUMIFS(Haushaltsbuch2[Einnahmen],Haushaltsbuch2[Kategorie],N$4,Haushaltsbuch2[Datum],\">\"&B461,Haushaltsbuch2[Datum],\"<=\"&B462)","v":0},{"$f":"SUMIFS(Haushaltsbuch2[Einnahmen],Haushaltsbuch2[Kategorie],O$4,Haushaltsbuch2[Datum],\">\"&B461,Haushaltsbuch2[Datum],\"<=\"&B462)","v":0},{"$f":"SUMIFS(Haushaltsbuch2[Einnahmen],Haushaltsbuch2[Kategorie],P$4,Haushaltsbuch2[Datum],\">\"&B461,Haushaltsbuch2[Datum],\"<=\"&B462)","v":0},{"$f":"SUMIFS(Haushaltsbuch2[Einnahmen],Haushaltsbuch2[Kategorie],Q$4,Haushaltsbuch2[Datum],\">\"&B461,Haushaltsbuch2[Datum],\"<=\"&B462)","v":0},{"$f":"SUMIFS(Haushaltsbuch2[Einnahmen],Haushaltsbuch2[Kategorie],R$4,Haushaltsbuch2[Datum],\">\"&B461,Haushaltsbuch2[Datum],\"<=\"&B462)","v":0},null,null,null,null,null,null,null,null,null,null,null,null,null,null,null,null,null,null,{"$f":"SUMIFS(Haushaltsbuch2[Ausgaben],Haushaltsbuch2[Kategorie],AK$4,Haushaltsbuch2[Datum],\">\"&B461,Haushaltsbuch2[Datum],\"<=\"&B462)","v":0},null,null,{"$f":"SUMIFS(Dividenden[Betrag in EUR],Dividenden[Datum],\">\"&B461,Dividenden[Datum],\"<=\"&B462)","v":0},{"$f":"SUMIFS(Optionen[G/V (Netto)],Optionen[Datum],\">\"&B461,Optionen[Datum],\"<=\"&B462)","v":0},null,0,0,null,0,0,null,{"$f":"SUMIFS(Haushaltsbuch2[Einnahmen],Haushaltsbuch2[Datum],\">\"&B461,Haushaltsbuch2[Datum],\"<=\"&B462)+AN462+AO462","v":0},null,0,null,{"$f":"SUMIFS(Haushaltsbuch2[Ausgaben],Haushaltsbuch2[Datum],\">\"&B461,Haushaltsbuch2[Datum],\"<=\"&B462)","v":0}]
[null,39568,null,null,null,null,null,null,null,null,null,null,{"$f":"SUMIFS(Haushaltsbuch2[Einnahmen],Haushaltsbuch2[Kategorie],M$4,Haushaltsbuch2[Datum],\">\"&B462,Haushaltsbuch2[Datum],\"<=\"&B463)","v":0},{"$f":"SUMIFS(Haushaltsbuch2[Einnahmen],Haushaltsbuch2[Kategorie],N$4,Haushaltsbuch2[Datum],\">\"&B462,Haushaltsbuch2[Datum],\"<=\"&B463)","v":0},{"$f":"SUMIFS(Haushaltsbuch2[Einnahmen],Haushaltsbuch2[Kategorie],O$4,Haushaltsbuch2[Datum],\">\"&B462,Haushaltsbuch2[Datum],\"<=\"&B463)","v":0},{"$f":"SUMIFS(Haushaltsbuch2[Einnahmen],Haushaltsbuch2[Kategorie],P$4,Haushaltsbuch2[Datum],\">\"&B462,Haushaltsbuch2[Datum],\"<=\"&B463)","v":0},{"$f":"SUMIFS(Haushaltsbuch2[Einnahmen],Haushaltsbuch2[Kategorie],Q$4,Haushaltsbuch2[Datum],\">\"&B462,Haushaltsbuch2[Datum],\"<=\"&B463)","v":0},{"$f":"SUMIFS(Haushaltsbuch2[Einnahmen],Haushaltsbuch2[Kategorie],R$4,Haushaltsbuch2[Datum],\">\"&B462,Haushaltsbuch2[Datum],\"<=\"&B463)","v":0},null,null,null,null,null,null,null,null,null,null,null,null,null,null,null,null,null,null,{"$f":"SUMIFS(Haushaltsbuch2[Ausgaben],Haushaltsbuch2[Kategorie],AK$4,Haushaltsbuch2[Datum],\">\"&B462,Haushaltsbuch2[Datum],\"<=\"&B463)","v":0},null,null,{"$f":"SUMIFS(Dividenden[Betrag in EUR],Dividenden[Datum],\">\"&B462,Dividenden[Datum],\"<=\"&B463)","v":0},{"$f":"SUMIFS(Optionen[G/V (Netto)],Optionen[Datum],\">\"&B462,Optionen[Datum],\"<=\"&B463)","v":0},null,0,0,null,0,0,null,{"$f":"SUMIFS(Haushaltsbuch2[Einnahmen],Haushaltsbuch2[Datum],\">\"&B462,Haushaltsbuch2[Datum],\"<=\"&B463)+AN463+AO463","v":0},null,0,null,{"$f":"SUMIFS(Haushaltsbuch2[Ausgaben],Haushaltsbuch2[Datum],\">\"&B462,Haushaltsbuch2[Datum],\"<=\"&B463)","v":0}]
[null,39599,null,null,null,null,null,null,null,null,null,null,{"$f":"SUMIFS(Haushaltsbuch2[Einnahmen],Haushaltsbuch2[Kategorie],M$4,Haushaltsbuch2[Datum],\">\"&B463,Haushaltsbuch2[Datum],\"<=\"&B464)","v":0},{"$f":"SUMIFS(Haushaltsbuch2[Einnahmen],Haushaltsbuch2[Kategorie],N$4,Haushaltsbuch2[Datum],\">\"&B463,Haushaltsbuch2[Datum],\"<=\"&B464)","v":0},{"$f":"SUMIFS(Haushaltsbuch2[Einnahmen],Haushaltsbuch2[Kategorie],O$4,Haushaltsbuch2[Datum],\">\"&B463,Haushaltsbuch2[Datum],\"<=\"&B464)","v":0},{"$f":"SUMIFS(Haushaltsbuch2[Einnahmen],Haushaltsbuch2[Kategorie],P$4,Haushaltsbuch2[Datum],\">\"&B463,Haushaltsbuch2[Datum],\"<=\"&B464)","v":0},{"$f":"SUMIFS(Haushaltsbuch2[Einnahmen],Haushaltsbuch2[Kategorie],Q$4,Haushaltsbuch2[Datum],\">\"&B463,Haushaltsbuch2[Datum],\"<=\"&B464)","v":0},{"$f":"SUMIFS(Haushaltsbuch2[Einnahmen],Haushaltsbuch2[Kategorie],R$4,Haushaltsbuch2[Datum],\">\"&B463,Haushaltsbuch2[Datum],\"<=\"&B464)","v":0},null,null,null,null,null,null,null,null,null,null,null,null,null,null,null,null,null,null,{"$f":"SUMIFS(Haushaltsbuch2[Ausgaben],Haushaltsbuch2[Kategorie],AK$4,Haushaltsbuch2[Datum],\">\"&B463,Haushaltsbuch2[Datum],\"<=\"&B464)","v":0},null,null,{"$f":"SUMIFS(Dividenden[Betrag in EUR],Dividenden[Datum],\">\"&B463,Dividenden[Datum],\"<=\"&B464)","v":0},{"$f":"SUMIFS(Optionen[G/V (Netto)],Optionen[Datum],\">\"&B463,Optionen[Datum],\"<=\"&B464)","v":0},null,0,0,null,0,0,null,{"$f":"SUMIFS(Haushaltsbuch2[Einnahmen],Haushaltsbuch2[Datum],\">\"&B463,Haushaltsbuch2[Datum],\"<=\"&B464)+AN464+AO464","v":0},null,0,null,{"$f":"SUMIFS(Haushaltsbuch2[Ausgaben],Haushaltsbuch2[Datum],\">\"&B463,Haushaltsbuch2[Datum],\"<=\"&B464)","v":0}]
[null,39629,null,null,null,null,null,null,null,null,null,null,{"$f":"SUMIFS(Haushaltsbuch2[Einnahmen],Haushaltsbuch2[Kategorie],M$4,Haushaltsbuch2[Datum],\">\"&B464,Haushaltsbuch2[Datum],\"<=\"&B465)","v":0},{"$f":"SUMIFS(Haushaltsbuch2[Einnahmen],Haushaltsbuch2[Kategorie],N$4,Haushaltsbuch2[Datum],\">\"&B464,Haushaltsbuch2[Datum],\"<=\"&B465)","v":0},{"$f":"SUMIFS(Haushaltsbuch2[Einnahmen],Haushaltsbuch2[Kategorie],O$4,Haushaltsbuch2[Datum],\">\"&B464,Haushaltsbuch2[Datum],\"<=\"&B465)","v":0},{"$f":"SUMIFS(Haushaltsbuch2[Einnahmen],Haushaltsbuch2[Kategorie],P$4,Haushaltsbuch2[Datum],\">\"&B464,Haushaltsbuch2[Datum],\"<=\"&B465)","v":0},{"$f":"SUMIFS(Haushaltsbuch2[Einnahmen],Haushaltsbuch2[Kategorie],Q$4,Haushaltsbuch2[Datum],\">\"&B464,Haushaltsbuch2[Datum],\"<=\"&B465)","v":0},{"$f":"SUMIFS(Haushaltsbuch2[Einnahmen],Haushaltsbuch2[Kategorie],R$4,Haushaltsbuch2[Datum],\">\"&B464,Haushaltsbuch2[Datum],\"<=\"&B465)","v":0},null,null,null,null,null,null,null,null,null,null,null,null,null,null,null,null,null,null,{"$f":"SUMIFS(Haushaltsbuch2[Ausgaben],Haushaltsbuch2[Kategorie],AK$4,Haushaltsbuch2[Datum],\">\"&B464,Haushaltsbuch2[Datum],\"<=\"&B465)","v":0},null,null,{"$f":"SUMIFS(Dividenden[Betrag in EUR],Dividenden[Datum],\">\"&B464,Dividenden[Datum],\"<=\"&B465)","v":0},{"$f":"SUMIFS(Optionen[G/V (Netto)],Optionen[Datum],\">\"&B464,Optionen[Datum],\"<=\"&B465)","v":0},null,0,0,null,0,0,null,{"$f":"SUMIFS(Haushaltsbuch2[Einnahmen],Haushaltsbuch2[Datum],\">\"&B464,Haushaltsbuch2[Datum],\"<=\"&B465)+AN465+AO465","v":0},null,0,null,{"$f":"SUMIFS(Haushaltsbuch2[Ausgaben],Haushaltsbuch2[Datum],\">\"&B464,Haushaltsbuch2[Datum],\"<=\"&B465)","v":0}]
[null,39660,null,null,null,null,null,null,null,null,null,null,{"$f":"SUMIFS(Haushaltsbuch2[Einnahmen],Haushaltsbuch2[Kategorie],M$4,Haushaltsbuch2[Datum],\">\"&B465,Haushaltsbuch2[Datum],\"<=\"&B466)","v":0},{"$f":"SUMIFS(Haushaltsbuch2[Einnahmen],Haushaltsbuch2[Kategorie],N$4,Haushaltsbuch2[Datum],\">\"&B465,Haushaltsbuch2[Datum],\"<=\"&B466)","v":0},{"$f":"SUMIFS(Haushaltsbuch2[Einnahmen],Haushaltsbuch2[Kategorie],O$4,Haushaltsbuch2[Datum],\">\"&B465,Haushaltsbuch2[Datum],\"<=\"&B466)","v":0},{"$f":"SUMIFS(Haushaltsbuch2[Einnahmen],Haushaltsbuch2[Kategorie],P$4,Haushaltsbuch2[Datum],\">\"&B465,Haushaltsbuch2[Datum],\"<=\"&B466)","v":0},{"$f":"SUMIFS(Haushaltsbuch2[Einnahmen],Haushaltsbuch2[Kategorie],Q$4,Haushaltsbuch2[Datum],\">\"&B465,Haushaltsbuch2[Datum],\"<=\"&B466)","v":0},{"$f":"SUMIFS(Haushaltsbuch2[Einnahmen],Haushaltsbuch2[Kategorie],R$4,Haushaltsbuch2[Datum],\">\"&B465,Haushaltsbuch2[Datum],\"<=\"&B466)","v":0},null,null,null,null,null,null,null,null,null,null,null,null,null,null,null,null,null,null,{"$f":"SUMIFS(Haushaltsbuch2[Ausgaben],Haushaltsbuch2[Kategorie],AK$4,Haushaltsbuch2[Datum],\">\"&B465,Haushaltsbuch2[Datum],\"<=\"&B466)","v":0},null,null,{"$f":"SUMIFS(Dividenden[Betrag in EUR],Dividenden[Datum],\">\"&B465,Dividenden[Datum],\"<=\"&B466)","v":0},{"$f":"SUMIFS(Optionen[G/V (Netto)],Optionen[Datum],\">\"&B465,Optionen[Datum],\"<=\"&B466)","v":0},null,0,0,null,0,{"$f":"AVERAGE(AT455:AT466)","v":0},null,{"$f":"SUMIFS(Haushaltsbuch2[Einnahmen],Haushaltsbuch2[Datum],\">\"&B465,Haushaltsbuch2[Datum],\"<=\"&B466)+AN466+AO466","v":0},null,{"$f":"AVERAGE(AK455:AK466)","v":0},null,{"$f":"SUMIFS(Haushaltsbuch2[Ausgaben],Haushaltsbuch2[Datum],\">\"&B465,Haushaltsbuch2[Datum],\"<=\"&B466)","v":0}]
[null,39691,null,null,null,null,null,null,null,null,null,null,{"$f":"SUMIFS(Haushaltsbuch2[Einnahmen],Haushaltsbuch2[Kategorie],M$4,Haushaltsbuch2[Datum],\">\"&B466,Haushaltsbuch2[Datum],\"<=\"&B467)","v":0},{"$f":"SUMIFS(Haushaltsbuch2[Einnahmen],Haushaltsbuch2[Kategorie],N$4,Haushaltsbuch2[Datum],\">\"&B466,Haushaltsbuch2[Datum],\"<=\"&B467)","v":0},{"$f":"SUMIFS(Haushaltsbuch2[Einnahmen],Haushaltsbuch2[Kategorie],O$4,Haushaltsbuch2[Datum],\">\"&B466,Haushaltsbuch2[Datum],\"<=\"&B467)","v":0},{"$f":"SUMIFS(Haushaltsbuch2[Einnahmen],Haushaltsbuch2[Kategorie],P$4,Haushaltsbuch2[Datum],\">\"&B466,Haushaltsbuch2[Datum],\"<=\"&B467)","v":0},{"$f":"SUMIFS(Haushaltsbuch2[Einnahmen],Haushaltsbuch2[Kategorie],Q$4,Haushaltsbuch2[Datum],\">\"&B466,Haushaltsbuch2[Datum],\"<=\"&B467)","v":0},{"$f":"SUMIFS(Haushaltsbuch2[Einnahmen],Haushaltsbuch2[Kategorie],R$4,Haushaltsbuch2[Datum],\">\"&B466,Haushaltsbuch2[Datum],\"<=\"&B467)","v":0},null,null,null,null,null,null,null,null,null,null,null,null,null,null,null,null,null,null,{"$f":"SUMIFS(Haushaltsbuch2[Ausgaben],Haushaltsbuch2[Kategorie],AK$4,Haushaltsbuch2[Datum],\">\"&B466,Haushaltsbuch2[Datum],\"<=\"&B467)","v":0},null,null,{"$f":"SUMIFS(Dividenden[Betrag in EUR],Dividenden[Datum],\">\"&B466,Dividenden[Datum],\"<=\"&B467)","v":0},{"$f":"SUMIFS(Optionen[G/V (Netto)],Optionen[Datum],\">\"&B466,Optionen[Datum],\"<=\"&B467)","v":0},null,0,0,null,0,0,null,{"$f":"SUMIFS(Haushaltsbuch2[Einnahmen],Haushaltsbuch2[Datum],\">\"&B466,Haushaltsbuch2[Datum],\"<=\"&B467)+AN467+AO467","v":0},null,0,null,{"$f":"SUMIFS(Haushaltsbuch2[Ausgaben],Haushaltsbuch2[Datum],\">\"&B466,Haushaltsbuch2[Datum],\"<=\"&B467)","v":0}]
[null,39721,null,null,null,null,null,null,null,null,null,null,{"$f":"SUMIFS(Haushaltsbuch2[Einnahmen],Haushaltsbuch2[Kategorie],M$4,Haushaltsbuch2[Datum],\">\"&B467,Haushaltsbuch2[Datum],\"<=\"&B468)","v":0},{"$f":"SUMIFS(Haushaltsbuch2[Einnahmen],Haushaltsbuch2[Kategorie],N$4,Haushaltsbuch2[Datum],\">\"&B467,Haushaltsbuch2[Datum],\"<=\"&B468)","v":0},{"$f":"SUMIFS(Haushaltsbuch2[Einnahmen],Haushaltsbuch2[Kategorie],O$4,Haushaltsbuch2[Datum],\">\"&B467,Haushaltsbuch2[Datum],\"<=\"&B468)","v":0},{"$f":"SUMIFS(Haushaltsbuch2[Einnahmen],Haushaltsbuch2[Kategorie],P$4,Haushaltsbuch2[Datum],\">\"&B467,Haushaltsbuch2[Datum],\"<=\"&B468)","v":0},{"$f":"SUMIFS(Haushaltsbuch2[Einnahmen],Haushaltsbuch2[Kategorie],Q$4,Haushaltsbuch2[Datum],\">\"&B467,Haushaltsbuch2[Datum],\"<=\"&B468)","v":0},{"$f":"SUMIFS(Haushaltsbuch2[Einnahmen],Haushaltsbuch2[Kategorie],R$4,Haushaltsbuch2[Datum],\">\"&B467,Haushaltsbuch2[Datum],\"<=\"&B468)","v":0},null,null,null,null,null,null,null,null,null,null,null,null,null,null,null,null,null,null,{"$f":"SUMIFS(Haushaltsbuch2[Ausgaben],Haushaltsbuch2[Kategorie],AK$4,Haushaltsbuch2[Datum],\">\"&B467,Haushaltsbuch2[Datum],\"<=\"&B468)","v":0},null,null,{"$f":"SUMIFS(Dividenden[Betrag in EUR],Dividenden[Datum],\">\"&B467,Dividenden[Datum],\"<=\"&B468)","v":0},{"$f":"SUMIFS(Optionen[G/V (Netto)],Optionen[Datum],\">\"&B467,Optionen[Datum],\"<=\"&B468)","v":0},null,0,0,null,0,0,null,{"$f":"SUMIFS(Haushaltsbuch2[Einnahmen],Haushaltsbuch2[Datum],\">\"&B467,Haushaltsbuch2[Datum],\"<=\"&B468)+AN468+AO468","v":0},null,0,null,{"$f":"SUMIFS(Haushaltsbuch2[Ausgaben],Haushaltsbuch2[Datum],\">\"&B467,Haushaltsbuch2[Datum],\"<=\"&B468)","v":0}]
[null,39752,null,null,null,null,null,null,null,null,null,null,{"$f":"SUMIFS(Haushaltsbuch2[Einnahmen],Haushaltsbuch2[Kategorie],M$4,Haushaltsbuch2[Datum],\">\"&B468,Haushaltsbuch2[Datum],\"<=\"&B469)","v":0},{"$f":"SUMIFS(Haushaltsbuch2[Einnahmen],Haushaltsbuch2[Kategorie],N$4,Haushaltsbuch2[Datum],\">\"&B468,Haushaltsbuch2[Datum],\"<=\"&B469)","v":0},{"$f":"SUMIFS(Haushaltsbuch2[Einnahmen],Haushaltsbuch2[Kategorie],O$4,Haushaltsbuch2[Datum],\">\"&B468,Haushaltsbuch2[Datum],\"<=\"&B469)","v":0},{"$f":"SUMIFS(Haushaltsbuch2[Einnahmen],Haushaltsbuch2[Kategorie],P$4,Haushaltsbuch2[Datum],\">\"&B468,Haushaltsbuch2[Datum],\"<=\"&B469)","v":0},{"$f":"SUMIFS(Haushaltsbuch2[Einnahmen],Haushaltsbuch2[Kategorie],Q$4,Haushaltsbuch2[Datum],\">\"&B468,Haushaltsbuch2[Datum],\"<=\"&B469)","v":0},{"$f":"SUMIFS(Haushaltsbuch2[Einnahmen],Haushaltsbuch2[Kategorie],R$4,Haushaltsbuch2[Datum],\">\"&B468,Haushaltsbuch2[Datum],\"<=\"&B469)","v":0},null,null,null,null,null,null,null,null,null,null,null,null,null,null,null,null,null,null,{"$f":"SUMIFS(Haushaltsbuch2[Ausgaben],Haushaltsbuch2[Kategorie],AK$4,Haushaltsbuch2[Datum],\">\"&B468,Haushaltsbuch2[Datum],\"<=\"&B469)","v":0},null,null,{"$f":"SUMIFS(Dividenden[Betrag in EUR],Dividenden[Datum],\">\"&B468,Dividenden[Datum],\"<=\"&B469)","v":0},{"$f":"SUMIFS(Optionen[G/V (Netto)],Optionen[Datum],\">\"&B468,Optionen[Datum],\"<=\"&B469)","v":0},null,0,0,null,0,0,null,{"$f":"SUMIFS(Haushaltsbuch2[Einnahmen],Haushaltsbuch2[Datum],\">\"&B468,Haushaltsbuch2[Datum],\"<=\"&B469)+AN469+AO469","v":0},null,0,null,{"$f":"SUMIFS(Haushaltsbuch2[Ausgaben],Haushaltsbuch2[Datum],\">\"&B468,Haushaltsbuch2[Datum],\"<=\"&B469)","v":0}]
[null,39782,null,null,null,null,null,null,null,null,null,null,{"$f":"SUMIFS(Haushaltsbuch2[Einnahmen],Haushaltsbuch2[Kategorie],M$4,Haushaltsbuch2[Datum],\">\"&B469,Haushaltsbuch2[Datum],\"<=\"&B470)","v":0},{"$f":"SUMIFS(Haushaltsbuch2[Einnahmen],Haushaltsbuch2[Kategorie],N$4,Haushaltsbuch2[Datum],\">\"&B469,Haushaltsbuch2[Datum],\"<=\"&B470)","v":0},{"$f":"SUMIFS(Haushaltsbuch2[Einnahmen],Haushaltsbuch2[Kategorie],O$4,Haushaltsbuch2[Datum],\">\"&B469,Haushaltsbuch2[Datum],\"<=\"&B470)","v":0},{"$f":"SUMIFS(Haushaltsbuch2[Einnahmen],Haushaltsbuch2[Kategorie],P$4,Haushaltsbuch2[Datum],\">\"&B469,Haushaltsbuch2[Datum],\"<=\"&B470)","v":0},{"$f":"SUMIFS(Haushaltsbuch2[Einnahmen],Haushaltsbuch2[Kategorie],Q$4,Haushaltsbuch2[Datum],\">\"&B469,Haushaltsbuch2[Datum],\"<=\"&B470)","v":0},{"$f":"SUMIFS(Haushaltsbuch2[Einnahmen],Haushaltsbuch2[Kategorie],R$4,Haushaltsbuch2[Datum],\">\"&B469,Haushaltsbuch2[Datum],\"<=\"&B470)","v":0},null,null,null,null,null,null,null,null,null,null,null,null,null,null,null,null,null,null,{"$f":"SUMIFS(Haushaltsbuch2[Ausgaben],Haushaltsbuch2[Kategorie],AK$4,Haushaltsbuch2[Datum],\">\"&B469,Haushaltsbuch2[Datum],\"<=\"&B470)","v":0},null,null,{"$f":"SUMIFS(Dividenden[Betrag in EUR],Dividenden[Datum],\">\"&B469,Dividenden[Datum],\"<=\"&B470)","v":0},{"$f":"SUMIFS(Optionen[G/V (Netto)],Optionen[Datum],\">\"&B469,Optionen[Datum],\"<=\"&B470)","v":0},null,0,0,null,0,0,null,{"$f":"SUMIFS(Haushaltsbuch2[Einnahmen],Haushaltsbuch2[Datum],\">\"&B469,Haushaltsbuch2[Datum],\"<=\"&B470)+AN470+AO470","v":0},null,0,null,{"$f":"SUMIFS(Haushaltsbuch2[Ausgaben],Haushaltsbuch2[Datum],\">\"&B469,Haushaltsbuch2[Datum],\"<=\"&B470)","v":0}]
[null,39813,null,null,null,null,null,null,null,null,null,null,{"$f":"SUMIFS(Haushaltsbuch2[Einnahmen],Haushaltsbuch2[Kategorie],M$4,Haushaltsbuch2[Datum],\">\"&B470,Haushaltsbuch2[Datum],\"<=\"&B471)","v":0},{"$f":"SUMIFS(Haushaltsbuch2[Einnahmen],Haushaltsbuch2[Kategorie],N$4,Haushaltsbuch2[Datum],\">\"&B470,Haushaltsbuch2[Datum],\"<=\"&B471)","v":0},{"$f":"SUMIFS(Haushaltsbuch2[Einnahmen],Haushaltsbuch2[Kategorie],O$4,Haushaltsbuch2[Datum],\">\"&B470,Haushaltsbuch2[Datum],\"<=\"&B471)","v":0},{"$f":"SUMIFS(Haushaltsbuch2[Einnahmen],Haushaltsbuch2[Kategorie],P$4,Haushaltsbuch2[Datum],\">\"&B470,Haushaltsbuch2[Datum],\"<=\"&B471)","v":0},{"$f":"SUMIFS(Haushaltsbuch2[Einnahmen],Haushaltsbuch2[Kategorie],Q$4,Haushaltsbuch2[Datum],\">\"&B470,Haushaltsbuch2[Datum],\"<=\"&B471)","v":0},{"$f":"SUMIFS(Haushaltsbuch2[Einnahmen],Haushaltsbuch2[Kategorie],R$4,Haushaltsbuch2[Datum],\">\"&B470,Haushaltsbuch2[Datum],\"<=\"&B471)","v":0},null,null,null,null,null,null,null,null,null,null,null,null,null,null,null,null,null,null,{"$f":"SUMIFS(Haushaltsbuch2[Ausgaben],Haushaltsbuch2[Kategorie],AK$4,Haushaltsbuch2[Datum],\">\"&B470,Haushaltsbuch2[Datum],\"<=\"&B471)","v":0},null,null,{"$f":"SUMIFS(Dividenden[Betrag in EUR],Dividenden[Datum],\">\"&B470,Dividenden[Datum],\"<=\"&B471)","v":0},{"$f":"SUMIFS(Optionen[G/V (Netto)],Optionen[Datum],\">\"&B470,Optionen[Datum],\"<=\"&B471)","v":0},null,0,0,null,0,0,null,{"$f":"SUMIFS(Haushaltsbuch2[Einnahmen],Haushaltsbuch2[Datum],\">\"&B470,Haushaltsbuch2[Datum],\"<=\"&B471)+AN471+AO471","v":0},null,0,null,{"$f":"SUMIFS(Haushaltsbuch2[Ausgaben],Haushaltsbuch2[Datum],\">\"&B470,Haushaltsbuch2[Datum],\"<=\"&B471)","v":0}]
[null,39844,null,null,null,null,null,null,null,null,null,null,{"$f":"SUMIFS(Haushaltsbuch2[Einnahmen],Haushaltsbuch2[Kategorie],M$4,Haushaltsbuch2[Datum],\">\"&B471,Haushaltsbuch2[Datum],\"<=\"&B472)","v":0},{"$f":"SUMIFS(Haushaltsbuch2[Einnahmen],Haushaltsbuch2[Kategorie],N$4,Haushaltsbuch2[Datum],\">\"&B471,Haushaltsbuch2[Datum],\"<=\"&B472)","v":0},{"$f":"SUMIFS(Haushaltsbuch2[Einnahmen],Haushaltsbuch2[Kategorie],O$4,Haushaltsbuch2[Datum],\">\"&B471,Haushaltsbuch2[Datum],\"<=\"&B472)","v":0},{"$f":"SUMIFS(Haushaltsbuch2[Einnahmen],Haushaltsbuch2[Kategorie],P$4,Haushaltsbuch2[Datum],\">\"&B471,Haushaltsbuch2[Datum],\"<=\"&B472)","v":0},{"$f":"SUMIFS(Haushaltsbuch2[Einnahmen],Haushaltsbuch2[Kategorie],Q$4,Haushaltsbuch2[Datum],\">\"&B471,Haushaltsbuch2[Datum],\"<=\"&B472)","v":0},{"$f":"SUMIFS(Haushaltsbuch2[Einnahmen],Haushaltsbuch2[Kategorie],R$4,Haushaltsbuch2[Datum],\">\"&B471,Haushaltsbuch2[Datum],\"<=\"&B472)","v":0},null,null,null,null,null,null,null,null,null,null,null,null,null,null,null,null,null,null,{"$f":"SUMIFS(Haushaltsbuch2[Ausgaben],Haushaltsbuch2[Kategorie],AK$4,Haushaltsbuch2[Datum],\">\"&B471,Haushaltsbuch2[Datum],\"<=\"&B472)","v":0},null,null,{"$f":"SUMIFS(Dividenden[Betrag in EUR],Dividenden[Datum],\">\"&B471,Dividenden[Datum],\"<=\"&B472)","v":0},{"$f":"SUMIFS(Optionen[G/V (Netto)],Optionen[Datum],\">\"&B471,Optionen[Datum],\"<=\"&B472)","v":0},null,0,0,null,0,0,null,{"$f":"SUMIFS(Haushaltsbuch2[Einnahmen],Haushaltsbuch2[Datum],\">\"&B471,Haushaltsbuch2[Datum],\"<=\"&B472)+AN472+AO472","v":0},null,0,null,{"$f":"SUMIFS(Haushaltsbuch2[Ausgaben],Haushaltsbuch2[Datum],\">\"&B471,Haushaltsbuch2[Datum],\"<=\"&B472)","v":0}]
[null,39872,null,null,null,null,null,null,null,null,null,null,{"$f":"SUMIFS(Haushaltsbuch2[Einnahmen],Haushaltsbuch2[Kategorie],M$4,Haushaltsbuch2[Datum],\">\"&B472,Haushaltsbuch2[Datum],\"<=\"&B473)","v":0},{"$f":"SUMIFS(Haushaltsbuch2[Einnahmen],Haushaltsbuch2[Kategorie],N$4,Haushaltsbuch2[Datum],\">\"&B472,Haushaltsbuch2[Datum],\"<=\"&B473)","v":0},{"$f":"SUMIFS(Haushaltsbuch2[Einnahmen],Haushaltsbuch2[Kategorie],O$4,Haushaltsbuch2[Datum],\">\"&B472,Haushaltsbuch2[Datum],\"<=\"&B473)","v":0},{"$f":"SUMIFS(Haushaltsbuch2[Einnahmen],Haushaltsbuch2[Kategorie],P$4,Haushaltsbuch2[Datum],\">\"&B472,Haushaltsbuch2[Datum],\"<=\"&B473)","v":0},{"$f":"SUMIFS(Haushaltsbuch2[Einnahmen],Haushaltsbuch2[Kategorie],Q$4,Haushaltsbuch2[Datum],\">\"&B472,Haushaltsbuch2[Datum],\"<=\"&B473)","v":0},{"$f":"SUMIFS(Haushaltsbuch2[Einnahmen],Haushaltsbuch2[Kategorie],R$4,Haushaltsbuch2[Datum],\">\"&B472,Haushaltsbuch2[Datum],\"<=\"&B473)","v":0},null,null,null,null,null,null,null,null,null,null,null,null,null,null,null,null,null,null,{"$f":"SUMIFS(Haushaltsbuch2[Ausgaben],Haushaltsbuch2[Kategorie],AK$4,Haushaltsbuch2[Datum],\">\"&B472,Haushaltsbuch2[Datum],\"<=\"&B473)","v":0},null,null,{"$f":"SUMIFS(Dividenden[Betrag in EUR],Dividenden[Datum],\">\"&B472,Dividenden[Datum],\"<=\"&B473)","v":0},{"$f":"SUMIFS(Optionen[G/V (Netto)],Optionen[Datum],\">\"&B472,Optionen[Datum],\"<=\"&B473)","v":0},null,0,0,null,0,0,null,{"$f":"SUMIFS(Haushaltsbuch2[Einnahmen],Haushaltsbuch2[Datum],\">\"&B472,Haushaltsbuch2[Datum],\"<=\"&B473)+AN473+AO473","v":0},null,0,null,{"$f":"SUMIFS(Haushaltsbuch2[Ausgaben],Haushaltsbuch2[Datum],\">\"&B472,Haushaltsbuch2[Datum],\"<=\"&B473)","v":0}]
[null,39903,null,null,null,null,null,null,null,null,null,null,{"$f":"SUMIFS(Haushaltsbuch2[Einnahmen],Haushaltsbuch2[Kategorie],M$4,Haushaltsbuch2[Datum],\">\"&B473,Haushaltsbuch2[Datum],\"<=\"&B474)","v":0},{"$f":"SUMIFS(Haushaltsbuch2[Einnahmen],Haushaltsbuch2[Kategorie],N$4,Haushaltsbuch2[Datum],\">\"&B473,Haushaltsbuch2[Datum],\"<=\"&B474)","v":0},{"$f":"SUMIFS(Haushaltsbuch2[Einnahmen],Haushaltsbuch2[Kategorie],O$4,Haushaltsbuch2[Datum],\">\"&B473,Haushaltsbuch2[Datum],\"<=\"&B474)","v":0},{"$f":"SUMIFS(Haushaltsbuch2[Einnahmen],Haushaltsbuch2[Kategorie],P$4,Haushaltsbuch2[Datum],\">\"&B473,Haushaltsbuch2[Datum],\"<=\"&B474)","v":0},{"$f":"SUMIFS(Haushaltsbuch2[Einnahmen],Haushaltsbuch2[Kategorie],Q$4,Haushaltsbuch2[Datum],\">\"&B473,Haushaltsbuch2[Datum],\"<=\"&B474)","v":0},{"$f":"SUMIFS(Haushaltsbuch2[Einnahmen],Haushaltsbuch2[Kategorie],R$4,Haushaltsbuch2[Datum],\">\"&B473,Haushaltsbuch2[Datum],\"<=\"&B474)","v":0},null,null,null,null,null,null,null,null,null,null,null,null,null,null,null,null,null,null,{"$f":"SUMIFS(Haushaltsbuch2[Ausgaben],Haushaltsbuch2[Kategorie],AK$4,Haushaltsbuch2[Datum],\">\"&B473,Haushaltsbuch2[Datum],\"<=\"&B474)","v":0},null,null,{"$f":"SUMIFS(Dividenden[Betrag in EUR],Dividenden[Datum],\">\"&B473,Dividenden[Datum],\"<=\"&B474)","v":0},{"$f":"SUMIFS(Optionen[G/V (Netto)],Optionen[Datum],\">\"&B473,Optionen[Datum],\"<=\"&B474)","v":0},null,0,0,null,0,0,null,{"$f":"SUMIFS(Haushaltsbuch2[Einnahmen],Haushaltsbuch2[Datum],\">\"&B473,Haushaltsbuch2[Datum],\"<=\"&B474)+AN474+AO474","v":0},null,0,null,{"$f":"SUMIFS(Haushaltsbuch2[Ausgaben],Haushaltsbuch2[Datum],\">\"&B473,Haushaltsbuch2[Datum],\"<=\"&B474)","v":0}]
[null,39933,null,null,null,null,null,null,null,null,null,null,{"$f":"SUMIFS(Haushaltsbuch2[Einnahmen],Haushaltsbuch2[Kategorie],M$4,Haushaltsbuch2[Datum],\">\"&B474,Haushaltsbuch2[Datum],\"<=\"&B475)","v":0},{"$f":"SUMIFS(Haushaltsbuch2[Einnahmen],Haushaltsbuch2[Kategorie],N$4,Haushaltsbuch2[Datum],\">\"&B474,Haushaltsbuch2[Datum],\"<=\"&B475)","v":0},{"$f":"SUMIFS(Haushaltsbuch2[Einnahmen],Haushaltsbuch2[Kategorie],O$4,Haushaltsbuch2[Datum],\">\"&B474,Haushaltsbuch2[Datum],\"<=\"&B475)","v":0},{"$f":"SUMIFS(Haushaltsbuch2[Einnahmen],Haushaltsbuch2[Kategorie],P$4,Haushaltsbuch2[Datum],\">\"&B474,Haushaltsbuch2[Datum],\"<=\"&B475)","v":0},{"$f":"SUMIFS(Haushaltsbuch2[Einnahmen],Haushaltsbuch2[Kategorie],Q$4,Haushaltsbuch2[Datum],\">\"&B474,Haushaltsbuch2[Datum],\"<=\"&B475)","v":0},{"$f":"SUMIFS(Haushaltsbuch2[Einnahmen],Haushaltsbuch2[Kategorie],R$4,Haushaltsbuch2[Datum],\">\"&B474,Haushaltsbuch2[Datum],\"<=\"&B475)","v":0},null,null,null,null,null,null,null,null,null,null,null,null,null,null,null,null,null,null,{"$f":"SUMIFS(Haushaltsbuch2[Ausgaben],Haushaltsbuch2[Kategorie],AK$4,Haushaltsbuch2[Datum],\">\"&B474,Haushaltsbuch2[Datum],\"<=\"&B475)","v":0},null,null,{"$f":"SUMIFS(Dividenden[Betrag in EUR],Dividenden[Datum],\">\"&B474,Dividenden[Datum],\"<=\"&B475)","v":0},{"$f":"SUMIFS(Optionen[G/V (Netto)],Optionen[Datum],\">\"&B474,Optionen[Datum],\"<=\"&B475)","v":0},null,0,0,null,0,0,null,{"$f":"SUMIFS(Haushaltsbuch2[Einnahmen],Haushaltsbuch2[Datum],\">\"&B474,Haushaltsbuch2[Datum],\"<=\"&B475)+AN475+AO475","v":0},null,0,null,{"$f":"SUMIFS(Haushaltsbuch2[Ausgaben],Haushaltsbuch2[Datum],\">\"&B474,Haushaltsbuch2[Datum],\"<=\"&B475)","v":0}]
[null,39964,null,null,null,null,null,null,null,null,null,null,{"$f":"SUMIFS(Haushaltsbuch2[Einnahmen],Haushaltsbuch2[Kategorie],M$4,Haushaltsbuch2[Datum],\">\"&B475,Haushaltsbuch2[Datum],\"<=\"&B476)","v":0},{"$f":"SUMIFS(Haushaltsbuch2[Einnahmen],Haushaltsbuch2[Kategorie],N$4,Haushaltsbuch2[Datum],\">\"&B475,Haushaltsbuch2[Datum],\"<=\"&B476)","v":0},{"$f":"SUMIFS(Haushaltsbuch2[Einnahmen],Haushaltsbuch2[Kategorie],O$4,Haushaltsbuch2[Datum],\">\"&B475,Haushaltsbuch2[Datum],\"<=\"&B476)","v":0},{"$f":"SUMIFS(Haushaltsbuch2[Einnahmen],Haushaltsbuch2[Kategorie],P$4,Haushaltsbuch2[Datum],\">\"&B475,Haushaltsbuch2[Datum],\"<=\"&B476)","v":0},{"$f":"SUMIFS(Haushaltsbuch2[Einnahmen],Haushaltsbuch2[Kategorie],Q$4,Haushaltsbuch2[Datum],\">\"&B475,Haushaltsbuch2[Datum],\"<=\"&B476)","v":0},{"$f":"SUMIFS(Haushaltsbuch2[Einnahmen],Haushaltsbuch2[Kategorie],R$4,Haushaltsbuch2[Datum],\">\"&B475,Haushaltsbuch2[Datum],\"<=\"&B476)","v":0},null,null,null,null,null,null,null,null,null,null,null,null,null,null,null,null,null,null,{"$f":"SUMIFS(Haushaltsbuch2[Ausgaben],Haushaltsbuch2[Kategorie],AK$4,Haushaltsbuch2[Datum],\">\"&B475,Haushaltsbuch2[Datum],\"<=\"&B476)","v":0},null,null,{"$f":"SUMIFS(Dividenden[Betrag in EUR],Dividenden[Datum],\">\"&B475,Dividenden[Datum],\"<=\"&B476)","v":0},{"$f":"SUMIFS(Optionen[G/V (Netto)],Optionen[Datum],\">\"&B475,Optionen[Datum],\"<=\"&B476)","v":0},null,0,0,null,0,0,null,{"$f":"SUMIFS(Haushaltsbuch2[Einnahmen],Haushaltsbuch2[Datum],\">\"&B475,Haushaltsbuch2[Datum],\"<=\"&B476)+AN476+AO476","v":0},null,0,null,{"$f":"SUMIFS(Haushaltsbuch2[Ausgaben],Haushaltsbuch2[Datum],\">\"&B475,Haushaltsbuch2[Datum],\"<=\"&B476)","v":0}]
[null,39994,null,null,null,null,null,null,null,null,null,null,{"$f":"SUMIFS(Haushaltsbuch2[Einnahmen],Haushaltsbuch2[Kategorie],M$4,Haushaltsbuch2[Datum],\">\"&B476,Haushaltsbuch2[Datum],\"<=\"&B477)","v":0},{"$f":"SUMIFS(Haushaltsbuch2[Einnahmen],Haushaltsbuch2[Kategorie],N$4,Haushaltsbuch2[Datum],\">\"&B476,Haushaltsbuch2[Datum],\"<=\"&B477)","v":0},{"$f":"SUMIFS(Haushaltsbuch2[Einnahmen],Haushaltsbuch2[Kategorie],O$4,Haushaltsbuch2[Datum],\">\"&B476,Haushaltsbuch2[Datum],\"<=\"&B477)","v":0},{"$f":"SUMIFS(Haushaltsbuch2[Einnahmen],Haushaltsbuch2[Kategorie],P$4,Haushaltsbuch2[Datum],\">\"&B476,Haushaltsbuch2[Datum],\"<=\"&B477)","v":0},{"$f":"SUMIFS(Haushaltsbuch2[Einnahmen],Haushaltsbuch2[Kategorie],Q$4,Haushaltsbuch2[Datum],\">\"&B476,Haushaltsbuch2[Datum],\"<=\"&B477)","v":0},{"$f":"SUMIFS(Haushaltsbuch2[Einnahmen],Haushaltsbuch2[Kategorie],R$4,Haushaltsbuch2[Datum],\">\"&B476,Haushaltsbuch2[Datum],\"<=\"&B477)","v":0},null,null,null,null,null,null,null,null,null,null,null,null,null,null,null,null,null,null,{"$f":"SUMIFS(Haushaltsbuch2[Ausgaben],Haushaltsbuch2[Kategorie],AK$4,Haushaltsbuch2[Datum],\">\"&B476,Haushaltsbuch2[Datum],\"<=\"&B477)","v":0},null,null,{"$f":"SUMIFS(Dividenden[Betrag in EUR],Dividenden[Datum],\">\"&B476,Dividenden[Datum],\"<=\"&B477)","v":0},{"$f":"SUMIFS(Optionen[G/V (Netto)],Optionen[Datum],\">\"&B476,Optionen[Datum],\"<=\"&B477)","v":0},null,0,0,null,0,0,null,{"$f":"SUMIFS(Haushaltsbuch2[Einnahmen],Haushaltsbuch2[Datum],\">\"&B476,Haushaltsbuch2[Datum],\"<=\"&B477)+AN477+AO477","v":0},null,0,null,{"$f":"SUMIFS(Haushaltsbuch2[Ausgaben],Haushaltsbuch2[Datum],\">\"&B476,Haushaltsbuch2[Datum],\"<=\"&B477)","v":0}]
[null,40025,null,null,null,null,null,null,null,null,null,null,{"$f":"SUMIFS(Haushaltsbuch2[Einnahmen],Haushaltsbuch2[Kategorie],M$4,Haushaltsbuch2[Datum],\">\"&B477,Haushaltsbuch2[Datum],\"<=\"&B478)","v":0},{"$f":"SUMIFS(Haushaltsbuch2[Einnahmen],Haushaltsbuch2[Kategorie],N$4,Haushaltsbuch2[Datum],\">\"&B477,Haushaltsbuch2[Datum],\"<=\"&B478)","v":0},{"$f":"SUMIFS(Haushaltsbuch2[Einnahmen],Haushaltsbuch2[Kategorie],O$4,Haushaltsbuch2[Datum],\">\"&B477,Haushaltsbuch2[Datum],\"<=\"&B478)","v":0},{"$f":"SUMIFS(Haushaltsbuch2[Einnahmen],Haushaltsbuch2[Kategorie],P$4,Haushaltsbuch2[Datum],\">\"&B477,Haushaltsbuch2[Datum],\"<=\"&B478)","v":0},{"$f":"SUMIFS(Haushaltsbuch2[Einnahmen],Haushaltsbuch2[Kategorie],Q$4,Haushaltsbuch2[Datum],\">\"&B477,Haushaltsbuch2[Datum],\"<=\"&B478)","v":0},{"$f":"SUMIFS(Haushaltsbuch2[Einnahmen],Haushaltsbuch2[Kategorie],R$4,Haushaltsbuch2[Datum],\">\"&B477,Haushaltsbuch2[Datum],\"<=\"&B478)","v":0},null,null,null,null,null,null,null,null,null,null,null,null,null,null,null,null,null,null,{"$f":"SUMIFS(Haushaltsbuch2[Ausgaben],Haushaltsbuch2[Kategorie],AK$4,Haushaltsbuch2[Datum],\">\"&B477,Haushaltsbuch2[Datum],\"<=\"&B478)","v":0},null,null,{"$f":"SUMIFS(Dividenden[Betrag in EUR],Dividenden[Datum],\">\"&B477,Dividenden[Datum],\"<=\"&B478)","v":0},{"$f":"SUMIFS(Optionen[G/V (Netto)],Optionen[Datum],\">\"&B477,Optionen[Datum],\"<=\"&B478)","v":0},null,0,0,null,0,0,null,{"$f":"SUMIFS(Haushaltsbuch2[Einnahmen],Haushaltsbuch2[Datum],\">\"&B477,Haushaltsbuch2[Datum],\"<=\"&B478)+AN478+AO478","v":0},null,0,null,{"$f":"SUMIFS(Haushaltsbuch2[Ausgaben],Haushaltsbuch2[Datum],\">\"&B477,Haushaltsbuch2[Datum],\"<=\"&B478)","v":0}]
[null,40056,null,null,null,null,null,null,null,null,null,null,{"$f":"SUMIFS(Haushaltsbuch2[Einnahmen],Haushaltsbuch2[Kategorie],M$4,Haushaltsbuch2[Datum],\">\"&B478,Haushaltsbuch2[Datum],\"<=\"&B479)","v":0},{"$f":"SUMIFS(Haushaltsbuch2[Einnahmen],Haushaltsbuch2[Kategorie],N$4,Haushaltsbuch2[Datum],\">\"&B478,Haushaltsbuch2[Datum],\"<=\"&B479)","v":0},{"$f":"SUMIFS(Haushaltsbuch2[Einnahmen],Haushaltsbuch2[Kategorie],O$4,Haushaltsbuch2[Datum],\">\"&B478,Haushaltsbuch2[Datum],\"<=\"&B479)","v":0},{"$f":"SUMIFS(Haushaltsbuch2[Einnahmen],Haushaltsbuch2[Kategorie],P$4,Haushaltsbuch2[Datum],\">\"&B478,Haushaltsbuch2[Datum],\"<=\"&B479)","v":0},{"$f":"SUMIFS(Haushaltsbuch2[Einnahmen],Haushaltsbuch2[Kategorie],Q$4,Haushaltsbuch2[Datum],\">\"&B478,Haushaltsbuch2[Datum],\"<=\"&B479)","v":0},{"$f":"SUMIFS(Haushaltsbuch2[Einnahmen],Haushaltsbuch2[Kategorie],R$4,Haushaltsbuch2[Datum],\">\"&B478,Haushaltsbuch2[Datum],\"<=\"&B479)","v":0},null,null,null,null,null,null,null,null,null,null,null,null,null,null,null,null,null,null,{"$f":"SUMIFS(Haushaltsbuch2[Ausgaben],Haushaltsbuch2[Kategorie],AK$4,Haushaltsbuch2[Datum],\">\"&B478,Haushaltsbuch2[Datum],\"<=\"&B479)","v":0},null,null,{"$f":"SUMIFS(Dividenden[Betrag in EUR],Dividenden[Datum],\">\"&B478,Dividenden[Datum],\"<=\"&B479)","v":0},{"$f":"SUMIFS(Optionen[G/V (Netto)],Optionen[Datum],\">\"&B478,Optionen[Datum],\"<=\"&B479)","v":0},null,0,0,null,0,0,null,{"$f":"SUMIFS(Haushaltsbuch2[Einnahmen],Haushaltsbuch2[Datum],\">\"&B478,Haushaltsbuch2[Datum],\"<=\"&B479)+AN479+AO479","v":0},null,0,null,{"$f":"SUMIFS(Haushaltsbuch2[Ausgaben],Haushaltsbuch2[Datum],\">\"&B478,Haushaltsbuch2[Datum],\"<=\"&B479)","v":0}]
[null,40086,null,null,null,null,null,null,null,null,null,null,{"$f":"SUMIFS(Haushaltsbuch2[Einnahmen],Haushaltsbuch2[Kategorie],M$4,Haushaltsbuch2[Datum],\">\"&B479,Haushaltsbuch2[Datum],\"<=\"&B480)","v":0},{"$f":"SUMIFS(Haushaltsbuch2[Einnahmen],Haushaltsbuch2[Kategorie],N$4,Haushaltsbuch2[Datum],\">\"&B479,Haushaltsbuch2[Datum],\"<=\"&B480)","v":0},{"$f":"SUMIFS(Haushaltsbuch2[Einnahmen],Haushaltsbuch2[Kategorie],O$4,Haushaltsbuch2[Datum],\">\"&B479,Haushaltsbuch2[Datum],\"<=\"&B480)","v":0},{"$f":"SUMIFS(Haushaltsbuch2[Einnahmen],Haushaltsbuch2[Kategorie],P$4,Haushaltsbuch2[Datum],\">\"&B479,Haushaltsbuch2[Datum],\"<=\"&B480)","v":0},{"$f":"SUMIFS(Haushaltsbuch2[Einnahmen],Haushaltsbuch2[Kategorie],Q$4,Haushaltsbuch2[Datum],\">\"&B479,Haushaltsbuch2[Datum],\"<=\"&B480)","v":0},{"$f":"SUMIFS(Haushaltsbuch2[Einnahmen],Haushaltsbuch2[Kategorie],R$4,Haushaltsbuch2[Datum],\">\"&B479,Haushaltsbuch2[Datum],\"<=\"&B480)","v":0},null,null,null,null,null,null,null,null,null,null,null,null,null,null,null,null,null,null,{"$f":"SUMIFS(Haushaltsbuch2[Ausgaben],Haushaltsbuch2[Kategorie],AK$4,Haushaltsbuch2[Datum],\">\"&B479,Haushaltsbuch2[Datum],\"<=\"&B480)","v":0},null,null,{"$f":"SUMIFS(Dividenden[Betrag in EUR],Dividenden[Datum],\">\"&B479,Dividenden[Datum],\"<=\"&B480)","v":0},{"$f":"SUMIFS(Optionen[G/V (Netto)],Optionen[Datum],\">\"&B479,Optionen[Datum],\"<=\"&B480)","v":0},null,0,0,null,0,0,null,{"$f":"SUMIFS(Haushaltsbuch2[Einnahmen],Haushaltsbuch2[Datum],\">\"&B479,Haushaltsbuch2[Datum],\"<=\"&B480)+AN480+AO480","v":0},null,0,null,{"$f":"SUMIFS(Haushaltsbuch2[Ausgaben],Haushaltsbuch2[Datum],\">\"&B479,Haushaltsbuch2[Datum],\"<=\"&B480)","v":0}]
[null,40117,null,null,null,null,null,null,null,null,null,null,{"$f":"SUMIFS(Haushaltsbuch2[Einnahmen],Haushaltsbuch2[Kategorie],M$4,Haushaltsbuch2[Datum],\">\"&B480,Haushaltsbuch2[Datum],\"<=\"&B481)","v":0},{"$f":"SUMIFS(Haushaltsbuch2[Einnahmen],Haushaltsbuch2[Kategorie],N$4,Haushaltsbuch2[Datum],\">\"&B480,Haushaltsbuch2[Datum],\"<=\"&B481)","v":0},{"$f":"SUMIFS(Haushaltsbuch2[Einnahmen],Haushaltsbuch2[Kategorie],O$4,Haushaltsbuch2[Datum],\">\"&B480,Haushaltsbuch2[Datum],\"<=\"&B481)","v":0},{"$f":"SUMIFS(Haushaltsbuch2[Einnahmen],Haushaltsbuch2[Kategorie],P$4,Haushaltsbuch2[Datum],\">\"&B480,Haushaltsbuch2[Datum],\"<=\"&B481)","v":0},{"$f":"SUMIFS(Haushaltsbuch2[Einnahmen],Haushaltsbuch2[Kategorie],Q$4,Haushaltsbuch2[Datum],\">\"&B480,Haushaltsbuch2[Datum],\"<=\"&B481)","v":0},{"$f":"SUMIFS(Haushaltsbuch2[Einnahmen],Haushaltsbuch2[Kategorie],R$4,Haushaltsbuch2[Datum],\">\"&B480,Haushaltsbuch2[Datum],\"<=\"&B481)","v":0},null,null,null,null,null,null,null,null,null,null,null,null,null,null,null,null,null,null,{"$f":"SUMIFS(Haushaltsbuch2[Ausgaben],Haushaltsbuch2[Kategorie],AK$4,Haushaltsbuch2[Datum],\">\"&B480,Haushaltsbuch2[Datum],\"<=\"&B481)","v":0},null,null,{"$f":"SUMIFS(Dividenden[Betrag in EUR],Dividenden[Datum],\">\"&B480,Dividenden[Datum],\"<=\"&B481)","v":0},{"$f":"SUMIFS(Optionen[G/V (Netto)],Optionen[Datum],\">\"&B480,Optionen[Datum],\"<=\"&B481)","v":0},null,0,0,null,0,0,null,{"$f":"SUMIFS(Haushaltsbuch2[Einnahmen],Haushaltsbuch2[Datum],\">\"&B480,Haushaltsbuch2[Datum],\"<=\"&B481)+AN481+AO481","v":0},null,0,null,{"$f":"SUMIFS(Haushaltsbuch2[Ausgaben],Haushaltsbuch2[Datum],\">\"&B480,Haushaltsbuch2[Datum],\"<=\"&B481)","v":0}]
[null,40147,null,null,null,null,null,null,null,null,null,null,{"$f":"SUMIFS(Haushaltsbuch2[Einnahmen],Haushaltsbuch2[Kategorie],M$4,Haushaltsbuch2[Datum],\">\"&B481,Haushaltsbuch2[Datum],\"<=\"&B482)","v":0},{"$f":"SUMIFS(Haushaltsbuch2[Einnahmen],Haushaltsbuch2[Kategorie],N$4,Haushaltsbuch2[Datum],\">\"&B481,Haushaltsbuch2[Datum],\"<=\"&B482)","v":0},{"$f":"SUMIFS(Haushaltsbuch2[Einnahmen],Haushaltsbuch2[Kategorie],O$4,Haushaltsbuch2[Datum],\">\"&B481,Haushaltsbuch2[Datum],\"<=\"&B482)","v":0},{"$f":"SUMIFS(Haushaltsbuch2[Einnahmen],Haushaltsbuch2[Kategorie],P$4,Haushaltsbuch2[Datum],\">\"&B481,Haushaltsbuch2[Datum],\"<=\"&B482)","v":0},{"$f":"SUMIFS(Haushaltsbuch2[Einnahmen],Haushaltsbuch2[Kategorie],Q$4,Haushaltsbuch2[Datum],\">\"&B481,Haushaltsbuch2[Datum],\"<=\"&B482)","v":0},{"$f":"SUMIFS(Haushaltsbuch2[Einnahmen],Haushaltsbuch2[Kategorie],R$4,Haushaltsbuch2[Datum],\">\"&B481,Haushaltsbuch2[Datum],\"<=\"&B482)","v":0},null,null,null,null,null,null,null,null,null,null,null,null,null,null,null,null,null,null,{"$f":"SUMIFS(Haushaltsbuch2[Ausgaben],Haushaltsbuch2[Kategorie],AK$4,Haushaltsbuch2[Datum],\">\"&B481,Haushaltsbuch2[Datum],\"<=\"&B482)","v":0},null,null,{"$f":"SUMIFS(Dividenden[Betrag in EUR],Dividenden[Datum],\">\"&B481,Dividenden[Datum],\"<=\"&B482)","v":0},{"$f":"SUMIFS(Optionen[G/V (Netto)],Optionen[Datum],\">\"&B481,Optionen[Datum],\"<=\"&B482)","v":0},null,0,0,null,0,0,null,{"$f":"SUMIFS(Haushaltsbuch2[Einnahmen],Haushaltsbuch2[Datum],\">\"&B481,Haushaltsbuch2[Datum],\"<=\"&B482)+AN482+AO482","v":0},null,0,null,{"$f":"SUMIFS(Haushaltsbuch2[Ausgaben],Haushaltsbuch2[Datum],\">\"&B481,Haushaltsbuch2[Datum],\"<=\"&B482)","v":0}]
[null,40178,null,null,null,null,null,null,null,null,null,null,{"$f":"SUMIFS(Haushaltsbuch2[Einnahmen],Haushaltsbuch2[Kategorie],M$4,Haushaltsbuch2[Datum],\">\"&B482,Haushaltsbuch2[Datum],\"<=\"&B483)","v":0},{"$f":"SUMIFS(Haushaltsbuch2[Einnahmen],Haushaltsbuch2[Kategorie],N$4,Haushaltsbuch2[Datum],\">\"&B482,Haushaltsbuch2[Datum],\"<=\"&B483)","v":0},{"$f":"SUMIFS(Haushaltsbuch2[Einnahmen],Haushaltsbuch2[Kategorie],O$4,Haushaltsbuch2[Datum],\">\"&B482,Haushaltsbuch2[Datum],\"<=\"&B483)","v":0},{"$f":"SUMIFS(Haushaltsbuch2[Einnahmen],Haushaltsbuch2[Kategorie],P$4,Haushaltsbuch2[Datum],\">\"&B482,Haushaltsbuch2[Datum],\"<=\"&B483)","v":0},{"$f":"SUMIFS(Haushaltsbuch2[Einnahmen],Haushaltsbuch2[Kategorie],Q$4,Haushaltsbuch2[Datum],\">\"&B482,Haushaltsbuch2[Datum],\"<=\"&B483)","v":0},{"$f":"SUMIFS(Haushaltsbuch2[Einnahmen],Haushaltsbuch2[Kategorie],R$4,Haushaltsbuch2[Datum],\">\"&B482,Haushaltsbuch2[Datum],\"<=\"&B483)","v":0},null,null,null,null,null,null,null,null,null,null,null,null,null,null,null,null,null,null,{"$f":"SUMIFS(Haushaltsbuch2[Ausgaben],Haushaltsbuch2[Kategorie],AK$4,Haushaltsbuch2[Datum],\">\"&B482,Haushaltsbuch2[Datum],\"<=\"&B483)","v":0},null,null,{"$f":"SUMIFS(Dividenden[Betrag in EUR],Dividenden[Datum],\">\"&B482,Dividenden[Datum],\"<=\"&B483)","v":0},{"$f":"SUMIFS(Optionen[G/V (Netto)],Optionen[Datum],\">\"&B482,Optionen[Datum],\"<=\"&B483)","v":0},null,0,0,null,0,0,null,{"$f":"SUMIFS(Haushaltsbuch2[Einnahmen],Haushaltsbuch2[Datum],\">\"&B482,Haushaltsbuch2[Datum],\"<=\"&B483)+AN483+AO483","v":0},null,0,null,{"$f":"SUMIFS(Haushaltsbuch2[Ausgaben],Haushaltsbuch2[Datum],\">\"&B482,Haushaltsbuch2[Datum],\"<=\"&B483)","v":0}]
[null,40209,null,null,null,null,null,null,null,null,null,null,{"$f":"SUMIFS(Haushaltsbuch2[Einnahmen],Haushaltsbuch2[Kategorie],M$4,Haushaltsbuch2[Datum],\">\"&B483,Haushaltsbuch2[Datum],\"<=\"&B484)","v":0},{"$f":"SUMIFS(Haushaltsbuch2[Einnahmen],Haushaltsbuch2[Kategorie],N$4,Haushaltsbuch2[Datum],\">\"&B483,Haushaltsbuch2[Datum],\"<=\"&B484)","v":0},{"$f":"SUMIFS(Haushaltsbuch2[Einnahmen],Haushaltsbuch2[Kategorie],O$4,Haushaltsbuch2[Datum],\">\"&B483,Haushaltsbuch2[Datum],\"<=\"&B484)","v":0},{"$f":"SUMIFS(Haushaltsbuch2[Einnahmen],Haushaltsbuch2[Kategorie],P$4,Haushaltsbuch2[Datum],\">\"&B483,Haushaltsbuch2[Datum],\"<=\"&B484)","v":0},{"$f":"SUMIFS(Haushaltsbuch2[Einnahmen],Haushaltsbuch2[Kategorie],Q$4,Haushaltsbuch2[Datum],\">\"&B483,Haushaltsbuch2[Datum],\"<=\"&B484)","v":0},{"$f":"SUMIFS(Haushaltsbuch2[Einnahmen],Haushaltsbuch2[Kategorie],R$4,Haushaltsbuch2[Datum],\">\"&B483,Haushaltsbuch2[Datum],\"<=\"&B484)","v":0},null,null,null,null,null,null,null,null,null,null,null,null,null,null,null,null,null,null,{"$f":"SUMIFS(Haushaltsbuch2[Ausgaben],Haushaltsbuch2[Kategorie],AK$4,Haushaltsbuch2[Datum],\">\"&B483,Haushaltsbuch2[Datum],\"<=\"&B484)","v":0},null,null,{"$f":"SUMIFS(Dividenden[Betrag in EUR],Dividenden[Datum],\">\"&B483,Dividenden[Datum],\"<=\"&B484)","v":0},{"$f":"SUMIFS(Optionen[G/V (Netto)],Optionen[Datum],\">\"&B483,Optionen[Datum],\"<=\"&B484)","v":0},null,0,0,null,0,0,null,{"$f":"SUMIFS(Haushaltsbuch2[Einnahmen],Haushaltsbuch2[Datum],\">\"&B483,Haushaltsbuch2[Datum],\"<=\"&B484)+AN484+AO484","v":0},null,0,null,{"$f":"SUMIFS(Haushaltsbuch2[Ausgaben],Haushaltsbuch2[Datum],\">\"&B483,Haushaltsbuch2[Datum],\"<=\"&B484)","v":0}]
[null,40237,null,null,null,null,null,null,null,null,null,null,{"$f":"SUMIFS(Haushaltsbuch2[Einnahmen],Haushaltsbuch2[Kategorie],M$4,Haushaltsbuch2[Datum],\">\"&B484,Haushaltsbuch2[Datum],\"<=\"&B485)","v":0},{"$f":"SUMIFS(Haushaltsbuch2[Einnahmen],Haushaltsbuch2[Kategorie],N$4,Haushaltsbuch2[Datum],\">\"&B484,Haushaltsbuch2[Datum],\"<=\"&B485)","v":0},{"$f":"SUMIFS(Haushaltsbuch2[Einnahmen],Haushaltsbuch2[Kategorie],O$4,Haushaltsbuch2[Datum],\">\"&B484,Haushaltsbuch2[Datum],\"<=\"&B485)","v":0},{"$f":"SUMIFS(Haushaltsbuch2[Einnahmen],Haushaltsbuch2[Kategorie],P$4,Haushaltsbuch2[Datum],\">\"&B484,Haushaltsbuch2[Datum],\"<=\"&B485)","v":0},{"$f":"SUMIFS(Haushaltsbuch2[Einnahmen],Haushaltsbuch2[Kategorie],Q$4,Haushaltsbuch2[Datum],\">\"&B484,Haushaltsbuch2[Datum],\"<=\"&B485)","v":0},{"$f":"SUMIFS(Haushaltsbuch2[Einnahmen],Haushaltsbuch2[Kategorie],R$4,Haushaltsbuch2[Datum],\">\"&B484,Haushaltsbuch2[Datum],\"<=\"&B485)","v":0},null,null,null,null,null,null,null,null,null,null,null,null,null,null,null,null,null,null,{"$f":"SUMIFS(Haushaltsbuch2[Ausgaben],Haushaltsbuch2[Kategorie],AK$4,Haushaltsbuch2[Datum],\">\"&B484,Haushaltsbuch2[Datum],\"<=\"&B485)","v":0},null,null,{"$f":"SUMIFS(Dividenden[Betrag in EUR],Dividenden[Datum],\">\"&B484,Dividenden[Datum],\"<=\"&B485)","v":0},{"$f":"SUMIFS(Optionen[G/V (Netto)],Optionen[Datum],\">\"&B484,Optionen[Datum],\"<=\"&B485)","v":0},null,0,0,null,0,0,null,{"$f":"SUMIFS(Haushaltsbuch2[Einnahmen],Haushaltsbuch2[Datum],\">\"&B484,Haushaltsbuch2[Datum],\"<=\"&B485)+AN485+AO485","v":0},null,0,null,{"$f":"SUMIFS(Haushaltsbuch2[Ausgaben],Haushaltsbuch2[Datum],\">\"&B484,Haushaltsbuch2[Datum],\"<=\"&B485)","v":0}]
[null,40268,null,null,null,null,null,null,null,null,null,null,{"$f":"SUMIFS(Haushaltsbuch2[Einnahmen],Haushaltsbuch2[Kategorie],M$4,Haushaltsbuch2[Datum],\">\"&B485,Haushaltsbuch2[Datum],\"<=\"&B486)","v":0},{"$f":"SUMIFS(Haushaltsbuch2[Einnahmen],Haushaltsbuch2[Kategorie],N$4,Haushaltsbuch2[Datum],\">\"&B485,Haushaltsbuch2[Datum],\"<=\"&B486)","v":0},{"$f":"SUMIFS(Haushaltsbuch2[Einnahmen],Haushaltsbuch2[Kategorie],O$4,Haushaltsbuch2[Datum],\">\"&B485,Haushaltsbuch2[Datum],\"<=\"&B486)","v":0},{"$f":"SUMIFS(Haushaltsbuch2[Einnahmen],Haushaltsbuch2[Kategorie],P$4,Haushaltsbuch2[Datum],\">\"&B485,Haushaltsbuch2[Datum],\"<=\"&B486)","v":0},{"$f":"SUMIFS(Haushaltsbuch2[Einnahmen],Haushaltsbuch2[Kategorie],Q$4,Haushaltsbuch2[Datum],\">\"&B485,Haushaltsbuch2[Datum],\"<=\"&B486)","v":0},{"$f":"SUMIFS(Haushaltsbuch2[Einnahmen],Haushaltsbuch2[Kategorie],R$4,Haushaltsbuch2[Datum],\">\"&B485,Haushaltsbuch2[Datum],\"<=\"&B486)","v":0},null,null,null,null,null,null,null,null,null,null,null,null,null,null,null,null,null,null,{"$f":"SUMIFS(Haushaltsbuch2[Ausgaben],Haushaltsbuch2[Kategorie],AK$4,Haushaltsbuch2[Datum],\">\"&B485,Haushaltsbuch2[Datum],\"<=\"&B486)","v":0},null,null,{"$f":"SUMIFS(Dividenden[Betrag in EUR],Dividenden[Datum],\">\"&B485,Dividenden[Datum],\"<=\"&B486)","v":0},{"$f":"SUMIFS(Optionen[G/V (Netto)],Optionen[Datum],\">\"&B485,Optionen[Datum],\"<=\"&B486)","v":0},null,0,0,null,0,0,null,{"$f":"SUMIFS(Haushaltsbuch2[Einnahmen],Haushaltsbuch2[Datum],\">\"&B485,Haushaltsbuch2[Datum],\"<=\"&B486)+AN486+AO486","v":0},null,0,null,{"$f":"SUMIFS(Haushaltsbuch2[Ausgaben],Haushaltsbuch2[Datum],\">\"&B485,Haushaltsbuch2[Datum],\"<=\"&B486)","v":0}]
[null,40298,null,null,null,null,null,null,null,null,null,null,{"$f":"SUMIFS(Haushaltsbuch2[Einnahmen],Haushaltsbuch2[Kategorie],M$4,Haushaltsbuch2[Datum],\">\"&B486,Haushaltsbuch2[Datum],\"<=\"&B487)","v":0},{"$f":"SUMIFS(Haushaltsbuch2[Einnahmen],Haushaltsbuch2[Kategorie],N$4,Haushaltsbuch2[Datum],\">\"&B486,Haushaltsbuch2[Datum],\"<=\"&B487)","v":0},{"$f":"SUMIFS(Haushaltsbuch2[Einnahmen],Haushaltsbuch2[Kategorie],O$4,Haushaltsbuch2[Datum],\">\"&B486,Haushaltsbuch2[Datum],\"<=\"&B487)","v":0},{"$f":"SUMIFS(Haushaltsbuch2[Einnahmen],Haushaltsbuch2[Kategorie],P$4,Haushaltsbuch2[Datum],\">\"&B486,Haushaltsbuch2[Datum],\"<=\"&B487)","v":0},{"$f":"SUMIFS(Haushaltsbuch2[Einnahmen],Haushaltsbuch2[Kategorie],Q$4,Haushaltsbuch2[Datum],\">\"&B486,Haushaltsbuch2[Datum],\"<=\"&B487)","v":0},{"$f":"SUMIFS(Haushaltsbuch2[Einnahmen],Haushaltsbuch2[Kategorie],R$4,Haushaltsbuch2[Datum],\">\"&B486,Haushaltsbuch2[Datum],\"<=\"&B487)","v":0},null,null,null,null,null,null,null,null,null,null,null,null,null,null,null,null,null,null,{"$f":"SUMIFS(Haushaltsbuch2[Ausgaben],Haushaltsbuch2[Kategorie],AK$4,Haushaltsbuch2[Datum],\">\"&B486,Haushaltsbuch2[Datum],\"<=\"&B487)","v":0},null,null,{"$f":"SUMIFS(Dividenden[Betrag in EUR],Dividenden[Datum],\">\"&B486,Dividenden[Datum],\"<=\"&B487)","v":0},{"$f":"SUMIFS(Optionen[G/V (Netto)],Optionen[Datum],\">\"&B486,Optionen[Datum],\"<=\"&B487)","v":0},null,0,0,null,0,0,null,{"$f":"SUMIFS(Haushaltsbuch2[Einnahmen],Haushaltsbuch2[Datum],\">\"&B486,Haushaltsbuch2[Datum],\"<=\"&B487)+AN487+AO487","v":0},null,0,null,{"$f":"SUMIFS(Haushaltsbuch2[Ausgaben],Haushaltsbuch2[Datum],\">\"&B486,Haushaltsbuch2[Datum],\"<=\"&B487)","v":0}]
[null,40329,null,null,null,null,null,null,null,null,null,null,{"$f":"SUMIFS(Haushaltsbuch2[Einnahmen],Haushaltsbuch2[Kategorie],M$4,Haushaltsbuch2[Datum],\">\"&B487,Haushaltsbuch2[Datum],\"<=\"&B488)","v":0},{"$f":"SUMIFS(Haushaltsbuch2[Einnahmen],Haushaltsbuch2[Kategorie],N$4,Haushaltsbuch2[Datum],\">\"&B487,Haushaltsbuch2[Datum],\"<=\"&B488)","v":0},{"$f":"SUMIFS(Haushaltsbuch2[Einnahmen],Haushaltsbuch2[Kategorie],O$4,Haushaltsbuch2[Datum],\">\"&B487,Haushaltsbuch2[Datum],\"<=\"&B488)","v":0},{"$f":"SUMIFS(Haushaltsbuch2[Einnahmen],Haushaltsbuch2[Kategorie],P$4,Haushaltsbuch2[Datum],\">\"&B487,Haushaltsbuch2[Datum],\"<=\"&B488)","v":0},{"$f":"SUMIFS(Haushaltsbuch2[Einnahmen],Haushaltsbuch2[Kategorie],Q$4,Haushaltsbuch2[Datum],\">\"&B487,Haushaltsbuch2[Datum],\"<=\"&B488)","v":0},{"$f":"SUMIFS(Haushaltsbuch2[Einnahmen],Haushaltsbuch2[Kategorie],R$4,Haushaltsbuch2[Datum],\">\"&B487,Haushaltsbuch2[Datum],\"<=\"&B488)","v":0},null,null,null,null,null,null,null,null,null,null,null,null,null,null,null,null,null,null,{"$f":"SUMIFS(Haushaltsbuch2[Ausgaben],Haushaltsbuch2[Kategorie],AK$4,Haushaltsbuch2[Datum],\">\"&B487,Haushaltsbuch2[Datum],\"<=\"&B488)","v":0},null,null,{"$f":"SUMIFS(Dividenden[Betrag in EUR],Dividenden[Datum],\">\"&B487,Dividenden[Datum],\"<=\"&B488)","v":0},{"$f":"SUMIFS(Optionen[G/V (Netto)],Optionen[Datum],\">\"&B487,Optionen[Datum],\"<=\"&B488)","v":0},null,0,0,null,0,0,null,{"$f":"SUMIFS(Haushaltsbuch2[Einnahmen],Haushaltsbuch2[Datum],\">\"&B487,Haushaltsbuch2[Datum],\"<=\"&B488)+AN488+AO488","v":0},null,0,null,{"$f":"SUMIFS(Haushaltsbuch2[Ausgaben],Haushaltsbuch2[Datum],\">\"&B487,Haushaltsbuch2[Datum],\"<=\"&B488)","v":0}]
[null,40359,null,null,null,null,null,null,null,null,null,null,{"$f":"SUMIFS(Haushaltsbuch2[Einnahmen],Haushaltsbuch2[Kategorie],M$4,Haushaltsbuch2[Datum],\">\"&B488,Haushaltsbuch2[Datum],\"<=\"&B489)","v":0},{"$f":"SUMIFS(Haushaltsbuch2[Einnahmen],Haushaltsbuch2[Kategorie],N$4,Haushaltsbuch2[Datum],\">\"&B488,Haushaltsbuch2[Datum],\"<=\"&B489)","v":0},{"$f":"SUMIFS(Haushaltsbuch2[Einnahmen],Haushaltsbuch2[Kategorie],O$4,Haushaltsbuch2[Datum],\">\"&B488,Haushaltsbuch2[Datum],\"<=\"&B489)","v":0},{"$f":"SUMIFS(Haushaltsbuch2[Einnahmen],Haushaltsbuch2[Kategorie],P$4,Haushaltsbuch2[Datum],\">\"&B488,Haushaltsbuch2[Datum],\"<=\"&B489)","v":0},{"$f":"SUMIFS(Haushaltsbuch2[Einnahmen],Haushaltsbuch2[Kategorie],Q$4,Haushaltsbuch2[Datum],\">\"&B488,Haushaltsbuch2[Datum],\"<=\"&B489)","v":0},{"$f":"SUMIFS(Haushaltsbuch2[Einnahmen],Haushaltsbuch2[Kategorie],R$4,Haushaltsbuch2[Datum],\">\"&B488,Haushaltsbuch2[Datum],\"<=\"&B489)","v":0},null,null,null,null,null,null,null,null,null,null,null,null,null,null,null,null,null,null,{"$f":"SUMIFS(Haushaltsbuch2[Ausgaben],Haushaltsbuch2[Kategorie],AK$4,Haushaltsbuch2[Datum],\">\"&B488,Haushaltsbuch2[Datum],\"<=\"&B489)","v":0},null,null,{"$f":"SUMIFS(Dividenden[Betrag in EUR],Dividenden[Datum],\">\"&B488,Dividenden[Datum],\"<=\"&B489)","v":0},{"$f":"SUMIFS(Optionen[G/V (Netto)],Optionen[Datum],\">\"&B488,Optionen[Datum],\"<=\"&B489)","v":0},null,0,0,null,0,0,null,{"$f":"SUMIFS(Haushaltsbuch2[Einnahmen],Haushaltsbuch2[Datum],\">\"&B488,Haushaltsbuch2[Datum],\"<=\"&B489)+AN489+AO489","v":0},null,0,null,{"$f":"SUMIFS(Haushaltsbuch2[Ausgaben],Haushaltsbuch2[Datum],\">\"&B488,Haushaltsbuch2[Datum],\"<=\"&B489)","v":0}]
[null,40390,null,null,null,null,null,null,null,null,null,null,{"$f":"SUMIFS(Haushaltsbuch2[Einnahmen],Haushaltsbuch2[Kategorie],M$4,Haushaltsbuch2[Datum],\">\"&B489,Haushaltsbuch2[Datum],\"<=\"&B490)","v":0},{"$f":"SUMIFS(Haushaltsbuch2[Einnahmen],Haushaltsbuch2[Kategorie],N$4,Haushaltsbuch2[Datum],\">\"&B489,Haushaltsbuch2[Datum],\"<=\"&B490)","v":0},{"$f":"SUMIFS(Haushaltsbuch2[Einnahmen],Haushaltsbuch2[Kategorie],O$4,Haushaltsbuch2[Datum],\">\"&B489,Haushaltsbuch2[Datum],\"<=\"&B490)","v":0},{"$f":"SUMIFS(Haushaltsbuch2[Einnahmen],Haushaltsbuch2[Kategorie],P$4,Haushaltsbuch2[Datum],\">\"&B489,Haushaltsbuch2[Datum],\"<=\"&B490)","v":0},{"$f":"SUMIFS(Haushaltsbuch2[Einnahmen],Haushaltsbuch2[Kategorie],Q$4,Haushaltsbuch2[Datum],\">\"&B489,Haushaltsbuch2[Datum],\"<=\"&B490)","v":0},{"$f":"SUMIFS(Haushaltsbuch2[Einnahmen],Haushaltsbuch2[Kategorie],R$4,Haushaltsbuch2[Datum],\">\"&B489,Haushaltsbuch2[Datum],\"<=\"&B490)","v":0},null,null,null,null,null,null,null,null,null,null,null,null,null,null,null,null,null,null,{"$f":"SUMIFS(Haushaltsbuch2[Ausgaben],Haushaltsbuch2[Kategorie],AK$4,Haushaltsbuch2[Datum],\">\"&B489,Haushaltsbuch2[Datum],\"<=\"&B490)","v":0},null,null,{"$f":"SUMIFS(Dividenden[Betrag in EUR],Dividenden[Datum],\">\"&B489,Dividenden[Datum],\"<=\"&B490)","v":0},{"$f":"SUMIFS(Optionen[G/V (Netto)],Optionen[Datum],\">\"&B489,Optionen[Datum],\"<=\"&B490)","v":0},null,0,0,null,0,0,null,{"$f":"SUMIFS(Haushaltsbuch2[Einnahmen],Haushaltsbuch2[Datum],\">\"&B489,Haushaltsbuch2[Datum],\"<=\"&B490)+AN490+AO490","v":0},null,0,null,{"$f":"SUMIFS(Haushaltsbuch2[Ausgaben],Haushaltsbuch2[Datum],\">\"&B489,Haushaltsbuch2[Datum],\"<=\"&B490)","v":0}]
[null,40421,null,null,null,null,null,null,null,null,null,null,{"$f":"SUMIFS(Haushaltsbuch2[Einnahmen],Haushaltsbuch2[Kategorie],M$4,Haushaltsbuch2[Datum],\">\"&B490,Haushaltsbuch2[Datum],\"<=\"&B491)","v":0},{"$f":"SUMIFS(Haushaltsbuch2[Einnahmen],Haushaltsbuch2[Kategorie],N$4,Haushaltsbuch2[Datum],\">\"&B490,Haushaltsbuch2[Datum],\"<=\"&B491)","v":0},{"$f":"SUMIFS(Haushaltsbuch2[Einnahmen],Haushaltsbuch2[Kategorie],O$4,Haushaltsbuch2[Datum],\">\"&B490,Haushaltsbuch2[Datum],\"<=\"&B491)","v":0},{"$f":"SUMIFS(Haushaltsbuch2[Einnahmen],Haushaltsbuch2[Kategorie],P$4,Haushaltsbuch2[Datum],\">\"&B490,Haushaltsbuch2[Datum],\"<=\"&B491)","v":0},{"$f":"SUMIFS(Haushaltsbuch2[Einnahmen],Haushaltsbuch2[Kategorie],Q$4,Haushaltsbuch2[Datum],\">\"&B490,Haushaltsbuch2[Datum],\"<=\"&B491)","v":0},{"$f":"SUMIFS(Haushaltsbuch2[Einnahmen],Haushaltsbuch2[Kategorie],R$4,Haushaltsbuch2[Datum],\">\"&B490,Haushaltsbuch2[Datum],\"<=\"&B491)","v":0},null,null,null,null,null,null,null,null,null,null,null,null,null,null,null,null,null,null,{"$f":"SUMIFS(Haushaltsbuch2[Ausgaben],Haushaltsbuch2[Kategorie],AK$4,Haushaltsbuch2[Datum],\">\"&B490,Haushaltsbuch2[Datum],\"<=\"&B491)","v":0},null,null,{"$f":"SUMIFS(Dividenden[Betrag in EUR],Dividenden[Datum],\">\"&B490,Dividenden[Datum],\"<=\"&B491)","v":0},{"$f":"SUMIFS(Optionen[G/V (Netto)],Optionen[Datum],\">\"&B490,Optionen[Datum],\"<=\"&B491)","v":0},null,0,0,null,0,0,null,{"$f":"SUMIFS(Haushaltsbuch2[Einnahmen],Haushaltsbuch2[Datum],\">\"&B490,Haushaltsbuch2[Datum],\"<=\"&B491)+AN491+AO491","v":0},null,0,null,{"$f":"SUMIFS(Haushaltsbuch2[Ausgaben],Haushaltsbuch2[Datum],\">\"&B490,Haushaltsbuch2[Datum],\"<=\"&B491)","v":0}]
[null,40451,null,null,null,null,null,null,null,null,null,null,{"$f":"SUMIFS(Haushaltsbuch2[Einnahmen],Haushaltsbuch2[Kategorie],M$4,Haushaltsbuch2[Datum],\">\"&B491,Haushaltsbuch2[Datum],\"<=\"&B492)","v":0},{"$f":"SUMIFS(Haushaltsbuch2[Einnahmen],Haushaltsbuch2[Kategorie],N$4,Haushaltsbuch2[Datum],\">\"&B491,Haushaltsbuch2[Datum],\"<=\"&B492)","v":0},{"$f":"SUMIFS(Haushaltsbuch2[Einnahmen],Haushaltsbuch2[Kategorie],O$4,Haushaltsbuch2[Datum],\">\"&B491,Haushaltsbuch2[Datum],\"<=\"&B492)","v":0},{"$f":"SUMIFS(Haushaltsbuch2[Einnahmen],Haushaltsbuch2[Kategorie],P$4,Haushaltsbuch2[Datum],\">\"&B491,Haushaltsbuch2[Datum],\"<=\"&B492)","v":0},{"$f":"SUMIFS(Haushaltsbuch2[Einnahmen],Haushaltsbuch2[Kategorie],Q$4,Haushaltsbuch2[Datum],\">\"&B491,Haushaltsbuch2[Datum],\"<=\"&B492)","v":0},{"$f":"SUMIFS(Haushaltsbuch2[Einnahmen],Haushaltsbuch2[Kategorie],R$4,Haushaltsbuch2[Datum],\">\"&B491,Haushaltsbuch2[Datum],\"<=\"&B492)","v":0},null,null,null,null,null,null,null,null,null,null,null,null,null,null,null,null,null,null,{"$f":"SUMIFS(Haushaltsbuch2[Ausgaben],Haushaltsbuch2[Kategorie],AK$4,Haushaltsbuch2[Datum],\">\"&B491,Haushaltsbuch2[Datum],\"<=\"&B492)","v":0},null,null,{"$f":"SUMIFS(Dividenden[Betrag in EUR],Dividenden[Datum],\">\"&B491,Dividenden[Datum],\"<=\"&B492)","v":0},{"$f":"SUMIFS(Optionen[G/V (Netto)],Optionen[Datum],\">\"&B491,Optionen[Datum],\"<=\"&B492)","v":0},null,0,0,null,0,0,null,{"$f":"SUMIFS(Haushaltsbuch2[Einnahmen],Haushaltsbuch2[Datum],\">\"&B491,Haushaltsbuch2[Datum],\"<=\"&B492)+AN492+AO492","v":0},null,0,null,{"$f":"SUMIFS(Haushaltsbuch2[Ausgaben],Haushaltsbuch2[Datum],\">\"&B491,Haushaltsbuch2[Datum],\"<=\"&B492)","v":0}]
[null,40482,null,null,null,null,null,null,null,null,null,null,{"$f":"SUMIFS(Haushaltsbuch2[Einnahmen],Haushaltsbuch2[Kategorie],M$4,Haushaltsbuch2[Datum],\">\"&B492,Haushaltsbuch2[Datum],\"<=\"&B493)","v":0},{"$f":"SUMIFS(Haushaltsbuch2[Einnahmen],Haushaltsbuch2[Kategorie],N$4,Haushaltsbuch2[Datum],\">\"&B492,Haushaltsbuch2[Datum],\"<=\"&B493)","v":0},{"$f":"SUMIFS(Haushaltsbuch2[Einnahmen],Haushaltsbuch2[Kategorie],O$4,Haushaltsbuch2[Datum],\">\"&B492,Haushaltsbuch2[Datum],\"<=\"&B493)","v":0},{"$f":"SUMIFS(Haushaltsbuch2[Einnahmen],Haushaltsbuch2[Kategorie],P$4,Haushaltsbuch2[Datum],\">\"&B492,Haushaltsbuch2[Datum],\"<=\"&B493)","v":0},{"$f":"SUMIFS(Haushaltsbuch2[Einnahmen],Haushaltsbuch2[Kategorie],Q$4,Haushaltsbuch2[Datum],\">\"&B492,Haushaltsbuch2[Datum],\"<=\"&B493)","v":0},{"$f":"SUMIFS(Haushaltsbuch2[Einnahmen],Haushaltsbuch2[Kategorie],R$4,Haushaltsbuch2[Datum],\">\"&B492,Haushaltsbuch2[Datum],\"<=\"&B493)","v":0},null,null,null,null,null,null,null,null,null,null,null,null,null,null,null,null,null,null,{"$f":"SUMIFS(Haushaltsbuch2[Ausgaben],Haushaltsbuch2[Kategorie],AK$4,Haushaltsbuch2[Datum],\">\"&B492,Haushaltsbuch2[Datum],\"<=\"&B493)","v":0},null,null,{"$f":"SUMIFS(Dividenden[Betrag in EUR],Dividenden[Datum],\">\"&B492,Dividenden[Datum],\"<=\"&B493)","v":0},{"$f":"SUMIFS(Optionen[G/V (Netto)],Optionen[Datum],\">\"&B492,Optionen[Datum],\"<=\"&B493)","v":0},null,0,0,null,0,0,null,{"$f":"SUMIFS(Haushaltsbuch2[Einnahmen],Haushaltsbuch2[Datum],\">\"&B492,Haushaltsbuch2[Datum],\"<=\"&B493)+AN493+AO493","v":0},null,0,null,{"$f":"SUMIFS(Haushaltsbuch2[Ausgaben],Haushaltsbuch2[Datum],\">\"&B492,Haushaltsbuch2[Datum],\"<=\"&B493)","v":0}]
[null,40512,null,null,null,null,null,null,null,null,null,null,{"$f":"SUMIFS(Haushaltsbuch2[Einnahmen],Haushaltsbuch2[Kategorie],M$4,Haushaltsbuch2[Datum],\">\"&B493,Haushaltsbuch2[Datum],\"<=\"&B494)","v":0},{"$f":"SUMIFS(Haushaltsbuch2[Einnahmen],Haushaltsbuch2[Kategorie],N$4,Haushaltsbuch2[Datum],\">\"&B493,Haushaltsbuch2[Datum],\"<=\"&B494)","v":0},{"$f":"SUMIFS(Haushaltsbuch2[Einnahmen],Haushaltsbuch2[Kategorie],O$4,Haushaltsbuch2[Datum],\">\"&B493,Haushaltsbuch2[Datum],\"<=\"&B494)","v":0},{"$f":"SUMIFS(Haushaltsbuch2[Einnahmen],Haushaltsbuch2[Kategorie],P$4,Haushaltsbuch2[Datum],\">\"&B493,Haushaltsbuch2[Datum],\"<=\"&B494)","v":0},{"$f":"SUMIFS(Haushaltsbuch2[Einnahmen],Haushaltsbuch2[Kategorie],Q$4,Haushaltsbuch2[Datum],\">\"&B493,Haushaltsbuch2[Datum],\"<=\"&B494)","v":0},{"$f":"SUMIFS(Haushaltsbuch2[Einnahmen],Haushaltsbuch2[Kategorie],R$4,Haushaltsbuch2[Datum],\">\"&B493,Haushaltsbuch2[Datum],\"<=\"&B494)","v":0},null,null,null,null,null,null,null,null,null,null,null,null,null,null,null,null,null,null,{"$f":"SUMIFS(Haushaltsbuch2[Ausgaben],Haushaltsbuch2[Kategorie],AK$4,Haushaltsbuch2[Datum],\">\"&B493,Haushaltsbuch2[Datum],\"<=\"&B494)","v":0},null,null,{"$f":"SUMIFS(Dividenden[Betrag in EUR],Dividenden[Datum],\">\"&B493,Dividenden[Datum],\"<=\"&B494)","v":0},{"$f":"SUMIFS(Optionen[G/V (Netto)],Optionen[Datum],\">\"&B493,Optionen[Datum],\"<=\"&B494)","v":0},null,0,0,null,0,0,null,{"$f":"SUMIFS(Haushaltsbuch2[Einnahmen],Haushaltsbuch2[Datum],\">\"&B493,Haushaltsbuch2[Datum],\"<=\"&B494)+AN494+AO494","v":0},null,0,null,{"$f":"SUMIFS(Haushaltsbuch2[Ausgaben],Haushaltsbuch2[Datum],\">\"&B493,Haushaltsbuch2[Datum],\"<=\"&B494)","v":0}]
[null,40543,null,null,null,null,null,null,null,null,null,null,{"$f":"SUMIFS(Haushaltsbuch2[Einnahmen],Haushaltsbuch2[Kategorie],M$4,Haushaltsbuch2[Datum],\">\"&B494,Haushaltsbuch2[Datum],\"<=\"&B495)","v":0},{"$f":"SUMIFS(Haushaltsbuch2[Einnahmen],Haushaltsbuch2[Kategorie],N$4,Haushaltsbuch2[Datum],\">\"&B494,Haushaltsbuch2[Datum],\"<=\"&B495)","v":0},{"$f":"SUMIFS(Haushaltsbuch2[Einnahmen],Haushaltsbuch2[Kategorie],O$4,Haushaltsbuch2[Datum],\">\"&B494,Haushaltsbuch2[Datum],\"<=\"&B495)","v":0},{"$f":"SUMIFS(Haushaltsbuch2[Einnahmen],Haushaltsbuch2[Kategorie],P$4,Haushaltsbuch2[Datum],\">\"&B494,Haushaltsbuch2[Datum],\"<=\"&B495)","v":0},{"$f":"SUMIFS(Haushaltsbuch2[Einnahmen],Haushaltsbuch2[Kategorie],Q$4,Haushaltsbuch2[Datum],\">\"&B494,Haushaltsbuch2[Datum],\"<=\"&B495)","v":0},{"$f":"SUMIFS(Haushaltsbuch2[Einnahmen],Haushaltsbuch2[Kategorie],R$4,Haushaltsbuch2[Datum],\">\"&B494,Haushaltsbuch2[Datum],\"<=\"&B495)","v":0},null,null,null,null,null,null,null,null,null,null,null,null,null,null,null,null,null,null,{"$f":"SUMIFS(Haushaltsbuch2[Ausgaben],Haushaltsbuch2[Kategorie],AK$4,Haushaltsbuch2[Datum],\">\"&B494,Haushaltsbuch2[Datum],\"<=\"&B495)","v":0},null,null,{"$f":"SUMIFS(Dividenden[Betrag in EUR],Dividenden[Datum],\">\"&B494,Dividenden[Datum],\"<=\"&B495)","v":0},{"$f":"SUMIFS(Optionen[G/V (Netto)],Optionen[Datum],\">\"&B494,Optionen[Datum],\"<=\"&B495)","v":0},null,0,0,null,0,0,null,{"$f":"SUMIFS(Haushaltsbuch2[Einnahmen],Haushaltsbuch2[Datum],\">\"&B494,Haushaltsbuch2[Datum],\"<=\"&B495)+AN495+AO495","v":0},null,0,null,{"$f":"SUMIFS(Haushaltsbuch2[Ausgaben],Haushaltsbuch2[Datum],\">\"&B494,Haushaltsbuch2[Datum],\"<=\"&B495)","v":0}]
[null,40574,null,null,null,null,null,null,null,null,null,null,{"$f":"SUMIFS(Haushaltsbuch2[Einnahmen],Haushaltsbuch2[Kategorie],M$4,Haushaltsbuch2[Datum],\">\"&B495,Haushaltsbuch2[Datum],\"<=\"&B496)","v":0},{"$f":"SUMIFS(Haushaltsbuch2[Einnahmen],Haushaltsbuch2[Kategorie],N$4,Haushaltsbuch2[Datum],\">\"&B495,Haushaltsbuch2[Datum],\"<=\"&B496)","v":0},{"$f":"SUMIFS(Haushaltsbuch2[Einnahmen],Haushaltsbuch2[Kategorie],O$4,Haushaltsbuch2[Datum],\">\"&B495,Haushaltsbuch2[Datum],\"<=\"&B496)","v":0},{"$f":"SUMIFS(Haushaltsbuch2[Einnahmen],Haushaltsbuch2[Kategorie],P$4,Haushaltsbuch2[Datum],\">\"&B495,Haushaltsbuch2[Datum],\"<=\"&B496)","v":0},{"$f":"SUMIFS(Haushaltsbuch2[Einnahmen],Haushaltsbuch2[Kategorie],Q$4,Haushaltsbuch2[Datum],\">\"&B495,Haushaltsbuch2[Datum],\"<=\"&B496)","v":0},{"$f":"SUMIFS(Haushaltsbuch2[Einnahmen],Haushaltsbuch2[Kategorie],R$4,Haushaltsbuch2[Datum],\">\"&B495,Haushaltsbuch2[Datum],\"<=\"&B496)","v":0},null,null,null,null,null,null,null,null,null,null,null,null,null,null,null,null,null,null,{"$f":"SUMIFS(Haushaltsbuch2[Ausgaben],Haushaltsbuch2[Kategorie],AK$4,Haushaltsbuch2[Datum],\">\"&B495,Haushaltsbuch2[Datum],\"<=\"&B496)","v":0},null,null,{"$f":"SUMIFS(Dividenden[Betrag in EUR],Dividenden[Datum],\">\"&B495,Dividenden[Datum],\"<=\"&B496)","v":0},{"$f":"SUMIFS(Optionen[G/V (Netto)],Optionen[Datum],\">\"&B495,Optionen[Datum],\"<=\"&B496)","v":0},null,0,0,null,0,0,null,{"$f":"SUMIFS(Haushaltsbuch2[Einnahmen],Haushaltsbuch2[Datum],\">\"&B495,Haushaltsbuch2[Datum],\"<=\"&B496)+AN496+AO496","v":0},null,0,null,{"$f":"SUMIFS(Haushaltsbuch2[Ausgaben],Haushaltsbuch2[Datum],\">\"&B495,Haushaltsbuch2[Datum],\"<=\"&B496)","v":0}]
[null,40602,null,null,null,null,null,null,null,null,null,null,{"$f":"SUMIFS(Haushaltsbuch2[Einnahmen],Haushaltsbuch2[Kategorie],M$4,Haushaltsbuch2[Datum],\">\"&B496,Haushaltsbuch2[Datum],\"<=\"&B497)","v":0},{"$f":"SUMIFS(Haushaltsbuch2[Einnahmen],Haushaltsbuch2[Kategorie],N$4,Haushaltsbuch2[Datum],\">\"&B496,Haushaltsbuch2[Datum],\"<=\"&B497)","v":0},{"$f":"SUMIFS(Haushaltsbuch2[Einnahmen],Haushaltsbuch2[Kategorie],O$4,Haushaltsbuch2[Datum],\">\"&B496,Haushaltsbuch2[Datum],\"<=\"&B497)","v":0},{"$f":"SUMIFS(Haushaltsbuch2[Einnahmen],Haushaltsbuch2[Kategorie],P$4,Haushaltsbuch2[Datum],\">\"&B496,Haushaltsbuch2[Datum],\"<=\"&B497)","v":0},{"$f":"SUMIFS(Haushaltsbuch2[Einnahmen],Haushaltsbuch2[Kategorie],Q$4,Haushaltsbuch2[Datum],\">\"&B496,Haushaltsbuch2[Datum],\"<=\"&B497)","v":0},{"$f":"SUMIFS(Haushaltsbuch2[Einnahmen],Haushaltsbuch2[Kategorie],R$4,Haushaltsbuch2[Datum],\">\"&B496,Haushaltsbuch2[Datum],\"<=\"&B497)","v":0},null,null,null,null,null,null,null,null,null,null,null,null,null,null,null,null,null,null,{"$f":"SUMIFS(Haushaltsbuch2[Ausgaben],Haushaltsbuch2[Kategorie],AK$4,Haushaltsbuch2[Datum],\">\"&B496,Haushaltsbuch2[Datum],\"<=\"&B497)","v":0},null,null,{"$f":"SUMIFS(Dividenden[Betrag in EUR],Dividenden[Datum],\">\"&B496,Dividenden[Datum],\"<=\"&B497)","v":0},{"$f":"SUMIFS(Optionen[G/V (Netto)],Optionen[Datum],\">\"&B496,Optionen[Datum],\"<=\"&B497)","v":0},null,0,0,null,0,0,null,{"$f":"SUMIFS(Haushaltsbuch2[Einnahmen],Haushaltsbuch2[Datum],\">\"&B496,Haushaltsbuch2[Datum],\"<=\"&B497)+AN497+AO497","v":0},null,0,null,{"$f":"SUMIFS(Haushaltsbuch2[Ausgaben],Haushaltsbuch2[Datum],\">\"&B496,Haushaltsbuch2[Datum],\"<=\"&B497)","v":0}]
[null,40633,null,null,null,null,null,null,null,null,null,null,{"$f":"SUMIFS(Haushaltsbuch2[Einnahmen],Haushaltsbuch2[Kategorie],M$4,Haushaltsbuch2[Datum],\">\"&B497,Haushaltsbuch2[Datum],\"<=\"&B498)","v":0},{"$f":"SUMIFS(Haushaltsbuch2[Einnahmen],Haushaltsbuch2[Kategorie],N$4,Haushaltsbuch2[Datum],\">\"&B497,Haushaltsbuch2[Datum],\"<=\"&B498)","v":0},{"$f":"SUMIFS(Haushaltsbuch2[Einnahmen],Haushaltsbuch2[Kategorie],O$4,Haushaltsbuch2[Datum],\">\"&B497,Haushaltsbuch2[Datum],\"<=\"&B498)","v":0},{"$f":"SUMIFS(Haushaltsbuch2[Einnahmen],Haushaltsbuch2[Kategorie],P$4,Haushaltsbuch2[Datum],\">\"&B497,Haushaltsbuch2[Datum],\"<=\"&B498)","v":0},{"$f":"SUMIFS(Haushaltsbuch2[Einnahmen],Haushaltsbuch2[Kategorie],Q$4,Haushaltsbuch2[Datum],\">\"&B497,Haushaltsbuch2[Datum],\"<=\"&B498)","v":0},{"$f":"SUMIFS(Haushaltsbuch2[Einnahmen],Haushaltsbuch2[Kategorie],R$4,Haushaltsbuch2[Datum],\">\"&B497,Haushaltsbuch2[Datum],\"<=\"&B498)","v":0},null,null,null,null,null,null,null,null,null,null,null,null,null,null,null,null,null,null,{"$f":"SUMIFS(Haushaltsbuch2[Ausgaben],Haushaltsbuch2[Kategorie],AK$4,Haushaltsbuch2[Datum],\">\"&B497,Haushaltsbuch2[Datum],\"<=\"&B498)","v":0},null,null,{"$f":"SUMIFS(Dividenden[Betrag in EUR],Dividenden[Datum],\">\"&B497,Dividenden[Datum],\"<=\"&B498)","v":0},{"$f":"SUMIFS(Optionen[G/V (Netto)],Optionen[Datum],\">\"&B497,Optionen[Datum],\"<=\"&B498)","v":0},null,0,0,null,0,0,null,{"$f":"SUMIFS(Haushaltsbuch2[Einnahmen],Haushaltsbuch2[Datum],\">\"&B497,Haushaltsbuch2[Datum],\"<=\"&B498)+AN498+AO498","v":0},null,0,null,{"$f":"SUMIFS(Haushaltsbuch2[Ausgaben],Haushaltsbuch2[Datum],\">\"&B497,Haushaltsbuch2[Datum],\"<=\"&B498)","v":0}]
[null,40663,null,null,null,null,null,null,null,null,null,null,{"$f":"SUMIFS(Haushaltsbuch2[Einnahmen],Haushaltsbuch2[Kategorie],M$4,Haushaltsbuch2[Datum],\">\"&B498,Haushaltsbuch2[Datum],\"<=\"&B499)","v":0},{"$f":"SUMIFS(Haushaltsbuch2[Einnahmen],Haushaltsbuch2[Kategorie],N$4,Haushaltsbuch2[Datum],\">\"&B498,Haushaltsbuch2[Datum],\"<=\"&B499)","v":0},{"$f":"SUMIFS(Haushaltsbuch2[Einnahmen],Haushaltsbuch2[Kategorie],O$4,Haushaltsbuch2[Datum],\">\"&B498,Haushaltsbuch2[Datum],\"<=\"&B499)","v":0},{"$f":"SUMIFS(Haushaltsbuch2[Einnahmen],Haushaltsbuch2[Kategorie],P$4,Haushaltsbuch2[Datum],\">\"&B498,Haushaltsbuch2[Datum],\"<=\"&B499)","v":0},{"$f":"SUMIFS(Haushaltsbuch2[Einnahmen],Haushaltsbuch2[Kategorie],Q$4,Haushaltsbuch2[Datum],\">\"&B498,Haushaltsbuch2[Datum],\"<=\"&B499)","v":0},{"$f":"SUMIFS(Haushaltsbuch2[Einnahmen],Haushaltsbuch2[Kategorie],R$4,Haushaltsbuch2[Datum],\">\"&B498,Haushaltsbuch2[Datum],\"<=\"&B499)","v":0},null,null,null,null,null,null,null,null,null,null,null,null,null,null,null,null,null,null,{"$f":"SUMIFS(Haushaltsbuch2[Ausgaben],Haushaltsbuch2[Kategorie],AK$4,Haushaltsbuch2[Datum],\">\"&B498,Haushaltsbuch2[Datum],\"<=\"&B499)","v":0},null,null,{"$f":"SUMIFS(Dividenden[Betrag in EUR],Dividenden[Datum],\">\"&B498,Dividenden[Datum],\"<=\"&B499)","v":0},{"$f":"SUMIFS(Optionen[G/V (Netto)],Optionen[Datum],\">\"&B498,Optionen[Datum],\"<=\"&B499)","v":0},null,0,0,null,0,0,null,{"$f":"SUMIFS(Haushaltsbuch2[Einnahmen],Haushaltsbuch2[Datum],\">\"&B498,Haushaltsbuch2[Datum],\"<=\"&B499)+AN499+AO499","v":0},null,0,null,{"$f":"SUMIFS(Haushaltsbuch2[Ausgaben],Haushaltsbuch2[Datum],\">\"&B498,Haushaltsbuch2[Datum],\"<=\"&B499)","v":0}]
[null,40694,null,null,null,null,null,null,null,null,null,null,{"$f":"SUMIFS(Haushaltsbuch2[Einnahmen],Haushaltsbuch2[Kategorie],M$4,Haushaltsbuch2[Datum],\">\"&B499,Haushaltsbuch2[Datum],\"<=\"&B500)","v":0},{"$f":"SUMIFS(Haushaltsbuch2[Einnahmen],Haushaltsbuch2[Kategorie],N$4,Haushaltsbuch2[Datum],\">\"&B499,Haushaltsbuch2[Datum],\"<=\"&B500)","v":0},{"$f":"SUMIFS(Haushaltsbuch2[Einnahmen],Haushaltsbuch2[Kategorie],O$4,Haushaltsbuch2[Datum],\">\"&B499,Haushaltsbuch2[Datum],\"<=\"&B500)","v":0},{"$f":"SUMIFS(Haushaltsbuch2[Einnahmen],Haushaltsbuch2[Kategorie],P$4,Haushaltsbuch2[Datum],\">\"&B499,Haushaltsbuch2[Datum],\"<=\"&B500)","v":0},{"$f":"SUMIFS(Haushaltsbuch2[Einnahmen],Haushaltsbuch2[Kategorie],Q$4,Haushaltsbuch2[Datum],\">\"&B499,Haushaltsbuch2[Datum],\"<=\"&B500)","v":0},{"$f":"SUMIFS(Haushaltsbuch2[Einnahmen],Haushaltsbuch2[Kategorie],R$4,Haushaltsbuch2[Datum],\">\"&B499,Haushaltsbuch2[Datum],\"<=\"&B500)","v":0},null,null,null,null,null,null,null,null,null,null,null,null,null,null,null,null,null,null,{"$f":"SUMIFS(Haushaltsbuch2[Ausgaben],Haushaltsbuch2[Kategorie],AK$4,Haushaltsbuch2[Datum],\">\"&B499,Haushaltsbuch2[Datum],\"<=\"&B500)","v":0},null,null,{"$f":"SUMIFS(Dividenden[Betrag in EUR],Dividenden[Datum],\">\"&B499,Dividenden[Datum],\"<=\"&B500)","v":0},{"$f":"SUMIFS(Optionen[G/V (Netto)],Optionen[Datum],\">\"&B499,Optionen[Datum],\"<=\"&B500)","v":0},null,0,0,null,0,0,null,{"$f":"SUMIFS(Haushaltsbuch2[Einnahmen],Haushaltsbuch2[Datum],\">\"&B499,Haushaltsbuch2[Datum],\"<=\"&B500)+AN500+AO500","v":0},null,0,null,{"$f":"SUMIFS(Haushaltsbuch2[Ausgaben],Haushaltsbuch2[Datum],\">\"&B499,Haushaltsbuch2[Datum],\"<=\"&B500)","v":0}]
[null,40724,null,null,null,null,null,null,null,null,null,null,{"$f":"SUMIFS(Haushaltsbuch2[Einnahmen],Haushaltsbuch2[Kategorie],M$4,Haushaltsbuch2[Datum],\">\"&B500,Haushaltsbuch2[Datum],\"<=\"&B501)","v":0},{"$f":"SUMIFS(Haushaltsbuch2[Einnahmen],Haushaltsbuch2[Kategorie],N$4,Haushaltsbuch2[Datum],\">\"&B500,Haushaltsbuch2[Datum],\"<=\"&B501)","v":0},{"$f":"SUMIFS(Haushaltsbuch2[Einnahmen],Haushaltsbuch2[Kategorie],O$4,Haushaltsbuch2[Datum],\">\"&B500,Haushaltsbuch2[Datum],\"<=\"&B501)","v":0},{"$f":"SUMIFS(Haushaltsbuch2[Einnahmen],Haushaltsbuch2[Kategorie],P$4,Haushaltsbuch2[Datum],\">\"&B500,Haushaltsbuch2[Datum],\"<=\"&B501)","v":0},{"$f":"SUMIFS(Haushaltsbuch2[Einnahmen],Haushaltsbuch2[Kategorie],Q$4,Haushaltsbuch2[Datum],\">\"&B500,Haushaltsbuch2[Datum],\"<=\"&B501)","v":0},{"$f":"SUMIFS(Haushaltsbuch2[Einnahmen],Haushaltsbuch2[Kategorie],R$4,Haushaltsbuch2[Datum],\">\"&B500,Haushaltsbuch2[Datum],\"<=\"&B501)","v":0},null,null,null,null,null,null,null,null,null,null,null,null,null,null,null,null,null,null,{"$f":"SUMIFS(Haushaltsbuch2[Ausgaben],Haushaltsbuch2[Kategorie],AK$4,Haushaltsbuch2[Datum],\">\"&B500,Haushaltsbuch2[Datum],\"<=\"&B501)","v":0},null,null,{"$f":"SUMIFS(Dividenden[Betrag in EUR],Dividenden[Datum],\">\"&B500,Dividenden[Datum],\"<=\"&B501)","v":0},{"$f":"SUMIFS(Optionen[G/V (Netto)],Optionen[Datum],\">\"&B500,Optionen[Datum],\"<=\"&B501)","v":0},null,0,0,null,0,0,null,{"$f":"SUMIFS(Haushaltsbuch2[Einnahmen],Haushaltsbuch2[Datum],\">\"&B500,Haushaltsbuch2[Datum],\"<=\"&B501)+AN501+AO501","v":0},null,0,null,{"$f":"SUMIFS(Haushaltsbuch2[Ausgaben],Haushaltsbuch2[Datum],\">\"&B500,Haushaltsbuch2[Datum],\"<=\"&B501)","v":0}]
[null,40755,null,null,null,null,null,null,null,null,null,null,{"$f":"SUMIFS(Haushaltsbuch2[Einnahmen],Haushaltsbuch2[Kategorie],M$4,Haushaltsbuch2[Datum],\">\"&B501,Haushaltsbuch2[Datum],\"<=\"&B502)","v":0},{"$f":"SUMIFS(Haushaltsbuch2[Einnahmen],Haushaltsbuch2[Kategorie],N$4,Haushaltsbuch2[Datum],\">\"&B501,Haushaltsbuch2[Datum],\"<=\"&B502)","v":0},{"$f":"SUMIFS(Haushaltsbuch2[Einnahmen],Haushaltsbuch2[Kategorie],O$4,Haushaltsbuch2[Datum],\">\"&B501,Haushaltsbuch2[Datum],\"<=\"&B502)","v":0},{"$f":"SUMIFS(Haushaltsbuch2[Einnahmen],Haushaltsbuch2[Kategorie],P$4,Haushaltsbuch2[Datum],\">\"&B501,Haushaltsbuch2[Datum],\"<=\"&B502)","v":0},{"$f":"SUMIFS(Haushaltsbuch2[Einnahmen],Haushaltsbuch2[Kategorie],Q$4,Haushaltsbuch2[Datum],\">\"&B501,Haushaltsbuch2[Datum],\"<=\"&B502)","v":0},{"$f":"SUMIFS(Haushaltsbuch2[Einnahmen],Haushaltsbuch2[Kategorie],R$4,Haushaltsbuch2[Datum],\">\"&B501,Haushaltsbuch2[Datum],\"<=\"&B502)","v":0},null,null,null,null,null,null,null,null,null,null,null,null,null,null,null,null,null,null,{"$f":"SUMIFS(Haushaltsbuch2[Ausgaben],Haushaltsbuch2[Kategorie],AK$4,Haushaltsbuch2[Datum],\">\"&B501,Haushaltsbuch2[Datum],\"<=\"&B502)","v":0},null,null,{"$f":"SUMIFS(Dividenden[Betrag in EUR],Dividenden[Datum],\">\"&B501,Dividenden[Datum],\"<=\"&B502)","v":0},{"$f":"SUMIFS(Optionen[G/V (Netto)],Optionen[Datum],\">\"&B501,Optionen[Datum],\"<=\"&B502)","v":0},null,0,0,null,0,0,null,{"$f":"SUMIFS(Haushaltsbuch2[Einnahmen],Haushaltsbuch2[Datum],\">\"&B501,Haushaltsbuch2[Datum],\"<=\"&B502)+AN502+AO502","v":0},null,0,null,{"$f":"SUMIFS(Haushaltsbuch2[Ausgaben],Haushaltsbuch2[Datum],\">\"&B501,Haushaltsbuch2[Datum],\"<=\"&B502)","v":0}]
[null,40786,null,null,null,null,null,null,null,null,null,null,{"$f":"SUMIFS(Haushaltsbuch2[Einnahmen],Haushaltsbuch2[Kategorie],M$4,Haushaltsbuch2[Datum],\">\"&B502,Haushaltsbuch2[Datum],\"<=\"&B503)","v":0},{"$f":"SUMIFS(Haushaltsbuch2[Einnahmen],Haushaltsbuch2[Kategorie],N$4,Haushaltsbuch2[Datum],\">\"&B502,Haushaltsbuch2[Datum],\"<=\"&B503)","v":0},{"$f":"SUMIFS(Haushaltsbuch2[Einnahmen],Haushaltsbuch2[Kategorie],O$4,Haushaltsbuch2[Datum],\">\"&B502,Haushaltsbuch2[Datum],\"<=\"&B503)","v":0},{"$f":"SUMIFS(Haushaltsbuch2[Einnahmen],Haushaltsbuch2[Kategorie],P$4,Haushaltsbuch2[Datum],\">\"&B502,Haushaltsbuch2[Datum],\"<=\"&B503)","v":0},{"$f":"SUMIFS(Haushaltsbuch2[Einnahmen],Haushaltsbuch2[Kategorie],Q$4,Haushaltsbuch2[Datum],\">\"&B502,Haushaltsbuch2[Datum],\"<=\"&B503)","v":0},{"$f":"SUMIFS(Haushaltsbuch2[Einnahmen],Haushaltsbuch2[Kategorie],R$4,Haushaltsbuch2[Datum],\">\"&B502,Haushaltsbuch2[Datum],\"<=\"&B503)","v":0},null,null,null,null,null,null,null,null,null,null,null,null,null,null,null,null,null,null,{"$f":"SUMIFS(Haushaltsbuch2[Ausgaben],Haushaltsbuch2[Kategorie],AK$4,Haushaltsbuch2[Datum],\">\"&B502,Haushaltsbuch2[Datum],\"<=\"&B503)","v":0},null,null,{"$f":"SUMIFS(Dividenden[Betrag in EUR],Dividenden[Datum],\">\"&B502,Dividenden[Datum],\"<=\"&B503)","v":0},{"$f":"SUMIFS(Optionen[G/V (Netto)],Optionen[Datum],\">\"&B502,Optionen[Datum],\"<=\"&B503)","v":0},null,0,0,null,0,0,null,{"$f":"SUMIFS(Haushaltsbuch2[Einnahmen],Haushaltsbuch2[Datum],\">\"&B502,Haushaltsbuch2[Datum],\"<=\"&B503)+AN503+AO503","v":0},null,0,null,{"$f":"SUMIFS(Haushaltsbuch2[Ausgaben],Haushaltsbuch2[Datum],\">\"&B502,Haushaltsbuch2[Datum],\"<=\"&B503)","v":0}]
[null,40816,null,null,null,null,null,null,null,null,null,null,{"$f":"SUMIFS(Haushaltsbuch2[Einnahmen],Haushaltsbuch2[Kategorie],M$4,Haushaltsbuch2[Datum],\">\"&B503,Haushaltsbuch2[Datum],\"<=\"&B504)","v":0},{"$f":"SUMIFS(Haushaltsbuch2[Einnahmen],Haushaltsbuch2[Kategorie],N$4,Haushaltsbuch2[Datum],\">\"&B503,Haushaltsbuch2[Datum],\"<=\"&B504)","v":0},{"$f":"SUMIFS(Haushaltsbuch2[Einnahmen],Haushaltsbuch2[Kategorie],O$4,Haushaltsbuch2[Datum],\">\"&B503,Haushaltsbuch2[Datum],\"<=\"&B504)","v":0},{"$f":"SUMIFS(Haushaltsbuch2[Einnahmen],Haushaltsbuch2[Kategorie],P$4,Haushaltsbuch2[Datum],\">\"&B503,Haushaltsbuch2[Datum],\"<=\"&B504)","v":0},{"$f":"SUMIFS(Haushaltsbuch2[Einnahmen],Haushaltsbuch2[Kategorie],Q$4,Haushaltsbuch2[Datum],\">\"&B503,Haushaltsbuch2[Datum],\"<=\"&B504)","v":0},{"$f":"SUMIFS(Haushaltsbuch2[Einnahmen],Haushaltsbuch2[Kategorie],R$4,Haushaltsbuch2[Datum],\">\"&B503,Haushaltsbuch2[Datum],\"<=\"&B504)","v":0},null,null,null,null,null,null,null,null,null,null,null,null,null,null,null,null,null,null,{"$f":"SUMIFS(Haushaltsbuch2[Ausgaben],Haushaltsbuch2[Kategorie],AK$4,Haushaltsbuch2[Datum],\">\"&B503,Haushaltsbuch2[Datum],\"<=\"&B504)","v":0},null,null,{"$f":"SUMIFS(Dividenden[Betrag in EUR],Dividenden[Datum],\">\"&B503,Dividenden[Datum],\"<=\"&B504)","v":0},{"$f":"SUMIFS(Optionen[G/V (Netto)],Optionen[Datum],\">\"&B503,Optionen[Datum],\"<=\"&B504)","v":0},null,0,0,null,0,0,null,{"$f":"SUMIFS(Haushaltsbuch2[Einnahmen],Haushaltsbuch2[Datum],\">\"&B503,Haushaltsbuch2[Datum],\"<=\"&B504)+AN504+AO504","v":0},null,0,null,{"$f":"SUMIFS(Haushaltsbuch2[Ausgaben],Haushaltsbuch2[Datum],\">\"&B503,Haushaltsbuch2[Datum],\"<=\"&B504)","v":0}]
[null,40847,null,null,null,null,null,null,null,null,null,null,{"$f":"SUMIFS(Haushaltsbuch2[Einnahmen],Haushaltsbuch2[Kategorie],M$4,Haushaltsbuch2[Datum],\">\"&B504,Haushaltsbuch2[Datum],\"<=\"&B505)","v":0},{"$f":"SUMIFS(Haushaltsbuch2[Einnahmen],Haushaltsbuch2[Kategorie],N$4,Haushaltsbuch2[Datum],\">\"&B504,Haushaltsbuch2[Datum],\"<=\"&B505)","v":0},{"$f":"SUMIFS(Haushaltsbuch2[Einnahmen],Haushaltsbuch2[Kategorie],O$4,Haushaltsbuch2[Datum],\">\"&B504,Haushaltsbuch2[Datum],\"<=\"&B505)","v":0},{"$f":"SUMIFS(Haushaltsbuch2[Einnahmen],Haushaltsbuch2[Kategorie],P$4,Haushaltsbuch2[Datum],\">\"&B504,Haushaltsbuch2[Datum],\"<=\"&B505)","v":0},{"$f":"SUMIFS(Haushaltsbuch2[Einnahmen],Haushaltsbuch2[Kategorie],Q$4,Haushaltsbuch2[Datum],\">\"&B504,Haushaltsbuch2[Datum],\"<=\"&B505)","v":0},{"$f":"SUMIFS(Haushaltsbuch2[Einnahmen],Haushaltsbuch2[Kategorie],R$4,Haushaltsbuch2[Datum],\">\"&B504,Haushaltsbuch2[Datum],\"<=\"&B505)","v":0},null,null,null,null,null,null,null,null,null,null,null,null,null,null,null,null,null,null,{"$f":"SUMIFS(Haushaltsbuch2[Ausgaben],Haushaltsbuch2[Kategorie],AK$4,Haushaltsbuch2[Datum],\">\"&B504,Haushaltsbuch2[Datum],\"<=\"&B505)","v":0},null,null,{"$f":"SUMIFS(Dividenden[Betrag in EUR],Dividenden[Datum],\">\"&B504,Dividenden[Datum],\"<=\"&B505)","v":0},{"$f":"SUMIFS(Optionen[G/V (Netto)],Optionen[Datum],\">\"&B504,Optionen[Datum],\"<=\"&B505)","v":0},null,0,0,null,0,0,null,{"$f":"SUMIFS(Haushaltsbuch2[Einnahmen],Haushaltsbuch2[Datum],\">\"&B504,Haushaltsbuch2[Datum],\"<=\"&B505)+AN505+AO505","v":0},null,0,null,{"$f":"SUMIFS(Haushaltsbuch2[Ausgaben],Haushaltsbuch2[Datum],\">\"&B504,Haushaltsbuch2[Datum],\"<=\"&B505)","v":0}]
[null,40877,null,null,null,null,null,null,null,null,null,null,{"$f":"SUMIFS(Haushaltsbuch2[Einnahmen],Haushaltsbuch2[Kategorie],M$4,Haushaltsbuch2[Datum],\">\"&B505,Haushaltsbuch2[Datum],\"<=\"&B506)","v":0},{"$f":"SUMIFS(Haushaltsbuch2[Einnahmen],Haushaltsbuch2[Kategorie],N$4,Haushaltsbuch2[Datum],\">\"&B505,Haushaltsbuch2[Datum],\"<=\"&B506)","v":0},{"$f":"SUMIFS(Haushaltsbuch2[Einnahmen],Haushaltsbuch2[Kategorie],O$4,Haushaltsbuch2[Datum],\">\"&B505,Haushaltsbuch2[Datum],\"<=\"&B506)","v":0},{"$f":"SUMIFS(Haushaltsbuch2[Einnahmen],Haushaltsbuch2[Kategorie],P$4,Haushaltsbuch2[Datum],\">\"&B505,Haushaltsbuch2[Datum],\"<=\"&B506)","v":0},{"$f":"SUMIFS(Haushaltsbuch2[Einnahmen],Haushaltsbuch2[Kategorie],Q$4,Haushaltsbuch2[Datum],\">\"&B505,Haushaltsbuch2[Datum],\"<=\"&B506)","v":0},{"$f":"SUMIFS(Haushaltsbuch2[Einnahmen],Haushaltsbuch2[Kategorie],R$4,Haushaltsbuch2[Datum],\">\"&B505,Haushaltsbuch2[Datum],\"<=\"&B506)","v":0},null,null,null,null,null,null,null,null,null,null,null,null,null,null,null,null,null,null,{"$f":"SUMIFS(Haushaltsbuch2[Ausgaben],Haushaltsbuch2[Kategorie],AK$4,Haushaltsbuch2[Datum],\">\"&B505,Haushaltsbuch2[Datum],\"<=\"&B506)","v":0},null,null,{"$f":"SUMIFS(Dividenden[Betrag in EUR],Dividenden[Datum],\">\"&B505,Dividenden[Datum],\"<=\"&B506)","v":0},{"$f":"SUMIFS(Optionen[G/V (Netto)],Optionen[Datum],\">\"&B505,Optionen[Datum],\"<=\"&B506)","v":0},null,0,0,null,0,0,null,{"$f":"SUMIFS(Haushaltsbuch2[Einnahmen],Haushaltsbuch2[Datum],\">\"&B505,Haushaltsbuch2[Datum],\"<=\"&B506)+AN506+AO506","v":0},null,0,null,{"$f":"SUMIFS(Haushaltsbuch2[Ausgaben],Haushaltsbuch2[Datum],\">\"&B505,Haushaltsbuch2[Datum],\"<=\"&B506)","v":0}]
[null,40908,null,null,null,null,null,null,null,null,null,null,{"$f":"SUMIFS(Haushaltsbuch2[Einnahmen],Haushaltsbuch2[Kategorie],M$4,Haushaltsbuch2[Datum],\">\"&B506,Haushaltsbuch2[Datum],\"<=\"&B507)","v":0},{"$f":"SUMIFS(Haushaltsbuch2[Einnahmen],Haushaltsbuch2[Kategorie],N$4,Haushaltsbuch2[Datum],\">\"&B506,Haushaltsbuch2[Datum],\"<=\"&B507)","v":0},{"$f":"SUMIFS(Haushaltsbuch2[Einnahmen],Haushaltsbuch2[Kategorie],O$4,Haushaltsbuch2[Datum],\">\"&B506,Haushaltsbuch2[Datum],\"<=\"&B507)","v":0},{"$f":"SUMIFS(Haushaltsbuch2[Einnahmen],Haushaltsbuch2[Kategorie],P$4,Haushaltsbuch2[Datum],\">\"&B506,Haushaltsbuch2[Datum],\"<=\"&B507)","v":0},{"$f":"SUMIFS(Haushaltsbuch2[Einnahmen],Haushaltsbuch2[Kategorie],Q$4,Haushaltsbuch2[Datum],\">\"&B506,Haushaltsbuch2[Datum],\"<=\"&B507)","v":0},{"$f":"SUMIFS(Haushaltsbuch2[Einnahmen],Haushaltsbuch2[Kategorie],R$4,Haushaltsbuch2[Datum],\">\"&B506,Haushaltsbuch2[Datum],\"<=\"&B507)","v":0},null,null,null,null,null,null,null,null,null,null,null,null,null,null,null,null,null,null,{"$f":"SUMIFS(Haushaltsbuch2[Ausgaben],Haushaltsbuch2[Kategorie],AK$4,Haushaltsbuch2[Datum],\">\"&B506,Haushaltsbuch2[Datum],\"<=\"&B507)","v":0},null,null,{"$f":"SUMIFS(Dividenden[Betrag in EUR],Dividenden[Datum],\">\"&B506,Dividenden[Datum],\"<=\"&B507)","v":0},{"$f":"SUMIFS(Optionen[G/V (Netto)],Optionen[Datum],\">\"&B506,Optionen[Datum],\"<=\"&B507)","v":0},null,0,0,null,0,0,null,{"$f":"SUMIFS(Haushaltsbuch2[Einnahmen],Haushaltsbuch2[Datum],\">\"&B506,Haushaltsbuch2[Datum],\"<=\"&B507)+AN507+AO507","v":0},null,0,null,{"$f":"SUMIFS(Haushaltsbuch2[Ausgaben],Haushaltsbuch2[Datum],\">\"&B506,Haushaltsbuch2[Datum],\"<=\"&B507)","v":0}]
[null,40939,null,null,null,null,null,null,null,null,null,null,{"$f":"SUMIFS(Haushaltsbuch2[Einnahmen],Haushaltsbuch2[Kategorie],M$4,Haushaltsbuch2[Datum],\">\"&B507,Haushaltsbuch2[Datum],\"<=\"&B508)","v":0},{"$f":"SUMIFS(Haushaltsbuch2[Einnahmen],Haushaltsbuch2[Kategorie],N$4,Haushaltsbuch2[Datum],\">\"&B507,Haushaltsbuch2[Datum],\"<=\"&B508)","v":0},{"$f":"SUMIFS(Haushaltsbuch2[Einnahmen],Haushaltsbuch2[Kategorie],O$4,Haushaltsbuch2[Datum],\">\"&B507,Haushaltsbuch2[Datum],\"<=\"&B508)","v":0},{"$f":"SUMIFS(Haushaltsbuch2[Einnahmen],Haushaltsbuch2[Kategorie],P$4,Haushaltsbuch2[Datum],\">\"&B507,Haushaltsbuch2[Datum],\"<=\"&B508)","v":0},{"$f":"SUMIFS(Haushaltsbuch2[Einnahmen],Haushaltsbuch2[Kategorie],Q$4,Haushaltsbuch2[Datum],\">\"&B507,Haushaltsbuch2[Datum],\"<=\"&B508)","v":0},{"$f":"SUMIFS(Haushaltsbuch2[Einnahmen],Haushaltsbuch2[Kategorie],R$4,Haushaltsbuch2[Datum],\">\"&B507,Haushaltsbuch2[Datum],\"<=\"&B508)","v":0},null,null,null,null,null,null,null,null,null,null,null,null,null,null,null,null,null,null,{"$f":"SUMIFS(Haushaltsbuch2[Ausgaben],Haushaltsbuch2[Kategorie],AK$4,Haushaltsbuch2[Datum],\">\"&B507,Haushaltsbuch2[Datum],\"<=\"&B508)","v":0},null,null,{"$f":"SUMIFS(Dividenden[Betrag in EUR],Dividenden[Datum],\">\"&B507,Dividenden[Datum],\"<=\"&B508)","v":0},{"$f":"SUMIFS(Optionen[G/V (Netto)],Optionen[Datum],\">\"&B507,Optionen[Datum],\"<=\"&B508)","v":0},null,0,0,null,0,0,null,{"$f":"SUMIFS(Haushaltsbuch2[Einnahmen],Haushaltsbuch2[Datum],\">\"&B507,Haushaltsbuch2[Datum],\"<=\"&B508)+AN508+AO508","v":0},null,0,null,{"$f":"SUMIFS(Haushaltsbuch2[Ausgaben],Haushaltsbuch2[Datum],\">\"&B507,Haushaltsbuch2[Datum],\"<=\"&B508)","v":0}]
[null,40968,null,null,null,null,null,null,null,null,null,null,{"$f":"SUMIFS(Haushaltsbuch2[Einnahmen],Haushaltsbuch2[Kategorie],M$4,Haushaltsbuch2[Datum],\">\"&B508,Haushaltsbuch2[Datum],\"<=\"&B509)","v":0},{"$f":"SUMIFS(Haushaltsbuch2[Einnahmen],Haushaltsbuch2[Kategorie],N$4,Haushaltsbuch2[Datum],\">\"&B508,Haushaltsbuch2[Datum],\"<=\"&B509)","v":0},{"$f":"SUMIFS(Haushaltsbuch2[Einnahmen],Haushaltsbuch2[Kategorie],O$4,Haushaltsbuch2[Datum],\">\"&B508,Haushaltsbuch2[Datum],\"<=\"&B509)","v":0},{"$f":"SUMIFS(Haushaltsbuch2[Einnahmen],Haushaltsbuch2[Kategorie],P$4,Haushaltsbuch2[Datum],\">\"&B508,Haushaltsbuch2[Datum],\"<=\"&B509)","v":0},{"$f":"SUMIFS(Haushaltsbuch2[Einnahmen],Haushaltsbuch2[Kategorie],Q$4,Haushaltsbuch2[Datum],\">\"&B508,Haushaltsbuch2[Datum],\"<=\"&B509)","v":0},{"$f":"SUMIFS(Haushaltsbuch2[Einnahmen],Haushaltsbuch2[Kategorie],R$4,Haushaltsbuch2[Datum],\">\"&B508,Haushaltsbuch2[Datum],\"<=\"&B509)","v":0},null,null,null,null,null,null,null,null,null,null,null,null,null,null,null,null,null,null,{"$f":"SUMIFS(Haushaltsbuch2[Ausgaben],Haushaltsbuch2[Kategorie],AK$4,Haushaltsbuch2[Datum],\">\"&B508,Haushaltsbuch2[Datum],\"<=\"&B509)","v":0},null,null,{"$f":"SUMIFS(Dividenden[Betrag in EUR],Dividenden[Datum],\">\"&B508,Dividenden[Datum],\"<=\"&B509)","v":0},{"$f":"SUMIFS(Optionen[G/V (Netto)],Optionen[Datum],\">\"&B508,Optionen[Datum],\"<=\"&B509)","v":0},null,0,0,null,0,0,null,{"$f":"SUMIFS(Haushaltsbuch2[Einnahmen],Haushaltsbuch2[Datum],\">\"&B508,Haushaltsbuch2[Datum],\"<=\"&B509)+AN509+AO509","v":0},null,0,null,{"$f":"SUMIFS(Haushaltsbuch2[Ausgaben],Haushaltsbuch2[Datum],\">\"&B508,Haushaltsbuch2[Datum],\"<=\"&B509)","v":0}]
[null,40999,null,null,null,null,null,null,null,null,null,null,{"$f":"SUMIFS(Haushaltsbuch2[Einnahmen],Haushaltsbuch2[Kategorie],M$4,Haushaltsbuch2[Datum],\">\"&B509,Haushaltsbuch2[Datum],\"<=\"&B510)","v":0},{"$f":"SUMIFS(Haushaltsbuch2[Einnahmen],Haushaltsbuch2[Kategorie],N$4,Haushaltsbuch2[Datum],\">\"&B509,Haushaltsbuch2[Datum],\"<=\"&B510)","v":0},{"$f":"SUMIFS(Haushaltsbuch2[Einnahmen],Haushaltsbuch2[Kategorie],O$4,Haushaltsbuch2[Datum],\">\"&B509,Haushaltsbuch2[Datum],\"<=\"&B510)","v":0},{"$f":"SUMIFS(Haushaltsbuch2[Einnahmen],Haushaltsbuch2[Kategorie],P$4,Haushaltsbuch2[Datum],\">\"&B509,Haushaltsbuch2[Datum],\"<=\"&B510)","v":0},{"$f":"SUMIFS(Haushaltsbuch2[Einnahmen],Haushaltsbuch2[Kategorie],Q$4,Haushaltsbuch2[Datum],\">\"&B509,Haushaltsbuch2[Datum],\"<=\"&B510)","v":0},{"$f":"SUMIFS(Haushaltsbuch2[Einnahmen],Haushaltsbuch2[Kategorie],R$4,Haushaltsbuch2[Datum],\">\"&B509,Haushaltsbuch2[Datum],\"<=\"&B510)","v":0},null,null,null,null,null,null,null,null,null,null,null,null,null,null,null,null,null,null,{"$f":"SUMIFS(Haushaltsbuch2[Ausgaben],Haushaltsbuch2[Kategorie],AK$4,Haushaltsbuch2[Datum],\">\"&B509,Haushaltsbuch2[Datum],\"<=\"&B510)","v":0},null,null,{"$f":"SUMIFS(Dividenden[Betrag in EUR],Dividenden[Datum],\">\"&B509,Dividenden[Datum],\"<=\"&B510)","v":0},{"$f":"SUMIFS(Optionen[G/V (Netto)],Optionen[Datum],\">\"&B509,Optionen[Datum],\"<=\"&B510)","v":0},null,0,0,null,0,0,null,{"$f":"SUMIFS(Haushaltsbuch2[Einnahmen],Haushaltsbuch2[Datum],\">\"&B509,Haushaltsbuch2[Datum],\"<=\"&B510)+AN510+AO510","v":0},null,0,null,{"$f":"SUMIFS(Haushaltsbuch2[Ausgaben],Haushaltsbuch2[Datum],\">\"&B509,Haushaltsbuch2[Datum],\"<=\"&B510)","v":0}]
[null,41029,null,null,null,null,null,null,null,null,null,null,{"$f":"SUMIFS(Haushaltsbuch2[Einnahmen],Haushaltsbuch2[Kategorie],M$4,Haushaltsbuch2[Datum],\">\"&B510,Haushaltsbuch2[Datum],\"<=\"&B511)","v":0},{"$f":"SUMIFS(Haushaltsbuch2[Einnahmen],Haushaltsbuch2[Kategorie],N$4,Haushaltsbuch2[Datum],\">\"&B510,Haushaltsbuch2[Datum],\"<=\"&B511)","v":0},{"$f":"SUMIFS(Haushaltsbuch2[Einnahmen],Haushaltsbuch2[Kategorie],O$4,Haushaltsbuch2[Datum],\">\"&B510,Haushaltsbuch2[Datum],\"<=\"&B511)","v":0},{"$f":"SUMIFS(Haushaltsbuch2[Einnahmen],Haushaltsbuch2[Kategorie],P$4,Haushaltsbuch2[Datum],\">\"&B510,Haushaltsbuch2[Datum],\"<=\"&B511)","v":0},{"$f":"SUMIFS(Haushaltsbuch2[Einnahmen],Haushaltsbuch2[Kategorie],Q$4,Haushaltsbuch2[Datum],\">\"&B510,Haushaltsbuch2[Datum],\"<=\"&B511)","v":0},{"$f":"SUMIFS(Haushaltsbuch2[Einnahmen],Haushaltsbuch2[Kategorie],R$4,Haushaltsbuch2[Datum],\">\"&B510,Haushaltsbuch2[Datum],\"<=\"&B511)","v":0},null,null,null,null,null,null,null,null,null,null,null,null,null,null,null,null,null,null,{"$f":"SUMIFS(Haushaltsbuch2[Ausgaben],Haushaltsbuch2[Kategorie],AK$4,Haushaltsbuch2[Datum],\">\"&B510,Haushaltsbuch2[Datum],\"<=\"&B511)","v":0},null,null,{"$f":"SUMIFS(Dividenden[Betrag in EUR],Dividenden[Datum],\">\"&B510,Dividenden[Datum],\"<=\"&B511)","v":0},{"$f":"SUMIFS(Optionen[G/V (Netto)],Optionen[Datum],\">\"&B510,Optionen[Datum],\"<=\"&B511)","v":0},null,0,0,null,0,0,null,{"$f":"SUMIFS(Haushaltsbuch2[Einnahmen],Haushaltsbuch2[Datum],\">\"&B510,Haushaltsbuch2[Datum],\"<=\"&B511)+AN511+AO511","v":0},null,0,null,{"$f":"SUMIFS(Haushaltsbuch2[Ausgaben],Haushaltsbuch2[Datum],\">\"&B510,Haushaltsbuch2[Datum],\"<=\"&B511)","v":0}]
[null,41060,null,null,null,null,null,null,null,null,null,null,{"$f":"SUMIFS(Haushaltsbuch2[Einnahmen],Haushaltsbuch2[Kategorie],M$4,Haushaltsbuch2[Datum],\">\"&B511,Haushaltsbuch2[Datum],\"<=\"&B512)","v":0},{"$f":"SUMIFS(Haushaltsbuch2[Einnahmen],Haushaltsbuch2[Kategorie],N$4,Haushaltsbuch2[Datum],\">\"&B511,Haushaltsbuch2[Datum],\"<=\"&B512)","v":0},{"$f":"SUMIFS(Haushaltsbuch2[Einnahmen],Haushaltsbuch2[Kategorie],O$4,Haushaltsbuch2[Datum],\">\"&B511,Haushaltsbuch2[Datum],\"<=\"&B512)","v":0},{"$f":"SUMIFS(Haushaltsbuch2[Einnahmen],Haushaltsbuch2[Kategorie],P$4,Haushaltsbuch2[Datum],\">\"&B511,Haushaltsbuch2[Datum],\"<=\"&B512)","v":0},{"$f":"SUMIFS(Haushaltsbuch2[Einnahmen],Haushaltsbuch2[Kategorie],Q$4,Haushaltsbuch2[Datum],\">\"&B511,Haushaltsbuch2[Datum],\"<=\"&B512)","v":0},{"$f":"SUMIFS(Haushaltsbuch2[Einnahmen],Haushaltsbuch2[Kategorie],R$4,Haushaltsbuch2[Datum],\">\"&B511,Haushaltsbuch2[Datum],\"<=\"&B512)","v":0},null,null,null,null,null,null,null,null,null,null,null,null,null,null,null,null,null,null,{"$f":"SUMIFS(Haushaltsbuch2[Ausgaben],Haushaltsbuch2[Kategorie],AK$4,Haushaltsbuch2[Datum],\">\"&B511,Haushaltsbuch2[Datum],\"<=\"&B512)","v":0},null,null,{"$f":"SUMIFS(Dividenden[Betrag in EUR],Dividenden[Datum],\">\"&B511,Dividenden[Datum],\"<=\"&B512)","v":0},{"$f":"SUMIFS(Optionen[G/V (Netto)],Optionen[Datum],\">\"&B511,Optionen[Datum],\"<=\"&B512)","v":0},null,0,0,null,0,0,null,{"$f":"SUMIFS(Haushaltsbuch2[Einnahmen],Haushaltsbuch2[Datum],\">\"&B511,Haushaltsbuch2[Datum],\"<=\"&B512)+AN512+AO512","v":0},null,0,null,{"$f":"SUMIFS(Haushaltsbuch2[Ausgaben],Haushaltsbuch2[Datum],\">\"&B511,Haushaltsbuch2[Datum],\"<=\"&B512)","v":0}]
[null,41090,null,null,null,null,null,null,null,null,null,null,{"$f":"SUMIFS(Haushaltsbuch2[Einnahmen],Haushaltsbuch2[Kategorie],M$4,Haushaltsbuch2[Datum],\">\"&B512,Haushaltsbuch2[Datum],\"<=\"&B513)","v":0},{"$f":"SUMIFS(Haushaltsbuch2[Einnahmen],Haushaltsbuch2[Kategorie],N$4,Haushaltsbuch2[Datum],\">\"&B512,Haushaltsbuch2[Datum],\"<=\"&B513)","v":0},{"$f":"SUMIFS(Haushaltsbuch2[Einnahmen],Haushaltsbuch2[Kategorie],O$4,Haushaltsbuch2[Datum],\">\"&B512,Haushaltsbuch2[Datum],\"<=\"&B513)","v":0},{"$f":"SUMIFS(Haushaltsbuch2[Einnahmen],Haushaltsbuch2[Kategorie],P$4,Haushaltsbuch2[Datum],\">\"&B512,Haushaltsbuch2[Datum],\"<=\"&B513)","v":0},{"$f":"SUMIFS(Haushaltsbuch2[Einnahmen],Haushaltsbuch2[Kategorie],Q$4,Haushaltsbuch2[Datum],\">\"&B512,Haushaltsbuch2[Datum],\"<=\"&B513)","v":0},{"$f":"SUMIFS(Haushaltsbuch2[Einnahmen],Haushaltsbuch2[Kategorie],R$4,Haushaltsbuch2[Datum],\">\"&B512,Haushaltsbuch2[Datum],\"<=\"&B513)","v":0},null,null,null,null,null,null,null,null,null,null,null,null,null,null,null,null,null,null,{"$f":"SUMIFS(Haushaltsbuch2[Ausgaben],Haushaltsbuch2[Kategorie],AK$4,Haushaltsbuch2[Datum],\">\"&B512,Haushaltsbuch2[Datum],\"<=\"&B513)","v":0},null,null,{"$f":"SUMIFS(Dividenden[Betrag in EUR],Dividenden[Datum],\">\"&B512,Dividenden[Datum],\"<=\"&B513)","v":0},{"$f":"SUMIFS(Optionen[G/V (Netto)],Optionen[Datum],\">\"&B512,Optionen[Datum],\"<=\"&B513)","v":0},null,0,0,null,0,0,null,{"$f":"SUMIFS(Haushaltsbuch2[Einnahmen],Haushaltsbuch2[Datum],\">\"&B512,Haushaltsbuch2[Datum],\"<=\"&B513)+AN513+AO513","v":0},null,0,null,{"$f":"SUMIFS(Haushaltsbuch2[Ausgaben],Haushaltsbuch2[Datum],\">\"&B512,Haushaltsbuch2[Datum],\"<=\"&B513)","v":0}]
[null,41121,null,null,null,null,null,null,null,null,null,null,{"$f":"SUMIFS(Haushaltsbuch2[Einnahmen],Haushaltsbuch2[Kategorie],M$4,Haushaltsbuch2[Datum],\">\"&B513,Haushaltsbuch2[Datum],\"<=\"&B514)","v":0},{"$f":"SUMIFS(Haushaltsbuch2[Einnahmen],Haushaltsbuch2[Kategorie],N$4,Haushaltsbuch2[Datum],\">\"&B513,Haushaltsbuch2[Datum],\"<=\"&B514)","v":0},{"$f":"SUMIFS(Haushaltsbuch2[Einnahmen],Haushaltsbuch2[Kategorie],O$4,Haushaltsbuch2[Datum],\">\"&B513,Haushaltsbuch2[Datum],\"<=\"&B514)","v":0},{"$f":"SUMIFS(Haushaltsbuch2[Einnahmen],Haushaltsbuch2[Kategorie],P$4,Haushaltsbuch2[Datum],\">\"&B513,Haushaltsbuch2[Datum],\"<=\"&B514)","v":0},{"$f":"SUMIFS(Haushaltsbuch2[Einnahmen],Haushaltsbuch2[Kategorie],Q$4,Haushaltsbuch2[Datum],\">\"&B513,Haushaltsbuch2[Datum],\"<=\"&B514)","v":0},{"$f":"SUMIFS(Haushaltsbuch2[Einnahmen],Haushaltsbuch2[Kategorie],R$4,Haushaltsbuch2[Datum],\">\"&B513,Haushaltsbuch2[Datum],\"<=\"&B514)","v":0},null,null,null,null,null,null,null,null,null,null,null,null,null,null,null,null,null,null,{"$f":"SUMIFS(Haushaltsbuch2[Ausgaben],Haushaltsbuch2[Kategorie],AK$4,Haushaltsbuch2[Datum],\">\"&B513,Haushaltsbuch2[Datum],\"<=\"&B514)","v":0},null,null,{"$f":"SUMIFS(Dividenden[Betrag in EUR],Dividenden[Datum],\">\"&B513,Dividenden[Datum],\"<=\"&B514)","v":0},{"$f":"SUMIFS(Optionen[G/V (Netto)],Optionen[Datum],\">\"&B513,Optionen[Datum],\"<=\"&B514)","v":0},null,0,0,null,0,0,null,{"$f":"SUMIFS(Haushaltsbuch2[Einnahmen],Haushaltsbuch2[Datum],\">\"&B513,Haushaltsbuch2[Datum],\"<=\"&B514)+AN514+AO514","v":0},null,0,null,{"$f":"SUMIFS(Haushaltsbuch2[Ausgaben],Haushaltsbuch2[Datum],\">\"&B513,Haushaltsbuch2[Datum],\"<=\"&B514)","v":0}]
[null,41152,null,null,null,null,null,null,null,null,null,null,{"$f":"SUMIFS(Haushaltsbuch2[Einnahmen],Haushaltsbuch2[Kategorie],M$4,Haushaltsbuch2[Datum],\">\"&B514,Haushaltsbuch2[Datum],\"<=\"&B515)","v":0},{"$f":"SUMIFS(Haushaltsbuch2[Einnahmen],Haushaltsbuch2[Kategorie],N$4,Haushaltsbuch2[Datum],\">\"&B514,Haushaltsbuch2[Datum],\"<=\"&B515)","v":0},{"$f":"SUMIFS(Haushaltsbuch2[Einnahmen],Haushaltsbuch2[Kategorie],O$4,Haushaltsbuch2[Datum],\">\"&B514,Haushaltsbuch2[Datum],\"<=\"&B515)","v":0},{"$f":"SUMIFS(Haushaltsbuch2[Einnahmen],Haushaltsbuch2[Kategorie],P$4,Haushaltsbuch2[Datum],\">\"&B514,Haushaltsbuch2[Datum],\"<=\"&B515)","v":0},{"$f":"SUMIFS(Haushaltsbuch2[Einnahmen],Haushaltsbuch2[Kategorie],Q$4,Haushaltsbuch2[Datum],\">\"&B514,Haushaltsbuch2[Datum],\"<=\"&B515)","v":0},{"$f":"SUMIFS(Haushaltsbuch2[Einnahmen],Haushaltsbuch2[Kategorie],R$4,Haushaltsbuch2[Datum],\">\"&B514,Haushaltsbuch2[Datum],\"<=\"&B515)","v":0},null,null,null,null,null,null,null,null,null,null,null,null,null,null,null,null,null,null,{"$f":"SUMIFS(Haushaltsbuch2[Ausgaben],Haushaltsbuch2[Kategorie],AK$4,Haushaltsbuch2[Datum],\">\"&B514,Haushaltsbuch2[Datum],\"<=\"&B515)","v":0},null,null,{"$f":"SUMIFS(Dividenden[Betrag in EUR],Dividenden[Datum],\">\"&B514,Dividenden[Datum],\"<=\"&B515)","v":0},{"$f":"SUMIFS(Optionen[G/V (Netto)],Optionen[Datum],\">\"&B514,Optionen[Datum],\"<=\"&B515)","v":0},null,0,0,null,0,0,null,{"$f":"SUMIFS(Haushaltsbuch2[Einnahmen],Haushaltsbuch2[Datum],\">\"&B514,Haushaltsbuch2[Datum],\"<=\"&B515)+AN515+AO515","v":0},null,0,null,{"$f":"SUMIFS(Haushaltsbuch2[Ausgaben],Haushaltsbuch2[Datum],\">\"&B514,Haushaltsbuch2[Datum],\"<=\"&B515)","v":0}]
[null,41182,null,null,null,null,null,null,null,null,null,null,{"$f":"SUMIFS(Haushaltsbuch2[Einnahmen],Haushaltsbuch2[Kategorie],M$4,Haushaltsbuch2[Datum],\">\"&B515,Haushaltsbuch2[Datum],\"<=\"&B516)","v":0},{"$f":"SUMIFS(Haushaltsbuch2[Einnahmen],Haushaltsbuch2[Kategorie],N$4,Haushaltsbuch2[Datum],\">\"&B515,Haushaltsbuch2[Datum],\"<=\"&B516)","v":0},{"$f":"SUMIFS(Haushaltsbuch2[Einnahmen],Haushaltsbuch2[Kategorie],O$4,Haushaltsbuch2[Datum],\">\"&B515,Haushaltsbuch2[Datum],\"<=\"&B516)","v":0},{"$f":"SUMIFS(Haushaltsbuch2[Einnahmen],Haushaltsbuch2[Kategorie],P$4,Haushaltsbuch2[Datum],\">\"&B515,Haushaltsbuch2[Datum],\"<=\"&B516)","v":0},{"$f":"SUMIFS(Haushaltsbuch2[Einnahmen],Haushaltsbuch2[Kategorie],Q$4,Haushaltsbuch2[Datum],\">\"&B515,Haushaltsbuch2[Datum],\"<=\"&B516)","v":0},{"$f":"SUMIFS(Haushaltsbuch2[Einnahmen],Haushaltsbuch2[Kategorie],R$4,Haushaltsbuch2[Datum],\">\"&B515,Haushaltsbuch2[Datum],\"<=\"&B516)","v":0},null,null,null,null,null,null,null,null,null,null,null,null,null,null,null,null,null,null,{"$f":"SUMIFS(Haushaltsbuch2[Ausgaben],Haushaltsbuch2[Kategorie],AK$4,Haushaltsbuch2[Datum],\">\"&B515,Haushaltsbuch2[Datum],\"<=\"&B516)","v":0},null,null,{"$f":"SUMIFS(Dividenden[Betrag in EUR],Dividenden[Datum],\">\"&B515,Dividenden[Datum],\"<=\"&B516)","v":0},{"$f":"SUMIFS(Optionen[G/V (Netto)],Optionen[Datum],\">\"&B515,Optionen[Datum],\"<=\"&B516)","v":0},null,0,0,null,0,0,null,{"$f":"SUMIFS(Haushaltsbuch2[Einnahmen],Haushaltsbuch2[Datum],\">\"&B515,Haushaltsbuch2[Datum],\"<=\"&B516)+AN516+AO516","v":0},null,0,null,{"$f":"SUMIFS(Haushaltsbuch2[Ausgaben],Haushaltsbuch2[Datum],\">\"&B515,Haushaltsbuch2[Datum],\"<=\"&B516)","v":0}]
[null,41213,null,null,null,null,null,null,null,null,null,null,{"$f":"SUMIFS(Haushaltsbuch2[Einnahmen],Haushaltsbuch2[Kategorie],M$4,Haushaltsbuch2[Datum],\">\"&B516,Haushaltsbuch2[Datum],\"<=\"&B517)","v":0},{"$f":"SUMIFS(Haushaltsbuch2[Einnahmen],Haushaltsbuch2[Kategorie],N$4,Haushaltsbuch2[Datum],\">\"&B516,Haushaltsbuch2[Datum],\"<=\"&B517)","v":0},{"$f":"SUMIFS(Haushaltsbuch2[Einnahmen],Haushaltsbuch2[Kategorie],O$4,Haushaltsbuch2[Datum],\">\"&B516,Haushaltsbuch2[Datum],\"<=\"&B517)","v":0},{"$f":"SUMIFS(Haushaltsbuch2[Einnahmen],Haushaltsbuch2[Kategorie],P$4,Haushaltsbuch2[Datum],\">\"&B516,Haushaltsbuch2[Datum],\"<=\"&B517)","v":0},{"$f":"SUMIFS(Haushaltsbuch2[Einnahmen],Haushaltsbuch2[Kategorie],Q$4,Haushaltsbuch2[Datum],\">\"&B516,Haushaltsbuch2[Datum],\"<=\"&B517)","v":0},{"$f":"SUMIFS(Haushaltsbuch2[Einnahmen],Haushaltsbuch2[Kategorie],R$4,Haushaltsbuch2[Datum],\">\"&B516,Haushaltsbuch2[Datum],\"<=\"&B517)","v":0},null,null,null,null,null,null,null,null,null,null,null,null,null,null,null,null,null,null,{"$f":"SUMIFS(Haushaltsbuch2[Ausgaben],Haushaltsbuch2[Kategorie],AK$4,Haushaltsbuch2[Datum],\">\"&B516,Haushaltsbuch2[Datum],\"<=\"&B517)","v":0},null,null,{"$f":"SUMIFS(Dividenden[Betrag in EUR],Dividenden[Datum],\">\"&B516,Dividenden[Datum],\"<=\"&B517)","v":0},{"$f":"SUMIFS(Optionen[G/V (Netto)],Optionen[Datum],\">\"&B516,Optionen[Datum],\"<=\"&B517)","v":0},null,0,0,null,0,0,null,{"$f":"SUMIFS(Haushaltsbuch2[Einnahmen],Haushaltsbuch2[Datum],\">\"&B516,Haushaltsbuch2[Datum],\"<=\"&B517)+AN517+AO517","v":0},null,0,null,{"$f":"SUMIFS(Haushaltsbuch2[Ausgaben],Haushaltsbuch2[Datum],\">\"&B516,Haushaltsbuch2[Datum],\"<=\"&B517)","v":0}]
[null,41243,null,null,null,null,null,null,null,null,null,null,{"$f":"SUMIFS(Haushaltsbuch2[Einnahmen],Haushaltsbuch2[Kategorie],M$4,Haushaltsbuch2[Datum],\">\"&B517,Haushaltsbuch2[Datum],\"<=\"&B518)","v":0},{"$f":"SUMIFS(Haushaltsbuch2[Einnahmen],Haushaltsbuch2[Kategorie],N$4,Haushaltsbuch2[Datum],\">\"&B517,Haushaltsbuch2[Datum],\"<=\"&B518)","v":0},{"$f":"SUMIFS(Haushaltsbuch2[Einnahmen],Haushaltsbuch2[Kategorie],O$4,Haushaltsbuch2[Datum],\">\"&B517,Haushaltsbuch2[Datum],\"<=\"&B518)","v":0},{"$f":"SUMIFS(Haushaltsbuch2[Einnahmen],Haushaltsbuch2[Kategorie],P$4,Haushaltsbuch2[Datum],\">\"&B517,Haushaltsbuch2[Datum],\"<=\"&B518)","v":0},{"$f":"SUMIFS(Haushaltsbuch2[Einnahmen],Haushaltsbuch2[Kategorie],Q$4,Haushaltsbuch2[Datum],\">\"&B517,Haushaltsbuch2[Datum],\"<=\"&B518)","v":0},{"$f":"SUMIFS(Haushaltsbuch2[Einnahmen],Haushaltsbuch2[Kategorie],R$4,Haushaltsbuch2[Datum],\">\"&B517,Haushaltsbuch2[Datum],\"<=\"&B518)","v":0},null,null,null,null,null,null,null,null,null,null,null,null,null,null,null,null,null,null,{"$f":"SUMIFS(Haushaltsbuch2[Ausgaben],Haushaltsbuch2[Kategorie],AK$4,Haushaltsbuch2[Datum],\">\"&B517,Haushaltsbuch2[Datum],\"<=\"&B518)","v":0},null,null,{"$f":"SUMIFS(Dividenden[Betrag in EUR],Dividenden[Datum],\">\"&B517,Dividenden[Datum],\"<=\"&B518)","v":0},{"$f":"SUMIFS(Optionen[G/V (Netto)],Optionen[Datum],\">\"&B517,Optionen[Datum],\"<=\"&B518)","v":0},null,{"$f":"N518+AN518","v":0},{"$f":"O518+AO518","v":0},null,{"$f":"M518+SUM(P518:R518)+SUM(AQ518:AR518)","v":0},0,null,{"$f":"SUMIFS(Haushaltsbuch2[Einnahmen],Haushaltsbuch2[Datum],\">\"&B517,Haushaltsbuch2[Datum],\"<=\"&B518)+AN518+AO518","v":0},null,0,null,{"$f":"SUMIFS(Haushaltsbuch2[Ausgaben],Haushaltsbuch2[Datum],\">\"&B517,Haushaltsbuch2[Datum],\"<=\"&B518)","v":0}]
[null,{"$f":"EOMONTH(B518,1)","v":41274},null,null,null,null,null,null,null,null,null,null,{"$f":"SUMIFS(Haushaltsbuch2[Einnahmen],Haushaltsbuch2[Kategorie],M$4,Haushaltsbuch2[Datum],\">\"&B518,Haushaltsbuch2[Datum],\"<=\"&B519)","v":0},{"$f":"SUMIFS(Haushaltsbuch2[Einnahmen],Haushaltsbuch2[Kategorie],N$4,Haushaltsbuch2[Datum],\">\"&B518,Haushaltsbuch2[Datum],\"<=\"&B519)","v":0},{"$f":"SUMIFS(Haushaltsbuch2[Einnahmen],Haushaltsbuch2[Kategorie],O$4,Haushaltsbuch2[Datum],\">\"&B518,Haushaltsbuch2[Datum],\"<=\"&B519)","v":0},{"$f":"SUMIFS(Haushaltsbuch2[Einnahmen],Haushaltsbuch2[Kategorie],P$4,Haushaltsbuch2[Datum],\">\"&B518,Haushaltsbuch2[Datum],\"<=\"&B519)","v":0},{"$f":"SUMIFS(Haushaltsbuch2[Einnahmen],Haushaltsbuch2[Kategorie],Q$4,Haushaltsbuch2[Datum],\">\"&B518,Haushaltsbuch2[Datum],\"<=\"&B519)","v":0},{"$f":"SUMIFS(Haushaltsbuch2[Einnahmen],Haushaltsbuch2[Kategorie],R$4,Haushaltsbuch2[Datum],\">\"&B518,Haushaltsbuch2[Datum],\"<=\"&B519)","v":0},null,null,null,null,null,null,null,null,null,null,null,null,null,null,null,null,null,null,{"$f":"SUMIFS(Haushaltsbuch2[Ausgaben],Haushaltsbuch2[Kategorie],AK$4,Haushaltsbuch2[Datum],\">\"&B518,Haushaltsbuch2[Datum],\"<=\"&B519)","v":0},null,null,{"$f":"SUMIFS(Dividenden[Betrag in EUR],Dividenden[Datum],\">\"&B518,Dividenden[Datum],\"<=\"&B519)","v":0},{"$f":"SUMIFS(Optionen[G/V (Netto)],Optionen[Datum],\">\"&B518,Optionen[Datum],\"<=\"&B519)","v":0},null,0,0,null,0,0,null,{"$f":"SUMIFS(Haushaltsbuch2[Einnahmen],Haushaltsbuch2[Datum],\">\"&B518,Haushaltsbuch2[Datum],\"<=\"&B519)+AN519+AO519","v":0},null,0,null,{"$f":"SUMIFS(Haushaltsbuch2[Ausgaben],Haushaltsbuch2[Datum],\">\"&B518,Haushaltsbuch2[Datum],\"<=\"&B519)","v":0}]
[null,41305,null,null,null,null,null,null,null,null,null,null,{"$f":"SUMIFS(Haushaltsbuch2[Einnahmen],Haushaltsbuch2[Kategorie],M$4,Haushaltsbuch2[Datum],\">\"&B519,Haushaltsbuch2[Datum],\"<=\"&B520)","v":0},{"$f":"SUMIFS(Haushaltsbuch2[Einnahmen],Haushaltsbuch2[Kategorie],N$4,Haushaltsbuch2[Datum],\">\"&B519,Haushaltsbuch2[Datum],\"<=\"&B520)","v":0},{"$f":"SUMIFS(Haushaltsbuch2[Einnahmen],Haushaltsbuch2[Kategorie],O$4,Haushaltsbuch2[Datum],\">\"&B519,Haushaltsbuch2[Datum],\"<=\"&B520)","v":0},{"$f":"SUMIFS(Haushaltsbuch2[Einnahmen],Haushaltsbuch2[Kategorie],P$4,Haushaltsbuch2[Datum],\">\"&B519,Haushaltsbuch2[Datum],\"<=\"&B520)","v":0},{"$f":"SUMIFS(Haushaltsbuch2[Einnahmen],Haushaltsbuch2[Kategorie],Q$4,Haushaltsbuch2[Datum],\">\"&B519,Haushaltsbuch2[Datum],\"<=\"&B520)","v":0},{"$f":"SUMIFS(Haushaltsbuch2[Einnahmen],Haushaltsbuch2[Kategorie],R$4,Haushaltsbuch2[Datum],\">\"&B519,Haushaltsbuch2[Datum],\"<=\"&B520)","v":0},null,null,null,null,null,null,null,null,null,null,null,null,null,null,null,null,null,null,{"$f":"SUMIFS(Haushaltsbuch2[Ausgaben],Haushaltsbuch2[Kategorie],AK$4,Haushaltsbuch2[Datum],\">\"&B519,Haushaltsbuch2[Datum],\"<=\"&B520)","v":0},null,null,{"$f":"SUMIFS(Dividenden[Betrag in EUR],Dividenden[Datum],\">\"&B519,Dividenden[Datum],\"<=\"&B520)","v":0},{"$f":"SUMIFS(Optionen[G/V (Netto)],Optionen[Datum],\">\"&B519,Optionen[Datum],\"<=\"&B520)","v":0},null,0,0,null,0,0,null,{"$f":"SUMIFS(Haushaltsbuch2[Einnahmen],Haushaltsbuch2[Datum],\">\"&B519,Haushaltsbuch2[Datum],\"<=\"&B520)+AN520+AO520","v":0},null,0,null,{"$f":"SUMIFS(Haushaltsbuch2[Ausgaben],Haushaltsbuch2[Datum],\">\"&B519,Haushaltsbuch2[Datum],\"<=\"&B520)","v":0}]
[null,41333,null,null,null,null,null,null,null,null,null,null,{"$f":"SUMIFS(Haushaltsbuch2[Einnahmen],Haushaltsbuch2[Kategorie],M$4,Haushaltsbuch2[Datum],\">\"&B520,Haushaltsbuch2[Datum],\"<=\"&B521)","v":0},{"$f":"SUMIFS(Haushaltsbuch2[Einnahmen],Haushaltsbuch2[Kategorie],N$4,Haushaltsbuch2[Datum],\">\"&B520,Haushaltsbuch2[Datum],\"<=\"&B521)","v":0},{"$f":"SUMIFS(Haushaltsbuch2[Einnahmen],Haushaltsbuch2[Kategorie],O$4,Haushaltsbuch2[Datum],\">\"&B520,Haushaltsbuch2[Datum],\"<=\"&B521)","v":0},{"$f":"SUMIFS(Haushaltsbuch2[Einnahmen],Haushaltsbuch2[Kategorie],P$4,Haushaltsbuch2[Datum],\">\"&B520,Haushaltsbuch2[Datum],\"<=\"&B521)","v":0},{"$f":"SUMIFS(Haushaltsbuch2[Einnahmen],Haushaltsbuch2[Kategorie],Q$4,Haushaltsbuch2[Datum],\">\"&B520,Haushaltsbuch2[Datum],\"<=\"&B521)","v":0},{"$f":"SUMIFS(Haushaltsbuch2[Einnahmen],Haushaltsbuch2[Kategorie],R$4,Haushaltsbuch2[Datum],\">\"&B520,Haushaltsbuch2[Datum],\"<=\"&B521)","v":0},null,null,null,null,null,null,null,null,null,null,null,null,null,null,null,null,null,null,{"$f":"SUMIFS(Haushaltsbuch2[Ausgaben],Haushaltsbuch2[Kategorie],AK$4,Haushaltsbuch2[Datum],\">\"&B520,Haushaltsbuch2[Datum],\"<=\"&B521)","v":0},null,null,{"$f":"SUMIFS(Dividenden[Betrag in EUR],Dividenden[Datum],\">\"&B520,Dividenden[Datum],\"<=\"&B521)","v":0},{"$f":"SUMIFS(Optionen[G/V (Netto)],Optionen[Datum],\">\"&B520,Optionen[Datum],\"<=\"&B521)","v":0},null,0,0,null,0,0,null,{"$f":"SUMIFS(Haushaltsbuch2[Einnahmen],Haushaltsbuch2[Datum],\">\"&B520,Haushaltsbuch2[Datum],\"<=\"&B521)+AN521+AO521","v":0},null,0,null,{"$f":"SUMIFS(Haushaltsbuch2[Ausgaben],Haushaltsbuch2[Datum],\">\"&B520,Haushaltsbuch2[Datum],\"<=\"&B521)","v":0}]
[null,41364,null,null,null,null,null,null,null,null,null,null,{"$f":"SUMIFS(Haushaltsbuch2[Einnahmen],Haushaltsbuch2[Kategorie],M$4,Haushaltsbuch2[Datum],\">\"&B521,Haushaltsbuch2[Datum],\"<=\"&B522)","v":0},{"$f":"SUMIFS(Haushaltsbuch2[Einnahmen],Haushaltsbuch2[Kategorie],N$4,Haushaltsbuch2[Datum],\">\"&B521,Haushaltsbuch2[Datum],\"<=\"&B522)","v":0},{"$f":"SUMIFS(Haushaltsbuch2[Einnahmen],Haushaltsbuch2[Kategorie],O$4,Haushaltsbuch2[Datum],\">\"&B521,Haushaltsbuch2[Datum],\"<=\"&B522)","v":0},{"$f":"SUMIFS(Haushaltsbuch2[Einnahmen],Haushaltsbuch2[Kategorie],P$4,Haushaltsbuch2[Datum],\">\"&B521,Haushaltsbuch2[Datum],\"<=\"&B522)","v":0},{"$f":"SUMIFS(Haushaltsbuch2[Einnahmen],Haushaltsbuch2[Kategorie],Q$4,Haushaltsbuch2[Datum],\">\"&B521,Haushaltsbuch2[Datum],\"<=\"&B522)","v":0},{"$f":"SUMIFS(Haushaltsbuch2[Einnahmen],Haushaltsbuch2[Kategorie],R$4,Haushaltsbuch2[Datum],\">\"&B521,Haushaltsbuch2[Datum],\"<=\"&B522)","v":0},null,null,null,null,null,null,null,null,null,null,null,null,null,null,null,null,null,null,{"$f":"SUMIFS(Haushaltsbuch2[Ausgaben],Haushaltsbuch2[Kategorie],AK$4,Haushaltsbuch2[Datum],\">\"&B521,Haushaltsbuch2[Datum],\"<=\"&B522)","v":0},null,null,{"$f":"SUMIFS(Dividenden[Betrag in EUR],Dividenden[Datum],\">\"&B521,Dividenden[Datum],\"<=\"&B522)","v":0},{"$f":"SUMIFS(Optionen[G/V (Netto)],Optionen[Datum],\">\"&B521,Optionen[Datum],\"<=\"&B522)","v":0},null,0,0,null,0,0,null,{"$f":"SUMIFS(Haushaltsbuch2[Einnahmen],Haushaltsbuch2[Datum],\">\"&B521,Haushaltsbuch2[Datum],\"<=\"&B522)+AN522+AO522","v":0},null,0,null,{"$f":"SUMIFS(Haushaltsbuch2[Ausgaben],Haushaltsbuch2[Datum],\">\"&B521,Haushaltsbuch2[Datum],\"<=\"&B522)","v":0}]
[null,41394,null,null,null,null,null,null,null,null,null,null,{"$f":"SUMIFS(Haushaltsbuch2[Einnahmen],Haushaltsbuch2[Kategorie],M$4,Haushaltsbuch2[Datum],\">\"&B522,Haushaltsbuch2[Datum],\"<=\"&B523)","v":0},{"$f":"SUMIFS(Haushaltsbuch2[Einnahmen],Haushaltsbuch2[Kategorie],N$4,Haushaltsbuch2[Datum],\">\"&B522,Haushaltsbuch2[Datum],\"<=\"&B523)","v":0},{"$f":"SUMIFS(Haushaltsbuch2[Einnahmen],Haushaltsbuch2[Kategorie],O$4,Haushaltsbuch2[Datum],\">\"&B522,Haushaltsbuch2[Datum],\"<=\"&B523)","v":0},{"$f":"SUMIFS(Haushaltsbuch2[Einnahmen],Haushaltsbuch2[Kategorie],P$4,Haushaltsbuch2[Datum],\">\"&B522,Haushaltsbuch2[Datum],\"<=\"&B523)","v":0},{"$f":"SUMIFS(Haushaltsbuch2[Einnahmen],Haushaltsbuch2[Kategorie],Q$4,Haushaltsbuch2[Datum],\">\"&B522,Haushaltsbuch2[Datum],\"<=\"&B523)","v":0},{"$f":"SUMIFS(Haushaltsbuch2[Einnahmen],Haushaltsbuch2[Kategorie],R$4,Haushaltsbuch2[Datum],\">\"&B522,Haushaltsbuch2[Datum],\"<=\"&B523)","v":0},null,null,null,null,null,null,null,null,null,null,null,null,null,null,null,null,null,null,{"$f":"SUMIFS(Haushaltsbuch2[Ausgaben],Haushaltsbuch2[Kategorie],AK$4,Haushaltsbuch2[Datum],\">\"&B522,Haushaltsbuch2[Datum],\"<=\"&B523)","v":0},null,null,{"$f":"SUMIFS(Dividenden[Betrag in EUR],Dividenden[Datum],\">\"&B522,Dividenden[Datum],\"<=\"&B523)","v":0},{"$f":"SUMIFS(Optionen[G/V (Netto)],Optionen[Datum],\">\"&B522,Optionen[Datum],\"<=\"&B523)","v":0},null,0,0,null,0,0,null,{"$f":"SUMIFS(Haushaltsbuch2[Einnahmen],Haushaltsbuch2[Datum],\">\"&B522,Haushaltsbuch2[Datum],\"<=\"&B523)+AN523+AO523","v":0},null,0,null,{"$f":"SUMIFS(Haushaltsbuch2[Ausgaben],Haushaltsbuch2[Datum],\">\"&B522,Haushaltsbuch2[Datum],\"<=\"&B523)","v":0}]
[null,41425,null,null,null,null,null,null,null,null,null,null,{"$f":"SUMIFS(Haushaltsbuch2[Einnahmen],Haushaltsbuch2[Kategorie],M$4,Haushaltsbuch2[Datum],\">\"&B523,Haushaltsbuch2[Datum],\"<=\"&B524)","v":0},{"$f":"SUMIFS(Haushaltsbuch2[Einnahmen],Haushaltsbuch2[Kategorie],N$4,Haushaltsbuch2[Datum],\">\"&B523,Haushaltsbuch2[Datum],\"<=\"&B524)","v":0},{"$f":"SUMIFS(Haushaltsbuch2[Einnahmen],Haushaltsbuch2[Kategorie],O$4,Haushaltsbuch2[Datum],\">\"&B523,Haushaltsbuch2[Datum],\"<=\"&B524)","v":0},{"$f":"SUMIFS(Haushaltsbuch2[Einnahmen],Haushaltsbuch2[Kategorie],P$4,Haushaltsbuch2[Datum],\">\"&B523,Haushaltsbuch2[Datum],\"<=\"&B524)","v":0},{"$f":"SUMIFS(Haushaltsbuch2[Einnahmen],Haushaltsbuch2[Kategorie],Q$4,Haushaltsbuch2[Datum],\">\"&B523,Haushaltsbuch2[Datum],\"<=\"&B524)","v":0},{"$f":"SUMIFS(Haushaltsbuch2[Einnahmen],Haushaltsbuch2[Kategorie],R$4,Haushaltsbuch2[Datum],\">\"&B523,Haushaltsbuch2[Datum],\"<=\"&B524)","v":0},null,null,null,null,null,null,null,null,null,null,null,null,null,null,null,null,null,null,{"$f":"SUMIFS(Haushaltsbuch2[Ausgaben],Haushaltsbuch2[Kategorie],AK$4,Haushaltsbuch2[Datum],\">\"&B523,Haushaltsbuch2[Datum],\"<=\"&B524)","v":0},null,null,{"$f":"SUMIFS(Dividenden[Betrag in EUR],Dividenden[Datum],\">\"&B523,Dividenden[Datum],\"<=\"&B524)","v":0},{"$f":"SUMIFS(Optionen[G/V (Netto)],Optionen[Datum],\">\"&B523,Optionen[Datum],\"<=\"&B524)","v":0},null,0,0,null,0,0,null,{"$f":"SUMIFS(Haushaltsbuch2[Einnahmen],Haushaltsbuch2[Datum],\">\"&B523,Haushaltsbuch2[Datum],\"<=\"&B524)+AN524+AO524","v":0},null,0,null,{"$f":"SUMIFS(Haushaltsbuch2[Ausgaben],Haushaltsbuch2[Datum],\">\"&B523,Haushaltsbuch2[Datum],\"<=\"&B524)","v":0}]
[null,41455,null,null,null,null,null,null,null,null,null,null,{"$f":"SUMIFS(Haushaltsbuch2[Einnahmen],Haushaltsbuch2[Kategorie],M$4,Haushaltsbuch2[Datum],\">\"&B524,Haushaltsbuch2[Datum],\"<=\"&B525)","v":0},{"$f":"SUMIFS(Haushaltsbuch2[Einnahmen],Haushaltsbuch2[Kategorie],N$4,Haushaltsbuch2[Datum],\">\"&B524,Haushaltsbuch2[Datum],\"<=\"&B525)","v":0},{"$f":"SUMIFS(Haushaltsbuch2[Einnahmen],Haushaltsbuch2[Kategorie],O$4,Haushaltsbuch2[Datum],\">\"&B524,Haushaltsbuch2[Datum],\"<=\"&B525)","v":0},{"$f":"SUMIFS(Haushaltsbuch2[Einnahmen],Haushaltsbuch2[Kategorie],P$4,Haushaltsbuch2[Datum],\">\"&B524,Haushaltsbuch2[Datum],\"<=\"&B525)","v":0},{"$f":"SUMIFS(Haushaltsbuch2[Einnahmen],Haushaltsbuch2[Kategorie],Q$4,Haushaltsbuch2[Datum],\">\"&B524,Haushaltsbuch2[Datum],\"<=\"&B525)","v":0},{"$f":"SUMIFS(Haushaltsbuch2[Einnahmen],Haushaltsbuch2[Kategorie],R$4,Haushaltsbuch2[Datum],\">\"&B524,Haushaltsbuch2[Datum],\"<=\"&B525)","v":0},null,null,null,null,null,null,null,null,null,null,null,null,null,null,null,null,null,null,{"$f":"SUMIFS(Haushaltsbuch2[Ausgaben],Haushaltsbuch2[Kategorie],AK$4,Haushaltsbuch2[Datum],\">\"&B524,Haushaltsbuch2[Datum],\"<=\"&B525)","v":0},null,null,{"$f":"SUMIFS(Dividenden[Betrag in EUR],Dividenden[Datum],\">\"&B524,Dividenden[Datum],\"<=\"&B525)","v":0},{"$f":"SUMIFS(Optionen[G/V (Netto)],Optionen[Datum],\">\"&B524,Optionen[Datum],\"<=\"&B525)","v":0},null,0,0,null,0,0,null,{"$f":"SUMIFS(Haushaltsbuch2[Einnahmen],Haushaltsbuch2[Datum],\">\"&B524,Haushaltsbuch2[Datum],\"<=\"&B525)+AN525+AO525","v":0},null,0,null,{"$f":"SUMIFS(Haushaltsbuch2[Ausgaben],Haushaltsbuch2[Datum],\">\"&B524,Haushaltsbuch2[Datum],\"<=\"&B525)","v":0}]
[null,41486,null,null,null,null,null,null,null,null,null,null,{"$f":"SUMIFS(Haushaltsbuch2[Einnahmen],Haushaltsbuch2[Kategorie],M$4,Haushaltsbuch2[Datum],\">\"&B525,Haushaltsbuch2[Datum],\"<=\"&B526)","v":0},{"$f":"SUMIFS(Haushaltsbuch2[Einnahmen],Haushaltsbuch2[Kategorie],N$4,Haushaltsbuch2[Datum],\">\"&B525,Haushaltsbuch2[Datum],\"<=\"&B526)","v":0},{"$f":"SUMIFS(Haushaltsbuch2[Einnahmen],Haushaltsbuch2[Kategorie],O$4,Haushaltsbuch2[Datum],\">\"&B525,Haushaltsbuch2[Datum],\"<=\"&B526)","v":0},{"$f":"SUMIFS(Haushaltsbuch2[Einnahmen],Haushaltsbuch2[Kategorie],P$4,Haushaltsbuch2[Datum],\">\"&B525,Haushaltsbuch2[Datum],\"<=\"&B526)","v":0},{"$f":"SUMIFS(Haushaltsbuch2[Einnahmen],Haushaltsbuch2[Kategorie],Q$4,Haushaltsbuch2[Datum],\">\"&B525,Haushaltsbuch2[Datum],\"<=\"&B526)","v":0},{"$f":"SUMIFS(Haushaltsbuch2[Einnahmen],Haushaltsbuch2[Kategorie],R$4,Haushaltsbuch2[Datum],\">\"&B525,Haushaltsbuch2[Datum],\"<=\"&B526)","v":0},null,null,null,null,null,null,null,null,null,null,null,null,null,null,null,null,null,null,{"$f":"SUMIFS(Haushaltsbuch2[Ausgaben],Haushaltsbuch2[Kategorie],AK$4,Haushaltsbuch2[Datum],\">\"&B525,Haushaltsbuch2[Datum],\"<=\"&B526)","v":0},null,null,{"$f":"SUMIFS(Dividenden[Betrag in EUR],Dividenden[Datum],\">\"&B525,Dividenden[Datum],\"<=\"&B526)","v":0},{"$f":"SUMIFS(Optionen[G/V (Netto)],Optionen[Datum],\">\"&B525,Optionen[Datum],\"<=\"&B526)","v":0},null,0,0,null,0,0,null,{"$f":"SUMIFS(Haushaltsbuch2[Einnahmen],Haushaltsbuch2[Datum],\">\"&B525,Haushaltsbuch2[Datum],\"<=\"&B526)+AN526+AO526","v":0},null,0,null,{"$f":"SUMIFS(Haushaltsbuch2[Ausgaben],Haushaltsbuch2[Datum],\">\"&B525,Haushaltsbuch2[Datum],\"<=\"&B526)","v":0}]
[null,41517,null,null,null,null,null,null,null,null,null,null,{"$f":"SUMIFS(Haushaltsbuch2[Einnahmen],Haushaltsbuch2[Kategorie],M$4,Haushaltsbuch2[Datum],\">\"&B526,Haushaltsbuch2[Datum],\"<=\"&B527)","v":0},{"$f":"SUMIFS(Haushaltsbuch2[Einnahmen],Haushaltsbuch2[Kategorie],N$4,Haushaltsbuch2[Datum],\">\"&B526,Haushaltsbuch2[Datum],\"<=\"&B527)","v":0},{"$f":"SUMIFS(Haushaltsbuch2[Einnahmen],Haushaltsbuch2[Kategorie],O$4,Haushaltsbuch2[Datum],\">\"&B526,Haushaltsbuch2[Datum],\"<=\"&B527)","v":0},{"$f":"SUMIFS(Haushaltsbuch2[Einnahmen],Haushaltsbuch2[Kategorie],P$4,Haushaltsbuch2[Datum],\">\"&B526,Haushaltsbuch2[Datum],\"<=\"&B527)","v":0},{"$f":"SUMIFS(Haushaltsbuch2[Einnahmen],Haushaltsbuch2[Kategorie],Q$4,Haushaltsbuch2[Datum],\">\"&B526,Haushaltsbuch2[Datum],\"<=\"&B527)","v":0},{"$f":"SUMIFS(Haushaltsbuch2[Einnahmen],Haushaltsbuch2[Kategorie],R$4,Haushaltsbuch2[Datum],\">\"&B526,Haushaltsbuch2[Datum],\"<=\"&B527)","v":0},null,null,null,null,null,null,null,null,null,null,null,null,null,null,null,null,null,null,{"$f":"SUMIFS(Haushaltsbuch2[Ausgaben],Haushaltsbuch2[Kategorie],AK$4,Haushaltsbuch2[Datum],\">\"&B526,Haushaltsbuch2[Datum],\"<=\"&B527)","v":0},null,null,{"$f":"SUMIFS(Dividenden[Betrag in EUR],Dividenden[Datum],\">\"&B526,Dividenden[Datum],\"<=\"&B527)","v":0},{"$f":"SUMIFS(Optionen[G/V (Netto)],Optionen[Datum],\">\"&B526,Optionen[Datum],\"<=\"&B527)","v":0},null,0,0,null,0,0,null,{"$f":"SUMIFS(Haushaltsbuch2[Einnahmen],Haushaltsbuch2[Datum],\">\"&B526,Haushaltsbuch2[Datum],\"<=\"&B527)+AN527+AO527","v":0},null,0,null,{"$f":"SUMIFS(Haushaltsbuch2[Ausgaben],Haushaltsbuch2[Datum],\">\"&B526,Haushaltsbuch2[Datum],\"<=\"&B527)","v":0}]
[null,41547,null,null,null,null,null,null,null,null,null,null,{"$f":"SUMIFS(Haushaltsbuch2[Einnahmen],Haushaltsbuch2[Kategorie],M$4,Haushaltsbuch2[Datum],\">\"&B527,Haushaltsbuch2[Datum],\"<=\"&B528)","v":0},{"$f":"SUMIFS(Haushaltsbuch2[Einnahmen],Haushaltsbuch2[Kategorie],N$4,Haushaltsbuch2[Datum],\">\"&B527,Haushaltsbuch2[Datum],\"<=\"&B528)","v":0},{"$f":"SUMIFS(Haushaltsbuch2[Einnahmen],Haushaltsbuch2[Kategorie],O$4,Haushaltsbuch2[Datum],\">\"&B527,Haushaltsbuch2[Datum],\"<=\"&B528)","v":0},{"$f":"SUMIFS(Haushaltsbuch2[Einnahmen],Haushaltsbuch2[Kategorie],P$4,Haushaltsbuch2[Datum],\">\"&B527,Haushaltsbuch2[Datum],\"<=\"&B528)","v":0},{"$f":"SUMIFS(Haushaltsbuch2[Einnahmen],Haushaltsbuch2[Kategorie],Q$4,Haushaltsbuch2[Datum],\">\"&B527,Haushaltsbuch2[Datum],\"<=\"&B528)","v":0},{"$f":"SUMIFS(Haushaltsbuch2[Einnahmen],Haushaltsbuch2[Kategorie],R$4,Haushaltsbuch2[Datum],\">\"&B527,Haushaltsbuch2[Datum],\"<=\"&B528)","v":0},null,null,null,null,null,null,null,null,null,null,null,null,null,null,null,null,null,null,{"$f":"SUMIFS(Haushaltsbuch2[Ausgaben],Haushaltsbuch2[Kategorie],AK$4,Haushaltsbuch2[Datum],\">\"&B527,Haushaltsbuch2[Datum],\"<=\"&B528)","v":0},null,null,{"$f":"SUMIFS(Dividenden[Betrag in EUR],Dividenden[Datum],\">\"&B527,Dividenden[Datum],\"<=\"&B528)","v":0},{"$f":"SUMIFS(Optionen[G/V (Netto)],Optionen[Datum],\">\"&B527,Optionen[Datum],\"<=\"&B528)","v":0},null,0,0,null,0,0,null,{"$f":"SUMIFS(Haushaltsbuch2[Einnahmen],Haushaltsbuch2[Datum],\">\"&B527,Haushaltsbuch2[Datum],\"<=\"&B528)+AN528+AO528","v":0},null,0,null,{"$f":"SUMIFS(Haushaltsbuch2[Ausgaben],Haushaltsbuch2[Datum],\">\"&B527,Haushaltsbuch2[Datum],\"<=\"&B528)","v":0}]
[null,41578,null,null,null,null,null,null,null,null,null,null,{"$f":"SUMIFS(Haushaltsbuch2[Einnahmen],Haushaltsbuch2[Kategorie],M$4,Haushaltsbuch2[Datum],\">\"&B528,Haushaltsbuch2[Datum],\"<=\"&B529)","v":0},{"$f":"SUMIFS(Haushaltsbuch2[Einnahmen],Haushaltsbuch2[Kategorie],N$4,Haushaltsbuch2[Datum],\">\"&B528,Haushaltsbuch2[Datum],\"<=\"&B529)","v":0},{"$f":"SUMIFS(Haushaltsbuch2[Einnahmen],Haushaltsbuch2[Kategorie],O$4,Haushaltsbuch2[Datum],\">\"&B528,Haushaltsbuch2[Datum],\"<=\"&B529)","v":0},{"$f":"SUMIFS(Haushaltsbuch2[Einnahmen],Haushaltsbuch2[Kategorie],P$4,Haushaltsbuch2[Datum],\">\"&B528,Haushaltsbuch2[Datum],\"<=\"&B529)","v":0},{"$f":"SUMIFS(Haushaltsbuch2[Einnahmen],Haushaltsbuch2[Kategorie],Q$4,Haushaltsbuch2[Datum],\">\"&B528,Haushaltsbuch2[Datum],\"<=\"&B529)","v":0},{"$f":"SUMIFS(Haushaltsbuch2[Einnahmen],Haushaltsbuch2[Kategorie],R$4,Haushaltsbuch2[Datum],\">\"&B528,Haushaltsbuch2[Datum],\"<=\"&B529)","v":0},null,null,null,null,null,null,null,null,null,null,null,null,null,null,null,null,null,null,{"$f":"SUMIFS(Haushaltsbuch2[Ausgaben],Haushaltsbuch2[Kategorie],AK$4,Haushaltsbuch2[Datum],\">\"&B528,Haushaltsbuch2[Datum],\"<=\"&B529)","v":0},null,null,{"$f":"SUMIFS(Dividenden[Betrag in EUR],Dividenden[Datum],\">\"&B528,Dividenden[Datum],\"<=\"&B529)","v":0},{"$f":"SUMIFS(Optionen[G/V (Netto)],Optionen[Datum],\">\"&B528,Optionen[Datum],\"<=\"&B529)","v":0},null,0,0,null,0,0,null,{"$f":"SUMIFS(Haushaltsbuch2[Einnahmen],Haushaltsbuch2[Datum],\">\"&B528,Haushaltsbuch2[Datum],\"<=\"&B529)+AN529+AO529","v":0},null,0,null,{"$f":"SUMIFS(Haushaltsbuch2[Ausgaben],Haushaltsbuch2[Datum],\">\"&B528,Haushaltsbuch2[Datum],\"<=\"&B529)","v":0}]
[null,41608,null,null,null,null,null,null,null,null,null,null,{"$f":"SUMIFS(Haushaltsbuch2[Einnahmen],Haushaltsbuch2[Kategorie],M$4,Haushaltsbuch2[Datum],\">\"&B529,Haushaltsbuch2[Datum],\"<=\"&B530)","v":0},{"$f":"SUMIFS(Haushaltsbuch2[Einnahmen],Haushaltsbuch2[Kategorie],N$4,Haushaltsbuch2[Datum],\">\"&B529,Haushaltsbuch2[Datum],\"<=\"&B530)","v":0},{"$f":"SUMIFS(Haushaltsbuch2[Einnahmen],Haushaltsbuch2[Kategorie],O$4,Haushaltsbuch2[Datum],\">\"&B529,Haushaltsbuch2[Datum],\"<=\"&B530)","v":0},{"$f":"SUMIFS(Haushaltsbuch2[Einnahmen],Haushaltsbuch2[Kategorie],P$4,Haushaltsbuch2[Datum],\">\"&B529,Haushaltsbuch2[Datum],\"<=\"&B530)","v":0},{"$f":"SUMIFS(Haushaltsbuch2[Einnahmen],Haushaltsbuch2[Kategorie],Q$4,Haushaltsbuch2[Datum],\">\"&B529,Haushaltsbuch2[Datum],\"<=\"&B530)","v":0},{"$f":"SUMIFS(Haushaltsbuch2[Einnahmen],Haushaltsbuch2[Kategorie],R$4,Haushaltsbuch2[Datum],\">\"&B529,Haushaltsbuch2[Datum],\"<=\"&B530)","v":0},null,null,null,null,null,null,null,null,null,null,null,null,null,null,null,null,null,null,{"$f":"SUMIFS(Haushaltsbuch2[Ausgaben],Haushaltsbuch2[Kategorie],AK$4,Haushaltsbuch2[Datum],\">\"&B529,Haushaltsbuch2[Datum],\"<=\"&B530)","v":0},null,null,{"$f":"SUMIFS(Dividenden[Betrag in EUR],Dividenden[Datum],\">\"&B529,Dividenden[Datum],\"<=\"&B530)","v":0},{"$f":"SUMIFS(Optionen[G/V (Netto)],Optionen[Datum],\">\"&B529,Optionen[Datum],\"<=\"&B530)","v":0},null,0,0,null,0,{"$f":"AVERAGE(AT519:AT530)","v":0},null,{"$f":"SUMIFS(Haushaltsbuch2[Einnahmen],Haushaltsbuch2[Datum],\">\"&B529,Haushaltsbuch2[Datum],\"<=\"&B530)+AN530+AO530","v":0},null,{"$f":"AVERAGE(AK519:AK530)","v":0},null,{"$f":"SUMIFS(Haushaltsbuch2[Ausgaben],Haushaltsbuch2[Datum],\">\"&B529,Haushaltsbuch2[Datum],\"<=\"&B530)","v":0}]
[null,41639,null,null,null,null,null,null,null,null,null,null,{"$f":"SUMIFS(Haushaltsbuch2[Einnahmen],Haushaltsbuch2[Kategorie],M$4,Haushaltsbuch2[Datum],\">\"&B530,Haushaltsbuch2[Datum],\"<=\"&B531)","v":0},{"$f":"SUMIFS(Haushaltsbuch2[Einnahmen],Haushaltsbuch2[Kategorie],N$4,Haushaltsbuch2[Datum],\">\"&B530,Haushaltsbuch2[Datum],\"<=\"&B531)","v":0},{"$f":"SUMIFS(Haushaltsbuch2[Einnahmen],Haushaltsbuch2[Kategorie],O$4,Haushaltsbuch2[Datum],\">\"&B530,Haushaltsbuch2[Datum],\"<=\"&B531)","v":0},{"$f":"SUMIFS(Haushaltsbuch2[Einnahmen],Haushaltsbuch2[Kategorie],P$4,Haushaltsbuch2[Datum],\">\"&B530,Haushaltsbuch2[Datum],\"<=\"&B531)","v":0},{"$f":"SUMIFS(Haushaltsbuch2[Einnahmen],Haushaltsbuch2[Kategorie],Q$4,Haushaltsbuch2[Datum],\">\"&B530,Haushaltsbuch2[Datum],\"<=\"&B531)","v":0},{"$f":"SUMIFS(Haushaltsbuch2[Einnahmen],Haushaltsbuch2[Kategorie],R$4,Haushaltsbuch2[Datum],\">\"&B530,Haushaltsbuch2[Datum],\"<=\"&B531)","v":0},null,null,null,null,null,null,null,null,null,null,null,null,null,null,null,null,null,null,{"$f":"SUMIFS(Haushaltsbuch2[Ausgaben],Haushaltsbuch2[Kategorie],AK$4,Haushaltsbuch2[Datum],\">\"&B530,Haushaltsbuch2[Datum],\"<=\"&B531)","v":0},null,null,{"$f":"SUMIFS(Dividenden[Betrag in EUR],Dividenden[Datum],\">\"&B530,Dividenden[Datum],\"<=\"&B531)","v":0},{"$f":"SUMIFS(Optionen[G/V (Netto)],Optionen[Datum],\">\"&B530,Optionen[Datum],\"<=\"&B531)","v":0},null,0,0,null,0,0,null,{"$f":"SUMIFS(Haushaltsbuch2[Einnahmen],Haushaltsbuch2[Datum],\">\"&B530,Haushaltsbuch2[Datum],\"<=\"&B531)+AN531+AO531","v":0},null,0,null,{"$f":"SUMIFS(Haushaltsbuch2[Ausgaben],Haushaltsbuch2[Datum],\">\"&B530,Haushaltsbuch2[Datum],\"<=\"&B531)","v":0}]
[null,41670,null,null,null,null,null,null,null,null,null,null,{"$f":"SUMIFS(Haushaltsbuch2[Einnahmen],Haushaltsbuch2[Kategorie],M$4,Haushaltsbuch2[Datum],\">\"&B531,Haushaltsbuch2[Datum],\"<=\"&B532)","v":0},{"$f":"SUMIFS(Haushaltsbuch2[Einnahmen],Haushaltsbuch2[Kategorie],N$4,Haushaltsbuch2[Datum],\">\"&B531,Haushaltsbuch2[Datum],\"<=\"&B532)","v":0},{"$f":"SUMIFS(Haushaltsbuch2[Einnahmen],Haushaltsbuch2[Kategorie],O$4,Haushaltsbuch2[Datum],\">\"&B531,Haushaltsbuch2[Datum],\"<=\"&B532)","v":0},{"$f":"SUMIFS(Haushaltsbuch2[Einnahmen],Haushaltsbuch2[Kategorie],P$4,Haushaltsbuch2[Datum],\">\"&B531,Haushaltsbuch2[Datum],\"<=\"&B532)","v":0},{"$f":"SUMIFS(Haushaltsbuch2[Einnahmen],Haushaltsbuch2[Kategorie],Q$4,Haushaltsbuch2[Datum],\">\"&B531,Haushaltsbuch2[Datum],\"<=\"&B532)","v":0},{"$f":"SUMIFS(Haushaltsbuch2[Einnahmen],Haushaltsbuch2[Kategorie],R$4,Haushaltsbuch2[Datum],\">\"&B531,Haushaltsbuch2[Datum],\"<=\"&B532)","v":0},null,null,null,null,null,null,null,null,null,null,null,null,null,null,null,null,null,null,{"$f":"SUMIFS(Haushaltsbuch2[Ausgaben],Haushaltsbuch2[Kategorie],AK$4,Haushaltsbuch2[Datum],\">\"&B531,Haushaltsbuch2[Datum],\"<=\"&B532)","v":0},null,null,{"$f":"SUMIFS(Dividenden[Betrag in EUR],Dividenden[Datum],\">\"&B531,Dividenden[Datum],\"<=\"&B532)","v":0},{"$f":"SUMIFS(Optionen[G/V (Netto)],Optionen[Datum],\">\"&B531,Optionen[Datum],\"<=\"&B532)","v":0},null,0,0,null,0,0,null,{"$f":"SUMIFS(Haushaltsbuch2[Einnahmen],Haushaltsbuch2[Datum],\">\"&B531,Haushaltsbuch2[Datum],\"<=\"&B532)+AN532+AO532","v":0},null,0,null,{"$f":"SUMIFS(Haushaltsbuch2[Ausgaben],Haushaltsbuch2[Datum],\">\"&B531,Haushaltsbuch2[Datum],\"<=\"&B532)","v":0}]
[null,41698,null,null,null,null,null,null,null,null,null,null,{"$f":"SUMIFS(Haushaltsbuch2[Einnahmen],Haushaltsbuch2[Kategorie],M$4,Haushaltsbuch2[Datum],\">\"&B532,Haushaltsbuch2[Datum],\"<=\"&B533)","v":0},{"$f":"SUMIFS(Haushaltsbuch2[Einnahmen],Haushaltsbuch2[Kategorie],N$4,Haushaltsbuch2[Datum],\">\"&B532,Haushaltsbuch2[Datum],\"<=\"&B533)","v":0},{"$f":"SUMIFS(Haushaltsbuch2[Einnahmen],Haushaltsbuch2[Kategorie],O$4,Haushaltsbuch2[Datum],\">\"&B532,Haushaltsbuch2[Datum],\"<=\"&B533)","v":0},{"$f":"SUMIFS(Haushaltsbuch2[Einnahmen],Haushaltsbuch2[Kategorie],P$4,Haushaltsbuch2[Datum],\">\"&B532,Haushaltsbuch2[Datum],\"<=\"&B533)","v":0},{"$f":"SUMIFS(Haushaltsbuch2[Einnahmen],Haushaltsbuch2[Kategorie],Q$4,Haushaltsbuch2[Datum],\">\"&B532,Haushaltsbuch2[Datum],\"<=\"&B533)","v":0},{"$f":"SUMIFS(Haushaltsbuch2[Einnahmen],Haushaltsbuch2[Kategorie],R$4,Haushaltsbuch2[Datum],\">\"&B532,Haushaltsbuch2[Datum],\"<=\"&B533)","v":0},null,null,null,null,null,null,null,null,null,null,null,null,null,null,null,null,null,null,{"$f":"SUMIFS(Haushaltsbuch2[Ausgaben],Haushaltsbuch2[Kategorie],AK$4,Haushaltsbuch2[Datum],\">\"&B532,Haushaltsbuch2[Datum],\"<=\"&B533)","v":0},null,null,{"$f":"SUMIFS(Dividenden[Betrag in EUR],Dividenden[Datum],\">\"&B532,Dividenden[Datum],\"<=\"&B533)","v":0},{"$f":"SUMIFS(Optionen[G/V (Netto)],Optionen[Datum],\">\"&B532,Optionen[Datum],\"<=\"&B533)","v":0},null,0,0,null,0,0,null,{"$f":"SUMIFS(Haushaltsbuch2[Einnahmen],Haushaltsbuch2[Datum],\">\"&B532,Haushaltsbuch2[Datum],\"<=\"&B533)+AN533+AO533","v":0},null,0,null,{"$f":"SUMIFS(Haushaltsbuch2[Ausgaben],Haushaltsbuch2[Datum],\">\"&B532,Haushaltsbuch2[Datum],\"<=\"&B533)","v":0}]
[null,41729,null,null,null,null,null,null,null,null,null,null,{"$f":"SUMIFS(Haushaltsbuch2[Einnahmen],Haushaltsbuch2[Kategorie],M$4,Haushaltsbuch2[Datum],\">\"&B533,Haushaltsbuch2[Datum],\"<=\"&B534)","v":0},{"$f":"SUMIFS(Haushaltsbuch2[Einnahmen],Haushaltsbuch2[Kategorie],N$4,Haushaltsbuch2[Datum],\">\"&B533,Haushaltsbuch2[Datum],\"<=\"&B534)","v":0},{"$f":"SUMIFS(Haushaltsbuch2[Einnahmen],Haushaltsbuch2[Kategorie],O$4,Haushaltsbuch2[Datum],\">\"&B533,Haushaltsbuch2[Datum],\"<=\"&B534)","v":0},{"$f":"SUMIFS(Haushaltsbuch2[Einnahmen],Haushaltsbuch2[Kategorie],P$4,Haushaltsbuch2[Datum],\">\"&B533,Haushaltsbuch2[Datum],\"<=\"&B534)","v":0},{"$f":"SUMIFS(Haushaltsbuch2[Einnahmen],Haushaltsbuch2[Kategorie],Q$4,Haushaltsbuch2[Datum],\">\"&B533,Haushaltsbuch2[Datum],\"<=\"&B534)","v":0},{"$f":"SUMIFS(Haushaltsbuch2[Einnahmen],Haushaltsbuch2[Kategorie],R$4,Haushaltsbuch2[Datum],\">\"&B533,Haushaltsbuch2[Datum],\"<=\"&B534)","v":0},null,null,null,null,null,null,null,null,null,null,null,null,null,null,null,null,null,null,{"$f":"SUMIFS(Haushaltsbuch2[Ausgaben],Haushaltsbuch2[Kategorie],AK$4,Haushaltsbuch2[Datum],\">\"&B533,Haushaltsbuch2[Datum],\"<=\"&B534)","v":0},null,null,{"$f":"SUMIFS(Dividenden[Betrag in EUR],Dividenden[Datum],\">\"&B533,Dividenden[Datum],\"<=\"&B534)","v":0},{"$f":"SUMIFS(Optionen[G/V (Netto)],Optionen[Datum],\">\"&B533,Optionen[Datum],\"<=\"&B534)","v":0},null,0,0,null,0,0,null,{"$f":"SUMIFS(Haushaltsbuch2[Einnahmen],Haushaltsbuch2[Datum],\">\"&B533,Haushaltsbuch2[Datum],\"<=\"&B534)+AN534+AO534","v":0},null,0,null,{"$f":"SUMIFS(Haushaltsbuch2[Ausgaben],Haushaltsbuch2[Datum],\">\"&B533,Haushaltsbuch2[Datum],\"<=\"&B534)","v":0}]
[null,41759,null,null,null,null,null,null,null,null,null,null,{"$f":"SUMIFS(Haushaltsbuch2[Einnahmen],Haushaltsbuch2[Kategorie],M$4,Haushaltsbuch2[Datum],\">\"&B534,Haushaltsbuch2[Datum],\"<=\"&B535)","v":0},{"$f":"SUMIFS(Haushaltsbuch2[Einnahmen],Haushaltsbuch2[Kategorie],N$4,Haushaltsbuch2[Datum],\">\"&B534,Haushaltsbuch2[Datum],\"<=\"&B535)","v":0},{"$f":"SUMIFS(Haushaltsbuch2[Einnahmen],Haushaltsbuch2[Kategorie],O$4,Haushaltsbuch2[Datum],\">\"&B534,Haushaltsbuch2[Datum],\"<=\"&B535)","v":0},{"$f":"SUMIFS(Haushaltsbuch2[Einnahmen],Haushaltsbuch2[Kategorie],P$4,Haushaltsbuch2[Datum],\">\"&B534,Haushaltsbuch2[Datum],\"<=\"&B535)","v":0},{"$f":"SUMIFS(Haushaltsbuch2[Einnahmen],Haushaltsbuch2[Kategorie],Q$4,Haushaltsbuch2[Datum],\">\"&B534,Haushaltsbuch2[Datum],\"<=\"&B535)","v":0},{"$f":"SUMIFS(Haushaltsbuch2[Einnahmen],Haushaltsbuch2[Kategorie],R$4,Haushaltsbuch2[Datum],\">\"&B534,Haushaltsbuch2[Datum],\"<=\"&B535)","v":0},null,null,null,null,null,null,null,null,null,null,null,null,null,null,null,null,null,null,{"$f":"SUMIFS(Haushaltsbuch2[Ausgaben],Haushaltsbuch2[Kategorie],AK$4,Haushaltsbuch2[Datum],\">\"&B534,Haushaltsbuch2[Datum],\"<=\"&B535)","v":0},null,null,{"$f":"SUMIFS(Dividenden[Betrag in EUR],Dividenden[Datum],\">\"&B534,Dividenden[Datum],\"<=\"&B535)","v":0},{"$f":"SUMIFS(Optionen[G/V (Netto)],Optionen[Datum],\">\"&B534,Optionen[Datum],\"<=\"&B535)","v":0},null,0,0,null,0,0,null,{"$f":"SUMIFS(Haushaltsbuch2[Einnahmen],Haushaltsbuch2[Datum],\">\"&B534,Haushaltsbuch2[Datum],\"<=\"&B535)+AN535+AO535","v":0},null,0,null,{"$f":"SUMIFS(Haushaltsbuch2[Ausgaben],Haushaltsbuch2[Datum],\">\"&B534,Haushaltsbuch2[Datum],\"<=\"&B535)","v":0}]
[null,41790,null,null,null,null,null,null,null,null,null,null,{"$f":"SUMIFS(Haushaltsbuch2[Einnahmen],Haushaltsbuch2[Kategorie],M$4,Haushaltsbuch2[Datum],\">\"&B535,Haushaltsbuch2[Datum],\"<=\"&B536)","v":0},{"$f":"SUMIFS(Haushaltsbuch2[Einnahmen],Haushaltsbuch2[Kategorie],N$4,Haushaltsbuch2[Datum],\">\"&B535,Haushaltsbuch2[Datum],\"<=\"&B536)","v":0},{"$f":"SUMIFS(Haushaltsbuch2[Einnahmen],Haushaltsbuch2[Kategorie],O$4,Haushaltsbuch2[Datum],\">\"&B535,Haushaltsbuch2[Datum],\"<=\"&B536)","v":0},{"$f":"SUMIFS(Haushaltsbuch2[Einnahmen],Haushaltsbuch2[Kategorie],P$4,Haushaltsbuch2[Datum],\">\"&B535,Haushaltsbuch2[Datum],\"<=\"&B536)","v":0},{"$f":"SUMIFS(Haushaltsbuch2[Einnahmen],Haushaltsbuch2[Kategorie],Q$4,Haushaltsbuch2[Datum],\">\"&B535,Haushaltsbuch2[Datum],\"<=\"&B536)","v":0},{"$f":"SUMIFS(Haushaltsbuch2[Einnahmen],Haushaltsbuch2[Kategorie],R$4,Haushaltsbuch2[Datum],\">\"&B535,Haushaltsbuch2[Datum],\"<=\"&B536)","v":0},null,null,null,null,null,null,null,null,null,null,null,null,null,null,null,null,null,null,{"$f":"SUMIFS(Haushaltsbuch2[Ausgaben],Haushaltsbuch2[Kategorie],AK$4,Haushaltsbuch2[Datum],\">\"&B535,Haushaltsbuch2[Datum],\"<=\"&B536)","v":0},null,null,{"$f":"SUMIFS(Dividenden[Betrag in EUR],Dividenden[Datum],\">\"&B535,Dividenden[Datum],\"<=\"&B536)","v":0},{"$f":"SUMIFS(Optionen[G/V (Netto)],Optionen[Datum],\">\"&B535,Optionen[Datum],\"<=\"&B536)","v":0},null,0,0,null,0,0,null,{"$f":"SUMIFS(Haushaltsbuch2[Einnahmen],Haushaltsbuch2[Datum],\">\"&B535,Haushaltsbuch2[Datum],\"<=\"&B536)+AN536+AO536","v":0},null,0,null,{"$f":"SUMIFS(Haushaltsbuch2[Ausgaben],Haushaltsbuch2[Datum],\">\"&B535,Haushaltsbuch2[Datum],\"<=\"&B536)","v":0}]
[null,41820,null,null,null,null,null,null,null,null,null,null,{"$f":"SUMIFS(Haushaltsbuch2[Einnahmen],Haushaltsbuch2[Kategorie],M$4,Haushaltsbuch2[Datum],\">\"&B536,Haushaltsbuch2[Datum],\"<=\"&B537)","v":0},{"$f":"SUMIFS(Haushaltsbuch2[Einnahmen],Haushaltsbuch2[Kategorie],N$4,Haushaltsbuch2[Datum],\">\"&B536,Haushaltsbuch2[Datum],\"<=\"&B537)","v":0},{"$f":"SUMIFS(Haushaltsbuch2[Einnahmen],Haushaltsbuch2[Kategorie],O$4,Haushaltsbuch2[Datum],\">\"&B536,Haushaltsbuch2[Datum],\"<=\"&B537)","v":0},{"$f":"SUMIFS(Haushaltsbuch2[Einnahmen],Haushaltsbuch2[Kategorie],P$4,Haushaltsbuch2[Datum],\">\"&B536,Haushaltsbuch2[Datum],\"<=\"&B537)","v":0},{"$f":"SUMIFS(Haushaltsbuch2[Einnahmen],Haushaltsbuch2[Kategorie],Q$4,Haushaltsbuch2[Datum],\">\"&B536,Haushaltsbuch2[Datum],\"<=\"&B537)","v":0},{"$f":"SUMIFS(Haushaltsbuch2[Einnahmen],Haushaltsbuch2[Kategorie],R$4,Haushaltsbuch2[Datum],\">\"&B536,Haushaltsbuch2[Datum],\"<=\"&B537)","v":0},null,null,null,null,null,null,null,null,null,null,null,null,null,null,null,null,null,null,{"$f":"SUMIFS(Haushaltsbuch2[Ausgaben],Haushaltsbuch2[Kategorie],AK$4,Haushaltsbuch2[Datum],\">\"&B536,Haushaltsbuch2[Datum],\"<=\"&B537)","v":0},null,null,{"$f":"SUMIFS(Dividenden[Betrag in EUR],Dividenden[Datum],\">\"&B536,Dividenden[Datum],\"<=\"&B537)","v":0},{"$f":"SUMIFS(Optionen[G/V (Netto)],Optionen[Datum],\">\"&B536,Optionen[Datum],\"<=\"&B537)","v":0},null,0,0,null,0,0,null,{"$f":"SUMIFS(Haushaltsbuch2[Einnahmen],Haushaltsbuch2[Datum],\">\"&B536,Haushaltsbuch2[Datum],\"<=\"&B537)+AN537+AO537","v":0},null,0,null,{"$f":"SUMIFS(Haushaltsbuch2[Ausgaben],Haushaltsbuch2[Datum],\">\"&B536,Haushaltsbuch2[Datum],\"<=\"&B537)","v":0}]
[null,41851,null,null,null,null,null,null,null,null,null,null,{"$f":"SUMIFS(Haushaltsbuch2[Einnahmen],Haushaltsbuch2[Kategorie],M$4,Haushaltsbuch2[Datum],\">\"&B537,Haushaltsbuch2[Datum],\"<=\"&B538)","v":0},{"$f":"SUMIFS(Haushaltsbuch2[Einnahmen],Haushaltsbuch2[Kategorie],N$4,Haushaltsbuch2[Datum],\">\"&B537,Haushaltsbuch2[Datum],\"<=\"&B538)","v":0},{"$f":"SUMIFS(Haushaltsbuch2[Einnahmen],Haushaltsbuch2[Kategorie],O$4,Haushaltsbuch2[Datum],\">\"&B537,Haushaltsbuch2[Datum],\"<=\"&B538)","v":0},{"$f":"SUMIFS(Haushaltsbuch2[Einnahmen],Haushaltsbuch2[Kategorie],P$4,Haushaltsbuch2[Datum],\">\"&B537,Haushaltsbuch2[Datum],\"<=\"&B538)","v":0},{"$f":"SUMIFS(Haushaltsbuch2[Einnahmen],Haushaltsbuch2[Kategorie],Q$4,Haushaltsbuch2[Datum],\">\"&B537,Haushaltsbuch2[Datum],\"<=\"&B538)","v":0},{"$f":"SUMIFS(Haushaltsbuch2[Einnahmen],Haushaltsbuch2[Kategorie],R$4,Haushaltsbuch2[Datum],\">\"&B537,Haushaltsbuch2[Datum],\"<=\"&B538)","v":0},null,null,null,null,null,null,null,null,null,null,null,null,null,null,null,null,null,null,{"$f":"SUMIFS(Haushaltsbuch2[Ausgaben],Haushaltsbuch2[Kategorie],AK$4,Haushaltsbuch2[Datum],\">\"&B537,Haushaltsbuch2[Datum],\"<=\"&B538)","v":0},null,null,{"$f":"SUMIFS(Dividenden[Betrag in EUR],Dividenden[Datum],\">\"&B537,Dividenden[Datum],\"<=\"&B538)","v":0},{"$f":"SUMIFS(Optionen[G/V (Netto)],Optionen[Datum],\">\"&B537,Optionen[Datum],\"<=\"&B538)","v":0},null,0,0,null,0,0,null,{"$f":"SUMIFS(Haushaltsbuch2[Einnahmen],Haushaltsbuch2[Datum],\">\"&B537,Haushaltsbuch2[Datum],\"<=\"&B538)+AN538+AO538","v":0},null,0,null,{"$f":"SUMIFS(Haushaltsbuch2[Ausgaben],Haushaltsbuch2[Datum],\">\"&B537,Haushaltsbuch2[Datum],\"<=\"&B538)","v":0}]
[null,41882,null,null,null,null,null,null,null,null,null,null,{"$f":"SUMIFS(Haushaltsbuch2[Einnahmen],Haushaltsbuch2[Kategorie],M$4,Haushaltsbuch2[Datum],\">\"&B538,Haushaltsbuch2[Datum],\"<=\"&B539)","v":0},{"$f":"SUMIFS(Haushaltsbuch2[Einnahmen],Haushaltsbuch2[Kategorie],N$4,Haushaltsbuch2[Datum],\">\"&B538,Haushaltsbuch2[Datum],\"<=\"&B539)","v":0},{"$f":"SUMIFS(Haushaltsbuch2[Einnahmen],Haushaltsbuch2[Kategorie],O$4,Haushaltsbuch2[Datum],\">\"&B538,Haushaltsbuch2[Datum],\"<=\"&B539)","v":0},{"$f":"SUMIFS(Haushaltsbuch2[Einnahmen],Haushaltsbuch2[Kategorie],P$4,Haushaltsbuch2[Datum],\">\"&B538,Haushaltsbuch2[Datum],\"<=\"&B539)","v":0},{"$f":"SUMIFS(Haushaltsbuch2[Einnahmen],Haushaltsbuch2[Kategorie],Q$4,Haushaltsbuch2[Datum],\">\"&B538,Haushaltsbuch2[Datum],\"<=\"&B539)","v":0},{"$f":"SUMIFS(Haushaltsbuch2[Einnahmen],Haushaltsbuch2[Kategorie],R$4,Haushaltsbuch2[Datum],\">\"&B538,Haushaltsbuch2[Datum],\"<=\"&B539)","v":0},null,null,null,null,null,null,null,null,null,null,null,null,null,null,null,null,null,null,{"$f":"SUMIFS(Haushaltsbuch2[Ausgaben],Haushaltsbuch2[Kategorie],AK$4,Haushaltsbuch2[Datum],\">\"&B538,Haushaltsbuch2[Datum],\"<=\"&B539)","v":0},null,null,{"$f":"SUMIFS(Dividenden[Betrag in EUR],Dividenden[Datum],\">\"&B538,Dividenden[Datum],\"<=\"&B539)","v":0},{"$f":"SUMIFS(Optionen[G/V (Netto)],Optionen[Datum],\">\"&B538,Optionen[Datum],\"<=\"&B539)","v":0},null,0,0,null,0,0,null,{"$f":"SUMIFS(Haushaltsbuch2[Einnahmen],Haushaltsbuch2[Datum],\">\"&B538,Haushaltsbuch2[Datum],\"<=\"&B539)+AN539+AO539","v":0},null,0,null,{"$f":"SUMIFS(Haushaltsbuch2[Ausgaben],Haushaltsbuch2[Datum],\">\"&B538,Haushaltsbuch2[Datum],\"<=\"&B539)","v":0}]
[null,41912,null,null,null,null,null,null,null,null,null,null,{"$f":"SUMIFS(Haushaltsbuch2[Einnahmen],Haushaltsbuch2[Kategorie],M$4,Haushaltsbuch2[Datum],\">\"&B539,Haushaltsbuch2[Datum],\"<=\"&B540)","v":0},{"$f":"SUMIFS(Haushaltsbuch2[Einnahmen],Haushaltsbuch2[Kategorie],N$4,Haushaltsbuch2[Datum],\">\"&B539,Haushaltsbuch2[Datum],\"<=\"&B540)","v":0},{"$f":"SUMIFS(Haushaltsbuch2[Einnahmen],Haushaltsbuch2[Kategorie],O$4,Haushaltsbuch2[Datum],\">\"&B539,Haushaltsbuch2[Datum],\"<=\"&B540)","v":0},{"$f":"SUMIFS(Haushaltsbuch2[Einnahmen],Haushaltsbuch2[Kategorie],P$4,Haushaltsbuch2[Datum],\">\"&B539,Haushaltsbuch2[Datum],\"<=\"&B540)","v":0},{"$f":"SUMIFS(Haushaltsbuch2[Einnahmen],Haushaltsbuch2[Kategorie],Q$4,Haushaltsbuch2[Datum],\">\"&B539,Haushaltsbuch2[Datum],\"<=\"&B540)","v":0},{"$f":"SUMIFS(Haushaltsbuch2[Einnahmen],Haushaltsbuch2[Kategorie],R$4,Haushaltsbuch2[Datum],\">\"&B539,Haushaltsbuch2[Datum],\"<=\"&B540)","v":0},null,null,null,null,null,null,null,null,null,null,null,null,null,null,null,null,null,null,{"$f":"SUMIFS(Haushaltsbuch2[Ausgaben],Haushaltsbuch2[Kategorie],AK$4,Haushaltsbuch2[Datum],\">\"&B539,Haushaltsbuch2[Datum],\"<=\"&B540)","v":0},null,null,{"$f":"SUMIFS(Dividenden[Betrag in EUR],Dividenden[Datum],\">\"&B539,Dividenden[Datum],\"<=\"&B540)","v":0},{"$f":"SUMIFS(Optionen[G/V (Netto)],Optionen[Datum],\">\"&B539,Optionen[Datum],\"<=\"&B540)","v":0},null,0,0,null,0,0,null,{"$f":"SUMIFS(Haushaltsbuch2[Einnahmen],Haushaltsbuch2[Datum],\">\"&B539,Haushaltsbuch2[Datum],\"<=\"&B540)+AN540+AO540","v":0},null,0,null,{"$f":"SUMIFS(Haushaltsbuch2[Ausgaben],Haushaltsbuch2[Datum],\">\"&B539,Haushaltsbuch2[Datum],\"<=\"&B540)","v":0}]
[null,41943,null,null,null,null,null,null,null,null,null,null,{"$f":"SUMIFS(Haushaltsbuch2[Einnahmen],Haushaltsbuch2[Kategorie],M$4,Haushaltsbuch2[Datum],\">\"&B540,Haushaltsbuch2[Datum],\"<=\"&B541)","v":0},{"$f":"SUMIFS(Haushaltsbuch2[Einnahmen],Haushaltsbuch2[Kategorie],N$4,Haushaltsbuch2[Datum],\">\"&B540,Haushaltsbuch2[Datum],\"<=\"&B541)","v":0},{"$f":"SUMIFS(Haushaltsbuch2[Einnahmen],Haushaltsbuch2[Kategorie],O$4,Haushaltsbuch2[Datum],\">\"&B540,Haushaltsbuch2[Datum],\"<=\"&B541)","v":0},{"$f":"SUMIFS(Haushaltsbuch2[Einnahmen],Haushaltsbuch2[Kategorie],P$4,Haushaltsbuch2[Datum],\">\"&B540,Haushaltsbuch2[Datum],\"<=\"&B541)","v":0},{"$f":"SUMIFS(Haushaltsbuch2[Einnahmen],Haushaltsbuch2[Kategorie],Q$4,Haushaltsbuch2[Datum],\">\"&B540,Haushaltsbuch2[Datum],\"<=\"&B541)","v":0},{"$f":"SUMIFS(Haushaltsbuch2[Einnahmen],Haushaltsbuch2[Kategorie],R$4,Haushaltsbuch2[Datum],\">\"&B540,Haushaltsbuch2[Datum],\"<=\"&B541)","v":0},null,null,null,null,null,null,null,null,null,null,null,null,null,null,null,null,null,null,{"$f":"SUMIFS(Haushaltsbuch2[Ausgaben],Haushaltsbuch2[Kategorie],AK$4,Haushaltsbuch2[Datum],\">\"&B540,Haushaltsbuch2[Datum],\"<=\"&B541)","v":0},null,null,{"$f":"SUMIFS(Dividenden[Betrag in EUR],Dividenden[Datum],\">\"&B540,Dividenden[Datum],\"<=\"&B541)","v":0},{"$f":"SUMIFS(Optionen[G/V (Netto)],Optionen[Datum],\">\"&B540,Optionen[Datum],\"<=\"&B541)","v":0},null,0,0,null,0,0,null,{"$f":"SUMIFS(Haushaltsbuch2[Einnahmen],Haushaltsbuch2[Datum],\">\"&B540,Haushaltsbuch2[Datum],\"<=\"&B541)+AN541+AO541","v":0},null,0,null,{"$f":"SUMIFS(Haushaltsbuch2[Ausgaben],Haushaltsbuch2[Datum],\">\"&B540,Haushaltsbuch2[Datum],\"<=\"&B541)","v":0}]
[null,41973,null,null,null,null,null,null,null,null,null,null,{"$f":"SUMIFS(Haushaltsbuch2[Einnahmen],Haushaltsbuch2[Kategorie],M$4,Haushaltsbuch2[Datum],\">\"&B541,Haushaltsbuch2[Datum],\"<=\"&B542)","v":0},{"$f":"SUMIFS(Haushaltsbuch2[Einnahmen],Haushaltsbuch2[Kategorie],N$4,Haushaltsbuch2[Datum],\">\"&B541,Haushaltsbuch2[Datum],\"<=\"&B542)","v":0},{"$f":"SUMIFS(Haushaltsbuch2[Einnahmen],Haushaltsbuch2[Kategorie],O$4,Haushaltsbuch2[Datum],\">\"&B541,Haushaltsbuch2[Datum],\"<=\"&B542)","v":0},{"$f":"SUMIFS(Haushaltsbuch2[Einnahmen],Haushaltsbuch2[Kategorie],P$4,Haushaltsbuch2[Datum],\">\"&B541,Haushaltsbuch2[Datum],\"<=\"&B542)","v":0},{"$f":"SUMIFS(Haushaltsbuch2[Einnahmen],Haushaltsbuch2[Kategorie],Q$4,Haushaltsbuch2[Datum],\">\"&B541,Haushaltsbuch2[Datum],\"<=\"&B542)","v":0},{"$f":"SUMIFS(Haushaltsbuch2[Einnahmen],Haushaltsbuch2[Kategorie],R$4,Haushaltsbuch2[Datum],\">\"&B541,Haushaltsbuch2[Datum],\"<=\"&B542)","v":0},null,null,null,null,null,null,null,null,null,null,null,null,null,null,null,null,null,null,{"$f":"SUMIFS(Haushaltsbuch2[Ausgaben],Haushaltsbuch2[Kategorie],AK$4,Haushaltsbuch2[Datum],\">\"&B541,Haushaltsbuch2[Datum],\"<=\"&B542)","v":0},null,null,{"$f":"SUMIFS(Dividenden[Betrag in EUR],Dividenden[Datum],\">\"&B541,Dividenden[Datum],\"<=\"&B542)","v":0},{"$f":"SUMIFS(Optionen[G/V (Netto)],Optionen[Datum],\">\"&B541,Optionen[Datum],\"<=\"&B542)","v":0},null,0,0,null,0,0,null,{"$f":"SUMIFS(Haushaltsbuch2[Einnahmen],Haushaltsbuch2[Datum],\">\"&B541,Haushaltsbuch2[Datum],\"<=\"&B542)+AN542+AO542","v":0},null,0,null,{"$f":"SUMIFS(Haushaltsbuch2[Ausgaben],Haushaltsbuch2[Datum],\">\"&B541,Haushaltsbuch2[Datum],\"<=\"&B542)","v":0}]
[null,42004,null,null,null,null,null,null,null,null,null,null,{"$f":"SUMIFS(Haushaltsbuch2[Einnahmen],Haushaltsbuch2[Kategorie],M$4,Haushaltsbuch2[Datum],\">\"&B542,Haushaltsbuch2[Datum],\"<=\"&B543)","v":0},{"$f":"SUMIFS(Haushaltsbuch2[Einnahmen],Haushaltsbuch2[Kategorie],N$4,Haushaltsbuch2[Datum],\">\"&B542,Haushaltsbuch2[Datum],\"<=\"&B543)","v":0},{"$f":"SUMIFS(Haushaltsbuch2[Einnahmen],Haushaltsbuch2[Kategorie],O$4,Haushaltsbuch2[Datum],\">\"&B542,Haushaltsbuch2[Datum],\"<=\"&B543)","v":0},{"$f":"SUMIFS(Haushaltsbuch2[Einnahmen],Haushaltsbuch2[Kategorie],P$4,Haushaltsbuch2[Datum],\">\"&B542,Haushaltsbuch2[Datum],\"<=\"&B543)","v":0},{"$f":"SUMIFS(Haushaltsbuch2[Einnahmen],Haushaltsbuch2[Kategorie],Q$4,Haushaltsbuch2[Datum],\">\"&B542,Haushaltsbuch2[Datum],\"<=\"&B543)","v":0},{"$f":"SUMIFS(Haushaltsbuch2[Einnahmen],Haushaltsbuch2[Kategorie],R$4,Haushaltsbuch2[Datum],\">\"&B542,Haushaltsbuch2[Datum],\"<=\"&B543)","v":0},null,null,null,null,null,null,null,null,null,null,null,null,null,null,null,null,null,null,{"$f":"SUMIFS(Haushaltsbuch2[Ausgaben],Haushaltsbuch2[Kategorie],AK$4,Haushaltsbuch2[Datum],\">\"&B542,Haushaltsbuch2[Datum],\"<=\"&B543)","v":0},null,null,{"$f":"SUMIFS(Dividenden[Betrag in EUR],Dividenden[Datum],\">\"&B542,Dividenden[Datum],\"<=\"&B543)","v":0},{"$f":"SUMIFS(Optionen[G/V (Netto)],Optionen[Datum],\">\"&B542,Optionen[Datum],\"<=\"&B543)","v":0},null,0,0,null,0,0,null,{"$f":"SUMIFS(Haushaltsbuch2[Einnahmen],Haushaltsbuch2[Datum],\">\"&B542,Haushaltsbuch2[Datum],\"<=\"&B543)+AN543+AO543","v":0},null,0,null,{"$f":"SUMIFS(Haushaltsbuch2[Ausgaben],Haushaltsbuch2[Datum],\">\"&B542,Haushaltsbuch2[Datum],\"<=\"&B543)","v":0}]
[null,42035,null,null,null,null,null,null,null,null,null,null,{"$f":"SUMIFS(Haushaltsbuch2[Einnahmen],Haushaltsbuch2[Kategorie],M$4,Haushaltsbuch2[Datum],\">\"&B543,Haushaltsbuch2[Datum],\"<=\"&B544)","v":0},{"$f":"SUMIFS(Haushaltsbuch2[Einnahmen],Haushaltsbuch2[Kategorie],N$4,Haushaltsbuch2[Datum],\">\"&B543,Haushaltsbuch2[Datum],\"<=\"&B544)","v":0},{"$f":"SUMIFS(Haushaltsbuch2[Einnahmen],Haushaltsbuch2[Kategorie],O$4,Haushaltsbuch2[Datum],\">\"&B543,Haushaltsbuch2[Datum],\"<=\"&B544)","v":0},{"$f":"SUMIFS(Haushaltsbuch2[Einnahmen],Haushaltsbuch2[Kategorie],P$4,Haushaltsbuch2[Datum],\">\"&B543,Haushaltsbuch2[Datum],\"<=\"&B544)","v":0},{"$f":"SUMIFS(Haushaltsbuch2[Einnahmen],Haushaltsbuch2[Kategorie],Q$4,Haushaltsbuch2[Datum],\">\"&B543,Haushaltsbuch2[Datum],\"<=\"&B544)","v":0},{"$f":"SUMIFS(Haushaltsbuch2[Einnahmen],Haushaltsbuch2[Kategorie],R$4,Haushaltsbuch2[Datum],\">\"&B543,Haushaltsbuch2[Datum],\"<=\"&B544)","v":0},null,null,null,null,null,null,null,null,null,null,null,null,null,null,null,null,null,null,{"$f":"SUMIFS(Haushaltsbuch2[Ausgaben],Haushaltsbuch2[Kategorie],AK$4,Haushaltsbuch2[Datum],\">\"&B543,Haushaltsbuch2[Datum],\"<=\"&B544)","v":0},null,null,{"$f":"SUMIFS(Dividenden[Betrag in EUR],Dividenden[Datum],\">\"&B543,Dividenden[Datum],\"<=\"&B544)","v":0},{"$f":"SUMIFS(Optionen[G/V (Netto)],Optionen[Datum],\">\"&B543,Optionen[Datum],\"<=\"&B544)","v":0},null,0,0,null,0,0,null,{"$f":"SUMIFS(Haushaltsbuch2[Einnahmen],Haushaltsbuch2[Datum],\">\"&B543,Haushaltsbuch2[Datum],\"<=\"&B544)+AN544+AO544","v":0},null,0,null,{"$f":"SUMIFS(Haushaltsbuch2[Ausgaben],Haushaltsbuch2[Datum],\">\"&B543,Haushaltsbuch2[Datum],\"<=\"&B544)","v":0}]
[null,42063,null,null,null,null,null,null,null,null,null,null,{"$f":"SUMIFS(Haushaltsbuch2[Einnahmen],Haushaltsbuch2[Kategorie],M$4,Haushaltsbuch2[Datum],\">\"&B544,Haushaltsbuch2[Datum],\"<=\"&B545)","v":0},{"$f":"SUMIFS(Haushaltsbuch2[Einnahmen],Haushaltsbuch2[Kategorie],N$4,Haushaltsbuch2[Datum],\">\"&B544,Haushaltsbuch2[Datum],\"<=\"&B545)","v":0},{"$f":"SUMIFS(Haushaltsbuch2[Einnahmen],Haushaltsbuch2[Kategorie],O$4,Haushaltsbuch2[Datum],\">\"&B544,Haushaltsbuch2[Datum],\"<=\"&B545)","v":0},{"$f":"SUMIFS(Haushaltsbuch2[Einnahmen],Haushaltsbuch2[Kategorie],P$4,Haushaltsbuch2[Datum],\">\"&B544,Haushaltsbuch2[Datum],\"<=\"&B545)","v":0},{"$f":"SUMIFS(Haushaltsbuch2[Einnahmen],Haushaltsbuch2[Kategorie],Q$4,Haushaltsbuch2[Datum],\">\"&B544,Haushaltsbuch2[Datum],\"<=\"&B545)","v":0},{"$f":"SUMIFS(Haushaltsbuch2[Einnahmen],Haushaltsbuch2[Kategorie],R$4,Haushaltsbuch2[Datum],\">\"&B544,Haushaltsbuch2[Datum],\"<=\"&B545)","v":0},null,null,null,null,null,null,null,null,null,null,null,null,null,null,null,null,null,null,{"$f":"SUMIFS(Haushaltsbuch2[Ausgaben],Haushaltsbuch2[Kategorie],AK$4,Haushaltsbuch2[Datum],\">\"&B544,Haushaltsbuch2[Datum],\"<=\"&B545)","v":0},null,null,{"$f":"SUMIFS(Dividenden[Betrag in EUR],Dividenden[Datum],\">\"&B544,Dividenden[Datum],\"<=\"&B545)","v":0},{"$f":"SUMIFS(Optionen[G/V (Netto)],Optionen[Datum],\">\"&B544,Optionen[Datum],\"<=\"&B545)","v":0},null,0,0,null,0,0,null,{"$f":"SUMIFS(Haushaltsbuch2[Einnahmen],Haushaltsbuch2[Datum],\">\"&B544,Haushaltsbuch2[Datum],\"<=\"&B545)+AN545+AO545","v":0},null,0,null,{"$f":"SUMIFS(Haushaltsbuch2[Ausgaben],Haushaltsbuch2[Datum],\">\"&B544,Haushaltsbuch2[Datum],\"<=\"&B545)","v":0}]
[null,42094,null,null,null,null,null,null,null,null,null,null,{"$f":"SUMIFS(Haushaltsbuch2[Einnahmen],Haushaltsbuch2[Kategorie],M$4,Haushaltsbuch2[Datum],\">\"&B545,Haushaltsbuch2[Datum],\"<=\"&B546)","v":0},{"$f":"SUMIFS(Haushaltsbuch2[Einnahmen],Haushaltsbuch2[Kategorie],N$4,Haushaltsbuch2[Datum],\">\"&B545,Haushaltsbuch2[Datum],\"<=\"&B546)","v":0},{"$f":"SUMIFS(Haushaltsbuch2[Einnahmen],Haushaltsbuch2[Kategorie],O$4,Haushaltsbuch2[Datum],\">\"&B545,Haushaltsbuch2[Datum],\"<=\"&B546)","v":0},{"$f":"SUMIFS(Haushaltsbuch2[Einnahmen],Haushaltsbuch2[Kategorie],P$4,Haushaltsbuch2[Datum],\">\"&B545,Haushaltsbuch2[Datum],\"<=\"&B546)","v":0},{"$f":"SUMIFS(Haushaltsbuch2[Einnahmen],Haushaltsbuch2[Kategorie],Q$4,Haushaltsbuch2[Datum],\">\"&B545,Haushaltsbuch2[Datum],\"<=\"&B546)","v":0},{"$f":"SUMIFS(Haushaltsbuch2[Einnahmen],Haushaltsbuch2[Kategorie],R$4,Haushaltsbuch2[Datum],\">\"&B545,Haushaltsbuch2[Datum],\"<=\"&B546)","v":0},null,null,null,null,null,null,null,null,null,null,null,null,null,null,null,null,null,null,{"$f":"SUMIFS(Haushaltsbuch2[Ausgaben],Haushaltsbuch2[Kategorie],AK$4,Haushaltsbuch2[Datum],\">\"&B545,Haushaltsbuch2[Datum],\"<=\"&B546)","v":0},null,null,{"$f":"SUMIFS(Dividenden[Betrag in EUR],Dividenden[Datum],\">\"&B545,Dividenden[Datum],\"<=\"&B546)","v":0},{"$f":"SUMIFS(Optionen[G/V (Netto)],Optionen[Datum],\">\"&B545,Optionen[Datum],\"<=\"&B546)","v":0},null,0,0,null,0,0,null,{"$f":"SUMIFS(Haushaltsbuch2[Einnahmen],Haushaltsbuch2[Datum],\">\"&B545,Haushaltsbuch2[Datum],\"<=\"&B546)+AN546+AO546","v":0},null,0,null,{"$f":"SUMIFS(Haushaltsbuch2[Ausgaben],Haushaltsbuch2[Datum],\">\"&B545,Haushaltsbuch2[Datum],\"<=\"&B546)","v":0}]
[null,42124,null,null,null,null,null,null,null,null,null,null,{"$f":"SUMIFS(Haushaltsbuch2[Einnahmen],Haushaltsbuch2[Kategorie],M$4,Haushaltsbuch2[Datum],\">\"&B546,Haushaltsbuch2[Datum],\"<=\"&B547)","v":0},{"$f":"SUMIFS(Haushaltsbuch2[Einnahmen],Haushaltsbuch2[Kategorie],N$4,Haushaltsbuch2[Datum],\">\"&B546,Haushaltsbuch2[Datum],\"<=\"&B547)","v":0},{"$f":"SUMIFS(Haushaltsbuch2[Einnahmen],Haushaltsbuch2[Kategorie],O$4,Haushaltsbuch2[Datum],\">\"&B546,Haushaltsbuch2[Datum],\"<=\"&B547)","v":0},{"$f":"SUMIFS(Haushaltsbuch2[Einnahmen],Haushaltsbuch2[Kategorie],P$4,Haushaltsbuch2[Datum],\">\"&B546,Haushaltsbuch2[Datum],\"<=\"&B547)","v":0},{"$f":"SUMIFS(Haushaltsbuch2[Einnahmen],Haushaltsbuch2[Kategorie],Q$4,Haushaltsbuch2[Datum],\">\"&B546,Haushaltsbuch2[Datum],\"<=\"&B547)","v":0},{"$f":"SUMIFS(Haushaltsbuch2[Einnahmen],Haushaltsbuch2[Kategorie],R$4,Haushaltsbuch2[Datum],\">\"&B546,Haushaltsbuch2[Datum],\"<=\"&B547)","v":0},null,null,null,null,null,null,null,null,null,null,null,null,null,null,null,null,null,null,{"$f":"SUMIFS(Haushaltsbuch2[Ausgaben],Haushaltsbuch2[Kategorie],AK$4,Haushaltsbuch2[Datum],\">\"&B546,Haushaltsbuch2[Datum],\"<=\"&B547)","v":0},null,null,{"$f":"SUMIFS(Dividenden[Betrag in EUR],Dividenden[Datum],\">\"&B546,Dividenden[Datum],\"<=\"&B547)","v":0},{"$f":"SUMIFS(Optionen[G/V (Netto)],Optionen[Datum],\">\"&B546,Optionen[Datum],\"<=\"&B547)","v":0},null,0,0,null,0,0,null,{"$f":"SUMIFS(Haushaltsbuch2[Einnahmen],Haushaltsbuch2[Datum],\">\"&B546,Haushaltsbuch2[Datum],\"<=\"&B547)+AN547+AO547","v":0},null,0,null,{"$f":"SUMIFS(Haushaltsbuch2[Ausgaben],Haushaltsbuch2[Datum],\">\"&B546,Haushaltsbuch2[Datum],\"<=\"&B547)","v":0}]
[null,42155,null,null,null,null,null,null,null,null,null,null,{"$f":"SUMIFS(Haushaltsbuch2[Einnahmen],Haushaltsbuch2[Kategorie],M$4,Haushaltsbuch2[Datum],\">\"&B547,Haushaltsbuch2[Datum],\"<=\"&B548)","v":0},{"$f":"SUMIFS(Haushaltsbuch2[Einnahmen],Haushaltsbuch2[Kategorie],N$4,Haushaltsbuch2[Datum],\">\"&B547,Haushaltsbuch2[Datum],\"<=\"&B548)","v":0},{"$f":"SUMIFS(Haushaltsbuch2[Einnahmen],Haushaltsbuch2[Kategorie],O$4,Haushaltsbuch2[Datum],\">\"&B547,Haushaltsbuch2[Datum],\"<=\"&B548)","v":0},{"$f":"SUMIFS(Haushaltsbuch2[Einnahmen],Haushaltsbuch2[Kategorie],P$4,Haushaltsbuch2[Datum],\">\"&B547,Haushaltsbuch2[Datum],\"<=\"&B548)","v":0},{"$f":"SUMIFS(Haushaltsbuch2[Einnahmen],Haushaltsbuch2[Kategorie],Q$4,Haushaltsbuch2[Datum],\">\"&B547,Haushaltsbuch2[Datum],\"<=\"&B548)","v":0},{"$f":"SUMIFS(Haushaltsbuch2[Einnahmen],Haushaltsbuch2[Kategorie],R$4,Haushaltsbuch2[Datum],\">\"&B547,Haushaltsbuch2[Datum],\"<=\"&B548)","v":0},null,null,null,null,null,null,null,null,null,null,null,null,null,null,null,null,null,null,{"$f":"SUMIFS(Haushaltsbuch2[Ausgaben],Haushaltsbuch2[Kategorie],AK$4,Haushaltsbuch2[Datum],\">\"&B547,Haushaltsbuch2[Datum],\"<=\"&B548)","v":0},null,null,{"$f":"SUMIFS(Dividenden[Betrag in EUR],Dividenden[Datum],\">\"&B547,Dividenden[Datum],\"<=\"&B548)","v":0},{"$f":"SUMIFS(Optionen[G/V (Netto)],Optionen[Datum],\">\"&B547,Optionen[Datum],\"<=\"&B548)","v":0},null,0,0,null,0,0,null,{"$f":"SUMIFS(Haushaltsbuch2[Einnahmen],Haushaltsbuch2[Datum],\">\"&B547,Haushaltsbuch2[Datum],\"<=\"&B548)+AN548+AO548","v":0},null,0,null,{"$f":"SUMIFS(Haushaltsbuch2[Ausgaben],Haushaltsbuch2[Datum],\">\"&B547,Haushaltsbuch2[Datum],\"<=\"&B548)","v":0}]
[null,42185,null,null,null,null,null,null,null,null,null,null,{"$f":"SUMIFS(Haushaltsbuch2[Einnahmen],Haushaltsbuch2[Kategorie],M$4,Haushaltsbuch2[Datum],\">\"&B548,Haushaltsbuch2[Datum],\"<=\"&B549)","v":0},{"$f":"SUMIFS(Haushaltsbuch2[Einnahmen],Haushaltsbuch2[Kategorie],N$4,Haushaltsbuch2[Datum],\">\"&B548,Haushaltsbuch2[Datum],\"<=\"&B549)","v":0},{"$f":"SUMIFS(Haushaltsbuch2[Einnahmen],Haushaltsbuch2[Kategorie],O$4,Haushaltsbuch2[Datum],\">\"&B548,Haushaltsbuch2[Datum],\"<=\"&B549)","v":0},{"$f":"SUMIFS(Haushaltsbuch2[Einnahmen],Haushaltsbuch2[Kategorie],P$4,Haushaltsbuch2[Datum],\">\"&B548,Haushaltsbuch2[Datum],\"<=\"&B549)","v":0},{"$f":"SUMIFS(Haushaltsbuch2[Einnahmen],Haushaltsbuch2[Kategorie],Q$4,Haushaltsbuch2[Datum],\">\"&B548,Haushaltsbuch2[Datum],\"<=\"&B549)","v":0},{"$f":"SUMIFS(Haushaltsbuch2[Einnahmen],Haushaltsbuch2[Kategorie],R$4,Haushaltsbuch2[Datum],\">\"&B548,Haushaltsbuch2[Datum],\"<=\"&B549)","v":0},null,null,null,null,null,null,null,null,null,null,null,null,null,null,null,null,null,null,{"$f":"SUMIFS(Haushaltsbuch2[Ausgaben],Haushaltsbuch2[Kategorie],AK$4,Haushaltsbuch2[Datum],\">\"&B548,Haushaltsbuch2[Datum],\"<=\"&B549)","v":0},null,null,{"$f":"SUMIFS(Dividenden[Betrag in EUR],Dividenden[Datum],\">\"&B548,Dividenden[Datum],\"<=\"&B549)","v":0},{"$f":"SUMIFS(Optionen[G/V (Netto)],Optionen[Datum],\">\"&B548,Optionen[Datum],\"<=\"&B549)","v":0},null,0,0,null,0,0,null,{"$f":"SUMIFS(Haushaltsbuch2[Einnahmen],Haushaltsbuch2[Datum],\">\"&B548,Haushaltsbuch2[Datum],\"<=\"&B549)+AN549+AO549","v":0},null,0,null,{"$f":"SUMIFS(Haushaltsbuch2[Ausgaben],Haushaltsbuch2[Datum],\">\"&B548,Haushaltsbuch2[Datum],\"<=\"&B549)","v":0}]
[null,42216,null,null,null,null,null,null,null,null,null,null,{"$f":"SUMIFS(Haushaltsbuch2[Einnahmen],Haushaltsbuch2[Kategorie],M$4,Haushaltsbuch2[Datum],\">\"&B549,Haushaltsbuch2[Datum],\"<=\"&B550)","v":0},{"$f":"SUMIFS(Haushaltsbuch2[Einnahmen],Haushaltsbuch2[Kategorie],N$4,Haushaltsbuch2[Datum],\">\"&B549,Haushaltsbuch2[Datum],\"<=\"&B550)","v":0},{"$f":"SUMIFS(Haushaltsbuch2[Einnahmen],Haushaltsbuch2[Kategorie],O$4,Haushaltsbuch2[Datum],\">\"&B549,Haushaltsbuch2[Datum],\"<=\"&B550)","v":0},{"$f":"SUMIFS(Haushaltsbuch2[Einnahmen],Haushaltsbuch2[Kategorie],P$4,Haushaltsbuch2[Datum],\">\"&B549,Haushaltsbuch2[Datum],\"<=\"&B550)","v":0},{"$f":"SUMIFS(Haushaltsbuch2[Einnahmen],Haushaltsbuch2[Kategorie],Q$4,Haushaltsbuch2[Datum],\">\"&B549,Haushaltsbuch2[Datum],\"<=\"&B550)","v":0},{"$f":"SUMIFS(Haushaltsbuch2[Einnahmen],Haushaltsbuch2[Kategorie],R$4,Haushaltsbuch2[Datum],\">\"&B549,Haushaltsbuch2[Datum],\"<=\"&B550)","v":0},null,null,null,null,null,null,null,null,null,null,null,null,null,null,null,null,null,null,{"$f":"SUMIFS(Haushaltsbuch2[Ausgaben],Haushaltsbuch2[Kategorie],AK$4,Haushaltsbuch2[Datum],\">\"&B549,Haushaltsbuch2[Datum],\"<=\"&B550)","v":0},null,null,{"$f":"SUMIFS(Dividenden[Betrag in EUR],Dividenden[Datum],\">\"&B549,Dividenden[Datum],\"<=\"&B550)","v":0},{"$f":"SUMIFS(Optionen[G/V (Netto)],Optionen[Datum],\">\"&B549,Optionen[Datum],\"<=\"&B550)","v":0},null,0,0,null,0,0,null,{"$f":"SUMIFS(Haushaltsbuch2[Einnahmen],Haushaltsbuch2[Datum],\">\"&B549,Haushaltsbuch2[Datum],\"<=\"&B550)+AN550+AO550","v":0},null,0,null,{"$f":"SUMIFS(Haushaltsbuch2[Ausgaben],Haushaltsbuch2[Datum],\">\"&B549,Haushaltsbuch2[Datum],\"<=\"&B550)","v":0}]
[null,42247,null,null,null,null,null,null,null,null,null,null,{"$f":"SUMIFS(Haushaltsbuch2[Einnahmen],Haushaltsbuch2[Kategorie],M$4,Haushaltsbuch2[Datum],\">\"&B550,Haushaltsbuch2[Datum],\"<=\"&B551)","v":0},{"$f":"SUMIFS(Haushaltsbuch2[Einnahmen],Haushaltsbuch2[Kategorie],N$4,Haushaltsbuch2[Datum],\">\"&B550,Haushaltsbuch2[Datum],\"<=\"&B551)","v":0},{"$f":"SUMIFS(Haushaltsbuch2[Einnahmen],Haushaltsbuch2[Kategorie],O$4,Haushaltsbuch2[Datum],\">\"&B550,Haushaltsbuch2[Datum],\"<=\"&B551)","v":0},{"$f":"SUMIFS(Haushaltsbuch2[Einnahmen],Haushaltsbuch2[Kategorie],P$4,Haushaltsbuch2[Datum],\">\"&B550,Haushaltsbuch2[Datum],\"<=\"&B551)","v":0},{"$f":"SUMIFS(Haushaltsbuch2[Einnahmen],Haushaltsbuch2[Kategorie],Q$4,Haushaltsbuch2[Datum],\">\"&B550,Haushaltsbuch2[Datum],\"<=\"&B551)","v":0},{"$f":"SUMIFS(Haushaltsbuch2[Einnahmen],Haushaltsbuch2[Kategorie],R$4,Haushaltsbuch2[Datum],\">\"&B550,Haushaltsbuch2[Datum],\"<=\"&B551)","v":0},null,null,null,null,null,null,null,null,null,null,null,null,null,null,null,null,null,null,{"$f":"SUMIFS(Haushaltsbuch2[Ausgaben],Haushaltsbuch2[Kategorie],AK$4,Haushaltsbuch2[Datum],\">\"&B550,Haushaltsbuch2[Datum],\"<=\"&B551)","v":0},null,null,{"$f":"SUMIFS(Dividenden[Betrag in EUR],Dividenden[Datum],\">\"&B550,Dividenden[Datum],\"<=\"&B551)","v":0},{"$f":"SUMIFS(Optionen[G/V (Netto)],Optionen[Datum],\">\"&B550,Optionen[Datum],\"<=\"&B551)","v":0},null,0,0,null,0,0,null,{"$f":"SUMIFS(Haushaltsbuch2[Einnahmen],Haushaltsbuch2[Datum],\">\"&B550,Haushaltsbuch2[Datum],\"<=\"&B551)+AN551+AO551","v":0},null,0,null,{"$f":"SUMIFS(Haushaltsbuch2[Ausgaben],Haushaltsbuch2[Datum],\">\"&B550,Haushaltsbuch2[Datum],\"<=\"&B551)","v":0}]
[null,42277,null,null,null,null,null,null,null,null,null,null,{"$f":"SUMIFS(Haushaltsbuch2[Einnahmen],Haushaltsbuch2[Kategorie],M$4,Haushaltsbuch2[Datum],\">\"&B551,Haushaltsbuch2[Datum],\"<=\"&B552)","v":0},{"$f":"SUMIFS(Haushaltsbuch2[Einnahmen],Haushaltsbuch2[Kategorie],N$4,Haushaltsbuch2[Datum],\">\"&B551,Haushaltsbuch2[Datum],\"<=\"&B552)","v":0},{"$f":"SUMIFS(Haushaltsbuch2[Einnahmen],Haushaltsbuch2[Kategorie],O$4,Haushaltsbuch2[Datum],\">\"&B551,Haushaltsbuch2[Datum],\"<=\"&B552)","v":0},{"$f":"SUMIFS(Haushaltsbuch2[Einnahmen],Haushaltsbuch2[Kategorie],P$4,Haushaltsbuch2[Datum],\">\"&B551,Haushaltsbuch2[Datum],\"<=\"&B552)","v":0},{"$f":"SUMIFS(Haushaltsbuch2[Einnahmen],Haushaltsbuch2[Kategorie],Q$4,Haushaltsbuch2[Datum],\">\"&B551,Haushaltsbuch2[Datum],\"<=\"&B552)","v":0},{"$f":"SUMIFS(Haushaltsbuch2[Einnahmen],Haushaltsbuch2[Kategorie],R$4,Haushaltsbuch2[Datum],\">\"&B551,Haushaltsbuch2[Datum],\"<=\"&B552)","v":0},null,null,null,null,null,null,null,null,null,null,null,null,null,null,null,null,null,null,{"$f":"SUMIFS(Haushaltsbuch2[Ausgaben],Haushaltsbuch2[Kategorie],AK$4,Haushaltsbuch2[Datum],\">\"&B551,Haushaltsbuch2[Datum],\"<=\"&B552)","v":0},null,null,{"$f":"SUMIFS(Dividenden[Betrag in EUR],Dividenden[Datum],\">\"&B551,Dividenden[Datum],\"<=\"&B552)","v":0},{"$f":"SUMIFS(Optionen[G/V (Netto)],Optionen[Datum],\">\"&B551,Optionen[Datum],\"<=\"&B552)","v":0},null,0,0,null,0,0,null,{"$f":"SUMIFS(Haushaltsbuch2[Einnahmen],Haushaltsbuch2[Datum],\">\"&B551,Haushaltsbuch2[Datum],\"<=\"&B552)+AN552+AO552","v":0},null,0,null,{"$f":"SUMIFS(Haushaltsbuch2[Ausgaben],Haushaltsbuch2[Datum],\">\"&B551,Haushaltsbuch2[Datum],\"<=\"&B552)","v":0}]
[null,42308,null,null,null,null,null,null,null,null,null,null,{"$f":"SUMIFS(Haushaltsbuch2[Einnahmen],Haushaltsbuch2[Kategorie],M$4,Haushaltsbuch2[Datum],\">\"&B552,Haushaltsbuch2[Datum],\"<=\"&B553)","v":0},{"$f":"SUMIFS(Haushaltsbuch2[Einnahmen],Haushaltsbuch2[Kategorie],N$4,Haushaltsbuch2[Datum],\">\"&B552,Haushaltsbuch2[Datum],\"<=\"&B553)","v":0},{"$f":"SUMIFS(Haushaltsbuch2[Einnahmen],Haushaltsbuch2[Kategorie],O$4,Haushaltsbuch2[Datum],\">\"&B552,Haushaltsbuch2[Datum],\"<=\"&B553)","v":0},{"$f":"SUMIFS(Haushaltsbuch2[Einnahmen],Haushaltsbuch2[Kategorie],P$4,Haushaltsbuch2[Datum],\">\"&B552,Haushaltsbuch2[Datum],\"<=\"&B553)","v":0},{"$f":"SUMIFS(Haushaltsbuch2[Einnahmen],Haushaltsbuch2[Kategorie],Q$4,Haushaltsbuch2[Datum],\">\"&B552,Haushaltsbuch2[Datum],\"<=\"&B553)","v":0},{"$f":"SUMIFS(Haushaltsbuch2[Einnahmen],Haushaltsbuch2[Kategorie],R$4,Haushaltsbuch2[Datum],\">\"&B552,Haushaltsbuch2[Datum],\"<=\"&B553)","v":0},null,null,null,null,null,null,null,null,null,null,null,null,null,null,null,null,null,null,{"$f":"SUMIFS(Haushaltsbuch2[Ausgaben],Haushaltsbuch2[Kategorie],AK$4,Haushaltsbuch2[Datum],\">\"&B552,Haushaltsbuch2[Datum],\"<=\"&B553)","v":0},null,null,{"$f":"SUMIFS(Dividenden[Betrag in EUR],Dividenden[Datum],\">\"&B552,Dividenden[Datum],\"<=\"&B553)","v":0},{"$f":"SUMIFS(Optionen[G/V (Netto)],Optionen[Datum],\">\"&B552,Optionen[Datum],\"<=\"&B553)","v":0},null,0,0,null,0,0,null,{"$f":"SUMIFS(Haushaltsbuch2[Einnahmen],Haushaltsbuch2[Datum],\">\"&B552,Haushaltsbuch2[Datum],\"<=\"&B553)+AN553+AO553","v":0},null,0,null,{"$f":"SUMIFS(Haushaltsbuch2[Ausgaben],Haushaltsbuch2[Datum],\">\"&B552,Haushaltsbuch2[Datum],\"<=\"&B553)","v":0}]
[null,42338,null,null,null,null,null,null,null,null,null,null,{"$f":"SUMIFS(Haushaltsbuch2[Einnahmen],Haushaltsbuch2[Kategorie],M$4,Haushaltsbuch2[Datum],\">\"&B553,Haushaltsbuch2[Datum],\"<=\"&B554)","v":0},{"$f":"SUMIFS(Haushaltsbuch2[Einnahmen],Haushaltsbuch2[Kategorie],N$4,Haushaltsbuch2[Datum],\">\"&B553,Haushaltsbuch2[Datum],\"<=\"&B554)","v":0},{"$f":"SUMIFS(Haushaltsbuch2[Einnahmen],Haushaltsbuch2[Kategorie],O$4,Haushaltsbuch2[Datum],\">\"&B553,Haushaltsbuch2[Datum],\"<=\"&B554)","v":0},{"$f":"SUMIFS(Haushaltsbuch2[Einnahmen],Haushaltsbuch2[Kategorie],P$4,Haushaltsbuch2[Datum],\">\"&B553,Haushaltsbuch2[Datum],\"<=\"&B554)","v":0},{"$f":"SUMIFS(Haushaltsbuch2[Einnahmen],Haushaltsbuch2[Kategorie],Q$4,Haushaltsbuch2[Datum],\">\"&B553,Haushaltsbuch2[Datum],\"<=\"&B554)","v":0},{"$f":"SUMIFS(Haushaltsbuch2[Einnahmen],Haushaltsbuch2[Kategorie],R$4,Haushaltsbuch2[Datum],\">\"&B553,Haushaltsbuch2[Datum],\"<=\"&B554)","v":0},null,null,null,null,null,null,null,null,null,null,null,null,null,null,null,null,null,null,{"$f":"SUMIFS(Haushaltsbuch2[Ausgaben],Haushaltsbuch2[Kategorie],AK$4,Haushaltsbuch2[Datum],\">\"&B553,Haushaltsbuch2[Datum],\"<=\"&B554)","v":0},null,null,{"$f":"SUMIFS(Dividenden[Betrag in EUR],Dividenden[Datum],\">\"&B553,Dividenden[Datum],\"<=\"&B554)","v":0},{"$f":"SUMIFS(Optionen[G/V (Netto)],Optionen[Datum],\">\"&B553,Optionen[Datum],\"<=\"&B554)","v":0},null,0,0,null,0,0,null,{"$f":"SUMIFS(Haushaltsbuch2[Einnahmen],Haushaltsbuch2[Datum],\">\"&B553,Haushaltsbuch2[Datum],\"<=\"&B554)+AN554+AO554","v":0},null,0,null,{"$f":"SUMIFS(Haushaltsbuch2[Ausgaben],Haushaltsbuch2[Datum],\">\"&B553,Haushaltsbuch2[Datum],\"<=\"&B554)","v":0}]
[null,42369,null,null,null,null,null,null,null,null,null,null,{"$f":"SUMIFS(Haushaltsbuch2[Einnahmen],Haushaltsbuch2[Kategorie],M$4,Haushaltsbuch2[Datum],\">\"&B554,Haushaltsbuch2[Datum],\"<=\"&B555)","v":0},{"$f":"SUMIFS(Haushaltsbuch2[Einnahmen],Haushaltsbuch2[Kategorie],N$4,Haushaltsbuch2[Datum],\">\"&B554,Haushaltsbuch2[Datum],\"<=\"&B555)","v":0},{"$f":"SUMIFS(Haushaltsbuch2[Einnahmen],Haushaltsbuch2[Kategorie],O$4,Haushaltsbuch2[Datum],\">\"&B554,Haushaltsbuch2[Datum],\"<=\"&B555)","v":0},{"$f":"SUMIFS(Haushaltsbuch2[Einnahmen],Haushaltsbuch2[Kategorie],P$4,Haushaltsbuch2[Datum],\">\"&B554,Haushaltsbuch2[Datum],\"<=\"&B555)","v":0},{"$f":"SUMIFS(Haushaltsbuch2[Einnahmen],Haushaltsbuch2[Kategorie],Q$4,Haushaltsbuch2[Datum],\">\"&B554,Haushaltsbuch2[Datum],\"<=\"&B555)","v":0},{"$f":"SUMIFS(Haushaltsbuch2[Einnahmen],Haushaltsbuch2[Kategorie],R$4,Haushaltsbuch2[Datum],\">\"&B554,Haushaltsbuch2[Datum],\"<=\"&B555)","v":0},null,null,null,null,null,null,null,null,null,null,null,null,null,null,null,null,null,null,{"$f":"SUMIFS(Haushaltsbuch2[Ausgaben],Haushaltsbuch2[Kategorie],AK$4,Haushaltsbuch2[Datum],\">\"&B554,Haushaltsbuch2[Datum],\"<=\"&B555)","v":0},null,null,{"$f":"SUMIFS(Dividenden[Betrag in EUR],Dividenden[Datum],\">\"&B554,Dividenden[Datum],\"<=\"&B555)","v":0},{"$f":"SUMIFS(Optionen[G/V (Netto)],Optionen[Datum],\">\"&B554,Optionen[Datum],\"<=\"&B555)","v":0},null,0,0,null,0,0,null,{"$f":"SUMIFS(Haushaltsbuch2[Einnahmen],Haushaltsbuch2[Datum],\">\"&B554,Haushaltsbuch2[Datum],\"<=\"&B555)+AN555+AO555","v":0},null,0,null,{"$f":"SUMIFS(Haushaltsbuch2[Ausgaben],Haushaltsbuch2[Datum],\">\"&B554,Haushaltsbuch2[Datum],\"<=\"&B555)","v":0}]
[null,42400,null,null,null,null,null,null,null,null,null,null,{"$f":"SUMIFS(Haushaltsbuch2[Einnahmen],Haushaltsbuch2[Kategorie],M$4,Haushaltsbuch2[Datum],\">\"&B555,Haushaltsbuch2[Datum],\"<=\"&B556)","v":0},{"$f":"SUMIFS(Haushaltsbuch2[Einnahmen],Haushaltsbuch2[Kategorie],N$4,Haushaltsbuch2[Datum],\">\"&B555,Haushaltsbuch2[Datum],\"<=\"&B556)","v":0},{"$f":"SUMIFS(Haushaltsbuch2[Einnahmen],Haushaltsbuch2[Kategorie],O$4,Haushaltsbuch2[Datum],\">\"&B555,Haushaltsbuch2[Datum],\"<=\"&B556)","v":0},{"$f":"SUMIFS(Haushaltsbuch2[Einnahmen],Haushaltsbuch2[Kategorie],P$4,Haushaltsbuch2[Datum],\">\"&B555,Haushaltsbuch2[Datum],\"<=\"&B556)","v":0},{"$f":"SUMIFS(Haushaltsbuch2[Einnahmen],Haushaltsbuch2[Kategorie],Q$4,Haushaltsbuch2[Datum],\">\"&B555,Haushaltsbuch2[Datum],\"<=\"&B556)","v":0},{"$f":"SUMIFS(Haushaltsbuch2[Einnahmen],Haushaltsbuch2[Kategorie],R$4,Haushaltsbuch2[Datum],\">\"&B555,Haushaltsbuch2[Datum],\"<=\"&B556)","v":0},null,null,null,null,null,null,null,null,null,null,null,null,null,null,null,null,null,null,{"$f":"SUMIFS(Haushaltsbuch2[Ausgaben],Haushaltsbuch2[Kategorie],AK$4,Haushaltsbuch2[Datum],\">\"&B555,Haushaltsbuch2[Datum],\"<=\"&B556)","v":0},null,null,{"$f":"SUMIFS(Dividenden[Betrag in EUR],Dividenden[Datum],\">\"&B555,Dividenden[Datum],\"<=\"&B556)","v":0},{"$f":"SUMIFS(Optionen[G/V (Netto)],Optionen[Datum],\">\"&B555,Optionen[Datum],\"<=\"&B556)","v":0},null,0,0,null,0,0,null,{"$f":"SUMIFS(Haushaltsbuch2[Einnahmen],Haushaltsbuch2[Datum],\">\"&B555,Haushaltsbuch2[Datum],\"<=\"&B556)+AN556+AO556","v":0},null,0,null,{"$f":"SUMIFS(Haushaltsbuch2[Ausgaben],Haushaltsbuch2[Datum],\">\"&B555,Haushaltsbuch2[Datum],\"<=\"&B556)","v":0}]
[null,42429,null,null,null,null,null,null,null,null,null,null,{"$f":"SUMIFS(Haushaltsbuch2[Einnahmen],Haushaltsbuch2[Kategorie],M$4,Haushaltsbuch2[Datum],\">\"&B556,Haushaltsbuch2[Datum],\"<=\"&B557)","v":0},{"$f":"SUMIFS(Haushaltsbuch2[Einnahmen],Haushaltsbuch2[Kategorie],N$4,Haushaltsbuch2[Datum],\">\"&B556,Haushaltsbuch2[Datum],\"<=\"&B557)","v":0},{"$f":"SUMIFS(Haushaltsbuch2[Einnahmen],Haushaltsbuch2[Kategorie],O$4,Haushaltsbuch2[Datum],\">\"&B556,Haushaltsbuch2[Datum],\"<=\"&B557)","v":0},{"$f":"SUMIFS(Haushaltsbuch2[Einnahmen],Haushaltsbuch2[Kategorie],P$4,Haushaltsbuch2[Datum],\">\"&B556,Haushaltsbuch2[Datum],\"<=\"&B557)","v":0},{"$f":"SUMIFS(Haushaltsbuch2[Einnahmen],Haushaltsbuch2[Kategorie],Q$4,Haushaltsbuch2[Datum],\">\"&B556,Haushaltsbuch2[Datum],\"<=\"&B557)","v":0},{"$f":"SUMIFS(Haushaltsbuch2[Einnahmen],Haushaltsbuch2[Kategorie],R$4,Haushaltsbuch2[Datum],\">\"&B556,Haushaltsbuch2[Datum],\"<=\"&B557)","v":0},null,null,null,null,null,null,null,null,null,null,null,null,null,null,null,null,null,null,{"$f":"SUMIFS(Haushaltsbuch2[Ausgaben],Haushaltsbuch2[Kategorie],AK$4,Haushaltsbuch2[Datum],\">\"&B556,Haushaltsbuch2[Datum],\"<=\"&B557)","v":0},null,null,{"$f":"SUMIFS(Dividenden[Betrag in EUR],Dividenden[Datum],\">\"&B556,Dividenden[Datum],\"<=\"&B557)","v":0},{"$f":"SUMIFS(Optionen[G/V (Netto)],Optionen[Datum],\">\"&B556,Optionen[Datum],\"<=\"&B557)","v":0},null,0,0,null,0,0,null,{"$f":"SUMIFS(Haushaltsbuch2[Einnahmen],Haushaltsbuch2[Datum],\">\"&B556,Haushaltsbuch2[Datum],\"<=\"&B557)+AN557+AO557","v":0},null,0,null,{"$f":"SUMIFS(Haushaltsbuch2[Ausgaben],Haushaltsbuch2[Datum],\">\"&B556,Haushaltsbuch2[Datum],\"<=\"&B557)","v":0}]
[null,42460,null,null,null,null,null,null,null,null,null,null,{"$f":"SUMIFS(Haushaltsbuch2[Einnahmen],Haushaltsbuch2[Kategorie],M$4,Haushaltsbuch2[Datum],\">\"&B557,Haushaltsbuch2[Datum],\"<=\"&B558)","v":0},{"$f":"SUMIFS(Haushaltsbuch2[Einnahmen],Haushaltsbuch2[Kategorie],N$4,Haushaltsbuch2[Datum],\">\"&B557,Haushaltsbuch2[Datum],\"<=\"&B558)","v":0},{"$f":"SUMIFS(Haushaltsbuch2[Einnahmen],Haushaltsbuch2[Kategorie],O$4,Haushaltsbuch2[Datum],\">\"&B557,Haushaltsbuch2[Datum],\"<=\"&B558)","v":0},{"$f":"SUMIFS(Haushaltsbuch2[Einnahmen],Haushaltsbuch2[Kategorie],P$4,Haushaltsbuch2[Datum],\">\"&B557,Haushaltsbuch2[Datum],\"<=\"&B558)","v":0},{"$f":"SUMIFS(Haushaltsbuch2[Einnahmen],Haushaltsbuch2[Kategorie],Q$4,Haushaltsbuch2[Datum],\">\"&B557,Haushaltsbuch2[Datum],\"<=\"&B558)","v":0},{"$f":"SUMIFS(Haushaltsbuch2[Einnahmen],Haushaltsbuch2[Kategorie],R$4,Haushaltsbuch2[Datum],\">\"&B557,Haushaltsbuch2[Datum],\"<=\"&B558)","v":0},null,null,null,null,null,null,null,null,null,null,null,null,null,null,null,null,null,null,{"$f":"SUMIFS(Haushaltsbuch2[Ausgaben],Haushaltsbuch2[Kategorie],AK$4,Haushaltsbuch2[Datum],\">\"&B557,Haushaltsbuch2[Datum],\"<=\"&B558)","v":0},null,null,{"$f":"SUMIFS(Dividenden[Betrag in EUR],Dividenden[Datum],\">\"&B557,Dividenden[Datum],\"<=\"&B558)","v":0},{"$f":"SUMIFS(Optionen[G/V (Netto)],Optionen[Datum],\">\"&B557,Optionen[Datum],\"<=\"&B558)","v":0},null,0,0,null,0,0,null,{"$f":"SUMIFS(Haushaltsbuch2[Einnahmen],Haushaltsbuch2[Datum],\">\"&B557,Haushaltsbuch2[Datum],\"<=\"&B558)+AN558+AO558","v":0},null,0,null,{"$f":"SUMIFS(Haushaltsbuch2[Ausgaben],Haushaltsbuch2[Datum],\">\"&B557,Haushaltsbuch2[Datum],\"<=\"&B558)","v":0}]
[null,42490,null,null,null,null,null,null,null,null,null,null,{"$f":"SUMIFS(Haushaltsbuch2[Einnahmen],Haushaltsbuch2[Kategorie],M$4,Haushaltsbuch2[Datum],\">\"&B558,Haushaltsbuch2[Datum],\"<=\"&B559)","v":0},{"$f":"SUMIFS(Haushaltsbuch2[Einnahmen],Haushaltsbuch2[Kategorie],N$4,Haushaltsbuch2[Datum],\">\"&B558,Haushaltsbuch2[Datum],\"<=\"&B559)","v":0},{"$f":"SUMIFS(Haushaltsbuch2[Einnahmen],Haushaltsbuch2[Kategorie],O$4,Haushaltsbuch2[Datum],\">\"&B558,Haushaltsbuch2[Datum],\"<=\"&B559)","v":0},{"$f":"SUMIFS(Haushaltsbuch2[Einnahmen],Haushaltsbuch2[Kategorie],P$4,Haushaltsbuch2[Datum],\">\"&B558,Haushaltsbuch2[Datum],\"<=\"&B559)","v":0},{"$f":"SUMIFS(Haushaltsbuch2[Einnahmen],Haushaltsbuch2[Kategorie],Q$4,Haushaltsbuch2[Datum],\">\"&B558,Haushaltsbuch2[Datum],\"<=\"&B559)","v":0},{"$f":"SUMIFS(Haushaltsbuch2[Einnahmen],Haushaltsbuch2[Kategorie],R$4,Haushaltsbuch2[Datum],\">\"&B558,Haushaltsbuch2[Datum],\"<=\"&B559)","v":0},null,null,null,null,null,null,null,null,null,null,null,null,null,null,null,null,null,null,{"$f":"SUMIFS(Haushaltsbuch2[Ausgaben],Haushaltsbuch2[Kategorie],AK$4,Haushaltsbuch2[Datum],\">\"&B558,Haushaltsbuch2[Datum],\"<=\"&B559)","v":0},null,null,{"$f":"SUMIFS(Dividenden[Betrag in EUR],Dividenden[Datum],\">\"&B558,Dividenden[Datum],\"<=\"&B559)","v":0},{"$f":"SUMIFS(Optionen[G/V (Netto)],Optionen[Datum],\">\"&B558,Optionen[Datum],\"<=\"&B559)","v":0},null,0,0,null,0,0,null,{"$f":"SUMIFS(Haushaltsbuch2[Einnahmen],Haushaltsbuch2[Datum],\">\"&B558,Haushaltsbuch2[Datum],\"<=\"&B559)+AN559+AO559","v":0},null,0,null,{"$f":"SUMIFS(Haushaltsbuch2[Ausgaben],Haushaltsbuch2[Datum],\">\"&B558,Haushaltsbuch2[Datum],\"<=\"&B559)","v":0}]
[null,42521,null,null,null,null,null,null,null,null,null,null,{"$f":"SUMIFS(Haushaltsbuch2[Einnahmen],Haushaltsbuch2[Kategorie],M$4,Haushaltsbuch2[Datum],\">\"&B559,Haushaltsbuch2[Datum],\"<=\"&B560)","v":0},{"$f":"SUMIFS(Haushaltsbuch2[Einnahmen],Haushaltsbuch2[Kategorie],N$4,Haushaltsbuch2[Datum],\">\"&B559,Haushaltsbuch2[Datum],\"<=\"&B560)","v":0},{"$f":"SUMIFS(Haushaltsbuch2[Einnahmen],Haushaltsbuch2[Kategorie],O$4,Haushaltsbuch2[Datum],\">\"&B559,Haushaltsbuch2[Datum],\"<=\"&B560)","v":0},{"$f":"SUMIFS(Haushaltsbuch2[Einnahmen],Haushaltsbuch2[Kategorie],P$4,Haushaltsbuch2[Datum],\">\"&B559,Haushaltsbuch2[Datum],\"<=\"&B560)","v":0},{"$f":"SUMIFS(Haushaltsbuch2[Einnahmen],Haushaltsbuch2[Kategorie],Q$4,Haushaltsbuch2[Datum],\">\"&B559,Haushaltsbuch2[Datum],\"<=\"&B560)","v":0},{"$f":"SUMIFS(Haushaltsbuch2[Einnahmen],Haushaltsbuch2[Kategorie],R$4,Haushaltsbuch2[Datum],\">\"&B559,Haushaltsbuch2[Datum],\"<=\"&B560)","v":0},null,null,null,null,null,null,null,null,null,null,null,null,null,null,null,null,null,null,{"$f":"SUMIFS(Haushaltsbuch2[Ausgaben],Haushaltsbuch2[Kategorie],AK$4,Haushaltsbuch2[Datum],\">\"&B559,Haushaltsbuch2[Datum],\"<=\"&B560)","v":0},null,null,{"$f":"SUMIFS(Dividenden[Betrag in EUR],Dividenden[Datum],\">\"&B559,Dividenden[Datum],\"<=\"&B560)","v":0},{"$f":"SUMIFS(Optionen[G/V (Netto)],Optionen[Datum],\">\"&B559,Optionen[Datum],\"<=\"&B560)","v":0},null,0,0,null,0,0,null,{"$f":"SUMIFS(Haushaltsbuch2[Einnahmen],Haushaltsbuch2[Datum],\">\"&B559,Haushaltsbuch2[Datum],\"<=\"&B560)+AN560+AO560","v":0},null,0,null,{"$f":"SUMIFS(Haushaltsbuch2[Ausgaben],Haushaltsbuch2[Datum],\">\"&B559,Haushaltsbuch2[Datum],\"<=\"&B560)","v":0}]
[null,42551,null,null,null,null,null,null,null,null,null,null,{"$f":"SUMIFS(Haushaltsbuch2[Einnahmen],Haushaltsbuch2[Kategorie],M$4,Haushaltsbuch2[Datum],\">\"&B560,Haushaltsbuch2[Datum],\"<=\"&B561)","v":0},{"$f":"SUMIFS(Haushaltsbuch2[Einnahmen],Haushaltsbuch2[Kategorie],N$4,Haushaltsbuch2[Datum],\">\"&B560,Haushaltsbuch2[Datum],\"<=\"&B561)","v":0},{"$f":"SUMIFS(Haushaltsbuch2[Einnahmen],Haushaltsbuch2[Kategorie],O$4,Haushaltsbuch2[Datum],\">\"&B560,Haushaltsbuch2[Datum],\"<=\"&B561)","v":0},{"$f":"SUMIFS(Haushaltsbuch2[Einnahmen],Haushaltsbuch2[Kategorie],P$4,Haushaltsbuch2[Datum],\">\"&B560,Haushaltsbuch2[Datum],\"<=\"&B561)","v":0},{"$f":"SUMIFS(Haushaltsbuch2[Einnahmen],Haushaltsbuch2[Kategorie],Q$4,Haushaltsbuch2[Datum],\">\"&B560,Haushaltsbuch2[Datum],\"<=\"&B561)","v":0},{"$f":"SUMIFS(Haushaltsbuch2[Einnahmen],Haushaltsbuch2[Kategorie],R$4,Haushaltsbuch2[Datum],\">\"&B560,Haushaltsbuch2[Datum],\"<=\"&B561)","v":0},null,null,null,null,null,null,null,null,null,null,null,null,null,null,null,null,null,null,{"$f":"SUMIFS(Haushaltsbuch2[Ausgaben],Haushaltsbuch2[Kategorie],AK$4,Haushaltsbuch2[Datum],\">\"&B560,Haushaltsbuch2[Datum],\"<=\"&B561)","v":0},null,null,{"$f":"SUMIFS(Dividenden[Betrag in EUR],Dividenden[Datum],\">\"&B560,Dividenden[Datum],\"<=\"&B561)","v":0},{"$f":"SUMIFS(Optionen[G/V (Netto)],Optionen[Datum],\">\"&B560,Optionen[Datum],\"<=\"&B561)","v":0},null,0,0,null,0,0,null,{"$f":"SUMIFS(Haushaltsbuch2[Einnahmen],Haushaltsbuch2[Datum],\">\"&B560,Haushaltsbuch2[Datum],\"<=\"&B561)+AN561+AO561","v":0},null,0,null,{"$f":"SUMIFS(Haushaltsbuch2[Ausgaben],Haushaltsbuch2[Datum],\">\"&B560,Haushaltsbuch2[Datum],\"<=\"&B561)","v":0}]
[null,42582,null,null,null,null,null,null,null,null,null,null,{"$f":"SUMIFS(Haushaltsbuch2[Einnahmen],Haushaltsbuch2[Kategorie],M$4,Haushaltsbuch2[Datum],\">\"&B561,Haushaltsbuch2[Datum],\"<=\"&B562)","v":0},{"$f":"SUMIFS(Haushaltsbuch2[Einnahmen],Haushaltsbuch2[Kategorie],N$4,Haushaltsbuch2[Datum],\">\"&B561,Haushaltsbuch2[Datum],\"<=\"&B562)","v":0},{"$f":"SUMIFS(Haushaltsbuch2[Einnahmen],Haushaltsbuch2[Kategorie],O$4,Haushaltsbuch2[Datum],\">\"&B561,Haushaltsbuch2[Datum],\"<=\"&B562)","v":0},{"$f":"SUMIFS(Haushaltsbuch2[Einnahmen],Haushaltsbuch2[Kategorie],P$4,Haushaltsbuch2[Datum],\">\"&B561,Haushaltsbuch2[Datum],\"<=\"&B562)","v":0},{"$f":"SUMIFS(Haushaltsbuch2[Einnahmen],Haushaltsbuch2[Kategorie],Q$4,Haushaltsbuch2[Datum],\">\"&B561,Haushaltsbuch2[Datum],\"<=\"&B562)","v":0},{"$f":"SUMIFS(Haushaltsbuch2[Einnahmen],Haushaltsbuch2[Kategorie],R$4,Haushaltsbuch2[Datum],\">\"&B561,Haushaltsbuch2[Datum],\"<=\"&B562)","v":0},null,null,null,null,null,null,null,null,null,null,null,null,null,null,null,null,null,null,{"$f":"SUMIFS(Haushaltsbuch2[Ausgaben],Haushaltsbuch2[Kategorie],AK$4,Haushaltsbuch2[Datum],\">\"&B561,Haushaltsbuch2[Datum],\"<=\"&B562)","v":0},null,null,{"$f":"SUMIFS(Dividenden[Betrag in EUR],Dividenden[Datum],\">\"&B561,Dividenden[Datum],\"<=\"&B562)","v":0},{"$f":"SUMIFS(Optionen[G/V (Netto)],Optionen[Datum],\">\"&B561,Optionen[Datum],\"<=\"&B562)","v":0},null,0,0,null,0,0,null,{"$f":"SUMIFS(Haushaltsbuch2[Einnahmen],Haushaltsbuch2[Datum],\">\"&B561,Haushaltsbuch2[Datum],\"<=\"&B562)+AN562+AO562","v":0},null,0,null,{"$f":"SUMIFS(Haushaltsbuch2[Ausgaben],Haushaltsbuch2[Datum],\">\"&B561,Haushaltsbuch2[Datum],\"<=\"&B562)","v":0}]
[null,42613,null,null,null,null,null,null,null,null,null,null,{"$f":"SUMIFS(Haushaltsbuch2[Einnahmen],Haushaltsbuch2[Kategorie],M$4,Haushaltsbuch2[Datum],\">\"&B562,Haushaltsbuch2[Datum],\"<=\"&B563)","v":0},{"$f":"SUMIFS(Haushaltsbuch2[Einnahmen],Haushaltsbuch2[Kategorie],N$4,Haushaltsbuch2[Datum],\">\"&B562,Haushaltsbuch2[Datum],\"<=\"&B563)","v":0},{"$f":"SUMIFS(Haushaltsbuch2[Einnahmen],Haushaltsbuch2[Kategorie],O$4,Haushaltsbuch2[Datum],\">\"&B562,Haushaltsbuch2[Datum],\"<=\"&B563)","v":0},{"$f":"SUMIFS(Haushaltsbuch2[Einnahmen],Haushaltsbuch2[Kategorie],P$4,Haushaltsbuch2[Datum],\">\"&B562,Haushaltsbuch2[Datum],\"<=\"&B563)","v":0},{"$f":"SUMIFS(Haushaltsbuch2[Einnahmen],Haushaltsbuch2[Kategorie],Q$4,Haushaltsbuch2[Datum],\">\"&B562,Haushaltsbuch2[Datum],\"<=\"&B563)","v":0},{"$f":"SUMIFS(Haushaltsbuch2[Einnahmen],Haushaltsbuch2[Kategorie],R$4,Haushaltsbuch2[Datum],\">\"&B562,Haushaltsbuch2[Datum],\"<=\"&B563)","v":0},null,null,null,null,null,null,null,null,null,null,null,null,null,null,null,null,null,null,{"$f":"SUMIFS(Haushaltsbuch2[Ausgaben],Haushaltsbuch2[Kategorie],AK$4,Haushaltsbuch2[Datum],\">\"&B562,Haushaltsbuch2[Datum],\"<=\"&B563)","v":0},null,null,{"$f":"SUMIFS(Dividenden[Betrag in EUR],Dividenden[Datum],\">\"&B562,Dividenden[Datum],\"<=\"&B563)","v":0},{"$f":"SUMIFS(Optionen[G/V (Netto)],Optionen[Datum],\">\"&B562,Optionen[Datum],\"<=\"&B563)","v":0},null,0,0,null,0,0,null,{"$f":"SUMIFS(Haushaltsbuch2[Einnahmen],Haushaltsbuch2[Datum],\">\"&B562,Haushaltsbuch2[Datum],\"<=\"&B563)+AN563+AO563","v":0},null,0,null,{"$f":"SUMIFS(Haushaltsbuch2[Ausgaben],Haushaltsbuch2[Datum],\">\"&B562,Haushaltsbuch2[Datum],\"<=\"&B563)","v":0}]
[null,42643,null,null,null,null,null,null,null,null,null,null,{"$f":"SUMIFS(Haushaltsbuch2[Einnahmen],Haushaltsbuch2[Kategorie],M$4,Haushaltsbuch2[Datum],\">\"&B563,Haushaltsbuch2[Datum],\"<=\"&B564)","v":0},{"$f":"SUMIFS(Haushaltsbuch2[Einnahmen],Haushaltsbuch2[Kategorie],N$4,Haushaltsbuch2[Datum],\">\"&B563,Haushaltsbuch2[Datum],\"<=\"&B564)","v":0},{"$f":"SUMIFS(Haushaltsbuch2[Einnahmen],Haushaltsbuch2[Kategorie],O$4,Haushaltsbuch2[Datum],\">\"&B563,Haushaltsbuch2[Datum],\"<=\"&B564)","v":0},{"$f":"SUMIFS(Haushaltsbuch2[Einnahmen],Haushaltsbuch2[Kategorie],P$4,Haushaltsbuch2[Datum],\">\"&B563,Haushaltsbuch2[Datum],\"<=\"&B564)","v":0},{"$f":"SUMIFS(Haushaltsbuch2[Einnahmen],Haushaltsbuch2[Kategorie],Q$4,Haushaltsbuch2[Datum],\">\"&B563,Haushaltsbuch2[Datum],\"<=\"&B564)","v":0},{"$f":"SUMIFS(Haushaltsbuch2[Einnahmen],Haushaltsbuch2[Kategorie],R$4,Haushaltsbuch2[Datum],\">\"&B563,Haushaltsbuch2[Datum],\"<=\"&B564)","v":0},null,null,null,null,null,null,null,null,null,null,null,null,null,null,null,null,null,null,{"$f":"SUMIFS(Haushaltsbuch2[Ausgaben],Haushaltsbuch2[Kategorie],AK$4,Haushaltsbuch2[Datum],\">\"&B563,Haushaltsbuch2[Datum],\"<=\"&B564)","v":0},null,null,{"$f":"SUMIFS(Dividenden[Betrag in EUR],Dividenden[Datum],\">\"&B563,Dividenden[Datum],\"<=\"&B564)","v":0},{"$f":"SUMIFS(Optionen[G/V (Netto)],Optionen[Datum],\">\"&B563,Optionen[Datum],\"<=\"&B564)","v":0},null,0,0,null,0,0,null,{"$f":"SUMIFS(Haushaltsbuch2[Einnahmen],Haushaltsbuch2[Datum],\">\"&B563,Haushaltsbuch2[Datum],\"<=\"&B564)+AN564+AO564","v":0},null,0,null,{"$f":"SUMIFS(Haushaltsbuch2[Ausgaben],Haushaltsbuch2[Datum],\">\"&B563,Haushaltsbuch2[Datum],\"<=\"&B564)","v":0}]
[null,42674,null,null,null,null,null,null,null,null,null,null,{"$f":"SUMIFS(Haushaltsbuch2[Einnahmen],Haushaltsbuch2[Kategorie],M$4,Haushaltsbuch2[Datum],\">\"&B564,Haushaltsbuch2[Datum],\"<=\"&B565)","v":0},{"$f":"SUMIFS(Haushaltsbuch2[Einnahmen],Haushaltsbuch2[Kategorie],N$4,Haushaltsbuch2[Datum],\">\"&B564,Haushaltsbuch2[Datum],\"<=\"&B565)","v":0},{"$f":"SUMIFS(Haushaltsbuch2[Einnahmen],Haushaltsbuch2[Kategorie],O$4,Haushaltsbuch2[Datum],\">\"&B564,Haushaltsbuch2[Datum],\"<=\"&B565)","v":0},{"$f":"SUMIFS(Haushaltsbuch2[Einnahmen],Haushaltsbuch2[Kategorie],P$4,Haushaltsbuch2[Datum],\">\"&B564,Haushaltsbuch2[Datum],\"<=\"&B565)","v":0},{"$f":"SUMIFS(Haushaltsbuch2[Einnahmen],Haushaltsbuch2[Kategorie],Q$4,Haushaltsbuch2[Datum],\">\"&B564,Haushaltsbuch2[Datum],\"<=\"&B565)","v":0},{"$f":"SUMIFS(Haushaltsbuch2[Einnahmen],Haushaltsbuch2[Kategorie],R$4,Haushaltsbuch2[Datum],\">\"&B564,Haushaltsbuch2[Datum],\"<=\"&B565)","v":0},null,null,null,null,null,null,null,null,null,null,null,null,null,null,null,null,null,null,{"$f":"SUMIFS(Haushaltsbuch2[Ausgaben],Haushaltsbuch2[Kategorie],AK$4,Haushaltsbuch2[Datum],\">\"&B564,Haushaltsbuch2[Datum],\"<=\"&B565)","v":0},null,null,{"$f":"SUMIFS(Dividenden[Betrag in EUR],Dividenden[Datum],\">\"&B564,Dividenden[Datum],\"<=\"&B565)","v":0},{"$f":"SUMIFS(Optionen[G/V (Netto)],Optionen[Datum],\">\"&B564,Optionen[Datum],\"<=\"&B565)","v":0},null,0,0,null,0,0,null,{"$f":"SUMIFS(Haushaltsbuch2[Einnahmen],Haushaltsbuch2[Datum],\">\"&B564,Haushaltsbuch2[Datum],\"<=\"&B565)+AN565+AO565","v":0},null,0,null,{"$f":"SUMIFS(Haushaltsbuch2[Ausgaben],Haushaltsbuch2[Datum],\">\"&B564,Haushaltsbuch2[Datum],\"<=\"&B565)","v":0}]
[null,42704,null,null,null,null,null,null,null,null,null,null,{"$f":"SUMIFS(Haushaltsbuch2[Einnahmen],Haushaltsbuch2[Kategorie],M$4,Haushaltsbuch2[Datum],\">\"&B565,Haushaltsbuch2[Datum],\"<=\"&B566)","v":0},{"$f":"SUMIFS(Haushaltsbuch2[Einnahmen],Haushaltsbuch2[Kategorie],N$4,Haushaltsbuch2[Datum],\">\"&B565,Haushaltsbuch2[Datum],\"<=\"&B566)","v":0},{"$f":"SUMIFS(Haushaltsbuch2[Einnahmen],Haushaltsbuch2[Kategorie],O$4,Haushaltsbuch2[Datum],\">\"&B565,Haushaltsbuch2[Datum],\"<=\"&B566)","v":0},{"$f":"SUMIFS(Haushaltsbuch2[Einnahmen],Haushaltsbuch2[Kategorie],P$4,Haushaltsbuch2[Datum],\">\"&B565,Haushaltsbuch2[Datum],\"<=\"&B566)","v":0},{"$f":"SUMIFS(Haushaltsbuch2[Einnahmen],Haushaltsbuch2[Kategorie],Q$4,Haushaltsbuch2[Datum],\">\"&B565,Haushaltsbuch2[Datum],\"<=\"&B566)","v":0},{"$f":"SUMIFS(Haushaltsbuch2[Einnahmen],Haushaltsbuch2[Kategorie],R$4,Haushaltsbuch2[Datum],\">\"&B565,Haushaltsbuch2[Datum],\"<=\"&B566)","v":0},null,null,null,null,null,null,null,null,null,null,null,null,null,null,null,null,null,null,{"$f":"SUMIFS(Haushaltsbuch2[Ausgaben],Haushaltsbuch2[Kategorie],AK$4,Haushaltsbuch2[Datum],\">\"&B565,Haushaltsbuch2[Datum],\"<=\"&B566)","v":0},null,null,{"$f":"SUMIFS(Dividenden[Betrag in EUR],Dividenden[Datum],\">\"&B565,Dividenden[Datum],\"<=\"&B566)","v":0},{"$f":"SUMIFS(Optionen[G/V (Netto)],Optionen[Datum],\">\"&B565,Optionen[Datum],\"<=\"&B566)","v":0},null,0,0,null,0,0,null,{"$f":"SUMIFS(Haushaltsbuch2[Einnahmen],Haushaltsbuch2[Datum],\">\"&B565,Haushaltsbuch2[Datum],\"<=\"&B566)+AN566+AO566","v":0},null,0,null,{"$f":"SUMIFS(Haushaltsbuch2[Ausgaben],Haushaltsbuch2[Datum],\">\"&B565,Haushaltsbuch2[Datum],\"<=\"&B566)","v":0}]
[null,42735,null,null,null,null,null,null,null,null,null,null,{"$f":"SUMIFS(Haushaltsbuch2[Einnahmen],Haushaltsbuch2[Kategorie],M$4,Haushaltsbuch2[Datum],\">\"&B566,Haushaltsbuch2[Datum],\"<=\"&B567)","v":0},{"$f":"SUMIFS(Haushaltsbuch2[Einnahmen],Haushaltsbuch2[Kategorie],N$4,Haushaltsbuch2[Datum],\">\"&B566,Haushaltsbuch2[Datum],\"<=\"&B567)","v":0},{"$f":"SUMIFS(Haushaltsbuch2[Einnahmen],Haushaltsbuch2[Kategorie],O$4,Haushaltsbuch2[Datum],\">\"&B566,Haushaltsbuch2[Datum],\"<=\"&B567)","v":0},{"$f":"SUMIFS(Haushaltsbuch2[Einnahmen],Haushaltsbuch2[Kategorie],P$4,Haushaltsbuch2[Datum],\">\"&B566,Haushaltsbuch2[Datum],\"<=\"&B567)","v":0},{"$f":"SUMIFS(Haushaltsbuch2[Einnahmen],Haushaltsbuch2[Kategorie],Q$4,Haushaltsbuch2[Datum],\">\"&B566,Haushaltsbuch2[Datum],\"<=\"&B567)","v":0},{"$f":"SUMIFS(Haushaltsbuch2[Einnahmen],Haushaltsbuch2[Kategorie],R$4,Haushaltsbuch2[Datum],\">\"&B566,Haushaltsbuch2[Datum],\"<=\"&B567)","v":0},null,null,null,null,null,null,null,null,null,null,null,null,null,null,null,null,null,null,{"$f":"SUMIFS(Haushaltsbuch2[Ausgaben],Haushaltsbuch2[Kategorie],AK$4,Haushaltsbuch2[Datum],\">\"&B566,Haushaltsbuch2[Datum],\"<=\"&B567)","v":0},null,null,{"$f":"SUMIFS(Dividenden[Betrag in EUR],Dividenden[Datum],\">\"&B566,Dividenden[Datum],\"<=\"&B567)","v":0},{"$f":"SUMIFS(Optionen[G/V (Netto)],Optionen[Datum],\">\"&B566,Optionen[Datum],\"<=\"&B567)","v":0},null,0,0,null,0,0,null,{"$f":"SUMIFS(Haushaltsbuch2[Einnahmen],Haushaltsbuch2[Datum],\">\"&B566,Haushaltsbuch2[Datum],\"<=\"&B567)+AN567+AO567","v":0},null,0,null,{"$f":"SUMIFS(Haushaltsbuch2[Ausgaben],Haushaltsbuch2[Datum],\">\"&B566,Haushaltsbuch2[Datum],\"<=\"&B567)","v":0}]
[null,42766,null,null,null,null,null,null,null,null,null,null,{"$f":"SUMIFS(Haushaltsbuch2[Einnahmen],Haushaltsbuch2[Kategorie],M$4,Haushaltsbuch2[Datum],\">\"&B567,Haushaltsbuch2[Datum],\"<=\"&B568)","v":0},{"$f":"SUMIFS(Haushaltsbuch2[Einnahmen],Haushaltsbuch2[Kategorie],N$4,Haushaltsbuch2[Datum],\">\"&B567,Haushaltsbuch2[Datum],\"<=\"&B568)","v":0},{"$f":"SUMIFS(Haushaltsbuch2[Einnahmen],Haushaltsbuch2[Kategorie],O$4,Haushaltsbuch2[Datum],\">\"&B567,Haushaltsbuch2[Datum],\"<=\"&B568)","v":0},{"$f":"SUMIFS(Haushaltsbuch2[Einnahmen],Haushaltsbuch2[Kategorie],P$4,Haushaltsbuch2[Datum],\">\"&B567,Haushaltsbuch2[Datum],\"<=\"&B568)","v":0},{"$f":"SUMIFS(Haushaltsbuch2[Einnahmen],Haushaltsbuch2[Kategorie],Q$4,Haushaltsbuch2[Datum],\">\"&B567,Haushaltsbuch2[Datum],\"<=\"&B568)","v":0},{"$f":"SUMIFS(Haushaltsbuch2[Einnahmen],Haushaltsbuch2[Kategorie],R$4,Haushaltsbuch2[Datum],\">\"&B567,Haushaltsbuch2[Datum],\"<=\"&B568)","v":0},null,null,null,null,null,null,null,null,null,null,null,null,null,null,null,null,null,null,{"$f":"SUMIFS(Haushaltsbuch2[Ausgaben],Haushaltsbuch2[Kategorie],AK$4,Haushaltsbuch2[Datum],\">\"&B567,Haushaltsbuch2[Datum],\"<=\"&B568)","v":0},null,null,{"$f":"SUMIFS(Dividenden[Betrag in EUR],Dividenden[Datum],\">\"&B567,Dividenden[Datum],\"<=\"&B568)","v":0},{"$f":"SUMIFS(Optionen[G/V (Netto)],Optionen[Datum],\">\"&B567,Optionen[Datum],\"<=\"&B568)","v":0},null,0,0,null,0,0,null,{"$f":"SUMIFS(Haushaltsbuch2[Einnahmen],Haushaltsbuch2[Datum],\">\"&B567,Haushaltsbuch2[Datum],\"<=\"&B568)+AN568+AO568","v":0},null,0,null,{"$f":"SUMIFS(Haushaltsbuch2[Ausgaben],Haushaltsbuch2[Datum],\">\"&B567,Haushaltsbuch2[Datum],\"<=\"&B568)","v":0}]
[null,42794,null,null,null,null,null,null,null,null,null,null,{"$f":"SUMIFS(Haushaltsbuch2[Einnahmen],Haushaltsbuch2[Kategorie],M$4,Haushaltsbuch2[Datum],\">\"&B568,Haushaltsbuch2[Datum],\"<=\"&B569)","v":0},{"$f":"SUMIFS(Haushaltsbuch2[Einnahmen],Haushaltsbuch2[Kategorie],N$4,Haushaltsbuch2[Datum],\">\"&B568,Haushaltsbuch2[Datum],\"<=\"&B569)","v":0},{"$f":"SUMIFS(Haushaltsbuch2[Einnahmen],Haushaltsbuch2[Kategorie],O$4,Haushaltsbuch2[Datum],\">\"&B568,Haushaltsbuch2[Datum],\"<=\"&B569)","v":0},{"$f":"SUMIFS(Haushaltsbuch2[Einnahmen],Haushaltsbuch2[Kategorie],P$4,Haushaltsbuch2[Datum],\">\"&B568,Haushaltsbuch2[Datum],\"<=\"&B569)","v":0},{"$f":"SUMIFS(Haushaltsbuch2[Einnahmen],Haushaltsbuch2[Kategorie],Q$4,Haushaltsbuch2[Datum],\">\"&B568,Haushaltsbuch2[Datum],\"<=\"&B569)","v":0},{"$f":"SUMIFS(Haushaltsbuch2[Einnahmen],Haushaltsbuch2[Kategorie],R$4,Haushaltsbuch2[Datum],\">\"&B568,Haushaltsbuch2[Datum],\"<=\"&B569)","v":0},null,null,null,null,null,null,null,null,null,null,null,null,null,null,null,null,null,null,{"$f":"SUMIFS(Haushaltsbuch2[Ausgaben],Haushaltsbuch2[Kategorie],AK$4,Haushaltsbuch2[Datum],\">\"&B568,Haushaltsbuch2[Datum],\"<=\"&B569)","v":0},null,null,{"$f":"SUMIFS(Dividenden[Betrag in EUR],Dividenden[Datum],\">\"&B568,Dividenden[Datum],\"<=\"&B569)","v":0},{"$f":"SUMIFS(Optionen[G/V (Netto)],Optionen[Datum],\">\"&B568,Optionen[Datum],\"<=\"&B569)","v":0},null,0,0,null,0,0,null,{"$f":"SUMIFS(Haushaltsbuch2[Einnahmen],Haushaltsbuch2[Datum],\">\"&B568,Haushaltsbuch2[Datum],\"<=\"&B569)+AN569+AO569","v":0},null,0,null,{"$f":"SUMIFS(Haushaltsbuch2[Ausgaben],Haushaltsbuch2[Datum],\">\"&B568,Haushaltsbuch2[Datum],\"<=\"&B569)","v":0}]
[null,42825,null,null,null,null,null,null,null,null,null,null,{"$f":"SUMIFS(Haushaltsbuch2[Einnahmen],Haushaltsbuch2[Kategorie],M$4,Haushaltsbuch2[Datum],\">\"&B569,Haushaltsbuch2[Datum],\"<=\"&B570)","v":0},{"$f":"SUMIFS(Haushaltsbuch2[Einnahmen],Haushaltsbuch2[Kategorie],N$4,Haushaltsbuch2[Datum],\">\"&B569,Haushaltsbuch2[Datum],\"<=\"&B570)","v":0},{"$f":"SUMIFS(Haushaltsbuch2[Einnahmen],Haushaltsbuch2[Kategorie],O$4,Haushaltsbuch2[Datum],\">\"&B569,Haushaltsbuch2[Datum],\"<=\"&B570)","v":0},{"$f":"SUMIFS(Haushaltsbuch2[Einnahmen],Haushaltsbuch2[Kategorie],P$4,Haushaltsbuch2[Datum],\">\"&B569,Haushaltsbuch2[Datum],\"<=\"&B570)","v":0},{"$f":"SUMIFS(Haushaltsbuch2[Einnahmen],Haushaltsbuch2[Kategorie],Q$4,Haushaltsbuch2[Datum],\">\"&B569,Haushaltsbuch2[Datum],\"<=\"&B570)","v":0},{"$f":"SUMIFS(Haushaltsbuch2[Einnahmen],Haushaltsbuch2[Kategorie],R$4,Haushaltsbuch2[Datum],\">\"&B569,Haushaltsbuch2[Datum],\"<=\"&B570)","v":0},null,null,null,null,null,null,null,null,null,null,null,null,null,null,null,null,null,null,{"$f":"SUMIFS(Haushaltsbuch2[Ausgaben],Haushaltsbuch2[Kategorie],AK$4,Haushaltsbuch2[Datum],\">\"&B569,Haushaltsbuch2[Datum],\"<=\"&B570)","v":0},null,null,{"$f":"SUMIFS(Dividenden[Betrag in EUR],Dividenden[Datum],\">\"&B569,Dividenden[Datum],\"<=\"&B570)","v":0},{"$f":"SUMIFS(Optionen[G/V (Netto)],Optionen[Datum],\">\"&B569,Optionen[Datum],\"<=\"&B570)","v":0},null,0,0,null,0,0,null,{"$f":"SUMIFS(Haushaltsbuch2[Einnahmen],Haushaltsbuch2[Datum],\">\"&B569,Haushaltsbuch2[Datum],\"<=\"&B570)+AN570+AO570","v":0},null,0,null,{"$f":"SUMIFS(Haushaltsbuch2[Ausgaben],Haushaltsbuch2[Datum],\">\"&B569,Haushaltsbuch2[Datum],\"<=\"&B570)","v":0}]
[null,42855,null,null,null,null,null,null,null,null,null,null,{"$f":"SUMIFS(Haushaltsbuch2[Einnahmen],Haushaltsbuch2[Kategorie],M$4,Haushaltsbuch2[Datum],\">\"&B570,Haushaltsbuch2[Datum],\"<=\"&B571)","v":0},{"$f":"SUMIFS(Haushaltsbuch2[Einnahmen],Haushaltsbuch2[Kategorie],N$4,Haushaltsbuch2[Datum],\">\"&B570,Haushaltsbuch2[Datum],\"<=\"&B571)","v":0},{"$f":"SUMIFS(Haushaltsbuch2[Einnahmen],Haushaltsbuch2[Kategorie],O$4,Haushaltsbuch2[Datum],\">\"&B570,Haushaltsbuch2[Datum],\"<=\"&B571)","v":0},{"$f":"SUMIFS(Haushaltsbuch2[Einnahmen],Haushaltsbuch2[Kategorie],P$4,Haushaltsbuch2[Datum],\">\"&B570,Haushaltsbuch2[Datum],\"<=\"&B571)","v":0},{"$f":"SUMIFS(Haushaltsbuch2[Einnahmen],Haushaltsbuch2[Kategorie],Q$4,Haushaltsbuch2[Datum],\">\"&B570,Haushaltsbuch2[Datum],\"<=\"&B571)","v":0},{"$f":"SUMIFS(Haushaltsbuch2[Einnahmen],Haushaltsbuch2[Kategorie],R$4,Haushaltsbuch2[Datum],\">\"&B570,Haushaltsbuch2[Datum],\"<=\"&B571)","v":0},null,null,null,null,null,null,null,null,null,null,null,null,null,null,null,null,null,null,{"$f":"SUMIFS(Haushaltsbuch2[Ausgaben],Haushaltsbuch2[Kategorie],AK$4,Haushaltsbuch2[Datum],\">\"&B570,Haushaltsbuch2[Datum],\"<=\"&B571)","v":0},null,null,{"$f":"SUMIFS(Dividenden[Betrag in EUR],Dividenden[Datum],\">\"&B570,Dividenden[Datum],\"<=\"&B571)","v":0},{"$f":"SUMIFS(Optionen[G/V (Netto)],Optionen[Datum],\">\"&B570,Optionen[Datum],\"<=\"&B571)","v":0},null,0,0,null,0,0,null,{"$f":"SUMIFS(Haushaltsbuch2[Einnahmen],Haushaltsbuch2[Datum],\">\"&B570,Haushaltsbuch2[Datum],\"<=\"&B571)+AN571+AO571","v":0},null,0,null,{"$f":"SUMIFS(Haushaltsbuch2[Ausgaben],Haushaltsbuch2[Datum],\">\"&B570,Haushaltsbuch2[Datum],\"<=\"&B571)","v":0}]
[null,42886,null,null,null,null,null,null,null,null,null,null,{"$f":"SUMIFS(Haushaltsbuch2[Einnahmen],Haushaltsbuch2[Kategorie],M$4,Haushaltsbuch2[Datum],\">\"&B571,Haushaltsbuch2[Datum],\"<=\"&B572)","v":0},{"$f":"SUMIFS(Haushaltsbuch2[Einnahmen],Haushaltsbuch2[Kategorie],N$4,Haushaltsbuch2[Datum],\">\"&B571,Haushaltsbuch2[Datum],\"<=\"&B572)","v":0},{"$f":"SUMIFS(Haushaltsbuch2[Einnahmen],Haushaltsbuch2[Kategorie],O$4,Haushaltsbuch2[Datum],\">\"&B571,Haushaltsbuch2[Datum],\"<=\"&B572)","v":0},{"$f":"SUMIFS(Haushaltsbuch2[Einnahmen],Haushaltsbuch2[Kategorie],P$4,Haushaltsbuch2[Datum],\">\"&B571,Haushaltsbuch2[Datum],\"<=\"&B572)","v":0},{"$f":"SUMIFS(Haushaltsbuch2[Einnahmen],Haushaltsbuch2[Kategorie],Q$4,Haushaltsbuch2[Datum],\">\"&B571,Haushaltsbuch2[Datum],\"<=\"&B572)","v":0},{"$f":"SUMIFS(Haushaltsbuch2[Einnahmen],Haushaltsbuch2[Kategorie],R$4,Haushaltsbuch2[Datum],\">\"&B571,Haushaltsbuch2[Datum],\"<=\"&B572)","v":0},null,null,null,null,null,null,null,null,null,null,null,null,null,null,null,null,null,null,{"$f":"SUMIFS(Haushaltsbuch2[Ausgaben],Haushaltsbuch2[Kategorie],AK$4,Haushaltsbuch2[Datum],\">\"&B571,Haushaltsbuch2[Datum],\"<=\"&B572)","v":0},null,null,{"$f":"SUMIFS(Dividenden[Betrag in EUR],Dividenden[Datum],\">\"&B571,Dividenden[Datum],\"<=\"&B572)","v":0},{"$f":"SUMIFS(Optionen[G/V (Netto)],Optionen[Datum],\">\"&B571,Optionen[Datum],\"<=\"&B572)","v":0},null,0,0,null,0,0,null,{"$f":"SUMIFS(Haushaltsbuch2[Einnahmen],Haushaltsbuch2[Datum],\">\"&B571,Haushaltsbuch2[Datum],\"<=\"&B572)+AN572+AO572","v":0},null,0,null,{"$f":"SUMIFS(Haushaltsbuch2[Ausgaben],Haushaltsbuch2[Datum],\">\"&B571,Haushaltsbuch2[Datum],\"<=\"&B572)","v":0}]
[null,42916,null,null,null,null,null,null,null,null,null,null,{"$f":"SUMIFS(Haushaltsbuch2[Einnahmen],Haushaltsbuch2[Kategorie],M$4,Haushaltsbuch2[Datum],\">\"&B572,Haushaltsbuch2[Datum],\"<=\"&B573)","v":0},{"$f":"SUMIFS(Haushaltsbuch2[Einnahmen],Haushaltsbuch2[Kategorie],N$4,Haushaltsbuch2[Datum],\">\"&B572,Haushaltsbuch2[Datum],\"<=\"&B573)","v":0},{"$f":"SUMIFS(Haushaltsbuch2[Einnahmen],Haushaltsbuch2[Kategorie],O$4,Haushaltsbuch2[Datum],\">\"&B572,Haushaltsbuch2[Datum],\"<=\"&B573)","v":0},{"$f":"SUMIFS(Haushaltsbuch2[Einnahmen],Haushaltsbuch2[Kategorie],P$4,Haushaltsbuch2[Datum],\">\"&B572,Haushaltsbuch2[Datum],\"<=\"&B573)","v":0},{"$f":"SUMIFS(Haushaltsbuch2[Einnahmen],Haushaltsbuch2[Kategorie],Q$4,Haushaltsbuch2[Datum],\">\"&B572,Haushaltsbuch2[Datum],\"<=\"&B573)","v":0},{"$f":"SUMIFS(Haushaltsbuch2[Einnahmen],Haushaltsbuch2[Kategorie],R$4,Haushaltsbuch2[Datum],\">\"&B572,Haushaltsbuch2[Datum],\"<=\"&B573)","v":0},null,null,null,null,null,null,null,null,null,null,null,null,null,null,null,null,null,null,{"$f":"SUMIFS(Haushaltsbuch2[Ausgaben],Haushaltsbuch2[Kategorie],AK$4,Haushaltsbuch2[Datum],\">\"&B572,Haushaltsbuch2[Datum],\"<=\"&B573)","v":0},null,null,{"$f":"SUMIFS(Dividenden[Betrag in EUR],Dividenden[Datum],\">\"&B572,Dividenden[Datum],\"<=\"&B573)","v":0},{"$f":"SUMIFS(Optionen[G/V (Netto)],Optionen[Datum],\">\"&B572,Optionen[Datum],\"<=\"&B573)","v":0},null,0,0,null,0,0,null,{"$f":"SUMIFS(Haushaltsbuch2[Einnahmen],Haushaltsbuch2[Datum],\">\"&B572,Haushaltsbuch2[Datum],\"<=\"&B573)+AN573+AO573","v":0},null,0,null,{"$f":"SUMIFS(Haushaltsbuch2[Ausgaben],Haushaltsbuch2[Datum],\">\"&B572,Haushaltsbuch2[Datum],\"<=\"&B573)","v":0}]
[null,42947,null,null,null,null,null,null,null,null,null,null,{"$f":"SUMIFS(Haushaltsbuch2[Einnahmen],Haushaltsbuch2[Kategorie],M$4,Haushaltsbuch2[Datum],\">\"&B573,Haushaltsbuch2[Datum],\"<=\"&B574)","v":0},{"$f":"SUMIFS(Haushaltsbuch2[Einnahmen],Haushaltsbuch2[Kategorie],N$4,Haushaltsbuch2[Datum],\">\"&B573,Haushaltsbuch2[Datum],\"<=\"&B574)","v":0},{"$f":"SUMIFS(Haushaltsbuch2[Einnahmen],Haushaltsbuch2[Kategorie],O$4,Haushaltsbuch2[Datum],\">\"&B573,Haushaltsbuch2[Datum],\"<=\"&B574)","v":0},{"$f":"SUMIFS(Haushaltsbuch2[Einnahmen],Haushaltsbuch2[Kategorie],P$4,Haushaltsbuch2[Datum],\">\"&B573,Haushaltsbuch2[Datum],\"<=\"&B574)","v":0},{"$f":"SUMIFS(Haushaltsbuch2[Einnahmen],Haushaltsbuch2[Kategorie],Q$4,Haushaltsbuch2[Datum],\">\"&B573,Haushaltsbuch2[Datum],\"<=\"&B574)","v":0},{"$f":"SUMIFS(Haushaltsbuch2[Einnahmen],Haushaltsbuch2[Kategorie],R$4,Haushaltsbuch2[Datum],\">\"&B573,Haushaltsbuch2[Datum],\"<=\"&B574)","v":0},null,null,null,null,null,null,null,null,null,null,null,null,null,null,null,null,null,null,{"$f":"SUMIFS(Haushaltsbuch2[Ausgaben],Haushaltsbuch2[Kategorie],AK$4,Haushaltsbuch2[Datum],\">\"&B573,Haushaltsbuch2[Datum],\"<=\"&B574)","v":0},null,null,{"$f":"SUMIFS(Dividenden[Betrag in EUR],Dividenden[Datum],\">\"&B573,Dividenden[Datum],\"<=\"&B574)","v":0},{"$f":"SUMIFS(Optionen[G/V (Netto)],Optionen[Datum],\">\"&B573,Optionen[Datum],\"<=\"&B574)","v":0},null,0,0,null,0,0,null,{"$f":"SUMIFS(Haushaltsbuch2[Einnahmen],Haushaltsbuch2[Datum],\">\"&B573,Haushaltsbuch2[Datum],\"<=\"&B574)+AN574+AO574","v":0},null,0,null,{"$f":"SUMIFS(Haushaltsbuch2[Ausgaben],Haushaltsbuch2[Datum],\">\"&B573,Haushaltsbuch2[Datum],\"<=\"&B574)","v":0}]
[null,42978,null,null,null,null,null,null,null,null,null,null,{"$f":"SUMIFS(Haushaltsbuch2[Einnahmen],Haushaltsbuch2[Kategorie],M$4,Haushaltsbuch2[Datum],\">\"&B574,Haushaltsbuch2[Datum],\"<=\"&B575)","v":0},{"$f":"SUMIFS(Haushaltsbuch2[Einnahmen],Haushaltsbuch2[Kategorie],N$4,Haushaltsbuch2[Datum],\">\"&B574,Haushaltsbuch2[Datum],\"<=\"&B575)","v":0},{"$f":"SUMIFS(Haushaltsbuch2[Einnahmen],Haushaltsbuch2[Kategorie],O$4,Haushaltsbuch2[Datum],\">\"&B574,Haushaltsbuch2[Datum],\"<=\"&B575)","v":0},{"$f":"SUMIFS(Haushaltsbuch2[Einnahmen],Haushaltsbuch2[Kategorie],P$4,Haushaltsbuch2[Datum],\">\"&B574,Haushaltsbuch2[Datum],\"<=\"&B575)","v":0},{"$f":"SUMIFS(Haushaltsbuch2[Einnahmen],Haushaltsbuch2[Kategorie],Q$4,Haushaltsbuch2[Datum],\">\"&B574,Haushaltsbuch2[Datum],\"<=\"&B575)","v":0},{"$f":"SUMIFS(Haushaltsbuch2[Einnahmen],Haushaltsbuch2[Kategorie],R$4,Haushaltsbuch2[Datum],\">\"&B574,Haushaltsbuch2[Datum],\"<=\"&B575)","v":0},null,null,null,null,null,null,null,null,null,null,null,null,null,null,null,null,null,null,{"$f":"SUMIFS(Haushaltsbuch2[Ausgaben],Haushaltsbuch2[Kategorie],AK$4,Haushaltsbuch2[Datum],\">\"&B574,Haushaltsbuch2[Datum],\"<=\"&B575)","v":0},null,null,{"$f":"SUMIFS(Dividenden[Betrag in EUR],Dividenden[Datum],\">\"&B574,Dividenden[Datum],\"<=\"&B575)","v":0},{"$f":"SUMIFS(Optionen[G/V (Netto)],Optionen[Datum],\">\"&B574,Optionen[Datum],\"<=\"&B575)","v":0},null,0,0,null,0,0,null,{"$f":"SUMIFS(Haushaltsbuch2[Einnahmen],Haushaltsbuch2[Datum],\">\"&B574,Haushaltsbuch2[Datum],\"<=\"&B575)+AN575+AO575","v":0},null,0,null,{"$f":"SUMIFS(Haushaltsbuch2[Ausgaben],Haushaltsbuch2[Datum],\">\"&B574,Haushaltsbuch2[Datum],\"<=\"&B575)","v":0}]
[null,43008,null,null,null,null,null,null,null,null,null,null,{"$f":"SUMIFS(Haushaltsbuch2[Einnahmen],Haushaltsbuch2[Kategorie],M$4,Haushaltsbuch2[Datum],\">\"&B575,Haushaltsbuch2[Datum],\"<=\"&B576)","v":0},{"$f":"SUMIFS(Haushaltsbuch2[Einnahmen],Haushaltsbuch2[Kategorie],N$4,Haushaltsbuch2[Datum],\">\"&B575,Haushaltsbuch2[Datum],\"<=\"&B576)","v":0},{"$f":"SUMIFS(Haushaltsbuch2[Einnahmen],Haushaltsbuch2[Kategorie],O$4,Haushaltsbuch2[Datum],\">\"&B575,Haushaltsbuch2[Datum],\"<=\"&B576)","v":0},{"$f":"SUMIFS(Haushaltsbuch2[Einnahmen],Haushaltsbuch2[Kategorie],P$4,Haushaltsbuch2[Datum],\">\"&B575,Haushaltsbuch2[Datum],\"<=\"&B576)","v":0},{"$f":"SUMIFS(Haushaltsbuch2[Einnahmen],Haushaltsbuch2[Kategorie],Q$4,Haushaltsbuch2[Datum],\">\"&B575,Haushaltsbuch2[Datum],\"<=\"&B576)","v":0},{"$f":"SUMIFS(Haushaltsbuch2[Einnahmen],Haushaltsbuch2[Kategorie],R$4,Haushaltsbuch2[Datum],\">\"&B575,Haushaltsbuch2[Datum],\"<=\"&B576)","v":0},null,null,null,null,null,null,null,null,null,null,null,null,null,null,null,null,null,null,{"$f":"SUMIFS(Haushaltsbuch2[Ausgaben],Haushaltsbuch2[Kategorie],AK$4,Haushaltsbuch2[Datum],\">\"&B575,Haushaltsbuch2[Datum],\"<=\"&B576)","v":0},null,null,{"$f":"SUMIFS(Dividenden[Betrag in EUR],Dividenden[Datum],\">\"&B575,Dividenden[Datum],\"<=\"&B576)","v":0},{"$f":"SUMIFS(Optionen[G/V (Netto)],Optionen[Datum],\">\"&B575,Optionen[Datum],\"<=\"&B576)","v":0},null,0,0,null,0,0,null,{"$f":"SUMIFS(Haushaltsbuch2[Einnahmen],Haushaltsbuch2[Datum],\">\"&B575,Haushaltsbuch2[Datum],\"<=\"&B576)+AN576+AO576","v":0},null,0,null,{"$f":"SUMIFS(Haushaltsbuch2[Ausgaben],Haushaltsbuch2[Datum],\">\"&B575,Haushaltsbuch2[Datum],\"<=\"&B576)","v":0}]
[null,43039,null,null,null,null,null,null,null,null,null,null,{"$f":"SUMIFS(Haushaltsbuch2[Einnahmen],Haushaltsbuch2[Kategorie],M$4,Haushaltsbuch2[Datum],\">\"&B576,Haushaltsbuch2[Datum],\"<=\"&B577)","v":0},{"$f":"SUMIFS(Haushaltsbuch2[Einnahmen],Haushaltsbuch2[Kategorie],N$4,Haushaltsbuch2[Datum],\">\"&B576,Haushaltsbuch2[Datum],\"<=\"&B577)","v":0},{"$f":"SUMIFS(Haushaltsbuch2[Einnahmen],Haushaltsbuch2[Kategorie],O$4,Haushaltsbuch2[Datum],\">\"&B576,Haushaltsbuch2[Datum],\"<=\"&B577)","v":0},{"$f":"SUMIFS(Haushaltsbuch2[Einnahmen],Haushaltsbuch2[Kategorie],P$4,Haushaltsbuch2[Datum],\">\"&B576,Haushaltsbuch2[Datum],\"<=\"&B577)","v":0},{"$f":"SUMIFS(Haushaltsbuch2[Einnahmen],Haushaltsbuch2[Kategorie],Q$4,Haushaltsbuch2[Datum],\">\"&B576,Haushaltsbuch2[Datum],\"<=\"&B577)","v":0},{"$f":"SUMIFS(Haushaltsbuch2[Einnahmen],Haushaltsbuch2[Kategorie],R$4,Haushaltsbuch2[Datum],\">\"&B576,Haushaltsbuch2[Datum],\"<=\"&B577)","v":0},null,null,null,null,null,null,null,null,null,null,null,null,null,null,null,null,null,null,{"$f":"SUMIFS(Haushaltsbuch2[Ausgaben],Haushaltsbuch2[Kategorie],AK$4,Haushaltsbuch2[Datum],\">\"&B576,Haushaltsbuch2[Datum],\"<=\"&B577)","v":0},null,null,{"$f":"SUMIFS(Dividenden[Betrag in EUR],Dividenden[Datum],\">\"&B576,Dividenden[Datum],\"<=\"&B577)","v":0},{"$f":"SUMIFS(Optionen[G/V (Netto)],Optionen[Datum],\">\"&B576,Optionen[Datum],\"<=\"&B577)","v":0},null,0,0,null,0,0,null,{"$f":"SUMIFS(Haushaltsbuch2[Einnahmen],Haushaltsbuch2[Datum],\">\"&B576,Haushaltsbuch2[Datum],\"<=\"&B577)+AN577+AO577","v":0},null,0,null,{"$f":"SUMIFS(Haushaltsbuch2[Ausgaben],Haushaltsbuch2[Datum],\">\"&B576,Haushaltsbuch2[Datum],\"<=\"&B577)","v":0}]
[null,43069,null,null,null,null,null,null,null,null,null,null,{"$f":"SUMIFS(Haushaltsbuch2[Einnahmen],Haushaltsbuch2[Kategorie],M$4,Haushaltsbuch2[Datum],\">\"&B577,Haushaltsbuch2[Datum],\"<=\"&B578)","v":0},{"$f":"SUMIFS(Haushaltsbuch2[Einnahmen],Haushaltsbuch2[Kategorie],N$4,Haushaltsbuch2[Datum],\">\"&B577,Haushaltsbuch2[Datum],\"<=\"&B578)","v":0},{"$f":"SUMIFS(Haushaltsbuch2[Einnahmen],Haushaltsbuch2[Kategorie],O$4,Haushaltsbuch2[Datum],\">\"&B577,Haushaltsbuch2[Datum],\"<=\"&B578)","v":0},{"$f":"SUMIFS(Haushaltsbuch2[Einnahmen],Haushaltsbuch2[Kategorie],P$4,Haushaltsbuch2[Datum],\">\"&B577,Haushaltsbuch2[Datum],\"<=\"&B578)","v":0},{"$f":"SUMIFS(Haushaltsbuch2[Einnahmen],Haushaltsbuch2[Kategorie],Q$4,Haushaltsbuch2[Datum],\">\"&B577,Haushaltsbuch2[Datum],\"<=\"&B578)","v":0},{"$f":"SUMIFS(Haushaltsbuch2[Einnahmen],Haushaltsbuch2[Kategorie],R$4,Haushaltsbuch2[Datum],\">\"&B577,Haushaltsbuch2[Datum],\"<=\"&B578)","v":0},null,null,null,null,null,null,null,null,null,null,null,null,null,null,null,null,null,null,{"$f":"SUMIFS(Haushaltsbuch2[Ausgaben],Haushaltsbuch2[Kategorie],AK$4,Haushaltsbuch2[Datum],\">\"&B577,Haushaltsbuch2[Datum],\"<=\"&B578)","v":0},null,null,{"$f":"SUMIFS(Dividenden[Betrag in EUR],Dividenden[Datum],\">\"&B577,Dividenden[Datum],\"<=\"&B578)","v":0},{"$f":"SUMIFS(Optionen[G/V (Netto)],Optionen[Datum],\">\"&B577,Optionen[Datum],\"<=\"&B578)","v":0},null,0,0,null,0,0,null,{"$f":"SUMIFS(Haushaltsbuch2[Einnahmen],Haushaltsbuch2[Datum],\">\"&B577,Haushaltsbuch2[Datum],\"<=\"&B578)+AN578+AO578","v":0},null,0,null,{"$f":"SUMIFS(Haushaltsbuch2[Ausgaben],Haushaltsbuch2[Datum],\">\"&B577,Haushaltsbuch2[Datum],\"<=\"&B578)","v":0}]
[null,43100,null,null,null,null,null,null,null,null,null,null,{"$f":"SUMIFS(Haushaltsbuch2[Einnahmen],Haushaltsbuch2[Kategorie],M$4,Haushaltsbuch2[Datum],\">\"&B578,Haushaltsbuch2[Datum],\"<=\"&B579)","v":0},{"$f":"SUMIFS(Haushaltsbuch2[Einnahmen],Haushaltsbuch2[Kategorie],N$4,Haushaltsbuch2[Datum],\">\"&B578,Haushaltsbuch2[Datum],\"<=\"&B579)","v":0},{"$f":"SUMIFS(Haushaltsbuch2[Einnahmen],Haushaltsbuch2[Kategorie],O$4,Haushaltsbuch2[Datum],\">\"&B578,Haushaltsbuch2[Datum],\"<=\"&B579)","v":0},{"$f":"SUMIFS(Haushaltsbuch2[Einnahmen],Haushaltsbuch2[Kategorie],P$4,Haushaltsbuch2[Datum],\">\"&B578,Haushaltsbuch2[Datum],\"<=\"&B579)","v":0},{"$f":"SUMIFS(Haushaltsbuch2[Einnahmen],Haushaltsbuch2[Kategorie],Q$4,Haushaltsbuch2[Datum],\">\"&B578,Haushaltsbuch2[Datum],\"<=\"&B579)","v":0},{"$f":"SUMIFS(Haushaltsbuch2[Einnahmen],Haushaltsbuch2[Kategorie],R$4,Haushaltsbuch2[Datum],\">\"&B578,Haushaltsbuch2[Datum],\"<=\"&B579)","v":0},null,null,null,null,null,null,null,null,null,null,null,null,null,null,null,null,null,null,{"$f":"SUMIFS(Haushaltsbuch2[Ausgaben],Haushaltsbuch2[Kategorie],AK$4,Haushaltsbuch2[Datum],\">\"&B578,Haushaltsbuch2[Datum],\"<=\"&B579)","v":0},null,null,{"$f":"SUMIFS(Dividenden[Betrag in EUR],Dividenden[Datum],\">\"&B578,Dividenden[Datum],\"<=\"&B579)","v":0},{"$f":"SUMIFS(Optionen[G/V (Netto)],Optionen[Datum],\">\"&B578,Optionen[Datum],\"<=\"&B579)","v":0},null,0,0,null,0,0,null,{"$f":"SUMIFS(Haushaltsbuch2[Einnahmen],Haushaltsbuch2[Datum],\">\"&B578,Haushaltsbuch2[Datum],\"<=\"&B579)+AN579+AO579","v":0},null,0,null,{"$f":"SUMIFS(Haushaltsbuch2[Ausgaben],Haushaltsbuch2[Datum],\">\"&B578,Haushaltsbuch2[Datum],\"<=\"&B579)","v":0}]
[null,43131,null,null,null,null,null,null,null,null,null,null,{"$f":"SUMIFS(Haushaltsbuch2[Einnahmen],Haushaltsbuch2[Kategorie],M$4,Haushaltsbuch2[Datum],\">\"&B579,Haushaltsbuch2[Datum],\"<=\"&B580)","v":0},{"$f":"SUMIFS(Haushaltsbuch2[Einnahmen],Haushaltsbuch2[Kategorie],N$4,Haushaltsbuch2[Datum],\">\"&B579,Haushaltsbuch2[Datum],\"<=\"&B580)","v":0},{"$f":"SUMIFS(Haushaltsbuch2[Einnahmen],Haushaltsbuch2[Kategorie],O$4,Haushaltsbuch2[Datum],\">\"&B579,Haushaltsbuch2[Datum],\"<=\"&B580)","v":0},{"$f":"SUMIFS(Haushaltsbuch2[Einnahmen],Haushaltsbuch2[Kategorie],P$4,Haushaltsbuch2[Datum],\">\"&B579,Haushaltsbuch2[Datum],\"<=\"&B580)","v":0},{"$f":"SUMIFS(Haushaltsbuch2[Einnahmen],Haushaltsbuch2[Kategorie],Q$4,Haushaltsbuch2[Datum],\">\"&B579,Haushaltsbuch2[Datum],\"<=\"&B580)","v":0},{"$f":"SUMIFS(Haushaltsbuch2[Einnahmen],Haushaltsbuch2[Kategorie],R$4,Haushaltsbuch2[Datum],\">\"&B579,Haushaltsbuch2[Datum],\"<=\"&B580)","v":0},null,null,null,null,null,null,null,null,null,null,null,null,null,null,null,null,null,null,{"$f":"SUMIFS(Haushaltsbuch2[Ausgaben],Haushaltsbuch2[Kategorie],AK$4,Haushaltsbuch2[Datum],\">\"&B579,Haushaltsbuch2[Datum],\"<=\"&B580)","v":0},null,null,{"$f":"SUMIFS(Dividenden[Betrag in EUR],Dividenden[Datum],\">\"&B579,Dividenden[Datum],\"<=\"&B580)","v":0},{"$f":"SUMIFS(Optionen[G/V (Netto)],Optionen[Datum],\">\"&B579,Optionen[Datum],\"<=\"&B580)","v":0},null,0,0,null,0,0,null,{"$f":"SUMIFS(Haushaltsbuch2[Einnahmen],Haushaltsbuch2[Datum],\">\"&B579,Haushaltsbuch2[Datum],\"<=\"&B580)+AN580+AO580","v":0},null,0,null,{"$f":"SUMIFS(Haushaltsbuch2[Ausgaben],Haushaltsbuch2[Datum],\">\"&B579,Haushaltsbuch2[Datum],\"<=\"&B580)","v":0}]
[null,43159,null,null,null,null,null,null,null,null,null,null,{"$f":"SUMIFS(Haushaltsbuch2[Einnahmen],Haushaltsbuch2[Kategorie],M$4,Haushaltsbuch2[Datum],\">\"&B580,Haushaltsbuch2[Datum],\"<=\"&B581)","v":0},{"$f":"SUMIFS(Haushaltsbuch2[Einnahmen],Haushaltsbuch2[Kategorie],N$4,Haushaltsbuch2[Datum],\">\"&B580,Haushaltsbuch2[Datum],\"<=\"&B581)","v":0},{"$f":"SUMIFS(Haushaltsbuch2[Einnahmen],Haushaltsbuch2[Kategorie],O$4,Haushaltsbuch2[Datum],\">\"&B580,Haushaltsbuch2[Datum],\"<=\"&B581)","v":0},{"$f":"SUMIFS(Haushaltsbuch2[Einnahmen],Haushaltsbuch2[Kategorie],P$4,Haushaltsbuch2[Datum],\">\"&B580,Haushaltsbuch2[Datum],\"<=\"&B581)","v":0},{"$f":"SUMIFS(Haushaltsbuch2[Einnahmen],Haushaltsbuch2[Kategorie],Q$4,Haushaltsbuch2[Datum],\">\"&B580,Haushaltsbuch2[Datum],\"<=\"&B581)","v":0},{"$f":"SUMIFS(Haushaltsbuch2[Einnahmen],Haushaltsbuch2[Kategorie],R$4,Haushaltsbuch2[Datum],\">\"&B580,Haushaltsbuch2[Datum],\"<=\"&B581)","v":0},null,null,null,null,null,null,null,null,null,null,null,null,null,null,null,null,null,null,{"$f":"SUMIFS(Haushaltsbuch2[Ausgaben],Haushaltsbuch2[Kategorie],AK$4,Haushaltsbuch2[Datum],\">\"&B580,Haushaltsbuch2[Datum],\"<=\"&B581)","v":0},null,null,{"$f":"SUMIFS(Dividenden[Betrag in EUR],Dividenden[Datum],\">\"&B580,Dividenden[Datum],\"<=\"&B581)","v":0},{"$f":"SUMIFS(Optionen[G/V (Netto)],Optionen[Datum],\">\"&B580,Optionen[Datum],\"<=\"&B581)","v":0},null,0,0,null,0,0,null,{"$f":"SUMIFS(Haushaltsbuch2[Einnahmen],Haushaltsbuch2[Datum],\">\"&B580,Haushaltsbuch2[Datum],\"<=\"&B581)+AN581+AO581","v":0},null,0,null,{"$f":"SUMIFS(Haushaltsbuch2[Ausgaben],Haushaltsbuch2[Datum],\">\"&B580,Haushaltsbuch2[Datum],\"<=\"&B581)","v":0}]
[null,43190,null,null,null,null,null,null,null,null,null,null,{"$f":"SUMIFS(Haushaltsbuch2[Einnahmen],Haushaltsbuch2[Kategorie],M$4,Haushaltsbuch2[Datum],\">\"&B581,Haushaltsbuch2[Datum],\"<=\"&B582)","v":0},{"$f":"SUMIFS(Haushaltsbuch2[Einnahmen],Haushaltsbuch2[Kategorie],N$4,Haushaltsbuch2[Datum],\">\"&B581,Haushaltsbuch2[Datum],\"<=\"&B582)","v":0},{"$f":"SUMIFS(Haushaltsbuch2[Einnahmen],Haushaltsbuch2[Kategorie],O$4,Haushaltsbuch2[Datum],\">\"&B581,Haushaltsbuch2[Datum],\"<=\"&B582)","v":0},{"$f":"SUMIFS(Haushaltsbuch2[Einnahmen],Haushaltsbuch2[Kategorie],P$4,Haushaltsbuch2[Datum],\">\"&B581,Haushaltsbuch2[Datum],\"<=\"&B582)","v":0},{"$f":"SUMIFS(Haushaltsbuch2[Einnahmen],Haushaltsbuch2[Kategorie],Q$4,Haushaltsbuch2[Datum],\">\"&B581,Haushaltsbuch2[Datum],\"<=\"&B582)","v":0},{"$f":"SUMIFS(Haushaltsbuch2[Einnahmen],Haushaltsbuch2[Kategorie],R$4,Haushaltsbuch2[Datum],\">\"&B581,Haushaltsbuch2[Datum],\"<=\"&B582)","v":0},null,null,null,null,null,null,null,null,null,null,null,null,null,null,null,null,null,null,{"$f":"SUMIFS(Haushaltsbuch2[Ausgaben],Haushaltsbuch2[Kategorie],AK$4,Haushaltsbuch2[Datum],\">\"&B581,Haushaltsbuch2[Datum],\"<=\"&B582)","v":0},null,null,{"$f":"SUMIFS(Dividenden[Betrag in EUR],Dividenden[Datum],\">\"&B581,Dividenden[Datum],\"<=\"&B582)","v":0},{"$f":"SUMIFS(Optionen[G/V (Netto)],Optionen[Datum],\">\"&B581,Optionen[Datum],\"<=\"&B582)","v":0},null,{"$f":"N582+AN582","v":0},{"$f":"O582+AO582","v":0},null,{"$f":"M582+SUM(P582:R582)+SUM(AQ582:AR582)","v":0},0,null,{"$f":"SUMIFS(Haushaltsbuch2[Einnahmen],Haushaltsbuch2[Datum],\">\"&B581,Haushaltsbuch2[Datum],\"<=\"&B582)+AN582+AO582","v":0},null,0,null,{"$f":"SUMIFS(Haushaltsbuch2[Ausgaben],Haushaltsbuch2[Datum],\">\"&B581,Haushaltsbuch2[Datum],\"<=\"&B582)","v":0}]
[null,{"$f":"EOMONTH(B582,1)","v":43220},null,null,null,null,null,null,null,null,null,null,{"$f":"SUMIFS(Haushaltsbuch2[Einnahmen],Haushaltsbuch2[Kategorie],M$4,Haushaltsbuch2[Datum],\">\"&B582,Haushaltsbuch2[Datum],\"<=\"&B583)","v":0},{"$f":"SUMIFS(Haushaltsbuch2[Einnahmen],Haushaltsbuch2[Kategorie],N$4,Haushaltsbuch2[Datum],\">\"&B582,Haushaltsbuch2[Datum],\"<=\"&B583)","v":0},{"$f":"SUMIFS(Haushaltsbuch2[Einnahmen],Haushaltsbuch2[Kategorie],O$4,Haushaltsbuch2[Datum],\">\"&B582,Haushaltsbuch2[Datum],\"<=\"&B583)","v":0},{"$f":"SUMIFS(Haushaltsbuch2[Einnahmen],Haushaltsbuch2[Kategorie],P$4,Haushaltsbuch2[Datum],\">\"&B582,Haushaltsbuch2[Datum],\"<=\"&B583)","v":0},{"$f":"SUMIFS(Haushaltsbuch2[Einnahmen],Haushaltsbuch2[Kategorie],Q$4,Haushaltsbuch2[Datum],\">\"&B582,Haushaltsbuch2[Datum],\"<=\"&B583)","v":0},{"$f":"SUMIFS(Haushaltsbuch2[Einnahmen],Haushaltsbuch2[Kategorie],R$4,Haushaltsbuch2[Datum],\">\"&B582,Haushaltsbuch2[Datum],\"<=\"&B583)","v":0},null,null,null,null,null,null,null,null,null,null,null,null,null,null,null,null,null,null,{"$f":"SUMIFS(Haushaltsbuch2[Ausgaben],Haushaltsbuch2[Kategorie],AK$4,Haushaltsbuch2[Datum],\">\"&B582,Haushaltsbuch2[Datum],\"<=\"&B583)","v":0},null,null,{"$f":"SUMIFS(Dividenden[Betrag in EUR],Dividenden[Datum],\">\"&B582,Dividenden[Datum],\"<=\"&B583)","v":0},{"$f":"SUMIFS(Optionen[G/V (Netto)],Optionen[Datum],\">\"&B582,Optionen[Datum],\"<=\"&B583)","v":0},null,0,0,null,0,0,null,{"$f":"SUMIFS(Haushaltsbuch2[Einnahmen],Haushaltsbuch2[Datum],\">\"&B582,Haushaltsbuch2[Datum],\"<=\"&B583)+AN583+AO583","v":0},null,0,null,{"$f":"SUMIFS(Haushaltsbuch2[Ausgaben],Haushaltsbuch2[Datum],\">\"&B582,Haushaltsbuch2[Datum],\"<=\"&B583)","v":0}]
[null,43251,null,null,null,null,null,null,null,null,null,null,{"$f":"SUMIFS(Haushaltsbuch2[Einnahmen],Haushaltsbuch2[Kategorie],M$4,Haushaltsbuch2[Datum],\">\"&B583,Haushaltsbuch2[Datum],\"<=\"&B584)","v":0},{"$f":"SUMIFS(Haushaltsbuch2[Einnahmen],Haushaltsbuch2[Kategorie],N$4,Haushaltsbuch2[Datum],\">\"&B583,Haushaltsbuch2[Datum],\"<=\"&B584)","v":0},{"$f":"SUMIFS(Haushaltsbuch2[Einnahmen],Haushaltsbuch2[Kategorie],O$4,Haushaltsbuch2[Datum],\">\"&B583,Haushaltsbuch2[Datum],\"<=\"&B584)","v":0},{"$f":"SUMIFS(Haushaltsbuch2[Einnahmen],Haushaltsbuch2[Kategorie],P$4,Haushaltsbuch2[Datum],\">\"&B583,Haushaltsbuch2[Datum],\"<=\"&B584)","v":0},{"$f":"SUMIFS(Haushaltsbuch2[Einnahmen],Haushaltsbuch2[Kategorie],Q$4,Haushaltsbuch2[Datum],\">\"&B583,Haushaltsbuch2[Datum],\"<=\"&B584)","v":0},{"$f":"SUMIFS(Haushaltsbuch2[Einnahmen],Haushaltsbuch2[Kategorie],R$4,Haushaltsbuch2[Datum],\">\"&B583,Haushaltsbuch2[Datum],\"<=\"&B584)","v":0},null,null,null,null,null,null,null,null,null,null,null,null,null,null,null,null,null,null,{"$f":"SUMIFS(Haushaltsbuch2[Ausgaben],Haushaltsbuch2[Kategorie],AK$4,Haushaltsbuch2[Datum],\">\"&B583,Haushaltsbuch2[Datum],\"<=\"&B584)","v":0},null,null,{"$f":"SUMIFS(Dividenden[Betrag in EUR],Dividenden[Datum],\">\"&B583,Dividenden[Datum],\"<=\"&B584)","v":0},{"$f":"SUMIFS(Optionen[G/V (Netto)],Optionen[Datum],\">\"&B583,Optionen[Datum],\"<=\"&B584)","v":0},null,0,0,null,0,0,null,{"$f":"SUMIFS(Haushaltsbuch2[Einnahmen],Haushaltsbuch2[Datum],\">\"&B583,Haushaltsbuch2[Datum],\"<=\"&B584)+AN584+AO584","v":0},null,0,null,{"$f":"SUMIFS(Haushaltsbuch2[Ausgaben],Haushaltsbuch2[Datum],\">\"&B583,Haushaltsbuch2[Datum],\"<=\"&B584)","v":0}]
[null,43281,null,null,null,null,null,null,null,null,null,null,{"$f":"SUMIFS(Haushaltsbuch2[Einnahmen],Haushaltsbuch2[Kategorie],M$4,Haushaltsbuch2[Datum],\">\"&B584,Haushaltsbuch2[Datum],\"<=\"&B585)","v":0},{"$f":"SUMIFS(Haushaltsbuch2[Einnahmen],Haushaltsbuch2[Kategorie],N$4,Haushaltsbuch2[Datum],\">\"&B584,Haushaltsbuch2[Datum],\"<=\"&B585)","v":0},{"$f":"SUMIFS(Haushaltsbuch2[Einnahmen],Haushaltsbuch2[Kategorie],O$4,Haushaltsbuch2[Datum],\">\"&B584,Haushaltsbuch2[Datum],\"<=\"&B585)","v":0},{"$f":"SUMIFS(Haushaltsbuch2[Einnahmen],Haushaltsbuch2[Kategorie],P$4,Haushaltsbuch2[Datum],\">\"&B584,Haushaltsbuch2[Datum],\"<=\"&B585)","v":0},{"$f":"SUMIFS(Haushaltsbuch2[Einnahmen],Haushaltsbuch2[Kategorie],Q$4,Haushaltsbuch2[Datum],\">\"&B584,Haushaltsbuch2[Datum],\"<=\"&B585)","v":0},{"$f":"SUMIFS(Haushaltsbuch2[Einnahmen],Haushaltsbuch2[Kategorie],R$4,Haushaltsbuch2[Datum],\">\"&B584,Haushaltsbuch2[Datum],\"<=\"&B585)","v":0},null,null,null,null,null,null,null,null,null,null,null,null,null,null,null,null,null,null,{"$f":"SUMIFS(Haushaltsbuch2[Ausgaben],Haushaltsbuch2[Kategorie],AK$4,Haushaltsbuch2[Datum],\">\"&B584,Haushaltsbuch2[Datum],\"<=\"&B585)","v":0},null,null,{"$f":"SUMIFS(Dividenden[Betrag in EUR],Dividenden[Datum],\">\"&B584,Dividenden[Datum],\"<=\"&B585)","v":0},{"$f":"SUMIFS(Optionen[G/V (Netto)],Optionen[Datum],\">\"&B584,Optionen[Datum],\"<=\"&B585)","v":0},null,0,0,null,0,0,null,{"$f":"SUMIFS(Haushaltsbuch2[Einnahmen],Haushaltsbuch2[Datum],\">\"&B584,Haushaltsbuch2[Datum],\"<=\"&B585)+AN585+AO585","v":0},null,0,null,{"$f":"SUMIFS(Haushaltsbuch2[Ausgaben],Haushaltsbuch2[Datum],\">\"&B584,Haushaltsbuch2[Datum],\"<=\"&B585)","v":0}]
[null,43312,null,null,null,null,null,null,null,null,null,null,{"$f":"SUMIFS(Haushaltsbuch2[Einnahmen],Haushaltsbuch2[Kategorie],M$4,Haushaltsbuch2[Datum],\">\"&B585,Haushaltsbuch2[Datum],\"<=\"&B586)","v":0},{"$f":"SUMIFS(Haushaltsbuch2[Einnahmen],Haushaltsbuch2[Kategorie],N$4,Haushaltsbuch2[Datum],\">\"&B585,Haushaltsbuch2[Datum],\"<=\"&B586)","v":0},{"$f":"SUMIFS(Haushaltsbuch2[Einnahmen],Haushaltsbuch2[Kategorie],O$4,Haushaltsbuch2[Datum],\">\"&B585,Haushaltsbuch2[Datum],\"<=\"&B586)","v":0},{"$f":"SUMIFS(Haushaltsbuch2[Einnahmen],Haushaltsbuch2[Kategorie],P$4,Haushaltsbuch2[Datum],\">\"&B585,Haushaltsbuch2[Datum],\"<=\"&B586)","v":0},{"$f":"SUMIFS(Haushaltsbuch2[Einnahmen],Haushaltsbuch2[Kategorie],Q$4,Haushaltsbuch2[Datum],\">\"&B585,Haushaltsbuch2[Datum],\"<=\"&B586)","v":0},{"$f":"SUMIFS(Haushaltsbuch2[Einnahmen],Haushaltsbuch2[Kategorie],R$4,Haushaltsbuch2[Datum],\">\"&B585,Haushaltsbuch2[Datum],\"<=\"&B586)","v":0},null,null,null,null,null,null,null,null,null,null,null,null,null,null,null,null,null,null,{"$f":"SUMIFS(Haushaltsbuch2[Ausgaben],Haushaltsbuch2[Kategorie],AK$4,Haushaltsbuch2[Datum],\">\"&B585,Haushaltsbuch2[Datum],\"<=\"&B586)","v":0},null,null,{"$f":"SUMIFS(Dividenden[Betrag in EUR],Dividenden[Datum],\">\"&B585,Dividenden[Datum],\"<=\"&B586)","v":0},{"$f":"SUMIFS(Optionen[G/V (Netto)],Optionen[Datum],\">\"&B585,Optionen[Datum],\"<=\"&B586)","v":0},null,0,0,null,0,0,null,{"$f":"SUMIFS(Haushaltsbuch2[Einnahmen],Haushaltsbuch2[Datum],\">\"&B585,Haushaltsbuch2[Datum],\"<=\"&B586)+AN586+AO586","v":0},null,0,null,{"$f":"SUMIFS(Haushaltsbuch2[Ausgaben],Haushaltsbuch2[Datum],\">\"&B585,Haushaltsbuch2[Datum],\"<=\"&B586)","v":0}]
[null,43343,null,null,null,null,null,null,null,null,null,null,{"$f":"SUMIFS(Haushaltsbuch2[Einnahmen],Haushaltsbuch2[Kategorie],M$4,Haushaltsbuch2[Datum],\">\"&B586,Haushaltsbuch2[Datum],\"<=\"&B587)","v":0},{"$f":"SUMIFS(Haushaltsbuch2[Einnahmen],Haushaltsbuch2[Kategorie],N$4,Haushaltsbuch2[Datum],\">\"&B586,Haushaltsbuch2[Datum],\"<=\"&B587)","v":0},{"$f":"SUMIFS(Haushaltsbuch2[Einnahmen],Haushaltsbuch2[Kategorie],O$4,Haushaltsbuch2[Datum],\">\"&B586,Haushaltsbuch2[Datum],\"<=\"&B587)","v":0},{"$f":"SUMIFS(Haushaltsbuch2[Einnahmen],Haushaltsbuch2[Kategorie],P$4,Haushaltsbuch2[Datum],\">\"&B586,Haushaltsbuch2[Datum],\"<=\"&B587)","v":0},{"$f":"SUMIFS(Haushaltsbuch2[Einnahmen],Haushaltsbuch2[Kategorie],Q$4,Haushaltsbuch2[Datum],\">\"&B586,Haushaltsbuch2[Datum],\"<=\"&B587)","v":0},{"$f":"SUMIFS(Haushaltsbuch2[Einnahmen],Haushaltsbuch2[Kategorie],R$4,Haushaltsbuch2[Datum],\">\"&B586,Haushaltsbuch2[Datum],\"<=\"&B587)","v":0},null,null,null,null,null,null,null,null,null,null,null,null,null,null,null,null,null,null,{"$f":"SUMIFS(Haushaltsbuch2[Ausgaben],Haushaltsbuch2[Kategorie],AK$4,Haushaltsbuch2[Datum],\">\"&B586,Haushaltsbuch2[Datum],\"<=\"&B587)","v":0},null,null,{"$f":"SUMIFS(Dividenden[Betrag in EUR],Dividenden[Datum],\">\"&B586,Dividenden[Datum],\"<=\"&B587)","v":0},{"$f":"SUMIFS(Optionen[G/V (Netto)],Optionen[Datum],\">\"&B586,Optionen[Datum],\"<=\"&B587)","v":0},null,0,0,null,0,0,null,{"$f":"SUMIFS(Haushaltsbuch2[Einnahmen],Haushaltsbuch2[Datum],\">\"&B586,Haushaltsbuch2[Datum],\"<=\"&B587)+AN587+AO587","v":0},null,0,null,{"$f":"SUMIFS(Haushaltsbuch2[Ausgaben],Haushaltsbuch2[Datum],\">\"&B586,Haushaltsbuch2[Datum],\"<=\"&B587)","v":0}]
[null,43373,null,null,null,null,null,null,null,null,null,null,{"$f":"SUMIFS(Haushaltsbuch2[Einnahmen],Haushaltsbuch2[Kategorie],M$4,Haushaltsbuch2[Datum],\">\"&B587,Haushaltsbuch2[Datum],\"<=\"&B588)","v":0},{"$f":"SUMIFS(Haushaltsbuch2[Einnahmen],Haushaltsbuch2[Kategorie],N$4,Haushaltsbuch2[Datum],\">\"&B587,Haushaltsbuch2[Datum],\"<=\"&B588)","v":0},{"$f":"SUMIFS(Haushaltsbuch2[Einnahmen],Haushaltsbuch2[Kategorie],O$4,Haushaltsbuch2[Datum],\">\"&B587,Haushaltsbuch2[Datum],\"<=\"&B588)","v":0},{"$f":"SUMIFS(Haushaltsbuch2[Einnahmen],Haushaltsbuch2[Kategorie],P$4,Haushaltsbuch2[Datum],\">\"&B587,Haushaltsbuch2[Datum],\"<=\"&B588)","v":0},{"$f":"SUMIFS(Haushaltsbuch2[Einnahmen],Haushaltsbuch2[Kategorie],Q$4,Haushaltsbuch2[Datum],\">\"&B587,Haushaltsbuch2[Datum],\"<=\"&B588)","v":0},{"$f":"SUMIFS(Haushaltsbuch2[Einnahmen],Haushaltsbuch2[Kategorie],R$4,Haushaltsbuch2[Datum],\">\"&B587,Haushaltsbuch2[Datum],\"<=\"&B588)","v":0},null,null,null,null,null,null,null,null,null,null,null,null,null,null,null,null,null,null,{"$f":"SUMIFS(Haushaltsbuch2[Ausgaben],Haushaltsbuch2[Kategorie],AK$4,Haushaltsbuch2[Datum],\">\"&B587,Haushaltsbuch2[Datum],\"<=\"&B588)","v":0},null,null,{"$f":"SUMIFS(Dividenden[Betrag in EUR],Dividenden[Datum],\">\"&B587,Dividenden[Datum],\"<=\"&B588)","v":0},{"$f":"SUMIFS(Optionen[G/V (Netto)],Optionen[Datum],\">\"&B587,Optionen[Datum],\"<=\"&B588)","v":0},null,0,0,null,0,0,null,{"$f":"SUMIFS(Haushaltsbuch2[Einnahmen],Haushaltsbuch2[Datum],\">\"&B587,Haushaltsbuch2[Datum],\"<=\"&B588)+AN588+AO588","v":0},null,0,null,{"$f":"SUMIFS(Haushaltsbuch2[Ausgaben],Haushaltsbuch2[Datum],\">\"&B587,Haushaltsbuch2[Datum],\"<=\"&B588)","v":0}]
[null,43404,null,null,null,null,null,null,null,null,null,null,{"$f":"SUMIFS(Haushaltsbuch2[Einnahmen],Haushaltsbuch2[Kategorie],M$4,Haushaltsbuch2[Datum],\">\"&B588,Haushaltsbuch2[Datum],\"<=\"&B589)","v":0},{"$f":"SUMIFS(Haushaltsbuch2[Einnahmen],Haushaltsbuch2[Kategorie],N$4,Haushaltsbuch2[Datum],\">\"&B588,Haushaltsbuch2[Datum],\"<=\"&B589)","v":0},{"$f":"SUMIFS(Haushaltsbuch2[Einnahmen],Haushaltsbuch2[Kategorie],O$4,Haushaltsbuch2[Datum],\">\"&B588,Haushaltsbuch2[Datum],\"<=\"&B589)","v":0},{"$f":"SUMIFS(Haushaltsbuch2[Einnahmen],Haushaltsbuch2[Kategorie],P$4,Haushaltsbuch2[Datum],\">\"&B588,Haushaltsbuch2[Datum],\"<=\"&B589)","v":0},{"$f":"SUMIFS(Haushaltsbuch2[Einnahmen],Haushaltsbuch2[Kategorie],Q$4,Haushaltsbuch2[Datum],\">\"&B588,Haushaltsbuch2[Datum],\"<=\"&B589)","v":0},{"$f":"SUMIFS(Haushaltsbuch2[Einnahmen],Haushaltsbuch2[Kategorie],R$4,Haushaltsbuch2[Datum],\">\"&B588,Haushaltsbuch2[Datum],\"<=\"&B589)","v":0},null,null,null,null,null,null,null,null,null,null,null,null,null,null,null,null,null,null,{"$f":"SUMIFS(Haushaltsbuch2[Ausgaben],Haushaltsbuch2[Kategorie],AK$4,Haushaltsbuch2[Datum],\">\"&B588,Haushaltsbuch2[Datum],\"<=\"&B589)","v":0},null,null,{"$f":"SUMIFS(Dividenden[Betrag in EUR],Dividenden[Datum],\">\"&B588,Dividenden[Datum],\"<=\"&B589)","v":0},{"$f":"SUMIFS(Optionen[G/V (Netto)],Optionen[Datum],\">\"&B588,Optionen[Datum],\"<=\"&B589)","v":0},null,0,0,null,0,0,null,{"$f":"SUMIFS(Haushaltsbuch2[Einnahmen],Haushaltsbuch2[Datum],\">\"&B588,Haushaltsbuch2[Datum],\"<=\"&B589)+AN589+AO589","v":0},null,0,null,{"$f":"SUMIFS(Haushaltsbuch2[Ausgaben],Haushaltsbuch2[Datum],\">\"&B588,Haushaltsbuch2[Datum],\"<=\"&B589)","v":0}]
[null,43434,null,null,null,null,null,null,null,null,null,null,{"$f":"SUMIFS(Haushaltsbuch2[Einnahmen],Haushaltsbuch2[Kategorie],M$4,Haushaltsbuch2[Datum],\">\"&B589,Haushaltsbuch2[Datum],\"<=\"&B590)","v":0},{"$f":"SUMIFS(Haushaltsbuch2[Einnahmen],Haushaltsbuch2[Kategorie],N$4,Haushaltsbuch2[Datum],\">\"&B589,Haushaltsbuch2[Datum],\"<=\"&B590)","v":0},{"$f":"SUMIFS(Haushaltsbuch2[Einnahmen],Haushaltsbuch2[Kategorie],O$4,Haushaltsbuch2[Datum],\">\"&B589,Haushaltsbuch2[Datum],\"<=\"&B590)","v":0},{"$f":"SUMIFS(Haushaltsbuch2[Einnahmen],Haushaltsbuch2[Kategorie],P$4,Haushaltsbuch2[Datum],\">\"&B589,Haushaltsbuch2[Datum],\"<=\"&B590)","v":0},{"$f":"SUMIFS(Haushaltsbuch2[Einnahmen],Haushaltsbuch2[Kategorie],Q$4,Haushaltsbuch2[Datum],\">\"&B589,Haushaltsbuch2[Datum],\"<=\"&B590)","v":0},{"$f":"SUMIFS(Haushaltsbuch2[Einnahmen],Haushaltsbuch2[Kategorie],R$4,Haushaltsbuch2[Datum],\">\"&B589,Haushaltsbuch2[Datum],\"<=\"&B590)","v":0},null,null,null,null,null,null,null,null,null,null,null,null,null,null,null,null,null,null,{"$f":"SUMIFS(Haushaltsbuch2[Ausgaben],Haushaltsbuch2[Kategorie],AK$4,Haushaltsbuch2[Datum],\">\"&B589,Haushaltsbuch2[Datum],\"<=\"&B590)","v":0},null,null,{"$f":"SUMIFS(Dividenden[Betrag in EUR],Dividenden[Datum],\">\"&B589,Dividenden[Datum],\"<=\"&B590)","v":0},{"$f":"SUMIFS(Optionen[G/V (Netto)],Optionen[Datum],\">\"&B589,Optionen[Datum],\"<=\"&B590)","v":0},null,0,0,null,0,0,null,{"$f":"SUMIFS(Haushaltsbuch2[Einnahmen],Haushaltsbuch2[Datum],\">\"&B589,Haushaltsbuch2[Datum],\"<=\"&B590)+AN590+AO590","v":0},null,0,null,{"$f":"SUMIFS(Haushaltsbuch2[Ausgaben],Haushaltsbuch2[Datum],\">\"&B589,Haushaltsbuch2[Datum],\"<=\"&B590)","v":0}]
[null,43465,null,null,null,null,null,null,null,null,null,null,{"$f":"SUMIFS(Haushaltsbuch2[Einnahmen],Haushaltsbuch2[Kategorie],M$4,Haushaltsbuch2[Datum],\">\"&B590,Haushaltsbuch2[Datum],\"<=\"&B591)","v":0},{"$f":"SUMIFS(Haushaltsbuch2[Einnahmen],Haushaltsbuch2[Kategorie],N$4,Haushaltsbuch2[Datum],\">\"&B590,Haushaltsbuch2[Datum],\"<=\"&B591)","v":0},{"$f":"SUMIFS(Haushaltsbuch2[Einnahmen],Haushaltsbuch2[Kategorie],O$4,Haushaltsbuch2[Datum],\">\"&B590,Haushaltsbuch2[Datum],\"<=\"&B591)","v":0},{"$f":"SUMIFS(Haushaltsbuch2[Einnahmen],Haushaltsbuch2[Kategorie],P$4,Haushaltsbuch2[Datum],\">\"&B590,Haushaltsbuch2[Datum],\"<=\"&B591)","v":0},{"$f":"SUMIFS(Haushaltsbuch2[Einnahmen],Haushaltsbuch2[Kategorie],Q$4,Haushaltsbuch2[Datum],\">\"&B590,Haushaltsbuch2[Datum],\"<=\"&B591)","v":0},{"$f":"SUMIFS(Haushaltsbuch2[Einnahmen],Haushaltsbuch2[Kategorie],R$4,Haushaltsbuch2[Datum],\">\"&B590,Haushaltsbuch2[Datum],\"<=\"&B591)","v":0},null,null,null,null,null,null,null,null,null,null,null,null,null,null,null,null,null,null,{"$f":"SUMIFS(Haushaltsbuch2[Ausgaben],Haushaltsbuch2[Kategorie],AK$4,Haushaltsbuch2[Datum],\">\"&B590,Haushaltsbuch2[Datum],\"<=\"&B591)","v":0},null,null,{"$f":"SUMIFS(Dividenden[Betrag in EUR],Dividenden[Datum],\">\"&B590,Dividenden[Datum],\"<=\"&B591)","v":0},{"$f":"SUMIFS(Optionen[G/V (Netto)],Optionen[Datum],\">\"&B590,Optionen[Datum],\"<=\"&B591)","v":0},null,0,0,null,0,0,null,{"$f":"SUMIFS(Haushaltsbuch2[Einnahmen],Haushaltsbuch2[Datum],\">\"&B590,Haushaltsbuch2[Datum],\"<=\"&B591)+AN591+AO591","v":0},null,0,null,{"$f":"SUMIFS(Haushaltsbuch2[Ausgaben],Haushaltsbuch2[Datum],\">\"&B590,Haushaltsbuch2[Datum],\"<=\"&B591)","v":0}]
[null,43496,null,null,null,null,null,null,null,null,null,null,{"$f":"SUMIFS(Haushaltsbuch2[Einnahmen],Haushaltsbuch2[Kategorie],M$4,Haushaltsbuch2[Datum],\">\"&B591,Haushaltsbuch2[Datum],\"<=\"&B592)","v":0},{"$f":"SUMIFS(Haushaltsbuch2[Einnahmen],Haushaltsbuch2[Kategorie],N$4,Haushaltsbuch2[Datum],\">\"&B591,Haushaltsbuch2[Datum],\"<=\"&B592)","v":0},{"$f":"SUMIFS(Haushaltsbuch2[Einnahmen],Haushaltsbuch2[Kategorie],O$4,Haushaltsbuch2[Datum],\">\"&B591,Haushaltsbuch2[Datum],\"<=\"&B592)","v":0},{"$f":"SUMIFS(Haushaltsbuch2[Einnahmen],Haushaltsbuch2[Kategorie],P$4,Haushaltsbuch2[Datum],\">\"&B591,Haushaltsbuch2[Datum],\"<=\"&B592)","v":0},{"$f":"SUMIFS(Haushaltsbuch2[Einnahmen],Haushaltsbuch2[Kategorie],Q$4,Haushaltsbuch2[Datum],\">\"&B591,Haushaltsbuch2[Datum],\"<=\"&B592)","v":0},{"$f":"SUMIFS(Haushaltsbuch2[Einnahmen],Haushaltsbuch2[Kategorie],R$4,Haushaltsbuch2[Datum],\">\"&B591,Haushaltsbuch2[Datum],\"<=\"&B592)","v":0},null,null,null,null,null,null,null,null,null,null,null,null,null,null,null,null,null,null,{"$f":"SUMIFS(Haushaltsbuch2[Ausgaben],Haushaltsbuch2[Kategorie],AK$4,Haushaltsbuch2[Datum],\">\"&B591,Haushaltsbuch2[Datum],\"<=\"&B592)","v":0},null,null,{"$f":"SUMIFS(Dividenden[Betrag in EUR],Dividenden[Datum],\">\"&B591,Dividenden[Datum],\"<=\"&B592)","v":0},{"$f":"SUMIFS(Optionen[G/V (Netto)],Optionen[Datum],\">\"&B591,Optionen[Datum],\"<=\"&B592)","v":0},null,0,0,null,0,0,null,{"$f":"SUMIFS(Haushaltsbuch2[Einnahmen],Haushaltsbuch2[Datum],\">\"&B591,Haushaltsbuch2[Datum],\"<=\"&B592)+AN592+AO592","v":0},null,0,null,{"$f":"SUMIFS(Haushaltsbuch2[Ausgaben],Haushaltsbuch2[Datum],\">\"&B591,Haushaltsbuch2[Datum],\"<=\"&B592)","v":0}]
[null,43524,null,null,null,null,null,null,null,null,null,null,{"$f":"SUMIFS(Haushaltsbuch2[Einnahmen],Haushaltsbuch2[Kategorie],M$4,Haushaltsbuch2[Datum],\">\"&B592,Haushaltsbuch2[Datum],\"<=\"&B593)","v":0},{"$f":"SUMIFS(Haushaltsbuch2[Einnahmen],Haushaltsbuch2[Kategorie],N$4,Haushaltsbuch2[Datum],\">\"&B592,Haushaltsbuch2[Datum],\"<=\"&B593)","v":0},{"$f":"SUMIFS(Haushaltsbuch2[Einnahmen],Haushaltsbuch2[Kategorie],O$4,Haushaltsbuch2[Datum],\">\"&B592,Haushaltsbuch2[Datum],\"<=\"&B593)","v":0},{"$f":"SUMIFS(Haushaltsbuch2[Einnahmen],Haushaltsbuch2[Kategorie],P$4,Haushaltsbuch2[Datum],\">\"&B592,Haushaltsbuch2[Datum],\"<=\"&B593)","v":0},{"$f":"SUMIFS(Haushaltsbuch2[Einnahmen],Haushaltsbuch2[Kategorie],Q$4,Haushaltsbuch2[Datum],\">\"&B592,Haushaltsbuch2[Datum],\"<=\"&B593)","v":0},{"$f":"SUMIFS(Haushaltsbuch2[Einnahmen],Haushaltsbuch2[Kategorie],R$4,Haushaltsbuch2[Datum],\">\"&B592,Haushaltsbuch2[Datum],\"<=\"&B593)","v":0},null,null,null,null,null,null,null,null,null,null,null,null,null,null,null,null,null,null,{"$f":"SUMIFS(Haushaltsbuch2[Ausgaben],Haushaltsbuch2[Kategorie],AK$4,Haushaltsbuch2[Datum],\">\"&B592,Haushaltsbuch2[Datum],\"<=\"&B593)","v":0},null,null,{"$f":"SUMIFS(Dividenden[Betrag in EUR],Dividenden[Datum],\">\"&B592,Dividenden[Datum],\"<=\"&B593)","v":0},{"$f":"SUMIFS(Optionen[G/V (Netto)],Optionen[Datum],\">\"&B592,Optionen[Datum],\"<=\"&B593)","v":0},null,0,0,null,0,0,null,{"$f":"SUMIFS(Haushaltsbuch2[Einnahmen],Haushaltsbuch2[Datum],\">\"&B592,Haushaltsbuch2[Datum],\"<=\"&B593)+AN593+AO593","v":0},null,0,null,{"$f":"SUMIFS(Haushaltsbuch2[Ausgaben],Haushaltsbuch2[Datum],\">\"&B592,Haushaltsbuch2[Datum],\"<=\"&B593)","v":0}]
[null,43555,null,null,null,null,null,null,null,null,null,null,{"$f":"SUMIFS(Haushaltsbuch2[Einnahmen],Haushaltsbuch2[Kategorie],M$4,Haushaltsbuch2[Datum],\">\"&B593,Haushaltsbuch2[Datum],\"<=\"&B594)","v":0},{"$f":"SUMIFS(Haushaltsbuch2[Einnahmen],Haushaltsbuch2[Kategorie],N$4,Haushaltsbuch2[Datum],\">\"&B593,Haushaltsbuch2[Datum],\"<=\"&B594)","v":0},{"$f":"SUMIFS(Haushaltsbuch2[Einnahmen],Haushaltsbuch2[Kategorie],O$4,Haushaltsbuch2[Datum],\">\"&B593,Haushaltsbuch2[Datum],\"<=\"&B594)","v":0},{"$f":"SUMIFS(Haushaltsbuch2[Einnahmen],Haushaltsbuch2[Kategorie],P$4,Haushaltsbuch2[Datum],\">\"&B593,Haushaltsbuch2[Datum],\"<=\"&B594)","v":0},{"$f":"SUMIFS(Haushaltsbuch2[Einnahmen],Haushaltsbuch2[Kategorie],Q$4,Haushaltsbuch2[Datum],\">\"&B593,Haushaltsbuch2[Datum],\"<=\"&B594)","v":0},{"$f":"SUMIFS(Haushaltsbuch2[Einnahmen],Haushaltsbuch2[Kategorie],R$4,Haushaltsbuch2[Datum],\">\"&B593,Haushaltsbuch2[Datum],\"<=\"&B594)","v":0},null,null,null,null,null,null,null,null,null,null,null,null,null,null,null,null,null,null,{"$f":"SUMIFS(Haushaltsbuch2[Ausgaben],Haushaltsbuch2[Kategorie],AK$4,Haushaltsbuch2[Datum],\">\"&B593,Haushaltsbuch2[Datum],\"<=\"&B594)","v":0},null,null,{"$f":"SUMIFS(Dividenden[Betrag in EUR],Dividenden[Datum],\">\"&B593,Dividenden[Datum],\"<=\"&B594)","v":0},{"$f":"SUMIFS(Optionen[G/V (Netto)],Optionen[Datum],\">\"&B593,Optionen[Datum],\"<=\"&B594)","v":0},null,0,0,null,0,{"$f":"AVERAGE(AT583:AT594)","v":0},null,{"$f":"SUMIFS(Haushaltsbuch2[Einnahmen],Haushaltsbuch2[Datum],\">\"&B593,Haushaltsbuch2[Datum],\"<=\"&B594)+AN594+AO594","v":0},null,{"$f":"AVERAGE(AK583:AK594)","v":0},null,{"$f":"SUMIFS(Haushaltsbuch2[Ausgaben],Haushaltsbuch2[Datum],\">\"&B593,Haushaltsbuch2[Datum],\"<=\"&B594)","v":0}]
[null,43585,null,null,null,null,null,null,null,null,null,null,{"$f":"SUMIFS(Haushaltsbuch2[Einnahmen],Haushaltsbuch2[Kategorie],M$4,Haushaltsbuch2[Datum],\">\"&B594,Haushaltsbuch2[Datum],\"<=\"&B595)","v":0},{"$f":"SUMIFS(Haushaltsbuch2[Einnahmen],Haushaltsbuch2[Kategorie],N$4,Haushaltsbuch2[Datum],\">\"&B594,Haushaltsbuch2[Datum],\"<=\"&B595)","v":0},{"$f":"SUMIFS(Haushaltsbuch2[Einnahmen],Haushaltsbuch2[Kategorie],O$4,Haushaltsbuch2[Datum],\">\"&B594,Haushaltsbuch2[Datum],\"<=\"&B595)","v":0},{"$f":"SUMIFS(Haushaltsbuch2[Einnahmen],Haushaltsbuch2[Kategorie],P$4,Haushaltsbuch2[Datum],\">\"&B594,Haushaltsbuch2[Datum],\"<=\"&B595)","v":0},{"$f":"SUMIFS(Haushaltsbuch2[Einnahmen],Haushaltsbuch2[Kategorie],Q$4,Haushaltsbuch2[Datum],\">\"&B594,Haushaltsbuch2[Datum],\"<=\"&B595)","v":0},{"$f":"SUMIFS(Haushaltsbuch2[Einnahmen],Haushaltsbuch2[Kategorie],R$4,Haushaltsbuch2[Datum],\">\"&B594,Haushaltsbuch2[Datum],\"<=\"&B595)","v":0},null,null,null,null,null,null,null,null,null,null,null,null,null,null,null,null,null,null,{"$f":"SUMIFS(Haushaltsbuch2[Ausgaben],Haushaltsbuch2[Kategorie],AK$4,Haushaltsbuch2[Datum],\">\"&B594,Haushaltsbuch2[Datum],\"<=\"&B595)","v":0},null,null,{"$f":"SUMIFS(Dividenden[Betrag in EUR],Dividenden[Datum],\">\"&B594,Dividenden[Datum],\"<=\"&B595)","v":0},{"$f":"SUMIFS(Optionen[G/V (Netto)],Optionen[Datum],\">\"&B594,Optionen[Datum],\"<=\"&B595)","v":0},null,0,0,null,0,0,null,{"$f":"SUMIFS(Haushaltsbuch2[Einnahmen],Haushaltsbuch2[Datum],\">\"&B594,Haushaltsbuch2[Datum],\"<=\"&B595)+AN595+AO595","v":0},null,0,null,{"$f":"SUMIFS(Haushaltsbuch2[Ausgaben],Haushaltsbuch2[Datum],\">\"&B594,Haushaltsbuch2[Datum],\"<=\"&B595)","v":0}]
[null,43616,null,null,null,null,null,null,null,null,null,null,{"$f":"SUMIFS(Haushaltsbuch2[Einnahmen],Haushaltsbuch2[Kategorie],M$4,Haushaltsbuch2[Datum],\">\"&B595,Haushaltsbuch2[Datum],\"<=\"&B596)","v":0},{"$f":"SUMIFS(Haushaltsbuch2[Einnahmen],Haushaltsbuch2[Kategorie],N$4,Haushaltsbuch2[Datum],\">\"&B595,Haushaltsbuch2[Datum],\"<=\"&B596)","v":0},{"$f":"SUMIFS(Haushaltsbuch2[Einnahmen],Haushaltsbuch2[Kategorie],O$4,Haushaltsbuch2[Datum],\">\"&B595,Haushaltsbuch2[Datum],\"<=\"&B596)","v":0},{"$f":"SUMIFS(Haushaltsbuch2[Einnahmen],Haushaltsbuch2[Kategorie],P$4,Haushaltsbuch2[Datum],\">\"&B595,Haushaltsbuch2[Datum],\"<=\"&B596)","v":0},{"$f":"SUMIFS(Haushaltsbuch2[Einnahmen],Haushaltsbuch2[Kategorie],Q$4,Haushaltsbuch2[Datum],\">\"&B595,Haushaltsbuch2[Datum],\"<=\"&B596)","v":0},{"$f":"SUMIFS(Haushaltsbuch2[Einnahmen],Haushaltsbuch2[Kategorie],R$4,Haushaltsbuch2[Datum],\">\"&B595,Haushaltsbuch2[Datum],\"<=\"&B596)","v":0},null,null,null,null,null,null,null,null,null,null,null,null,null,null,null,null,null,null,{"$f":"SUMIFS(Haushaltsbuch2[Ausgaben],Haushaltsbuch2[Kategorie],AK$4,Haushaltsbuch2[Datum],\">\"&B595,Haushaltsbuch2[Datum],\"<=\"&B596)","v":0},null,null,{"$f":"SUMIFS(Dividenden[Betrag in EUR],Dividenden[Datum],\">\"&B595,Dividenden[Datum],\"<=\"&B596)","v":0},{"$f":"SUMIFS(Optionen[G/V (Netto)],Optionen[Datum],\">\"&B595,Optionen[Datum],\"<=\"&B596)","v":0},null,0,0,null,0,0,null,{"$f":"SUMIFS(Haushaltsbuch2[Einnahmen],Haushaltsbuch2[Datum],\">\"&B595,Haushaltsbuch2[Datum],\"<=\"&B596)+AN596+AO596","v":0},null,0,null,{"$f":"SUMIFS(Haushaltsbuch2[Ausgaben],Haushaltsbuch2[Datum],\">\"&B595,Haushaltsbuch2[Datum],\"<=\"&B596)","v":0}]
[null,43646,null,null,null,null,null,null,null,null,null,null,{"$f":"SUMIFS(Haushaltsbuch2[Einnahmen],Haushaltsbuch2[Kategorie],M$4,Haushaltsbuch2[Datum],\">\"&B596,Haushaltsbuch2[Datum],\"<=\"&B597)","v":0},{"$f":"SUMIFS(Haushaltsbuch2[Einnahmen],Haushaltsbuch2[Kategorie],N$4,Haushaltsbuch2[Datum],\">\"&B596,Haushaltsbuch2[Datum],\"<=\"&B597)","v":0},{"$f":"SUMIFS(Haushaltsbuch2[Einnahmen],Haushaltsbuch2[Kategorie],O$4,Haushaltsbuch2[Datum],\">\"&B596,Haushaltsbuch2[Datum],\"<=\"&B597)","v":0},{"$f":"SUMIFS(Haushaltsbuch2[Einnahmen],Haushaltsbuch2[Kategorie],P$4,Haushaltsbuch2[Datum],\">\"&B596,Haushaltsbuch2[Datum],\"<=\"&B597)","v":0},{"$f":"SUMIFS(Haushaltsbuch2[Einnahmen],Haushaltsbuch2[Kategorie],Q$4,Haushaltsbuch2[Datum],\">\"&B596,Haushaltsbuch2[Datum],\"<=\"&B597)","v":0},{"$f":"SUMIFS(Haushaltsbuch2[Einnahmen],Haushaltsbuch2[Kategorie],R$4,Haushaltsbuch2[Datum],\">\"&B596,Haushaltsbuch2[Datum],\"<=\"&B597)","v":0},null,null,null,null,null,null,null,null,null,null,null,null,null,null,null,null,null,null,{"$f":"SUMIFS(Haushaltsbuch2[Ausgaben],Haushaltsbuch2[Kategorie],AK$4,Haushaltsbuch2[Datum],\">\"&B596,Haushaltsbuch2[Datum],\"<=\"&B597)","v":0},null,null,{"$f":"SUMIFS(Dividenden[Betrag in EUR],Dividenden[Datum],\">\"&B596,Dividenden[Datum],\"<=\"&B597)","v":0},{"$f":"SUMIFS(Optionen[G/V (Netto)],Optionen[Datum],\">\"&B596,Optionen[Datum],\"<=\"&B597)","v":0},null,0,0,null,0,0,null,{"$f":"SUMIFS(Haushaltsbuch2[Einnahmen],Haushaltsbuch2[Datum],\">\"&B596,Haushaltsbuch2[Datum],\"<=\"&B597)+AN597+AO597","v":0},null,0,null,{"$f":"SUMIFS(Haushaltsbuch2[Ausgaben],Haushaltsbuch2[Datum],\">\"&B596,Haushaltsbuch2[Datum],\"<=\"&B597)","v":0}]
[null,43677,null,null,null,null,null,null,null,null,null,null,{"$f":"SUMIFS(Haushaltsbuch2[Einnahmen],Haushaltsbuch2[Kategorie],M$4,Haushaltsbuch2[Datum],\">\"&B597,Haushaltsbuch2[Datum],\"<=\"&B598)","v":0},{"$f":"SUMIFS(Haushaltsbuch2[Einnahmen],Haushaltsbuch2[Kategorie],N$4,Haushaltsbuch2[Datum],\">\"&B597,Haushaltsbuch2[Datum],\"<=\"&B598)","v":0},{"$f":"SUMIFS(Haushaltsbuch2[Einnahmen],Haushaltsbuch2[Kategorie],O$4,Haushaltsbuch2[Datum],\">\"&B597,Haushaltsbuch2[Datum],\"<=\"&B598)","v":0},{"$f":"SUMIFS(Haushaltsbuch2[Einnahmen],Haushaltsbuch2[Kategorie],P$4,Haushaltsbuch2[Datum],\">\"&B597,Haushaltsbuch2[Datum],\"<=\"&B598)","v":0},{"$f":"SUMIFS(Haushaltsbuch2[Einnahmen],Haushaltsbuch2[Kategorie],Q$4,Haushaltsbuch2[Datum],\">\"&B597,Haushaltsbuch2[Datum],\"<=\"&B598)","v":0},{"$f":"SUMIFS(Haushaltsbuch2[Einnahmen],Haushaltsbuch2[Kategorie],R$4,Haushaltsbuch2[Datum],\">\"&B597,Haushaltsbuch2[Datum],\"<=\"&B598)","v":0},null,null,null,null,null,null,null,null,null,null,null,null,null,null,null,null,null,null,{"$f":"SUMIFS(Haushaltsbuch2[Ausgaben],Haushaltsbuch2[Kategorie],AK$4,Haushaltsbuch2[Datum],\">\"&B597,Haushaltsbuch2[Datum],\"<=\"&B598)","v":0},null,null,{"$f":"SUMIFS(Dividenden[Betrag in EUR],Dividenden[Datum],\">\"&B597,Dividenden[Datum],\"<=\"&B598)","v":0},{"$f":"SUMIFS(Optionen[G/V (Netto)],Optionen[Datum],\">\"&B597,Optionen[Datum],\"<=\"&B598)","v":0},null,0,0,null,0,0,null,{"$f":"SUMIFS(Haushaltsbuch2[Einnahmen],Haushaltsbuch2[Datum],\">\"&B597,Haushaltsbuch2[Datum],\"<=\"&B598)+AN598+AO598","v":0},null,0,null,{"$f":"SUMIFS(Haushaltsbuch2[Ausgaben],Haushaltsbuch2[Datum],\">\"&B597,Haushaltsbuch2[Datum],\"<=\"&B598)","v":0}]
[null,43708,null,null,null,null,null,null,null,null,null,null,{"$f":"SUMIFS(Haushaltsbuch2[Einnahmen],Haushaltsbuch2[Kategorie],M$4,Haushaltsbuch2[Datum],\">\"&B598,Haushaltsbuch2[Datum],\"<=\"&B599)","v":0},{"$f":"SUMIFS(Haushaltsbuch2[Einnahmen],Haushaltsbuch2[Kategorie],N$4,Haushaltsbuch2[Datum],\">\"&B598,Haushaltsbuch2[Datum],\"<=\"&B599)","v":0},{"$f":"SUMIFS(Haushaltsbuch2[Einnahmen],Haushaltsbuch2[Kategorie],O$4,Haushaltsbuch2[Datum],\">\"&B598,Haushaltsbuch2[Datum],\"<=\"&B599)","v":0},{"$f":"SUMIFS(Haushaltsbuch2[Einnahmen],Haushaltsbuch2[Kategorie],P$4,Haushaltsbuch2[Datum],\">\"&B598,Haushaltsbuch2[Datum],\"<=\"&B599)","v":0},{"$f":"SUMIFS(Haushaltsbuch2[Einnahmen],Haushaltsbuch2[Kategorie],Q$4,Haushaltsbuch2[Datum],\">\"&B598,Haushaltsbuch2[Datum],\"<=\"&B599)","v":0},{"$f":"SUMIFS(Haushaltsbuch2[Einnahmen],Haushaltsbuch2[Kategorie],R$4,Haushaltsbuch2[Datum],\">\"&B598,Haushaltsbuch2[Datum],\"<=\"&B599)","v":0},null,null,null,null,null,null,null,null,null,null,null,null,null,null,null,null,null,null,{"$f":"SUMIFS(Haushaltsbuch2[Ausgaben],Haushaltsbuch2[Kategorie],AK$4,Haushaltsbuch2[Datum],\">\"&B598,Haushaltsbuch2[Datum],\"<=\"&B599)","v":0},null,null,{"$f":"SUMIFS(Dividenden[Betrag in EUR],Dividenden[Datum],\">\"&B598,Dividenden[Datum],\"<=\"&B599)","v":0},{"$f":"SUMIFS(Optionen[G/V (Netto)],Optionen[Datum],\">\"&B598,Optionen[Datum],\"<=\"&B599)","v":0},null,0,0,null,0,0,null,{"$f":"SUMIFS(Haushaltsbuch2[Einnahmen],Haushaltsbuch2[Datum],\">\"&B598,Haushaltsbuch2[Datum],\"<=\"&B599)+AN599+AO599","v":0},null,0,null,{"$f":"SUMIFS(Haushaltsbuch2[Ausgaben],Haushaltsbuch2[Datum],\">\"&B598,Haushaltsbuch2[Datum],\"<=\"&B599)","v":0}]
[null,43738,null,null,null,null,null,null,null,null,null,null,{"$f":"SUMIFS(Haushaltsbuch2[Einnahmen],Haushaltsbuch2[Kategorie],M$4,Haushaltsbuch2[Datum],\">\"&B599,Haushaltsbuch2[Datum],\"<=\"&B600)","v":0},{"$f":"SUMIFS(Haushaltsbuch2[Einnahmen],Haushaltsbuch2[Kategorie],N$4,Haushaltsbuch2[Datum],\">\"&B599,Haushaltsbuch2[Datum],\"<=\"&B600)","v":0},{"$f":"SUMIFS(Haushaltsbuch2[Einnahmen],Haushaltsbuch2[Kategorie],O$4,Haushaltsbuch2[Datum],\">\"&B599,Haushaltsbuch2[Datum],\"<=\"&B600)","v":0},{"$f":"SUMIFS(Haushaltsbuch2[Einnahmen],Haushaltsbuch2[Kategorie],P$4,Haushaltsbuch2[Datum],\">\"&B599,Haushaltsbuch2[Datum],\"<=\"&B600)","v":0},{"$f":"SUMIFS(Haushaltsbuch2[Einnahmen],Haushaltsbuch2[Kategorie],Q$4,Haushaltsbuch2[Datum],\">\"&B599,Haushaltsbuch2[Datum],\"<=\"&B600)","v":0},{"$f":"SUMIFS(Haushaltsbuch2[Einnahmen],Haushaltsbuch2[Kategorie],R$4,Haushaltsbuch2[Datum],\">\"&B599,Haushaltsbuch2[Datum],\"<=\"&B600)","v":0},null,null,null,null,null,null,null,null,null,null,null,null,null,null,null,null,null,null,{"$f":"SUMIFS(Haushaltsbuch2[Ausgaben],Haushaltsbuch2[Kategorie],AK$4,Haushaltsbuch2[Datum],\">\"&B599,Haushaltsbuch2[Datum],\"<=\"&B600)","v":0},null,null,{"$f":"SUMIFS(Dividenden[Betrag in EUR],Dividenden[Datum],\">\"&B599,Dividenden[Datum],\"<=\"&B600)","v":0},{"$f":"SUMIFS(Optionen[G/V (Netto)],Optionen[Datum],\">\"&B599,Optionen[Datum],\"<=\"&B600)","v":0},null,0,0,null,0,0,null,{"$f":"SUMIFS(Haushaltsbuch2[Einnahmen],Haushaltsbuch2[Datum],\">\"&B599,Haushaltsbuch2[Datum],\"<=\"&B600)+AN600+AO600","v":0},null,0,null,{"$f":"SUMIFS(Haushaltsbuch2[Ausgaben],Haushaltsbuch2[Datum],\">\"&B599,Haushaltsbuch2[Datum],\"<=\"&B600)","v":0}]
[null,43769,null,null,null,null,null,null,null,null,null,null,{"$f":"SUMIFS(Haushaltsbuch2[Einnahmen],Haushaltsbuch2[Kategorie],M$4,Haushaltsbuch2[Datum],\">\"&B600,Haushaltsbuch2[Datum],\"<=\"&B601)","v":0},{"$f":"SUMIFS(Haushaltsbuch2[Einnahmen],Haushaltsbuch2[Kategorie],N$4,Haushaltsbuch2[Datum],\">\"&B600,Haushaltsbuch2[Datum],\"<=\"&B601)","v":0},{"$f":"SUMIFS(Haushaltsbuch2[Einnahmen],Haushaltsbuch2[Kategorie],O$4,Haushaltsbuch2[Datum],\">\"&B600,Haushaltsbuch2[Datum],\"<=\"&B601)","v":0},{"$f":"SUMIFS(Haushaltsbuch2[Einnahmen],Haushaltsbuch2[Kategorie],P$4,Haushaltsbuch2[Datum],\">\"&B600,Haushaltsbuch2[Datum],\"<=\"&B601)","v":0},{"$f":"SUMIFS(Haushaltsbuch2[Einnahmen],Haushaltsbuch2[Kategorie],Q$4,Haushaltsbuch2[Datum],\">\"&B600,Haushaltsbuch2[Datum],\"<=\"&B601)","v":0},{"$f":"SUMIFS(Haushaltsbuch2[Einnahmen],Haushaltsbuch2[Kategorie],R$4,Haushaltsbuch2[Datum],\">\"&B600,Haushaltsbuch2[Datum],\"<=\"&B601)","v":0},null,null,null,null,null,null,null,null,null,null,null,null,null,null,null,null,null,null,{"$f":"SUMIFS(Haushaltsbuch2[Ausgaben],Haushaltsbuch2[Kategorie],AK$4,Haushaltsbuch2[Datum],\">\"&B600,Haushaltsbuch2[Datum],\"<=\"&B601)","v":0},null,null,{"$f":"SUMIFS(Dividenden[Betrag in EUR],Dividenden[Datum],\">\"&B600,Dividenden[Datum],\"<=\"&B601)","v":0},{"$f":"SUMIFS(Optionen[G/V (Netto)],Optionen[Datum],\">\"&B600,Optionen[Datum],\"<=\"&B601)","v":0},null,0,0,null,0,0,null,{"$f":"SUMIFS(Haushaltsbuch2[Einnahmen],Haushaltsbuch2[Datum],\">\"&B600,Haushaltsbuch2[Datum],\"<=\"&B601)+AN601+AO601","v":0},null,0,null,{"$f":"SUMIFS(Haushaltsbuch2[Ausgaben],Haushaltsbuch2[Datum],\">\"&B600,Haushaltsbuch2[Datum],\"<=\"&B601)","v":0}]
[null,43799,null,null,null,null,null,null,null,null,null,null,{"$f":"SUMIFS(Haushaltsbuch2[Einnahmen],Haushaltsbuch2[Kategorie],M$4,Haushaltsbuch2[Datum],\">\"&B601,Haushaltsbuch2[Datum],\"<=\"&B602)","v":0},{"$f":"SUMIFS(Haushaltsbuch2[Einnahmen],Haushaltsbuch2[Kategorie],N$4,Haushaltsbuch2[Datum],\">\"&B601,Haushaltsbuch2[Datum],\"<=\"&B602)","v":0},{"$f":"SUMIFS(Haushaltsbuch2[Einnahmen],Haushaltsbuch2[Kategorie],O$4,Haushaltsbuch2[Datum],\">\"&B601,Haushaltsbuch2[Datum],\"<=\"&B602)","v":0},{"$f":"SUMIFS(Haushaltsbuch2[Einnahmen],Haushaltsbuch2[Kategorie],P$4,Haushaltsbuch2[Datum],\">\"&B601,Haushaltsbuch2[Datum],\"<=\"&B602)","v":0},{"$f":"SUMIFS(Haushaltsbuch2[Einnahmen],Haushaltsbuch2[Kategorie],Q$4,Haushaltsbuch2[Datum],\">\"&B601,Haushaltsbuch2[Datum],\"<=\"&B602)","v":0},{"$f":"SUMIFS(Haushaltsbuch2[Einnahmen],Haushaltsbuch2[Kategorie],R$4,Haushaltsbuch2[Datum],\">\"&B601,Haushaltsbuch2[Datum],\"<=\"&B602)","v":0},null,null,null,null,null,null,null,null,null,null,null,null,null,null,null,null,null,null,{"$f":"SUMIFS(Haushaltsbuch2[Ausgaben],Haushaltsbuch2[Kategorie],AK$4,Haushaltsbuch2[Datum],\">\"&B601,Haushaltsbuch2[Datum],\"<=\"&B602)","v":0},null,null,{"$f":"SUMIFS(Dividenden[Betrag in EUR],Dividenden[Datum],\">\"&B601,Dividenden[Datum],\"<=\"&B602)","v":0},{"$f":"SUMIFS(Optionen[G/V (Netto)],Optionen[Datum],\">\"&B601,Optionen[Datum],\"<=\"&B602)","v":0},null,0,0,null,0,0,null,{"$f":"SUMIFS(Haushaltsbuch2[Einnahmen],Haushaltsbuch2[Datum],\">\"&B601,Haushaltsbuch2[Datum],\"<=\"&B602)+AN602+AO602","v":0},null,0,null,{"$f":"SUMIFS(Haushaltsbuch2[Ausgaben],Haushaltsbuch2[Datum],\">\"&B601,Haushaltsbuch2[Datum],\"<=\"&B602)","v":0}]
[null,43830,null,null,null,null,null,null,null,null,null,null,{"$f":"SUMIFS(Haushaltsbuch2[Einnahmen],Haushaltsbuch2[Kategorie],M$4,Haushaltsbuch2[Datum],\">\"&B602,Haushaltsbuch2[Datum],\"<=\"&B603)","v":0},{"$f":"SUMIFS(Haushaltsbuch2[Einnahmen],Haushaltsbuch2[Kategorie],N$4,Haushaltsbuch2[Datum],\">\"&B602,Haushaltsbuch2[Datum],\"<=\"&B603)","v":0},{"$f":"SUMIFS(Haushaltsbuch2[Einnahmen],Haushaltsbuch2[Kategorie],O$4,Haushaltsbuch2[Datum],\">\"&B602,Haushaltsbuch2[Datum],\"<=\"&B603)","v":0},{"$f":"SUMIFS(Haushaltsbuch2[Einnahmen],Haushaltsbuch2[Kategorie],P$4,Haushaltsbuch2[Datum],\">\"&B602,Haushaltsbuch2[Datum],\"<=\"&B603)","v":0},{"$f":"SUMIFS(Haushaltsbuch2[Einnahmen],Haushaltsbuch2[Kategorie],Q$4,Haushaltsbuch2[Datum],\">\"&B602,Haushaltsbuch2[Datum],\"<=\"&B603)","v":0},{"$f":"SUMIFS(Haushaltsbuch2[Einnahmen],Haushaltsbuch2[Kategorie],R$4,Haushaltsbuch2[Datum],\">\"&B602,Haushaltsbuch2[Datum],\"<=\"&B603)","v":0},null,null,null,null,null,null,null,null,null,null,null,null,null,null,null,null,null,null,{"$f":"SUMIFS(Haushaltsbuch2[Ausgaben],Haushaltsbuch2[Kategorie],AK$4,Haushaltsbuch2[Datum],\">\"&B602,Haushaltsbuch2[Datum],\"<=\"&B603)","v":0},null,null,{"$f":"SUMIFS(Dividenden[Betrag in EUR],Dividenden[Datum],\">\"&B602,Dividenden[Datum],\"<=\"&B603)","v":0},{"$f":"SUMIFS(Optionen[G/V (Netto)],Optionen[Datum],\">\"&B602,Optionen[Datum],\"<=\"&B603)","v":0},null,0,0,null,0,0,null,{"$f":"SUMIFS(Haushaltsbuch2[Einnahmen],Haushaltsbuch2[Datum],\">\"&B602,Haushaltsbuch2[Datum],\"<=\"&B603)+AN603+AO603","v":0},null,0,null,{"$f":"SUMIFS(Haushaltsbuch2[Ausgaben],Haushaltsbuch2[Datum],\">\"&B602,Haushaltsbuch2[Datum],\"<=\"&B603)","v":0}]
[null,43861,{"$f":"SUMIFS(Haushaltsbuch2[Einnahmen],Haushaltsbuch2[Kategorie],$C$4,Haushaltsbuch2[Datum],\">\"&B603,Haushaltsbuch2[Datum],\"<=\"&B604)","v":0},{"$f":"SUMIFS(Haushaltsbuch2[Einnahmen],Haushaltsbuch2[Kategorie],$D$4,Haushaltsbuch2[Datum],\">\"&B603,Haushaltsbuch2[Datum],\"<=\"&B604)","v":0},{"$f":"SUMIFS(Haushaltsbuch2[Einnahmen],Haushaltsbuch2[Kategorie],E$4,Haushaltsbuch2[Datum],\">\"&B603,Haushaltsbuch2[Datum],\"<=\"&B604)","v":0},{"$f":"SUMIFS(Haushaltsbuch2[Einnahmen],Haushaltsbuch2[Kategorie],F$4,Haushaltsbuch2[Datum],\">\"&B603,Haushaltsbuch2[Datum],\"<=\"&B604)","v":0},{"$f":"SUMIFS(Haushaltsbuch2[Einnahmen],Haushaltsbuch2[Kategorie],G$4,Haushaltsbuch2[Datum],\">\"&B603,Haushaltsbuch2[Datum],\"<=\"&B604)","v":0},{"$f":"SUMIFS(Haushaltsbuch2[Einnahmen],Haushaltsbuch2[Kategorie],H$4,Haushaltsbuch2[Datum],\">\"&B603,Haushaltsbuch2[Datum],\"<=\"&B604)","v":0},{"$f":"SUMIFS(Haushaltsbuch2[Einnahmen],Haushaltsbuch2[Kategorie],I$4,Haushaltsbuch2[Datum],\">\"&B603,Haushaltsbuch2[Datum],\"<=\"&B604)","v":0},{"$f":"SUMIFS(Haushaltsbuch2[Einnahmen],Haushaltsbuch2[Kategorie],J$4,Haushaltsbuch2[Datum],\">\"&B603,Haushaltsbuch2[Datum],\"<=\"&B604)","v":0},{"$f":"SUMIFS(Haushaltsbuch2[Einnahmen],Haushaltsbuch2[Kategorie],K$4,Haushaltsbuch2[Datum],\">\"&B603,Haushaltsbuch2[Datum],\"<=\"&B604)","v":0},{"$f":"SUMIFS(Haushaltsbuch2[Einnahmen],Haushaltsbuch2[Kategorie],L$4,Haushaltsbuch2[Datum],\">\"&B603,Haushaltsbuch2[Datum],\"<=\"&B604)","v":0},{"$f":"SUMIFS(Haushaltsbuch2[Einnahmen],Haushaltsbuch2[Kategorie],M$4,Haushaltsbuch2[Datum],\">\"&B603,Haushaltsbuch2[Datum],\"<=\"&B604)","v":0},{"$f":"SUMIFS(Haushaltsbuch2[Einnahmen],Haushaltsbuch2[Kategorie],N$4,Haushaltsbuch2[Datum],\">\"&B603,Haushaltsbuch2[Datum],\"<=\"&B604)","v":0},{"$f":"SUMIFS(Haushaltsbuch2[Einnahmen],Haushaltsbuch2[Kategorie],O$4,Haushaltsbuch2[Datum],\">\"&B603,Haushaltsbuch2[Datum],\"<=\"&B604)","v":0},{"$f":"SUMIFS(Haushaltsbuch2[Einnahmen],Haushaltsbuch2[Kategorie],P$4,Haushaltsbuch2[Datum],\">\"&B603,Haushaltsbuch2[Datum],\"<=\"&B604)","v":0},{"$f":"SUMIFS(Haushaltsbuch2[Einnahmen],Haushaltsbuch2[Kategorie],Q$4,Haushaltsbuch2[Datum],\">\"&B603,Haushaltsbuch2[Datum],\"<=\"&B604)","v":0},{"$f":"SUMIFS(Haushaltsbuch2[Einnahmen],Haushaltsbuch2[Kategorie],R$4,Haushaltsbuch2[Datum],\">\"&B603,Haushaltsbuch2[Datum],\"<=\"&B604)","v":0},{"$f":"SUMIFS(Haushaltsbuch2[Ausgaben],Haushaltsbuch2[Kategorie],S$4,Haushaltsbuch2[Datum],\">\"&B603,Haushaltsbuch2[Datum],\"<=\"&B604)","v":0},{"$f":"SUMIFS(Haushaltsbuch2[Ausgaben],Haushaltsbuch2[Kategorie],T$4,Haushaltsbuch2[Datum],\">\"&B603,Haushaltsbuch2[Datum],\"<=\"&B604)","v":0},{"$f":"SUMIFS(Haushaltsbuch2[Ausgaben],Haushaltsbuch2[Kategorie],U$4,Haushaltsbuch2[Datum],\">\"&B603,Haushaltsbuch2[Datum],\"<=\"&B604)","v":0},{"$f":"SUMIFS(Haushaltsbuch2[Ausgaben],Haushaltsbuch2[Kategorie],V$4,Haushaltsbuch2[Datum],\">\"&B603,Haushaltsbuch2[Datum],\"<=\"&B604)","v":0},{"$f":"SUMIFS(Haushaltsbuch2[Ausgaben],Haushaltsbuch2[Kategorie],W$4,Haushaltsbuch2[Datum],\">\"&B603,Haushaltsbuch2[Datum],\"<=\"&B604)","v":0},{"$f":"SUMIFS(Haushaltsbuch2[Ausgaben],Haushaltsbuch2[Kategorie],X$4,Haushaltsbuch2[Datum],\">\"&B603,Haushaltsbuch2[Datum],\"<=\"&B604)","v":0},{"$f":"SUMIFS(Haushaltsbuch2[Ausgaben],Haushaltsbuch2[Kategorie],Y$4,Haushaltsbuch2[Datum],\">\"&B603,Haushaltsbuch2[Datum],\"<=\"&B604)","v":0},{"$f":"SUMIFS(Haushaltsbuch2[Ausgaben],Haushaltsbuch2[Kategorie],Z$4,Haushaltsbuch2[Datum],\">\"&B603,Haushaltsbuch2[Datum],\"<=\"&B604)","v":0},{"$f":"SUMIFS(Haushaltsbuch2[Ausgaben],Haushaltsbuch2[Kategorie],AA$4,Haushaltsbuch2[Datum],\">\"&B603,Haushaltsbuch2[Datum],\"<=\"&B604)","v":0},{"$f":"SUMIFS(Haushaltsbuch2[Ausgaben],Haushaltsbuch2[Kategorie],AB$4,Haushaltsbuch2[Datum],\">\"&B603,Haushaltsbuch2[Datum],\"<=\"&B604)","v":0},{"$f":"SUMIFS(Haushaltsbuch2[Ausgaben],Haushaltsbuch2[Kategorie],AC$4,Haushaltsbuch2[Datum],\">\"&B603,Haushaltsbuch2[Datum],\"<=\"&B604)","v":0},{"$f":"SUMIFS(Haushaltsbuch2[Ausgaben],Haushaltsbuch2[Kategorie],AD$4,Haushaltsbuch2[Datum],\">\"&B603,Haushaltsbuch2[Datum],\"<=\"&B604)","v":0},{"$f":"SUMIFS(Haushaltsbuch2[Ausgaben],Haushaltsbuch2[Kategorie],AE$4,Haushaltsbuch2[Datum],\">\"&B603,Haushaltsbuch2[Datum],\"<=\"&B604)","v":0},{"$f":"SUMIFS(Haushaltsbuch2[Ausgaben],Haushaltsbuch2[Kategorie],AF$4,Haushaltsbuch2[Datum],\">\"&B603,Haushaltsbuch2[Datum],\"<=\"&B604)","v":0},{"$f":"SUMIFS(Haushaltsbuch2[Ausgaben],Haushaltsbuch2[Kategorie],AG$4,Haushaltsbuch2[Datum],\">\"&B603,Haushaltsbuch2[Datum],\"<=\"&B604)","v":0},{"$f":"SUMIFS(Haushaltsbuch2[Ausgaben],Haushaltsbuch2[Kategorie],AH$4,Haushaltsbuch2[Datum],\">\"&B603,Haushaltsbuch2[Datum],\"<=\"&B604)","v":0},{"$f":"SUMIFS(Haushaltsbuch2[Ausgaben],Haushaltsbuch2[Kategorie],AI$4,Haushaltsbuch2[Datum],\">\"&B603,Haushaltsbuch2[Datum],\"<=\"&B604)","v":0},{"$f":"SUMIFS(Haushaltsbuch2[Ausgaben],Haushaltsbuch2[Kategorie],AJ$4,Haushaltsbuch2[Datum],\">\"&B603,Haushaltsbuch2[Datum],\"<=\"&B604)","v":0},{"$f":"SUMIFS(Haushaltsbuch2[Ausgaben],Haushaltsbuch2[Kategorie],AK$4,Haushaltsbuch2[Datum],\">\"&B603,Haushaltsbuch2[Datum],\"<=\"&B604)","v":0},{"$f":"SUMIFS(Haushaltsbuch2[Ausgaben],Haushaltsbuch2[Kategorie],AL$4,Haushaltsbuch2[Datum],\">\"&B603,Haushaltsbuch2[Datum],\"<=\"&B604)","v":0},null,{"$f":"SUMIFS(Dividenden[Betrag in EUR],Dividenden[Datum],\">\"&B603,Dividenden[Datum],\"<=\"&B604)","v":0},{"$f":"SUMIFS(Optionen[G/V (Netto)],Optionen[Datum],\">\"&B603,Optionen[Datum],\"<=\"&B604)","v":0},null,0,0,null,0,0,null,{"$f":"SUMIFS(Haushaltsbuch2[Einnahmen],Haushaltsbuch2[Datum],\">\"&B603,Haushaltsbuch2[Datum],\"<=\"&B604)+AN604+AO604","v":0},null,0,null,{"$f":"SUMIFS(Haushaltsbuch2[Ausgaben],Haushaltsbuch2[Datum],\">\"&B603,Haushaltsbuch2[Datum],\"<=\"&B604)","v":0}]

{"sheet":"E&A DATA Jahre","index":12,"n_rows":54,"n_cols":51,"rows_kept":54,"cut":false,"hidden":false,"merged":[[0,0,1,17]]}
["DATA TRACKING"]
[]
["Jahr","Monatsende",null,null,null,null,null,null,null,null,null,null,"Passive Einnahmen",null,null,null,null,null,null,null,null,null,null,null,null,null,null,null,null,null,null,null,null,null,null,null,null,null,null,"Passive Einnahmen laut Extraliste"]
[null,{"$f":"DATE(YEAR(B5)-1,12,31)","v":25933},{"$f":"Kategorien!C8","v":"Lohn und Gehalt"},{"$f":"Kategorien!C9","v":"Einkommen aus Nebentätigkeiten"},{"$f":"Kategorien!C10","v":"Beitrag von Familie/Verwandten"},{"$f":"Kategorien!C11","v":"Kindergeld"},{"$f":"Kategorien!C12","v":"Renten und Sozialleistungen"},{"$f":"Kategorien!C13","v":"Geldgeschenke/Zuwendungen"},{"$f":"Kategorien!C14","v":"Steuerrückzahlungen"},{"$f":"Kategorien!C15","v":"Verkauf von Sach- und Finanzvermögen"},{"$f":"Kategorien!C16","v":"Umbuchungen auf das Girokonto"},{"$f":"Kategorien!C17","v":"Sonstige Einnahmen"},{"$f":"Kategorien!C22","v":"Zinserträge"},{"$f":"Kategorien!C23","v":"Dividenden"},{"$f":"Kategorien!C24","v":"Optionserträge"},{"$f":"Kategorien!C25","v":"Lizenz- und Patenteinnahmen"},{"$f":"Kategorien!C26","v":"P2P Kreditrückzahlungen"},{"$f":"Kategorien!C27","v":"Sonstige passive Einnahmen"},{"$f":"Kategorien!J8","v":"Miete/Kosten für Eigenheim"},{"$f":"Kategorien!J9","v":"Versicherungen"},{"$f":"Kategorien!J10","v":"Telefon/Handy, Internet und TV"},{"$f":"Kategorien!J11","v":"Energiekosten"},{"$f":"Kategorien!J12","v":"Mobilität"},{"$f":"Kategorien!J13","v":"Kinder"},{"$f":"Kategorien!J14","v":"Lebensmittel"},{"$f":"Kategorien!J15","v":"Darlehensverpflichtungen"},{"$f":"Kategorien!J16","v":"Besuche in Restaurants und Bars"},{"$f":"Kategorien!J17","v":"Kultur und Unterhaltung"},{"$f":"Kategorien!J18","v":"Geschenke"},{"$f":"Kategorien!J19","v":"Mode und Bekleidung"},{"$f":"Kategorien!J20","v":"Gesundheit und Körperpflege"},{"$f":"Kategorien!J21","v":"Urlaub und Reisen"},{"$f":"Kategorien!J22","v":"Kraftfahrzeugskosten"},{"$f":"Kategorien!J23","v":"Möbel und Dekorationen"},{"$f":"Kategorien!J24","v":"Kreditkartenabbuchungen"},{"$f":"Kategorien!J25","v":"Bargeldabhebungen"},{"$f":"Kategorien!J26","v":"Sparen (inkl. Vorsorge und Investments)"},{"$f":"Kategorien!J27","v":"Sonstige Ausgaben"},null,"Dividenden","Optionsprämien",null,"Dividenden Gesamt","Optionsprämien Gesamt",null,"Passive Einnahmen Gesamt","PE 12M-Ø",null,"Einnahmen Gesamt",null,"Ausgaben Gesamt"]
[{"$f":"YEAR(B5)*1","v":1971},{"$f":"DATE(YEAR(TODAY())-49,12,31)","v":26298},{"$f":"SUMIFS(Haushaltsbuch2[Einnahmen],Haushaltsbuch2[Kategorie],$C$4,Haushaltsbuch2[Datum],\">\"&B4,Haushaltsbuch2[Datum],\"<=\"&B5)","v":0},{"$f":"SUMIFS(Haushaltsbuch2[Einnahmen],Haushaltsbuch2[Kategorie],D$4,Haushaltsbuch2[Datum],\">\"&$B$4,Haushaltsbuch2[Datum],\"<=\"&$B$5)","v":0},{"$f":"SUMIFS(Haushaltsbuch2[Einnahmen],Haushaltsbuch2[Kategorie],E$4,Haushaltsbuch2[Datum],\">\"&B4,Haushaltsbuch2[Datum],\"<=\"&B5)","v":0},{"$f":"SUMIFS(Haushaltsbuch2[Einnahmen],Haushaltsbuch2[Kategorie],F$4,Haushaltsbuch2[Datum],\">\"&B4,Haushaltsbuch2[Datum],\"<=\"&B5)","v":0},{"$f":"SUMIFS(Haushaltsbuch2[Einnahmen],Haushaltsbuch2[Kategorie],G$4,Haushaltsbuch2[Datum],\">\"&B4,Haushaltsbuch2[Datum],\"<=\"&B5)","v":0},{"$f":"SUMIFS(Haushaltsbuch2[Einnahmen],Haushaltsbuch2[Kategorie],H$4,Haushaltsbuch2[Datum],\">\"&B4,Haushaltsbuch2[Datum],\"<=\"&B5)","v":0},{"$f":"SUMIFS(Haushaltsbuch2[Einnahmen],Haushaltsbuch2[Kategorie],I$4,Haushaltsbuch2[Datum],\">\"&B4,Haushaltsbuch2[Datum],\"<=\"&B5)","v":0},{"$f":"SUMIFS(Haushaltsbuch2[Einnahmen],Haushaltsbuch2[Kategorie],J$4,Haushaltsbuch2[Datum],\">\"&B4,Haushaltsbuch2[Datum],\"<=\"&B5)","v":0},{"$f":"SUMIFS(Haushaltsbuch2[Einnahmen],Haushaltsbuch2[Kategorie],K$4,Haushaltsbuch2[Datum],\">\"&B4,Haushaltsbuch2[Datum],\"<=\"&B5)","v":0},{"$f":"SUMIFS(Haushaltsbuch2[Einnahmen],Haushaltsbuch2[Kategorie],L$4,Haushaltsbuch2[Datum],\">\"&B4,Haushaltsbuch2[Datum],\"<=\"&B5)","v":0},{"$f":"SUMIFS(Haushaltsbuch2[Einnahmen],Haushaltsbuch2[Kategorie],M$4,Haushaltsbuch2[Datum],\">\"&B4,Haushaltsbuch2[Datum],\"<=\"&B5)","v":0},{"$f":"SUMIFS(Haushaltsbuch2[Einnahmen],Haushaltsbuch2[Kategorie],N$4,Haushaltsbuch2[Datum],\">\"&B4,Haushaltsbuch2[Datum],\"<=\"&B5)","v":0},{"$f":"SUMIFS(Haushaltsbuch2[Einnahmen],Haushaltsbuch2[Kategorie],O$4,Haushaltsbuch2[Datum],\">\"&B4,Haushaltsbuch2[Datum],\"<=\"&B5)","v":0},{"$f":"SUMIFS(Haushaltsbuch2[Einnahmen],Haushaltsbuch2[Kategorie],P$4,Haushaltsbuch2[Datum],\">\"&B4,Haushaltsbuch2[Datum],\"<=\"&B5)","v":0},{"$f":"SUMIFS(Haushaltsbuch2[Einnahmen],Haushaltsbuch2[Kategorie],Q$4,Haushaltsbuch2[Datum],\">\"&B4,Haushaltsbuch2[Datum],\"<=\"&B5)","v":0},{"$f":"SUMIFS(Haushaltsbuch2[Einnahmen],Haushaltsbuch2[Kategorie],R$4,Haushaltsbuch2[Datum],\">\"&B4,Haushaltsbuch2[Datum],\"<=\"&B5)","v":0},{"$f":"SUMIFS(Haushaltsbuch2[Ausgaben],Haushaltsbuch2[Kategorie],S$4,Haushaltsbuch2[Datum],\">\"&B4,Haushaltsbuch2[Datum],\"<=\"&B5)","v":0},{"$f":"SUMIFS(Haushaltsbuch2[Ausgaben],Haushaltsbuch2[Kategorie],T$4,Haushaltsbuch2[Datum],\">\"&B4,Haushaltsbuch2[Datum],\"<=\"&B5)","v":0},{"$f":"SUMIFS(Haushaltsbuch2[Ausgaben],Haushaltsbuch2[Kategorie],U$4,Haushaltsbuch2[Datum],\">\"&B4,Haushaltsbuch2[Datum],\"<=\"&B5)","v":0},{"$f":"SUMIFS(Haushaltsbuch2[Ausgaben],Haushaltsbuch2[Kategorie],V$4,Haushaltsbuch2[Datum],\">\"&B4,Haushaltsbuch2[Datum],\"<=\"&B5)","v":0},{"$f":"SUMIFS(Haushaltsbuch2[Ausgaben],Haushaltsbuch2[Kategorie],W$4,Haushaltsbuch2[Datum],\">\"&B4,Haushaltsbuch2[Datum],\"<=\"&B5)","v":0},{"$f":"SUMIFS(Haushaltsbuch2[Ausgaben],Haushaltsbuch2[Kategorie],X$4,Haushaltsbuch2[Datum],\">\"&B4,Haushaltsbuch2[Datum],\"<=\"&B5)","v":0},{"$f":"SUMIFS(Haushaltsbuch2[Ausgaben],Haushaltsbuch2[Kategorie],Y$4,Haushaltsbuch2[Datum],\">\"&B4,Haushaltsbuch2[Datum],\"<=\"&B5)","v":0},{"$f":"SUMIFS(Haushaltsbuch2[Ausgaben],Haushaltsbuch2[Kategorie],Z$4,Haushaltsbuch2[Datum],\">\"&B4,Haushaltsbuch2[Datum],\"<=\"&B5)","v":0},{"$f":"SUMIFS(Haushaltsbuch2[Ausgaben],Haushaltsbuch2[Kategorie],AA$4,Haushaltsbuch2[Datum],\">\"&B4,Haushaltsbuch2[Datum],\"<=\"&B5)","v":0},{"$f":"SUMIFS(Haushaltsbuch2[Ausgaben],Haushaltsbuch2[Kategorie],AB$4,Haushaltsbuch2[Datum],\">\"&B4,Haushaltsbuch2[Datum],\"<=\"&B5)","v":0},{"$f":"SUMIFS(Haushaltsbuch2[Ausgaben],Haushaltsbuch2[Kategorie],AC$4,Haushaltsbuch2[Datum],\">\"&B4,Haushaltsbuch2[Datum],\"<=\"&B5)","v":0},{"$f":"SUMIFS(Haushaltsbuch2[Ausgaben],Haushaltsbuch2[Kategorie],AD$4,Haushaltsbuch2[Datum],\">\"&B4,Haushaltsbuch2[Datum],\"<=\"&B5)","v":0},{"$f":"SUMIFS(Haushaltsbuch2[Ausgaben],Haushaltsbuch2[Kategorie],AE$4,Haushaltsbuch2[Datum],\">\"&B4,Haushaltsbuch2[Datum],\"<=\"&B5)","v":0},{"$f":"SUMIFS(Haushaltsbuch2[Ausgaben],Haushaltsbuch2[Kategorie],AF$4,Haushaltsbuch2[Datum],\">\"&B4,Haushaltsbuch2[Datum],\"<=\"&B5)","v":0},{"$f":"SUMIFS(Haushaltsbuch2[Ausgaben],Haushaltsbuch2[Kategorie],AG$4,Haushaltsbuch2[Datum],\">\"&B4,Haushaltsbuch2[Datum],\"<=\"&B5)","v":0},{"$f":"SUMIFS(Haushaltsbuch2[Ausgaben],Haushaltsbuch2[Kategorie],AH$4,Haushaltsbuch2[Datum],\">\"&B4,Haushaltsbuch2[Datum],\"<=\"&B5)","v":0},{"$f":"SUMIFS(Haushaltsbuch2[Ausgaben],Haushaltsbuch2[Kategorie],AI$4,Haushaltsbuch2[Datum],\">\"&B4,Haushaltsbuch2[Datum],\"<=\"&B5)","v":0},{"$f":"SUMIFS(Haushaltsbuch2[Ausgaben],Haushaltsbuch2[Kategorie],AJ$4,Haushaltsbuch2[Datum],\">\"&B4,Haushaltsbuch2[Datum],\"<=\"&B5)","v":0},{"$f":"SUMIFS(Haushaltsbuch2[Ausgaben],Haushaltsbuch2[Kategorie],AK$4,Haushaltsbuch2[Datum],\">\"&B4,Haushaltsbuch2[Datum],\"<=\"&B5)","v":0},{"$f":"SUMIFS(Haushaltsbuch2[Ausgaben],Haushaltsbuch2[Kategorie],AL$4,Haushaltsbuch2[Datum],\">\"&B4,Haushaltsbuch2[Datum],\"<=\"&B5)","v":0},null,{"$f":"SUMIFS(Dividenden[Betrag in EUR],Dividenden[Datum],\">\"&B4,Dividenden[Datum],\"<=\"&B5)","v":0},{"$f":"SUMIFS(Optionen[G/V (Netto)],Optionen[Datum],\">\"&B4,Optionen[Datum],\"<=\"&B5)","v":0},null,{"$f":"N5+AN5","v":0},{"$f":"O5+AO5","v":0},null,{"$f":"M5+SUM(P5:R5)+SUM(AQ5:AR5)","v":0},{"$f":"AT5","v":0},null,{"$f":"SUMIFS(Haushaltsbuch2[Einnahmen],Haushaltsbuch2[Datum],\">\"&B4,Haushaltsbuch2[Datum],\"<=\"&B5)+AN5+AO5","v":0},null,{"$f":"SUMIFS(Haushaltsbuch2[Ausgaben],Haushaltsbuch2[Datum],\">\"&B4,Haushaltsbuch2[Datum],\"<=\"&B5)","v":0}]
[{"$f":"YEAR(B6)*1","v":1972},{"$f":"DATE(YEAR(B5)+1,12,31)","v":26664},null,null,null,null,null,null,null,null,null,null,{"$f":"SUMIFS(Haushaltsbuch2[Einnahmen],Haushaltsbuch2[Kategorie],M$4,Haushaltsbuch2[Datum],\">\"&B5,Haushaltsbuch2[Datum],\"<=\"&B6)","v":0},{"$f":"SUMIFS(Haushaltsbuch2[Einnahmen],Haushaltsbuch2[Kategorie],N$4,Haushaltsbuch2[Datum],\">\"&B5,Haushaltsbuch2[Datum],\"<=\"&B6)","v":0},{"$f":"SUMIFS(Haushaltsbuch2[Einnahmen],Haushaltsbuch2[Kategorie],O$4,Haushaltsbuch2[Datum],\">\"&B5,Haushaltsbuch2[Datum],\"<=\"&B6)","v":0},{"$f":"SUMIFS(Haushaltsbuch2[Einnahmen],Haushaltsbuch2[Kategorie],P$4,Haushaltsbuch2[Datum],\">\"&B5,Haushaltsbuch2[Datum],\"<=\"&B6)","v":0},{"$f":"SUMIFS(Haushaltsbuch2[Einnahmen],Haushaltsbuch2[Kategorie],Q$4,Haushaltsbuch2[Datum],\">\"&B5,Haushaltsbuch2[Datum],\"<=\"&B6)","v":0},{"$f":"SUMIFS(Haushaltsbuch2[Einnahmen],Haushaltsbuch2[Kategorie],R$4,Haushaltsbuch2[Datum],\">\"&B5,Haushaltsbuch2[Datum],\"<=\"&B6)","v":0},null,null,null,null,null,null,null,null,null,null,null,null,null,null,null,null,null,null,{"$f":"SUMIFS(Haushaltsbuch2[Ausgaben],Haushaltsbuch2[Kategorie],AK$4,Haushaltsbuch2[Datum],\">\"&B5,Haushaltsbuch2[Datum],\"<=\"&B6)","v":0},null,null,{"$f":"SUMIFS(Dividenden[Betrag in EUR],Dividenden[Datum],\">\"&B5,Dividenden[Datum],\"<=\"&B6)","v":0},{"$f":"SUMIFS(Optionen[G/V (Netto)],Optionen[Datum],\">\"&B5,Optionen[Datum],\"<=\"&B6)","v":0},null,{"$f":"N6+AN6","v":0},0,null,{"$f":"M6+SUM(P6:R6)+SUM(AQ6:AR6)","v":0},{"$f":"AVERAGE($AT$5:AT6)","v":0},null,{"$f":"SUMIFS(Haushaltsbuch2[Einnahmen],Haushaltsbuch2[Datum],\">\"&B5,Haushaltsbuch2[Datum],\"<=\"&B6)+AN6+AO6","v":0},null,{"$f":"SUMIFS(Haushaltsbuch2[Ausgaben],Haushaltsbuch2[Datum],\">\"&B5,Haushaltsbuch2[Datum],\"<=\"&B6)","v":0}]
[1973,{"$f":"DATE(YEAR(B6)+1,12,31)","v":27029},null,null,null,null,null,null,null,null,null,null,{"$f":"SUMIFS(Haushaltsbuch2[Einnahmen],Haushaltsbuch2[Kategorie],M$4,Haushaltsbuch2[Datum],\">\"&B6,Haushaltsbuch2[Datum],\"<=\"&B7)","v":0},{"$f":"SUMIFS(Haushaltsbuch2[Einnahmen],Haushaltsbuch2[Kategorie],N$4,Haushaltsbuch2[Datum],\">\"&B6,Haushaltsbuch2[Datum],\"<=\"&B7)","v":0},{"$f":"SUMIFS(Haushaltsbuch2[Einnahmen],Haushaltsbuch2[Kategorie],O$4,Haushaltsbuch2[Datum],\">\"&B6,Haushaltsbuch2[Datum],\"<=\"&B7)","v":0},{"$f":"SUMIFS(Haushaltsbuch2[Einnahmen],Haushaltsbuch2[Kategorie],P$4,Haushaltsbuch2[Datum],\">\"&B6,Haushaltsbuch2[Datum],\"<=\"&B7)","v":0},{"$f":"SUMIFS(Haushaltsbuch2[Einnahmen],Haushaltsbuch2[Kategorie],Q$4,Haushaltsbuch2[Datum],\">\"&B6,Haushaltsbuch2[Datum],\"<=\"&B7)","v":0},{"$f":"SUMIFS(Haushaltsbuch2[Einnahmen],Haushaltsbuch2[Kategorie],R$4,Haushaltsbuch2[Datum],\">\"&B6,Haushaltsbuch2[Datum],\"<=\"&B7)","v":0},null,null,null,null,null,null,null,null,null,null,null,null,null,null,null,null,null,null,{"$f":"SUMIFS(Haushaltsbuch2[Ausgaben],Haushaltsbuch2[Kategorie],AK$4,Haushaltsbuch2[Datum],\">\"&B6,Haushaltsbuch2[Datum],\"<=\"&B7)","v":0},null,null,{"$f":"SUMIFS(Dividenden[Betrag in EUR],Dividenden[Datum],\">\"&B6,Dividenden[Datum],\"<=\"&B7)","v":0},{"$f":"SUMIFS(Optionen[G/V (Netto)],Optionen[Datum],\">\"&B6,Optionen[Datum],\"<=\"&B7)","v":0},null,0,0,null,0,{"$f":"AVERAGE($AT$5:AT7)","v":0},null,{"$f":"SUMIFS(Haushaltsbuch2[Einnahmen],Haushaltsbuch2[Datum],\">\"&B6,Haushaltsbuch2[Datum],\"<=\"&B7)+AN7+AO7","v":0},null,{"$f":"SUMIFS(Haushaltsbuch2[Ausgaben],Haushaltsbuch2[Datum],\">\"&B6,Haushaltsbuch2[Datum],\"<=\"&B7)","v":0}]
[1974,27394,null,null,null,null,null,null,null,null,null,null,{"$f":"SUMIFS(Haushaltsbuch2[Einnahmen],Haushaltsbuch2[Kategorie],M$4,Haushaltsbuch2[Datum],\">\"&B7,Haushaltsbuch2[Datum],\"<=\"&B8)","v":0},{"$f":"SUMIFS(Haushaltsbuch2[Einnahmen],Haushaltsbuch2[Kategorie],N$4,Haushaltsbuch2[Datum],\">\"&B7,Haushaltsbuch2[Datum],\"<=\"&B8)","v":0},{"$f":"SUMIFS(Haushaltsbuch2[Einnahmen],Haushaltsbuch2[Kategorie],O$4,Haushaltsbuch2[Datum],\">\"&B7,Haushaltsbuch2[Datum],\"<=\"&B8)","v":0},{"$f":"SUMIFS(Haushaltsbuch2[Einnahmen],Haushaltsbuch2[Kategorie],P$4,Haushaltsbuch2[Datum],\">\"&B7,Haushaltsbuch2[Datum],\"<=\"&B8)","v":0},{"$f":"SUMIFS(Haushaltsbuch2[Einnahmen],Haushaltsbuch2[Kategorie],Q$4,Haushaltsbuch2[Datum],\">\"&B7,Haushaltsbuch2[Datum],\"<=\"&B8)","v":0},{"$f":"SUMIFS(Haushaltsbuch2[Einnahmen],Haushaltsbuch2[Kategorie],R$4,Haushaltsbuch2[Datum],\">\"&B7,Haushaltsbuch2[Datum],\"<=\"&B8)","v":0},null,null,null,null,null,null,null,null,null,null,null,null,null,null,null,null,null,null,{"$f":"SUMIFS(Haushaltsbuch2[Ausgaben],Haushaltsbuch2[Kategorie],AK$4,Haushaltsbuch2[Datum],\">\"&B7,Haushaltsbuch2[Datum],\"<=\"&B8)","v":0},null,null,{"$f":"SUMIFS(Dividenden[Betrag in EUR],Dividenden[Datum],\">\"&B7,Dividenden[Datum],\"<=\"&B8)","v":0},{"$f":"SUMIFS(Optionen[G/V (Netto)],Optionen[Datum],\">\"&B7,Optionen[Datum],\"<=\"&B8)","v":0},null,0,0,null,0,{"$f":"AVERAGE($AT$5:AT8)","v":0},null,{"$f":"SUMIFS(Haushaltsbuch2[Einnahmen],Haushaltsbuch2[Datum],\">\"&B7,Haushaltsbuch2[Datum],\"<=\"&B8)+AN8+AO8","v":0},null,{"$f":"SUMIFS(Haushaltsbuch2[Ausgaben],Haushaltsbuch2[Datum],\">\"&B7,Haushaltsbuch2[Datum],\"<=\"&B8)","v":0}]
[1975,27759,null,null,null,null,null,null,null,null,null,null,{"$f":"SUMIFS(Haushaltsbuch2[Einnahmen],Haushaltsbuch2[Kategorie],M$4,Haushaltsbuch2[Datum],\">\"&B8,Haushaltsbuch2[Datum],\"<=\"&B9)","v":0},{"$f":"SUMIFS(Haushaltsbuch2[Einnahmen],Haushaltsbuch2[Kategorie],N$4,Haushaltsbuch2[Datum],\">\"&B8,Haushaltsbuch2[Datum],\"<=\"&B9)","v":0},{"$f":"SUMIFS(Haushaltsbuch2[Einnahmen],Haushaltsbuch2[Kategorie],O$4,Haushaltsbuch2[Datum],\">\"&B8,Haushaltsbuch2[Datum],\"<=\"&B9)","v":0},{"$f":"SUMIFS(Haushaltsbuch2[Einnahmen],Haushaltsbuch2[Kategorie],P$4,Haushaltsbuch2[Datum],\">\"&B8,Haushaltsbuch2[Datum],\"<=\"&B9)","v":0},{"$f":"SUMIFS(Haushaltsbuch2[Einnahmen],Haushaltsbuch2[Kategorie],Q$4,Haushaltsbuch2[Datum],\">\"&B8,Haushaltsbuch2[Datum],\"<=\"&B9)","v":0},{"$f":"SUMIFS(Haushaltsbuch2[Einnahmen],Haushaltsbuch2[Kategorie],R$4,Haushaltsbuch2[Datum],\">\"&B8,Haushaltsbuch2[Datum],\"<=\"&B9)","v":0},null,null,null,null,null,null,null,null,null,null,null,null,null,null,null,null,null,null,{"$f":"SUMIFS(Haushaltsbuch2[Ausgaben],Haushaltsbuch2[Kategorie],AK$4,Haushaltsbuch2[Datum],\">\"&B8,Haushaltsbuch2[Datum],\"<=\"&B9)","v":0},null,null,{"$f":"SUMIFS(Dividenden[Betrag in EUR],Dividenden[Datum],\">\"&B8,Dividenden[Datum],\"<=\"&B9)","v":0},{"$f":"SUMIFS(Optionen[G/V (Netto)],Optionen[Datum],\">\"&B8,Optionen[Datum],\"<=\"&B9)","v":0},null,0,0,null,0,{"$f":"AVERAGE($AT$5:AT9)","v":0},null,{"$f":"SUMIFS(Haushaltsbuch2[Einnahmen],Haushaltsbuch2[Datum],\">\"&B8,Haushaltsbuch2[Datum],\"<=\"&B9)+AN9+AO9","v":0},null,{"$f":"SUMIFS(Haushaltsbuch2[Ausgaben],Haushaltsbuch2[Datum],\">\"&B8,Haushaltsbuch2[Datum],\"<=\"&B9)","v":0}]
[1976,28125,null,null,null,null,null,null,null,null,null,null,{"$f":"SUMIFS(Haushaltsbuch2[Einnahmen],Haushaltsbuch2[Kategorie],M$4,Haushaltsbuch2[Datum],\">\"&B9,Haushaltsbuch2[Datum],\"<=\"&B10)","v":0},{"$f":"SUMIFS(Haushaltsbuch2[Einnahmen],Haushaltsbuch2[Kategorie],N$4,Haushaltsbuch2[Datum],\">\"&B9,Haushaltsbuch2[Datum],\"<=\"&B10)","v":0},{"$f":"SUMIFS(Haushaltsbuch2[Einnahmen],Haushaltsbuch2[Kategorie],O$4,Haushaltsbuch2[Datum],\">\"&B9,Haushaltsbuch2[Datum],\"<=\"&B10)","v":0},{"$f":"SUMIFS(Haushaltsbuch2[Einnahmen],Haushaltsbuch2[Kategorie],P$4,Haushaltsbuch2[Datum],\">\"&B9,Haushaltsbuch2[Datum],\"<=\"&B10)","v":0},{"$f":"SUMIFS(Haushaltsbuch2[Einnahmen],Haushaltsbuch2[Kategorie],Q$4,Haushaltsbuch2[Datum],\">\"&B9,Haushaltsbuch2[Datum],\"<=\"&B10)","v":0},{"$f":"SUMIFS(Haushaltsbuch2[Einnahmen],Haushaltsbuch2[Kategorie],R$4,Haushaltsbuch2[Datum],\">\"&B9,Haushaltsbuch2[Datum],\"<=\"&B10)","v":0},null,null,null,null,null,null,null,null,null,null,null,null,null,null,null,null,null,null,{"$f":"SUMIFS(Haushaltsbuch2[Ausgaben],Haushaltsbuch2[Kategorie],AK$4,Haushaltsbuch2[Datum],\">\"&B9,Haushaltsbuch2[Datum],\"<=\"&B10)","v":0},null,null,{"$f":"SUMIFS(Dividenden[Betrag in EUR],Dividenden[Datum],\">\"&B9,Dividenden[Datum],\"<=\"&B10)","v":0},{"$f":"SUMIFS(Optionen[G/V (Netto)],Optionen[Datum],\">\"&B9,Optionen[Datum],\"<=\"&B10)","v":0},null,0,0,null,0,{"$f":"AVERAGE($AT$5:AT10)","v":0},null,{"$f":"SUMIFS(Haushaltsbuch2[Einnahmen],Haushaltsbuch2[Datum],\">\"&B9,Haushaltsbuch2[Datum],\"<=\"&B10)+AN10+AO10","v":0},null,{"$f":"SUMIFS(Haushaltsbuch2[Ausgaben],Haushaltsbuch2[Datum],\">\"&B9,Haushaltsbuch2[Datum],\"<=\"&B10)","v":0}]
[1977,28490,null,null,null,null,null,null,null,null,null,null,{"$f":"SUMIFS(Haushaltsbuch2[Einnahmen],Haushaltsbuch2[Kategorie],M$4,Haushaltsbuch2[Datum],\">\"&B10,Haushaltsbuch2[Datum],\"<=\"&B11)","v":0},{"$f":"SUMIFS(Haushaltsbuch2[Einnahmen],Haushaltsbuch2[Kategorie],N$4,Haushaltsbuch2[Datum],\">\"&B10,Haushaltsbuch2[Datum],\"<=\"&B11)","v":0},{"$f":"SUMIFS(Haushaltsbuch2[Einnahmen],Haushaltsbuch2[Kategorie],O$4,Haushaltsbuch2[Datum],\">\"&B10,Haushaltsbuch2[Datum],\"<=\"&B11)","v":0},{"$f":"SUMIFS(Haushaltsbuch2[Einnahmen],Haushaltsbuch2[Kategorie],P$4,Haushaltsbuch2[Datum],\">\"&B10,Haushaltsbuch2[Datum],\"<=\"&B11)","v":0},{"$f":"SUMIFS(Haushaltsbuch2[Einnahmen],Haushaltsbuch2[Kategorie],Q$4,Haushaltsbuch2[Datum],\">\"&B10,Haushaltsbuch2[Datum],\"<=\"&B11)","v":0},{"$f":"SUMIFS(Haushaltsbuch2[Einnahmen],Haushaltsbuch2[Kategorie],R$4,Haushaltsbuch2[Datum],\">\"&B10,Haushaltsbuch2[Datum],\"<=\"&B11)","v":0},null,null,null,null,null,null,null,null,null,null,null,null,null,null,null,null,null,null,{"$f":"SUMIFS(Haushaltsbuch2[Ausgaben],Haushaltsbuch2[Kategorie],AK$4,Haushaltsbuch2[Datum],\">\"&B10,Haushaltsbuch2[Datum],\"<=\"&B11)","v":0},null,null,{"$f":"SUMIFS(Dividenden[Betrag in EUR],Dividenden[Datum],\">\"&B10,Dividenden[Datum],\"<=\"&B11)","v":0},{"$f":"SUMIFS(Optionen[G/V (Netto)],Optionen[Datum],\">\"&B10,Optionen[Datum],\"<=\"&B11)","v":0},null,0,0,null,0,{"$f":"AVERAGE($AT$5:AT11)","v":0},null,{"$f":"SUMIFS(Haushaltsbuch2[Einnahmen],Haushaltsbuch2[Datum],\">\"&B10,Haushaltsbuch2[Datum],\"<=\"&B11)+AN11+AO11","v":0},null,{"$f":"SUMIFS(Haushaltsbuch2[Ausgaben],Haushaltsbuch2[Datum],\">\"&B10,Haushaltsbuch2[Datum],\"<=\"&B11)","v":0}]
[1978,28855,null,null,null,null,null,null,null,null,null,null,{"$f":"SUMIFS(Haushaltsbuch2[Einnahmen],Haushaltsbuch2[Kategorie],M$4,Haushaltsbuch2[Datum],\">\"&B11,Haushaltsbuch2[Datum],\"<=\"&B12)","v":0},{"$f":"SUMIFS(Haushaltsbuch2[Einnahmen],Haushaltsbuch2[Kategorie],N$4,Haushaltsbuch2[Datum],\">\"&B11,Haushaltsbuch2[Datum],\"<=\"&B12)","v":0},{"$f":"SUMIFS(Haushaltsbuch2[Einnahmen],Haushaltsbuch2[Kategorie],O$4,Haushaltsbuch2[Datum],\">\"&B11,Haushaltsbuch2[Datum],\"<=\"&B12)","v":0},{"$f":"SUMIFS(Haushaltsbuch2[Einnahmen],Haushaltsbuch2[Kategorie],P$4,Haushaltsbuch2[Datum],\">\"&B11,Haushaltsbuch2[Datum],\"<=\"&B12)","v":0},{"$f":"SUMIFS(Haushaltsbuch2[Einnahmen],Haushaltsbuch2[Kategorie],Q$4,Haushaltsbuch2[Datum],\">\"&B11,Haushaltsbuch2[Datum],\"<=\"&B12)","v":0},{"$f":"SUMIFS(Haushaltsbuch2[Einnahmen],Haushaltsbuch2[Kategorie],R$4,Haushaltsbuch2[Datum],\">\"&B11,Haushaltsbuch2[Datum],\"<=\"&B12)","v":0},null,null,null,null,null,null,null,null,null,null,null,null,null,null,null,null,null,null,{"$f":"SUMIFS(Haushaltsbuch2[Ausgaben],Haushaltsbuch2[Kategorie],AK$4,Haushaltsbuch2[Datum],\">\"&B11,Haushaltsbuch2[Datum],\"<=\"&B12)","v":0},null,null,{"$f":"SUMIFS(Dividenden[Betrag in EUR],Dividenden[Datum],\">\"&B11,Dividenden[Datum],\"<=\"&B12)","v":0},{"$f":"SUMIFS(Optionen[G/V (Netto)],Optionen[Datum],\">\"&B11,Optionen[Datum],\"<=\"&B12)","v":0},null,0,0,null,0,{"$f":"AVERAGE($AT$5:AT12)","v":0},null,{"$f":"SUMIFS(Haushaltsbuch2[Einnahmen],Haushaltsbuch2[Datum],\">\"&B11,Haushaltsbuch2[Datum],\"<=\"&B12)+AN12+AO12","v":0},null,{"$f":"SUMIFS(Haushaltsbuch2[Ausgaben],Haushaltsbuch2[Datum],\">\"&B11,Haushaltsbuch2[Datum],\"<=\"&B12)","v":0}]
[1979,29220,null,null,null,null,null,null,null,null,null,null,{"$f":"SUMIFS(Haushaltsbuch2[Einnahmen],Haushaltsbuch2[Kategorie],M$4,Haushaltsbuch2[Datum],\">\"&B12,Haushaltsbuch2[Datum],\"<=\"&B13)","v":0},{"$f":"SUMIFS(Haushaltsbuch2[Einnahmen],Haushaltsbuch2[Kategorie],N$4,Haushaltsbuch2[Datum],\">\"&B12,Haushaltsbuch2[Datum],\"<=\"&B13)","v":0},{"$f":"SUMIFS(Haushaltsbuch2[Einnahmen],Haushaltsbuch2[Kategorie],O$4,Haushaltsbuch2[Datum],\">\"&B12,Haushaltsbuch2[Datum],\"<=\"&B13)","v":0},{"$f":"SUMIFS(Haushaltsbuch2[Einnahmen],Haushaltsbuch2[Kategorie],P$4,Haushaltsbuch2[Datum],\">\"&B12,Haushaltsbuch2[Datum],\"<=\"&B13)","v":0},{"$f":"SUMIFS(Haushaltsbuch2[Einnahmen],Haushaltsbuch2[Kategorie],Q$4,Haushaltsbuch2[Datum],\">\"&B12,Haushaltsbuch2[Datum],\"<=\"&B13)","v":0},{"$f":"SUMIFS(Haushaltsbuch2[Einnahmen],Haushaltsbuch2[Kategorie],R$4,Haushaltsbuch2[Datum],\">\"&B12,Haushaltsbuch2[Datum],\"<=\"&B13)","v":0},null,null,null,null,null,null,null,null,null,null,null,null,null,null,null,null,null,null,{"$f":"SUMIFS(Haushaltsbuch2[Ausgaben],Haushaltsbuch2[Kategorie],AK$4,Haushaltsbuch2[Datum],\">\"&B12,Haushaltsbuch2[Datum],\"<=\"&B13)","v":0},null,null,{"$f":"SUMIFS(Dividenden[Betrag in EUR],Dividenden[Datum],\">\"&B12,Dividenden[Datum],\"<=\"&B13)","v":0},{"$f":"SUMIFS(Optionen[G/V (Netto)],Optionen[Datum],\">\"&B12,Optionen[Datum],\"<=\"&B13)","v":0},null,0,0,null,0,{"$f":"AVERAGE($AT$5:AT13)","v":0},null,{"$f":"SUMIFS(Haushaltsbuch2[Einnahmen],Haushaltsbuch2[Datum],\">\"&B12,Haushaltsbuch2[Datum],\"<=\"&B13)+AN13+AO13","v":0},null,{"$f":"SUMIFS(Haushaltsbuch2[Ausgaben],Haushaltsbuch2[Datum],\">\"&B12,Haushaltsbuch2[Datum],\"<=\"&B13)","v":0}]
[1980,29586,null,null,null,null,null,null,null,null,null,null,{"$f":"SUMIFS(Haushaltsbuch2[Einnahmen],Haushaltsbuch2[Kategorie],M$4,Haushaltsbuch2[Datum],\">\"&B13,Haushaltsbuch2[Datum],\"<=\"&B14)","v":0},{"$f":"SUMIFS(Haushaltsbuch2[Einnahmen],Haushaltsbuch2[Kategorie],N$4,Haushaltsbuch2[Datum],\">\"&B13,Haushaltsbuch2[Datum],\"<=\"&B14)","v":0},{"$f":"SUMIFS(Haushaltsbuch2[Einnahmen],Haushaltsbuch2[Kategorie],O$4,Haushaltsbuch2[Datum],\">\"&B13,Haushaltsbuch2[Datum],\"<=\"&B14)","v":0},{"$f":"SUMIFS(Haushaltsbuch2[Einnahmen],Haushaltsbuch2[Kategorie],P$4,Haushaltsbuch2[Datum],\">\"&B13,Haushaltsbuch2[Datum],\"<=\"&B14)","v":0},{"$f":"SUMIFS(Haushaltsbuch2[Einnahmen],Haushaltsbuch2[Kategorie],Q$4,Haushaltsbuch2[Datum],\">\"&B13,Haushaltsbuch2[Datum],\"<=\"&B14)","v":0},{"$f":"SUMIFS(Haushaltsbuch2[Einnahmen],Haushaltsbuch2[Kategorie],R$4,Haushaltsbuch2[Datum],\">\"&B13,Haushaltsbuch2[Datum],\"<=\"&B14)","v":0},null,null,null,null,null,null,null,null,null,null,null,null,null,null,null,null,null,null,{"$f":"SUMIFS(Haushaltsbuch2[Ausgaben],Haushaltsbuch2[Kategorie],AK$4,Haushaltsbuch2[Datum],\">\"&B13,Haushaltsbuch2[Datum],\"<=\"&B14)","v":0},null,null,{"$f":"SUMIFS(Dividenden[Betrag in EUR],Dividenden[Datum],\">\"&B13,Dividenden[Datum],\"<=\"&B14)","v":0},{"$f":"SUMIFS(Optionen[G/V (Netto)],Optionen[Datum],\">\"&B13,Optionen[Datum],\"<=\"&B14)","v":0},null,0,0,null,0,{"$f":"AVERAGE($AT$5:AT14)","v":0},null,{"$f":"SUMIFS(Haushaltsbuch2[Einnahmen],Haushaltsbuch2[Datum],\">\"&B13,Haushaltsbuch2[Datum],\"<=\"&B14)+AN14+AO14","v":0},null,{"$f":"SUMIFS(Haushaltsbuch2[Ausgaben],Haushaltsbuch2[Datum],\">\"&B13,Haushaltsbuch2[Datum],\"<=\"&B14)","v":0}]
[1981,29951,null,null,null,null,null,null,null,null,null,null,{"$f":"SUMIFS(Haushaltsbuch2[Einnahmen],Haushaltsbuch2[Kategorie],M$4,Haushaltsbuch2[Datum],\">\"&B14,Haushaltsbuch2[Datum],\"<=\"&B15)","v":0},{"$f":"SUMIFS(Haushaltsbuch2[Einnahmen],Haushaltsbuch2[Kategorie],N$4,Haushaltsbuch2[Datum],\">\"&B14,Haushaltsbuch2[Datum],\"<=\"&B15)","v":0},{"$f":"SUMIFS(Haushaltsbuch2[Einnahmen],Haushaltsbuch2[Kategorie],O$4,Haushaltsbuch2[Datum],\">\"&B14,Haushaltsbuch2[Datum],\"<=\"&B15)","v":0},{"$f":"SUMIFS(Haushaltsbuch2[Einnahmen],Haushaltsbuch2[Kategorie],P$4,Haushaltsbuch2[Datum],\">\"&B14,Haushaltsbuch2[Datum],\"<=\"&B15)","v":0},{"$f":"SUMIFS(Haushaltsbuch2[Einnahmen],Haushaltsbuch2[Kategorie],Q$4,Haushaltsbuch2[Datum],\">\"&B14,Haushaltsbuch2[Datum],\"<=\"&B15)","v":0},{"$f":"SUMIFS(Haushaltsbuch2[Einnahmen],Haushaltsbuch2[Kategorie],R$4,Haushaltsbuch2[Datum],\">\"&B14,Haushaltsbuch2[Datum],\"<=\"&B15)","v":0},null,null,null,null,null,null,null,null,null,null,null,null,null,null,null,null,null,null,{"$f":"SUMIFS(Haushaltsbuch2[Ausgaben],Haushaltsbuch2[Kategorie],AK$4,Haushaltsbuch2[Datum],\">\"&B14,Haushaltsbuch2[Datum],\"<=\"&B15)","v":0},null,null,{"$f":"SUMIFS(Dividenden[Betrag in EUR],Dividenden[Datum],\">\"&B14,Dividenden[Datum],\"<=\"&B15)","v":0},{"$f":"SUMIFS(Optionen[G/V (Netto)],Optionen[Datum],\">\"&B14,Optionen[Datum],\"<=\"&B15)","v":0},null,0,0,null,0,{"$f":"AVERAGE($AT$5:AT15)","v":0},null,{"$f":"SUMIFS(Haushaltsbuch2[Einnahmen],Haushaltsbuch2[Datum],\">\"&B14,Haushaltsbuch2[Datum],\"<=\"&B15)+AN15+AO15","v":0},null,{"$f":"SUMIFS(Haushaltsbuch2[Ausgaben],Haushaltsbuch2[Datum],\">\"&B14,Haushaltsbuch2[Datum],\"<=\"&B15)","v":0}]
[1982,30316,null,null,null,null,null,null,null,null,null,null,{"$f":"SUMIFS(Haushaltsbuch2[Einnahmen],Haushaltsbuch2[Kategorie],M$4,Haushaltsbuch2[Datum],\">\"&B15,Haushaltsbuch2[Datum],\"<=\"&B16)","v":0},{"$f":"SUMIFS(Haushaltsbuch2[Einnahmen],Haushaltsbuch2[Kategorie],N$4,Haushaltsbuch2[Datum],\">\"&B15,Haushaltsbuch2[Datum],\"<=\"&B16)","v":0},{"$f":"SUMIFS(Haushaltsbuch2[Einnahmen],Haushaltsbuch2[Kategorie],O$4,Haushaltsbuch2[Datum],\">\"&B15,Haushaltsbuch2[Datum],\"<=\"&B16)","v":0},{"$f":"SUMIFS(Haushaltsbuch2[Einnahmen],Haushaltsbuch2[Kategorie],P$4,Haushaltsbuch2[Datum],\">\"&B15,Haushaltsbuch2[Datum],\"<=\"&B16)","v":0},{"$f":"SUMIFS(Haushaltsbuch2[Einnahmen],Haushaltsbuch2[Kategorie],Q$4,Haushaltsbuch2[Datum],\">\"&B15,Haushaltsbuch2[Datum],\"<=\"&B16)","v":0},{"$f":"SUMIFS(Haushaltsbuch2[Einnahmen],Haushaltsbuch2[Kategorie],R$4,Haushaltsbuch2[Datum],\">\"&B15,Haushaltsbuch2[Datum],\"<=\"&B16)","v":0},null,null,null,null,null,null,null,null,null,null,null,null,null,null,null,null,null,null,{"$f":"SUMIFS(Haushaltsbuch2[Ausgaben],Haushaltsbuch2[Kategorie],AK$4,Haushaltsbuch2[Datum],\">\"&B15,Haushaltsbuch2[Datum],\"<=\"&B16)","v":0},null,null,{"$f":"SUMIFS(Dividenden[Betrag in EUR],Dividenden[Datum],\">\"&B15,Dividenden[Datum],\"<=\"&B16)","v":0},{"$f":"SUMIFS(Optionen[G/V (Netto)],Optionen[Datum],\">\"&B15,Optionen[Datum],\"<=\"&B16)","v":0},null,0,0,null,0,{"$f":"AVERAGE($AT$5:AT16)","v":0},null,{"$f":"SUMIFS(Haushaltsbuch2[Einnahmen],Haushaltsbuch2[Datum],\">\"&B15,Haushaltsbuch2[Datum],\"<=\"&B16)+AN16+AO16","v":0},null,{"$f":"SUMIFS(Haushaltsbuch2[Ausgaben],Haushaltsbuch2[Datum],\">\"&B15,Haushaltsbuch2[Datum],\"<=\"&B16)","v":0}]
[1983,30681,null,null,null,null,null,null,null,null,null,null,{"$f":"SUMIFS(Haushaltsbuch2[Einnahmen],Haushaltsbuch2[Kategorie],M$4,Haushaltsbuch2[Datum],\">\"&B16,Haushaltsbuch2[Datum],\"<=\"&B17)","v":0},{"$f":"SUMIFS(Haushaltsbuch2[Einnahmen],Haushaltsbuch2[Kategorie],N$4,Haushaltsbuch2[Datum],\">\"&B16,Haushaltsbuch2[Datum],\"<=\"&B17)","v":0},{"$f":"SUMIFS(Haushaltsbuch2[Einnahmen],Haushaltsbuch2[Kategorie],O$4,Haushaltsbuch2[Datum],\">\"&B16,Haushaltsbuch2[Datum],\"<=\"&B17)","v":0},{"$f":"SUMIFS(Haushaltsbuch2[Einnahmen],Haushaltsbuch2[Kategorie],P$4,Haushaltsbuch2[Datum],\">\"&B16,Haushaltsbuch2[Datum],\"<=\"&B17)","v":0},{"$f":"SUMIFS(Haushaltsbuch2[Einnahmen],Haushaltsbuch2[Kategorie],Q$4,Haushaltsbuch2[Datum],\">\"&B16,Haushaltsbuch2[Datum],\"<=\"&B17)","v":0},{"$f":"SUMIFS(Haushaltsbuch2[Einnahmen],Haushaltsbuch2[Kategorie],R$4,Haushaltsbuch2[Datum],\">\"&B16,Haushaltsbuch2[Datum],\"<=\"&B17)","v":0},null,null,null,null,null,null,null,null,null,null,null,null,null,null,null,null,null,null,{"$f":"SUMIFS(Haushaltsbuch2[Ausgaben],Haushaltsbuch2[Kategorie],AK$4,Haushaltsbuch2[Datum],\">\"&B16,Haushaltsbuch2[Datum],\"<=\"&B17)","v":0},null,null,{"$f":"SUMIFS(Dividenden[Betrag in EUR],Dividenden[Datum],\">\"&B16,Dividenden[Datum],\"<=\"&B17)","v":0},{"$f":"SUMIFS(Optionen[G/V (Netto)],Optionen[Datum],\">\"&B16,Optionen[Datum],\"<=\"&B17)","v":0},null,0,0,null,0,{"$f":"AVERAGE(AT6:AT17)","v":0},null,{"$f":"SUMIFS(Haushaltsbuch2[Einnahmen],Haushaltsbuch2[Datum],\">\"&B16,Haushaltsbuch2[Datum],\"<=\"&B17)+AN17+AO17","v":0},null,{"$f":"SUMIFS(Haushaltsbuch2[Ausgaben],Haushaltsbuch2[Datum],\">\"&B16,Haushaltsbuch2[Datum],\"<=\"&B17)","v":0}]
[1984,31047,null,null,null,null,null,null,null,null,null,null,{"$f":"SUMIFS(Haushaltsbuch2[Einnahmen],Haushaltsbuch2[Kategorie],M$4,Haushaltsbuch2[Datum],\">\"&B17,Haushaltsbuch2[Datum],\"<=\"&B18)","v":0},{"$f":"SUMIFS(Haushaltsbuch2[Einnahmen],Haushaltsbuch2[Kategorie],N$4,Haushaltsbuch2[Datum],\">\"&B17,Haushaltsbuch2[Datum],\"<=\"&B18)","v":0},{"$f":"SUMIFS(Haushaltsbuch2[Einnahmen],Haushaltsbuch2[Kategorie],O$4,Haushaltsbuch2[Datum],\">\"&B17,Haushaltsbuch2[Datum],\"<=\"&B18)","v":0},{"$f":"SUMIFS(Haushaltsbuch2[Einnahmen],Haushaltsbuch2[Kategorie],P$4,Haushaltsbuch2[Datum],\">\"&B17,Haushaltsbuch2[Datum],\"<=\"&B18)","v":0},{"$f":"SUMIFS(Haushaltsbuch2[Einnahmen],Haushaltsbuch2[Kategorie],Q$4,Haushaltsbuch2[Datum],\">\"&B17,Haushaltsbuch2[Datum],\"<=\"&B18)","v":0},{"$f":"SUMIFS(Haushaltsbuch2[Einnahmen],Haushaltsbuch2[Kategorie],R$4,Haushaltsbuch2[Datum],\">\"&B17,Haushaltsbuch2[Datum],\"<=\"&B18)","v":0},null,null,null,null,null,null,null,null,null,null,null,null,null,null,null,null,null,null,{"$f":"SUMIFS(Haushaltsbuch2[Ausgaben],Haushaltsbuch2[Kategorie],AK$4,Haushaltsbuch2[Datum],\">\"&B17,Haushaltsbuch2[Datum],\"<=\"&B18)","v":0},null,null,{"$f":"SUMIFS(Dividenden[Betrag in EUR],Dividenden[Datum],\">\"&B17,Dividenden[Datum],\"<=\"&B18)","v":0},{"$f":"SUMIFS(Optionen[G/V (Netto)],Optionen[Datum],\">\"&B17,Optionen[Datum],\"<=\"&B18)","v":0},null,0,0,null,0,{"$f":"AVERAGE(AT7:AT18)","v":0},null,{"$f":"SUMIFS(Haushaltsbuch2[Einnahmen],Haushaltsbuch2[Datum],\">\"&B17,Haushaltsbuch2[Datum],\"<=\"&B18)+AN18+AO18","v":0},null,{"$f":"SUMIFS(Haushaltsbuch2[Ausgaben],Haushaltsbuch2[Datum],\">\"&B17,Haushaltsbuch2[Datum],\"<=\"&B18)","v":0}]
[1985,31412,null,null,null,null,null,null,null,null,null,null,{"$f":"SUMIFS(Haushaltsbuch2[Einnahmen],Haushaltsbuch2[Kategorie],M$4,Haushaltsbuch2[Datum],\">\"&B18,Haushaltsbuch2[Datum],\"<=\"&B19)","v":0},{"$f":"SUMIFS(Haushaltsbuch2[Einnahmen],Haushaltsbuch2[Kategorie],N$4,Haushaltsbuch2[Datum],\">\"&B18,Haushaltsbuch2[Datum],\"<=\"&B19)","v":0},{"$f":"SUMIFS(Haushaltsbuch2[Einnahmen],Haushaltsbuch2[Kategorie],O$4,Haushaltsbuch2[Datum],\">\"&B18,Haushaltsbuch2[Datum],\"<=\"&B19)","v":0},{"$f":"SUMIFS(Haushaltsbuch2[Einnahmen],Haushaltsbuch2[Kategorie],P$4,Haushaltsbuch2[Datum],\">\"&B18,Haushaltsbuch2[Datum],\"<=\"&B19)","v":0},{"$f":"SUMIFS(Haushaltsbuch2[Einnahmen],Haushaltsbuch2[Kategorie],Q$4,Haushaltsbuch2[Datum],\">\"&B18,Haushaltsbuch2[Datum],\"<=\"&B19)","v":0},{"$f":"SUMIFS(Haushaltsbuch2[Einnahmen],Haushaltsbuch2[Kategorie],R$4,Haushaltsbuch2[Datum],\">\"&B18,Haushaltsbuch2[Datum],\"<=\"&B19)","v":0},null,null,null,null,null,null,null,null,null,null,null,null,null,null,null,null,null,null,{"$f":"SUMIFS(Haushaltsbuch2[Ausgaben],Haushaltsbuch2[Kategorie],AK$4,Haushaltsbuch2[Datum],\">\"&B18,Haushaltsbuch2[Datum],\"<=\"&B19)","v":0},null,null,{"$f":"SUMIFS(Dividenden[Betrag in EUR],Dividenden[Datum],\">\"&B18,Dividenden[Datum],\"<=\"&B19)","v":0},{"$f":"SUMIFS(Optionen[G/V (Netto)],Optionen[Datum],\">\"&B18,Optionen[Datum],\"<=\"&B19)","v":0},null,0,0,null,0,0,null,{"$f":"SUMIFS(Haushaltsbuch2[Einnahmen],Haushaltsbuch2[Datum],\">\"&B18,Haushaltsbuch2[Datum],\"<=\"&B19)+AN19+AO19","v":0},null,{"$f":"SUMIFS(Haushaltsbuch2[Ausgaben],Haushaltsbuch2[Datum],\">\"&B18,Haushaltsbuch2[Datum],\"<=\"&B19)","v":0}]
[1986,31777,null,null,null,null,null,null,null,null,null,null,{"$f":"SUMIFS(Haushaltsbuch2[Einnahmen],Haushaltsbuch2[Kategorie],M$4,Haushaltsbuch2[Datum],\">\"&B19,Haushaltsbuch2[Datum],\"<=\"&B20)","v":0},{"$f":"SUMIFS(Haushaltsbuch2[Einnahmen],Haushaltsbuch2[Kategorie],N$4,Haushaltsbuch2[Datum],\">\"&B19,Haushaltsbuch2[Datum],\"<=\"&B20)","v":0},{"$f":"SUMIFS(Haushaltsbuch2[Einnahmen],Haushaltsbuch2[Kategorie],O$4,Haushaltsbuch2[Datum],\">\"&B19,Haushaltsbuch2[Datum],\"<=\"&B20)","v":0},{"$f":"SUMIFS(Haushaltsbuch2[Einnahmen],Haushaltsbuch2[Kategorie],P$4,Haushaltsbuch2[Datum],\">\"&B19,Haushaltsbuch2[Datum],\"<=\"&B20)","v":0},{"$f":"SUMIFS(Haushaltsbuch2[Einnahmen],Haushaltsbuch2[Kategorie],Q$4,Haushaltsbuch2[Datum],\">\"&B19,Haushaltsbuch2[Datum],\"<=\"&B20)","v":0},{"$f":"SUMIFS(Haushaltsbuch2[Einnahmen],Haushaltsbuch2[Kategorie],R$4,Haushaltsbuch2[Datum],\">\"&B19,Haushaltsbuch2[Datum],\"<=\"&B20)","v":0},null,null,null,null,null,null,null,null,null,null,null,null,null,null,null,null,null,null,{"$f":"SUMIFS(Haushaltsbuch2[Ausgaben],Haushaltsbuch2[Kategorie],AK$4,Haushaltsbuch2[Datum],\">\"&B19,Haushaltsbuch2[Datum],\"<=\"&B20)","v":0},null,null,{"$f":"SUMIFS(Dividenden[Betrag in EUR],Dividenden[Datum],\">\"&B19,Dividenden[Datum],\"<=\"&B20)","v":0},{"$f":"SUMIFS(Optionen[G/V (Netto)],Optionen[Datum],\">\"&B19,Optionen[Datum],\"<=\"&B20)","v":0},null,0,0,null,0,0,null,{"$f":"SUMIFS(Haushaltsbuch2[Einnahmen],Haushaltsbuch2[Datum],\">\"&B19,Haushaltsbuch2[Datum],\"<=\"&B20)+AN20+AO20","v":0},null,{"$f":"SUMIFS(Haushaltsbuch2[Ausgaben],Haushaltsbuch2[Datum],\">\"&B19,Haushaltsbuch2[Datum],\"<=\"&B20)","v":0}]
[1987,32142,null,null,null,null,null,null,null,null,null,null,{"$f":"SUMIFS(Haushaltsbuch2[Einnahmen],Haushaltsbuch2[Kategorie],M$4,Haushaltsbuch2[Datum],\">\"&B20,Haushaltsbuch2[Datum],\"<=\"&B21)","v":0},{"$f":"SUMIFS(Haushaltsbuch2[Einnahmen],Haushaltsbuch2[Kategorie],N$4,Haushaltsbuch2[Datum],\">\"&B20,Haushaltsbuch2[Datum],\"<=\"&B21)","v":0},{"$f":"SUMIFS(Haushaltsbuch2[Einnahmen],Haushaltsbuch2[Kategorie],O$4,Haushaltsbuch2[Datum],\">\"&B20,Haushaltsbuch2[Datum],\"<=\"&B21)","v":0},{"$f":"SUMIFS(Haushaltsbuch2[Einnahmen],Haushaltsbuch2[Kategorie],P$4,Haushaltsbuch2[Datum],\">\"&B20,Haushaltsbuch2[Datum],\"<=\"&B21)","v":0},{"$f":"SUMIFS(Haushaltsbuch2[Einnahmen],Haushaltsbuch2[Kategorie],Q$4,Haushaltsbuch2[Datum],\">\"&B20,Haushaltsbuch2[Datum],\"<=\"&B21)","v":0},{"$f":"SUMIFS(Haushaltsbuch2[Einnahmen],Haushaltsbuch2[Kategorie],R$4,Haushaltsbuch2[Datum],\">\"&B20,Haushaltsbuch2[Datum],\"<=\"&B21)","v":0},null,null,null,null,null,null,null,null,null,null,null,null,null,null,null,null,null,null,{"$f":"SUMIFS(Haushaltsbuch2[Ausgaben],Haushaltsbuch2[Kategorie],AK$4,Haushaltsbuch2[Datum],\">\"&B20,Haushaltsbuch2[Datum],\"<=\"&B21)","v":0},null,null,{"$f":"SUMIFS(Dividenden[Betrag in EUR],Dividenden[Datum],\">\"&B20,Dividenden[Datum],\"<=\"&B21)","v":0},{"$f":"SUMIFS(Optionen[G/V (Netto)],Optionen[Datum],\">\"&B20,Optionen[Datum],\"<=\"&B21)","v":0},null,0,0,null,0,0,null,{"$f":"SUMIFS(Haushaltsbuch2[Einnahmen],Haushaltsbuch2[Datum],\">\"&B20,Haushaltsbuch2[Datum],\"<=\"&B21)+AN21+AO21","v":0},null,{"$f":"SUMIFS(Haushaltsbuch2[Ausgaben],Haushaltsbuch2[Datum],\">\"&B20,Haushaltsbuch2[Datum],\"<=\"&B21)","v":0}]
[1988,32508,null,null,null,null,null,null,null,null,null,null,{"$f":"SUMIFS(Haushaltsbuch2[Einnahmen],Haushaltsbuch2[Kategorie],M$4,Haushaltsbuch2[Datum],\">\"&B21,Haushaltsbuch2[Datum],\"<=\"&B22)","v":0},{"$f":"SUMIFS(Haushaltsbuch2[Einnahmen],Haushaltsbuch2[Kategorie],N$4,Haushaltsbuch2[Datum],\">\"&B21,Haushaltsbuch2[Datum],\"<=\"&B22)","v":0},{"$f":"SUMIFS(Haushaltsbuch2[Einnahmen],Haushaltsbuch2[Kategorie],O$4,Haushaltsbuch2[Datum],\">\"&B21,Haushaltsbuch2[Datum],\"<=\"&B22)","v":0},{"$f":"SUMIFS(Haushaltsbuch2[Einnahmen],Haushaltsbuch2[Kategorie],P$4,Haushaltsbuch2[Datum],\">\"&B21,Haushaltsbuch2[Datum],\"<=\"&B22)","v":0},{"$f":"SUMIFS(Haushaltsbuch2[Einnahmen],Haushaltsbuch2[Kategorie],Q$4,Haushaltsbuch2[Datum],\">\"&B21,Haushaltsbuch2[Datum],\"<=\"&B22)","v":0},{"$f":"SUMIFS(Haushaltsbuch2[Einnahmen],Haushaltsbuch2[Kategorie],R$4,Haushaltsbuch2[Datum],\">\"&B21,Haushaltsbuch2[Datum],\"<=\"&B22)","v":0},null,null,null,null,null,null,null,null,null,null,null,null,null,null,null,null,null,null,{"$f":"SUMIFS(Haushaltsbuch2[Ausgaben],Haushaltsbuch2[Kategorie],AK$4,Haushaltsbuch2[Datum],\">\"&B21,Haushaltsbuch2[Datum],\"<=\"&B22)","v":0},null,null,{"$f":"SUMIFS(Dividenden[Betrag in EUR],Dividenden[Datum],\">\"&B21,Dividenden[Datum],\"<=\"&B22)","v":0},{"$f":"SUMIFS(Optionen[G/V (Netto)],Optionen[Datum],\">\"&B21,Optionen[Datum],\"<=\"&B22)","v":0},null,0,0,null,0,0,null,{"$f":"SUMIFS(Haushaltsbuch2[Einnahmen],Haushaltsbuch2[Datum],\">\"&B21,Haushaltsbuch2[Datum],\"<=\"&B22)+AN22+AO22","v":0},null,{"$f":"SUMIFS(Haushaltsbuch2[Ausgaben],Haushaltsbuch2[Datum],\">\"&B21,Haushaltsbuch2[Datum],\"<=\"&B22)","v":0}]
[1989,32873,null,null,null,null,null,null,null,null,null,null,{"$f":"SUMIFS(Haushaltsbuch2[Einnahmen],Haushaltsbuch2[Kategorie],M$4,Haushaltsbuch2[Datum],\">\"&B22,Haushaltsbuch2[Datum],\"<=\"&B23)","v":0},{"$f":"SUMIFS(Haushaltsbuch2[Einnahmen],Haushaltsbuch2[Kategorie],N$4,Haushaltsbuch2[Datum],\">\"&B22,Haushaltsbuch2[Datum],\"<=\"&B23)","v":0},{"$f":"SUMIFS(Haushaltsbuch2[Einnahmen],Haushaltsbuch2[Kategorie],O$4,Haushaltsbuch2[Datum],\">\"&B22,Haushaltsbuch2[Datum],\"<=\"&B23)","v":0},{"$f":"SUMIFS(Haushaltsbuch2[Einnahmen],Haushaltsbuch2[Kategorie],P$4,Haushaltsbuch2[Datum],\">\"&B22,Haushaltsbuch2[Datum],\"<=\"&B23)","v":0},{"$f":"SUMIFS(Haushaltsbuch2[Einnahmen],Haushaltsbuch2[Kategorie],Q$4,Haushaltsbuch2[Datum],\">\"&B22,Haushaltsbuch2[Datum],\"<=\"&B23)","v":0},{"$f":"SUMIFS(Haushaltsbuch2[Einnahmen],Haushaltsbuch2[Kategorie],R$4,Haushaltsbuch2[Datum],\">\"&B22,Haushaltsbuch2[Datum],\"<=\"&B23)","v":0},null,null,null,null,null,null,null,null,null,null,null,null,null,null,null,null,null,null,{"$f":"SUMIFS(Haushaltsbuch2[Ausgaben],Haushaltsbuch2[Kategorie],AK$4,Haushaltsbuch2[Datum],\">\"&B22,Haushaltsbuch2[Datum],\"<=\"&B23)","v":0},null,null,{"$f":"SUMIFS(Dividenden[Betrag in EUR],Dividenden[Datum],\">\"&B22,Dividenden[Datum],\"<=\"&B23)","v":0},{"$f":"SUMIFS(Optionen[G/V (Netto)],Optionen[Datum],\">\"&B22,Optionen[Datum],\"<=\"&B23)","v":0},null,0,0,null,0,0,null,{"$f":"SUMIFS(Haushaltsbuch2[Einnahmen],Haushaltsbuch2[Datum],\">\"&B22,Haushaltsbuch2[Datum],\"<=\"&B23)+AN23+AO23","v":0},null,{"$f":"SUMIFS(Haushaltsbuch2[Ausgaben],Haushaltsbuch2[Datum],\">\"&B22,Haushaltsbuch2[Datum],\"<=\"&B23)","v":0}]
[1990,33238,null,null,null,null,null,null,null,null,null,null,{"$f":"SUMIFS(Haushaltsbuch2[Einnahmen],Haushaltsbuch2[Kategorie],M$4,Haushaltsbuch2[Datum],\">\"&B23,Haushaltsbuch2[Datum],\"<=\"&B24)","v":0},{"$f":"SUMIFS(Haushaltsbuch2[Einnahmen],Haushaltsbuch2[Kategorie],N$4,Haushaltsbuch2[Datum],\">\"&B23,Haushaltsbuch2[Datum],\"<=\"&B24)","v":0},{"$f":"SUMIFS(Haushaltsbuch2[Einnahmen],Haushaltsbuch2[Kategorie],O$4,Haushaltsbuch2[Datum],\">\"&B23,Haushaltsbuch2[Datum],\"<=\"&B24)","v":0},{"$f":"SUMIFS(Haushaltsbuch2[Einnahmen],Haushaltsbuch2[Kategorie],P$4,Haushaltsbuch2[Datum],\">\"&B23,Haushaltsbuch2[Datum],\"<=\"&B24)","v":0},{"$f":"SUMIFS(Haushaltsbuch2[Einnahmen],Haushaltsbuch2[Kategorie],Q$4,Haushaltsbuch2[Datum],\">\"&B23,Haushaltsbuch2[Datum],\"<=\"&B24)","v":0},{"$f":"SUMIFS(Haushaltsbuch2[Einnahmen],Haushaltsbuch2[Kategorie],R$4,Haushaltsbuch2[Datum],\">\"&B23,Haushaltsbuch2[Datum],\"<=\"&B24)","v":0},null,null,null,null,null,null,null,null,null,null,null,null,null,null,null,null,null,null,{"$f":"SUMIFS(Haushaltsbuch2[Ausgaben],Haushaltsbuch2[Kategorie],AK$4,Haushaltsbuch2[Datum],\">\"&B23,Haushaltsbuch2[Datum],\"<=\"&B24)","v":0},null,null,{"$f":"SUMIFS(Dividenden[Betrag in EUR],Dividenden[Datum],\">\"&B23,Dividenden[Datum],\"<=\"&B24)","v":0},{"$f":"SUMIFS(Optionen[G/V (Netto)],Optionen[Datum],\">\"&B23,Optionen[Datum],\"<=\"&B24)","v":0},null,0,0,null,0,0,null,{"$f":"SUMIFS(Haushaltsbuch2[Einnahmen],Haushaltsbuch2[Datum],\">\"&B23,Haushaltsbuch2[Datum],\"<=\"&B24)+AN24+AO24","v":0},null,{"$f":"SUMIFS(Haushaltsbuch2[Ausgaben],Haushaltsbuch2[Datum],\">\"&B23,Haushaltsbuch2[Datum],\"<=\"&B24)","v":0}]
[1991,33603,null,null,null,null,null,null,null,null,null,null,{"$f":"SUMIFS(Haushaltsbuch2[Einnahmen],Haushaltsbuch2[Kategorie],M$4,Haushaltsbuch2[Datum],\">\"&B24,Haushaltsbuch2[Datum],\"<=\"&B25)","v":0},{"$f":"SUMIFS(Haushaltsbuch2[Einnahmen],Haushaltsbuch2[Kategorie],N$4,Haushaltsbuch2[Datum],\">\"&B24,Haushaltsbuch2[Datum],\"<=\"&B25)","v":0},{"$f":"SUMIFS(Haushaltsbuch2[Einnahmen],Haushaltsbuch2[Kategorie],O$4,Haushaltsbuch2[Datum],\">\"&B24,Haushaltsbuch2[Datum],\"<=\"&B25)","v":0},{"$f":"SUMIFS(Haushaltsbuch2[Einnahmen],Haushaltsbuch2[Kategorie],P$4,Haushaltsbuch2[Datum],\">\"&B24,Haushaltsbuch2[Datum],\"<=\"&B25)","v":0},{"$f":"SUMIFS(Haushaltsbuch2[Einnahmen],Haushaltsbuch2[Kategorie],Q$4,Haushaltsbuch2[Datum],\">\"&B24,Haushaltsbuch2[Datum],\"<=\"&B25)","v":0},{"$f":"SUMIFS(Haushaltsbuch2[Einnahmen],Haushaltsbuch2[Kategorie],R$4,Haushaltsbuch2[Datum],\">\"&B24,Haushaltsbuch2[Datum],\"<=\"&B25)","v":0},null,null,null,null,null,null,null,null,null,null,null,null,null,null,null,null,null,null,{"$f":"SUMIFS(Haushaltsbuch2[Ausgaben],Haushaltsbuch2[Kategorie],AK$4,Haushaltsbuch2[Datum],\">\"&B24,Haushaltsbuch2[Datum],\"<=\"&B25)","v":0},null,null,{"$f":"SUMIFS(Dividenden[Betrag in EUR],Dividenden[Datum],\">\"&B24,Dividenden[Datum],\"<=\"&B25)","v":0},{"$f":"SUMIFS(Optionen[G/V (Netto)],Optionen[Datum],\">\"&B24,Optionen[Datum],\"<=\"&B25)","v":0},null,0,0,null,0,0,null,{"$f":"SUMIFS(Haushaltsbuch2[Einnahmen],Haushaltsbuch2[Datum],\">\"&B24,Haushaltsbuch2[Datum],\"<=\"&B25)+AN25+AO25","v":0},null,{"$f":"SUMIFS(Haushaltsbuch2[Ausgaben],Haushaltsbuch2[Datum],\">\"&B24,Haushaltsbuch2[Datum],\"<=\"&B25)","v":0}]
[1992,33969,null,null,null,null,null,null,null,null,null,null,{"$f":"SUMIFS(Haushaltsbuch2[Einnahmen],Haushaltsbuch2[Kategorie],M$4,Haushaltsbuch2[Datum],\">\"&B25,Haushaltsbuch2[Datum],\"<=\"&B26)","v":0},{"$f":"SUMIFS(Haushaltsbuch2[Einnahmen],Haushaltsbuch2[Kategorie],N$4,Haushaltsbuch2[Datum],\">\"&B25,Haushaltsbuch2[Datum],\"<=\"&B26)","v":0},{"$f":"SUMIFS(Haushaltsbuch2[Einnahmen],Haushaltsbuch2[Kategorie],O$4,Haushaltsbuch2[Datum],\">\"&B25,Haushaltsbuch2[Datum],\"<=\"&B26)","v":0},{"$f":"SUMIFS(Haushaltsbuch2[Einnahmen],Haushaltsbuch2[Kategorie],P$4,Haushaltsbuch2[Datum],\">\"&B25,Haushaltsbuch2[Datum],\"<=\"&B26)","v":0},{"$f":"SUMIFS(Haushaltsbuch2[Einnahmen],Haushaltsbuch2[Kategorie],Q$4,Haushaltsbuch2[Datum],\">\"&B25,Haushaltsbuch2[Datum],\"<=\"&B26)","v":0},{"$f":"SUMIFS(Haushaltsbuch2[Einnahmen],Haushaltsbuch2[Kategorie],R$4,Haushaltsbuch2[Datum],\">\"&B25,Haushaltsbuch2[Datum],\"<=\"&B26)","v":0},null,null,null,null,null,null,null,null,null,null,null,null,null,null,null,null,null,null,{"$f":"SUMIFS(Haushaltsbuch2[Ausgaben],Haushaltsbuch2[Kategorie],AK$4,Haushaltsbuch2[Datum],\">\"&B25,Haushaltsbuch2[Datum],\"<=\"&B26)","v":0},null,null,{"$f":"SUMIFS(Dividenden[Betrag in EUR],Dividenden[Datum],\">\"&B25,Dividenden[Datum],\"<=\"&B26)","v":0},{"$f":"SUMIFS(Optionen[G/V (Netto)],Optionen[Datum],\">\"&B25,Optionen[Datum],\"<=\"&B26)","v":0},null,0,0,null,0,0,null,{"$f":"SUMIFS(Haushaltsbuch2[Einnahmen],Haushaltsbuch2[Datum],\">\"&B25,Haushaltsbuch2[Datum],\"<=\"&B26)+AN26+AO26","v":0},null,{"$f":"SUMIFS(Haushaltsbuch2[Ausgaben],Haushaltsbuch2[Datum],\">\"&B25,Haushaltsbuch2[Datum],\"<=\"&B26)","v":0}]
[1993,34334,null,null,null,null,null,null,null,null,null,null,{"$f":"SUMIFS(Haushaltsbuch2[Einnahmen],Haushaltsbuch2[Kategorie],M$4,Haushaltsbuch2[Datum],\">\"&B26,Haushaltsbuch2[Datum],\"<=\"&B27)","v":0},{"$f":"SUMIFS(Haushaltsbuch2[Einnahmen],Haushaltsbuch2[Kategorie],N$4,Haushaltsbuch2[Datum],\">\"&B26,Haushaltsbuch2[Datum],\"<=\"&B27)","v":0},{"$f":"SUMIFS(Haushaltsbuch2[Einnahmen],Haushaltsbuch2[Kategorie],O$4,Haushaltsbuch2[Datum],\">\"&B26,Haushaltsbuch2[Datum],\"<=\"&B27)","v":0},{"$f":"SUMIFS(Haushaltsbuch2[Einnahmen],Haushaltsbuch2[Kategorie],P$4,Haushaltsbuch2[Datum],\">\"&B26,Haushaltsbuch2[Datum],\"<=\"&B27)","v":0},{"$f":"SUMIFS(Haushaltsbuch2[Einnahmen],Haushaltsbuch2[Kategorie],Q$4,Haushaltsbuch2[Datum],\">\"&B26,Haushaltsbuch2[Datum],\"<=\"&B27)","v":0},{"$f":"SUMIFS(Haushaltsbuch2[Einnahmen],Haushaltsbuch2[Kategorie],R$4,Haushaltsbuch2[Datum],\">\"&B26,Haushaltsbuch2[Datum],\"<=\"&B27)","v":0},null,null,null,null,null,null,null,null,null,null,null,null,null,null,null,null,null,null,{"$f":"SUMIFS(Haushaltsbuch2[Ausgaben],Haushaltsbuch2[Kategorie],AK$4,Haushaltsbuch2[Datum],\">\"&B26,Haushaltsbuch2[Datum],\"<=\"&B27)","v":0},null,null,{"$f":"SUMIFS(Dividenden[Betrag in EUR],Dividenden[Datum],\">\"&B26,Dividenden[Datum],\"<=\"&B27)","v":0},{"$f":"SUMIFS(Optionen[G/V (Netto)],Optionen[Datum],\">\"&B26,Optionen[Datum],\"<=\"&B27)","v":0},null,0,0,null,0,0,null,{"$f":"SUMIFS(Haushaltsbuch2[Einnahmen],Haushaltsbuch2[Datum],\">\"&B26,Haushaltsbuch2[Datum],\"<=\"&B27)+AN27+AO27","v":0},null,{"$f":"SUMIFS(Haushaltsbuch2[Ausgaben],Haushaltsbuch2[Datum],\">\"&B26,Haushaltsbuch2[Datum],\"<=\"&B27)","v":0}]
[1994,34699,null,null,null,null,null,null,null,null,null,null,{"$f":"SUMIFS(Haushaltsbuch2[Einnahmen],Haushaltsbuch2[Kategorie],M$4,Haushaltsbuch2[Datum],\">\"&B27,Haushaltsbuch2[Datum],\"<=\"&B28)","v":0},{"$f":"SUMIFS(Haushaltsbuch2[Einnahmen],Haushaltsbuch2[Kategorie],N$4,Haushaltsbuch2[Datum],\">\"&B27,Haushaltsbuch2[Datum],\"<=\"&B28)","v":0},{"$f":"SUMIFS(Haushaltsbuch2[Einnahmen],Haushaltsbuch2[Kategorie],O$4,Haushaltsbuch2[Datum],\">\"&B27,Haushaltsbuch2[Datum],\"<=\"&B28)","v":0},{"$f":"SUMIFS(Haushaltsbuch2[Einnahmen],Haushaltsbuch2[Kategorie],P$4,Haushaltsbuch2[Datum],\">\"&B27,Haushaltsbuch2[Datum],\"<=\"&B28)","v":0},{"$f":"SUMIFS(Haushaltsbuch2[Einnahmen],Haushaltsbuch2[Kategorie],Q$4,Haushaltsbuch2[Datum],\">\"&B27,Haushaltsbuch2[Datum],\"<=\"&B28)","v":0},{"$f":"SUMIFS(Haushaltsbuch2[Einnahmen],Haushaltsbuch2[Kategorie],R$4,Haushaltsbuch2[Datum],\">\"&B27,Haushaltsbuch2[Datum],\"<=\"&B28)","v":0},null,null,null,null,null,null,null,null,null,null,null,null,null,null,null,null,null,null,{"$f":"SUMIFS(Haushaltsbuch2[Ausgaben],Haushaltsbuch2[Kategorie],AK$4,Haushaltsbuch2[Datum],\">\"&B27,Haushaltsbuch2[Datum],\"<=\"&B28)","v":0},null,null,{"$f":"SUMIFS(Dividenden[Betrag in EUR],Dividenden[Datum],\">\"&B27,Dividenden[Datum],\"<=\"&B28)","v":0},{"$f":"SUMIFS(Optionen[G/V (Netto)],Optionen[Datum],\">\"&B27,Optionen[Datum],\"<=\"&B28)","v":0},null,0,0,null,0,0,null,{"$f":"SUMIFS(Haushaltsbuch2[Einnahmen],Haushaltsbuch2[Datum],\">\"&B27,Haushaltsbuch2[Datum],\"<=\"&B28)+AN28+AO28","v":0},null,{"$f":"SUMIFS(Haushaltsbuch2[Ausgaben],Haushaltsbuch2[Datum],\">\"&B27,Haushaltsbuch2[Datum],\"<=\"&B28)","v":0}]
[1995,35064,null,null,null,null,null,null,null,null,null,null,{"$f":"SUMIFS(Haushaltsbuch2[Einnahmen],Haushaltsbuch2[Kategorie],M$4,Haushaltsbuch2[Datum],\">\"&B28,Haushaltsbuch2[Datum],\"<=\"&B29)","v":0},{"$f":"SUMIFS(Haushaltsbuch2[Einnahmen],Haushaltsbuch2[Kategorie],N$4,Haushaltsbuch2[Datum],\">\"&B28,Haushaltsbuch2[Datum],\"<=\"&B29)","v":0},{"$f":"SUMIFS(Haushaltsbuch2[Einnahmen],Haushaltsbuch2[Kategorie],O$4,Haushaltsbuch2[Datum],\">\"&B28,Haushaltsbuch2[Datum],\"<=\"&B29)","v":0},{"$f":"SUMIFS(Haushaltsbuch2[Einnahmen],Haushaltsbuch2[Kategorie],P$4,Haushaltsbuch2[Datum],\">\"&B28,Haushaltsbuch2[Datum],\"<=\"&B29)","v":0},{"$f":"SUMIFS(Haushaltsbuch2[Einnahmen],Haushaltsbuch2[Kategorie],Q$4,Haushaltsbuch2[Datum],\">\"&B28,Haushaltsbuch2[Datum],\"<=\"&B29)","v":0},{"$f":"SUMIFS(Haushaltsbuch2[Einnahmen],Haushaltsbuch2[Kategorie],R$4,Haushaltsbuch2[Datum],\">\"&B28,Haushaltsbuch2[Datum],\"<=\"&B29)","v":0},null,null,null,null,null,null,null,null,null,null,null,null,null,null,null,null,null,null,{"$f":"SUMIFS(Haushaltsbuch2[Ausgaben],Haushaltsbuch2[Kategorie],AK$4,Haushaltsbuch2[Datum],\">\"&B28,Haushaltsbuch2[Datum],\"<=\"&B29)","v":0},null,null,{"$f":"SUMIFS(Dividenden[Betrag in EUR],Dividenden[Datum],\">\"&B28,Dividenden[Datum],\"<=\"&B29)","v":0},{"$f":"SUMIFS(Optionen[G/V (Netto)],Optionen[Datum],\">\"&B28,Optionen[Datum],\"<=\"&B29)","v":0},null,0,0,null,0,0,null,{"$f":"SUMIFS(Haushaltsbuch2[Einnahmen],Haushaltsbuch2[Datum],\">\"&B28,Haushaltsbuch2[Datum],\"<=\"&B29)+AN29+AO29","v":0},null,{"$f":"SUMIFS(Haushaltsbuch2[Ausgaben],Haushaltsbuch2[Datum],\">\"&B28,Haushaltsbuch2[Datum],\"<=\"&B29)","v":0}]
[1996,35430,null,null,null,null,null,null,null,null,null,null,{"$f":"SUMIFS(Haushaltsbuch2[Einnahmen],Haushaltsbuch2[Kategorie],M$4,Haushaltsbuch2[Datum],\">\"&B29,Haushaltsbuch2[Datum],\"<=\"&B30)","v":0},{"$f":"SUMIFS(Haushaltsbuch2[Einnahmen],Haushaltsbuch2[Kategorie],N$4,Haushaltsbuch2[Datum],\">\"&B29,Haushaltsbuch2[Datum],\"<=\"&B30)","v":0},{"$f":"SUMIFS(Haushaltsbuch2[Einnahmen],Haushaltsbuch2[Kategorie],O$4,Haushaltsbuch2[Datum],\">\"&B29,Haushaltsbuch2[Datum],\"<=\"&B30)","v":0},{"$f":"SUMIFS(Haushaltsbuch2[Einnahmen],Haushaltsbuch2[Kategorie],P$4,Haushaltsbuch2[Datum],\">\"&B29,Haushaltsbuch2[Datum],\"<=\"&B30)","v":0},{"$f":"SUMIFS(Haushaltsbuch2[Einnahmen],Haushaltsbuch2[Kategorie],Q$4,Haushaltsbuch2[Datum],\">\"&B29,Haushaltsbuch2[Datum],\"<=\"&B30)","v":0},{"$f":"SUMIFS(Haushaltsbuch2[Einnahmen],Haushaltsbuch2[Kategorie],R$4,Haushaltsbuch2[Datum],\">\"&B29,Haushaltsbuch2[Datum],\"<=\"&B30)","v":0},null,null,null,null,null,null,null,null,null,null,null,null,null,null,null,null,null,null,{"$f":"SUMIFS(Haushaltsbuch2[Ausgaben],Haushaltsbuch2[Kategorie],AK$4,Haushaltsbuch2[Datum],\">\"&B29,Haushaltsbuch2[Datum],\"<=\"&B30)","v":0},null,null,{"$f":"SUMIFS(Dividenden[Betrag in EUR],Dividenden[Datum],\">\"&B29,Dividenden[Datum],\"<=\"&B30)","v":0},{"$f":"SUMIFS(Optionen[G/V (Netto)],Optionen[Datum],\">\"&B29,Optionen[Datum],\"<=\"&B30)","v":0},null,0,0,null,0,0,null,{"$f":"SUMIFS(Haushaltsbuch2[Einnahmen],Haushaltsbuch2[Datum],\">\"&B29,Haushaltsbuch2[Datum],\"<=\"&B30)+AN30+AO30","v":0},null,{"$f":"SUMIFS(Haushaltsbuch2[Ausgaben],Haushaltsbuch2[Datum],\">\"&B29,Haushaltsbuch2[Datum],\"<=\"&B30)","v":0}]
[1997,35795,null,null,null,null,null,null,null,null,null,null,{"$f":"SUMIFS(Haushaltsbuch2[Einnahmen],Haushaltsbuch2[Kategorie],M$4,Haushaltsbuch2[Datum],\">\"&B30,Haushaltsbuch2[Datum],\"<=\"&B31)","v":0},{"$f":"SUMIFS(Haushaltsbuch2[Einnahmen],Haushaltsbuch2[Kategorie],N$4,Haushaltsbuch2[Datum],\">\"&B30,Haushaltsbuch2[Datum],\"<=\"&B31)","v":0},{"$f":"SUMIFS(Haushaltsbuch2[Einnahmen],Haushaltsbuch2[Kategorie],O$4,Haushaltsbuch2[Datum],\">\"&B30,Haushaltsbuch2[Datum],\"<=\"&B31)","v":0},{"$f":"SUMIFS(Haushaltsbuch2[Einnahmen],Haushaltsbuch2[Kategorie],P$4,Haushaltsbuch2[Datum],\">\"&B30,Haushaltsbuch2[Datum],\"<=\"&B31)","v":0},{"$f":"SUMIFS(Haushaltsbuch2[Einnahmen],Haushaltsbuch2[Kategorie],Q$4,Haushaltsbuch2[Datum],\">\"&B30,Haushaltsbuch2[Datum],\"<=\"&B31)","v":0},{"$f":"SUMIFS(Haushaltsbuch2[Einnahmen],Haushaltsbuch2[Kategorie],R$4,Haushaltsbuch2[Datum],\">\"&B30,Haushaltsbuch2[Datum],\"<=\"&B31)","v":0},null,null,null,null,null,null,null,null,null,null,null,null,null,null,null,null,null,null,{"$f":"SUMIFS(Haushaltsbuch2[Ausgaben],Haushaltsbuch2[Kategorie],AK$4,Haushaltsbuch2[Datum],\">\"&B30,Haushaltsbuch2[Datum],\"<=\"&B31)","v":0},null,null,{"$f":"SUMIFS(Dividenden[Betrag in EUR],Dividenden[Datum],\">\"&B30,Dividenden[Datum],\"<=\"&B31)","v":0},{"$f":"SUMIFS(Optionen[G/V (Netto)],Optionen[Datum],\">\"&B30,Optionen[Datum],\"<=\"&B31)","v":0},null,0,0,null,0,0,null,{"$f":"SUMIFS(Haushaltsbuch2[Einnahmen],Haushaltsbuch2[Datum],\">\"&B30,Haushaltsbuch2[Datum],\"<=\"&B31)+AN31+AO31","v":0},null,{"$f":"SUMIFS(Haushaltsbuch2[Ausgaben],Haushaltsbuch2[Datum],\">\"&B30,Haushaltsbuch2[Datum],\"<=\"&B31)","v":0}]
[1998,36160,null,null,null,null,null,null,null,null,null,null,{"$f":"SUMIFS(Haushaltsbuch2[Einnahmen],Haushaltsbuch2[Kategorie],M$4,Haushaltsbuch2[Datum],\">\"&B31,Haushaltsbuch2[Datum],\"<=\"&B32)","v":0},{"$f":"SUMIFS(Haushaltsbuch2[Einnahmen],Haushaltsbuch2[Kategorie],N$4,Haushaltsbuch2[Datum],\">\"&B31,Haushaltsbuch2[Datum],\"<=\"&B32)","v":0},{"$f":"SUMIFS(Haushaltsbuch2[Einnahmen],Haushaltsbuch2[Kategorie],O$4,Haushaltsbuch2[Datum],\">\"&B31,Haushaltsbuch2[Datum],\"<=\"&B32)","v":0},{"$f":"SUMIFS(Haushaltsbuch2[Einnahmen],Haushaltsbuch2[Kategorie],P$4,Haushaltsbuch2[Datum],\">\"&B31,Haushaltsbuch2[Datum],\"<=\"&B32)","v":0},{"$f":"SUMIFS(Haushaltsbuch2[Einnahmen],Haushaltsbuch2[Kategorie],Q$4,Haushaltsbuch2[Datum],\">\"&B31,Haushaltsbuch2[Datum],\"<=\"&B32)","v":0},{"$f":"SUMIFS(Haushaltsbuch2[Einnahmen],Haushaltsbuch2[Kategorie],R$4,Haushaltsbuch2[Datum],\">\"&B31,Haushaltsbuch2[Datum],\"<=\"&B32)","v":0},null,null,null,null,null,null,null,null,null,null,null,null,null,null,null,null,null,null,{"$f":"SUMIFS(Haushaltsbuch2[Ausgaben],Haushaltsbuch2[Kategorie],AK$4,Haushaltsbuch2[Datum],\">\"&B31,Haushaltsbuch2[Datum],\"<=\"&B32)","v":0},null,null,{"$f":"SUMIFS(Dividenden[Betrag in EUR],Dividenden[Datum],\">\"&B31,Dividenden[Datum],\"<=\"&B32)","v":0},{"$f":"SUMIFS(Optionen[G/V (Netto)],Optionen[Datum],\">\"&B31,Optionen[Datum],\"<=\"&B32)","v":0},null,0,0,null,0,0,null,{"$f":"SUMIFS(Haushaltsbuch2[Einnahmen],Haushaltsbuch2[Datum],\">\"&B31,Haushaltsbuch2[Datum],\"<=\"&B32)+AN32+AO32","v":0},null,{"$f":"SUMIFS(Haushaltsbuch2[Ausgaben],Haushaltsbuch2[Datum],\">\"&B31,Haushaltsbuch2[Datum],\"<=\"&B32)","v":0}]
[1999,36525,null,null,null,null,null,null,null,null,null,null,{"$f":"SUMIFS(Haushaltsbuch2[Einnahmen],Haushaltsbuch2[Kategorie],M$4,Haushaltsbuch2[Datum],\">\"&B32,Haushaltsbuch2[Datum],\"<=\"&B33)","v":0},{"$f":"SUMIFS(Haushaltsbuch2[Einnahmen],Haushaltsbuch2[Kategorie],N$4,Haushaltsbuch2[Datum],\">\"&B32,Haushaltsbuch2[Datum],\"<=\"&B33)","v":0},{"$f":"SUMIFS(Haushaltsbuch2[Einnahmen],Haushaltsbuch2[Kategorie],O$4,Haushaltsbuch2[Datum],\">\"&B32,Haushaltsbuch2[Datum],\"<=\"&B33)","v":0},{"$f":"SUMIFS(Haushaltsbuch2[Einnahmen],Haushaltsbuch2[Kategorie],P$4,Haushaltsbuch2[Datum],\">\"&B32,Haushaltsbuch2[Datum],\"<=\"&B33)","v":0},{"$f":"SUMIFS(Haushaltsbuch2[Einnahmen],Haushaltsbuch2[Kategorie],Q$4,Haushaltsbuch2[Datum],\">\"&B32,Haushaltsbuch2[Datum],\"<=\"&B33)","v":0},{"$f":"SUMIFS(Haushaltsbuch2[Einnahmen],Haushaltsbuch2[Kategorie],R$4,Haushaltsbuch2[Datum],\">\"&B32,Haushaltsbuch2[Datum],\"<=\"&B33)","v":0},null,null,null,null,null,null,null,null,null,null,null,null,null,null,null,null,null,null,{"$f":"SUMIFS(Haushaltsbuch2[Ausgaben],Haushaltsbuch2[Kategorie],AK$4,Haushaltsbuch2[Datum],\">\"&B32,Haushaltsbuch2[Datum],\"<=\"&B33)","v":0},null,null,{"$f":"SUMIFS(Dividenden[Betrag in EUR],Dividenden[Datum],\">\"&B32,Dividenden[Datum],\"<=\"&B33)","v":0},{"$f":"SUMIFS(Optionen[G/V (Netto)],Optionen[Datum],\">\"&B32,Optionen[Datum],\"<=\"&B33)","v":0},null,0,0,null,0,0,null,{"$f":"SUMIFS(Haushaltsbuch2[Einnahmen],Haushaltsbuch2[Datum],\">\"&B32,Haushaltsbuch2[Datum],\"<=\"&B33)+AN33+AO33","v":0},null,{"$f":"SUMIFS(Haushaltsbuch2[Ausgaben],Haushaltsbuch2[Datum],\">\"&B32,Haushaltsbuch2[Datum],\"<=\"&B33)","v":0}]
[2000,36891,null,null,null,null,null,null,null,null,null,null,{"$f":"SUMIFS(Haushaltsbuch2[Einnahmen],Haushaltsbuch2[Kategorie],M$4,Haushaltsbuch2[Datum],\">\"&B33,Haushaltsbuch2[Datum],\"<=\"&B34)","v":0},{"$f":"SUMIFS(Haushaltsbuch2[Einnahmen],Haushaltsbuch2[Kategorie],N$4,Haushaltsbuch2[Datum],\">\"&B33,Haushaltsbuch2[Datum],\"<=\"&B34)","v":0},{"$f":"SUMIFS(Haushaltsbuch2[Einnahmen],Haushaltsbuch2[Kategorie],O$4,Haushaltsbuch2[Datum],\">\"&B33,Haushaltsbuch2[Datum],\"<=\"&B34)","v":0},{"$f":"SUMIFS(Haushaltsbuch2[Einnahmen],Haushaltsbuch2[Kategorie],P$4,Haushaltsbuch2[Datum],\">\"&B33,Haushaltsbuch2[Datum],\"<=\"&B34)","v":0},{"$f":"SUMIFS(Haushaltsbuch2[Einnahmen],Haushaltsbuch2[Kategorie],Q$4,Haushaltsbuch2[Datum],\">\"&B33,Haushaltsbuch2[Datum],\"<=\"&B34)","v":0},{"$f":"SUMIFS(Haushaltsbuch2[Einnahmen],Haushaltsbuch2[Kategorie],R$4,Haushaltsbuch2[Datum],\">\"&B33,Haushaltsbuch2[Datum],\"<=\"&B34)","v":0},null,null,null,null,null,null,null,null,null,null,null,null,null,null,null,null,null,null,{"$f":"SUMIFS(Haushaltsbuch2[Ausgaben],Haushaltsbuch2[Kategorie],AK$4,Haushaltsbuch2[Datum],\">\"&B33,Haushaltsbuch2[Datum],\"<=\"&B34)","v":0},null,null,{"$f":"SUMIFS(Dividenden[Betrag in EUR],Dividenden[Datum],\">\"&B33,Dividenden[Datum],\"<=\"&B34)","v":0},{"$f":"SUMIFS(Optionen[G/V (Netto)],Optionen[Datum],\">\"&B33,Optionen[Datum],\"<=\"&B34)","v":0},null,0,0,null,0,0,null,{"$f":"SUMIFS(Haushaltsbuch2[Einnahmen],Haushaltsbuch2[Datum],\">\"&B33,Haushaltsbuch2[Datum],\"<=\"&B34)+AN34+AO34","v":0},null,{"$f":"SUMIFS(Haushaltsbuch2[Ausgaben],Haushaltsbuch2[Datum],\">\"&B33,Haushaltsbuch2[Datum],\"<=\"&B34)","v":0}]
[2001,37256,null,null,null,null,null,null,null,null,null,null,{"$f":"SUMIFS(Haushaltsbuch2[Einnahmen],Haushaltsbuch2[Kategorie],M$4,Haushaltsbuch2[Datum],\">\"&B34,Haushaltsbuch2[Datum],\"<=\"&B35)","v":0},{"$f":"SUMIFS(Haushaltsbuch2[Einnahmen],Haushaltsbuch2[Kategorie],N$4,Haushaltsbuch2[Datum],\">\"&B34,Haushaltsbuch2[Datum],\"<=\"&B35)","v":0},{"$f":"SUMIFS(Haushaltsbuch2[Einnahmen],Haushaltsbuch2[Kategorie],O$4,Haushaltsbuch2[Datum],\">\"&B34,Haushaltsbuch2[Datum],\"<=\"&B35)","v":0},{"$f":"SUMIFS(Haushaltsbuch2[Einnahmen],Haushaltsbuch2[Kategorie],P$4,Haushaltsbuch2[Datum],\">\"&B34,Haushaltsbuch2[Datum],\"<=\"&B35)","v":0},{"$f":"SUMIFS(Haushaltsbuch2[Einnahmen],Haushaltsbuch2[Kategorie],Q$4,Haushaltsbuch2[Datum],\">\"&B34,Haushaltsbuch2[Datum],\"<=\"&B35)","v":0},{"$f":"SUMIFS(Haushaltsbuch2[Einnahmen],Haushaltsbuch2[Kategorie],R$4,Haushaltsbuch2[Datum],\">\"&B34,Haushaltsbuch2[Datum],\"<=\"&B35)","v":0},null,null,null,null,null,null,null,null,null,null,null,null,null,null,null,null,null,null,{"$f":"SUMIFS(Haushaltsbuch2[Ausgaben],Haushaltsbuch2[Kategorie],AK$4,Haushaltsbuch2[Datum],\">\"&B34,Haushaltsbuch2[Datum],\"<=\"&B35)","v":0},null,null,{"$f":"SUMIFS(Dividenden[Betrag in EUR],Dividenden[Datum],\">\"&B34,Dividenden[Datum],\"<=\"&B35)","v":0},{"$f":"SUMIFS(Optionen[G/V (Netto)],Optionen[Datum],\">\"&B34,Optionen[Datum],\"<=\"&B35)","v":0},null,0,0,null,0,0,null,{"$f":"SUMIFS(Haushaltsbuch2[Einnahmen],Haushaltsbuch2[Datum],\">\"&B34,Haushaltsbuch2[Datum],\"<=\"&B35)+AN35+AO35","v":0},null,{"$f":"SUMIFS(Haushaltsbuch2[Ausgaben],Haushaltsbuch2[Datum],\">\"&B34,Haushaltsbuch2[Datum],\"<=\"&B35)","v":0}]
[2002,37621,null,null,null,null,null,null,null,null,null,null,{"$f":"SUMIFS(Haushaltsbuch2[Einnahmen],Haushaltsbuch2[Kategorie],M$4,Haushaltsbuch2[Datum],\">\"&B35,Haushaltsbuch2[Datum],\"<=\"&B36)","v":0},{"$f":"SUMIFS(Haushaltsbuch2[Einnahmen],Haushaltsbuch2[Kategorie],N$4,Haushaltsbuch2[Datum],\">\"&B35,Haushaltsbuch2[Datum],\"<=\"&B36)","v":0},{"$f":"SUMIFS(Haushaltsbuch2[Einnahmen],Haushaltsbuch2[Kategorie],O$4,Haushaltsbuch2[Datum],\">\"&B35,Haushaltsbuch2[Datum],\"<=\"&B36)","v":0},{"$f":"SUMIFS(Haushaltsbuch2[Einnahmen],Haushaltsbuch2[Kategorie],P$4,Haushaltsbuch2[Datum],\">\"&B35,Haushaltsbuch2[Datum],\"<=\"&B36)","v":0},{"$f":"SUMIFS(Haushaltsbuch2[Einnahmen],Haushaltsbuch2[Kategorie],Q$4,Haushaltsbuch2[Datum],\">\"&B35,Haushaltsbuch2[Datum],\"<=\"&B36)","v":0},{"$f":"SUMIFS(Haushaltsbuch2[Einnahmen],Haushaltsbuch2[Kategorie],R$4,Haushaltsbuch2[Datum],\">\"&B35,Haushaltsbuch2[Datum],\"<=\"&B36)","v":0},null,null,null,null,null,null,null,null,null,null,null,null,null,null,null,null,null,null,{"$f":"SUMIFS(Haushaltsbuch2[Ausgaben],Haushaltsbuch2[Kategorie],AK$4,Haushaltsbuch2[Datum],\">\"&B35,Haushaltsbuch2[Datum],\"<=\"&B36)","v":0},null,null,{"$f":"SUMIFS(Dividenden[Betrag in EUR],Dividenden[Datum],\">\"&B35,Dividenden[Datum],\"<=\"&B36)","v":0},{"$f":"SUMIFS(Optionen[G/V (Netto)],Optionen[Datum],\">\"&B35,Optionen[Datum],\"<=\"&B36)","v":0},null,0,0,null,0,0,null,{"$f":"SUMIFS(Haushaltsbuch2[Einnahmen],Haushaltsbuch2[Datum],\">\"&B35,Haushaltsbuch2[Datum],\"<=\"&B36)+AN36+AO36","v":0},null,{"$f":"SUMIFS(Haushaltsbuch2[Ausgaben],Haushaltsbuch2[Datum],\">\"&B35,Haushaltsbuch2[Datum],\"<=\"&B36)","v":0}]
[2003,37986,null,null,null,null,null,null,null,null,null,null,{"$f":"SUMIFS(Haushaltsbuch2[Einnahmen],Haushaltsbuch2[Kategorie],M$4,Haushaltsbuch2[Datum],\">\"&B36,Haushaltsbuch2[Datum],\"<=\"&B37)","v":0},{"$f":"SUMIFS(Haushaltsbuch2[Einnahmen],Haushaltsbuch2[Kategorie],N$4,Haushaltsbuch2[Datum],\">\"&B36,Haushaltsbuch2[Datum],\"<=\"&B37)","v":0},{"$f":"SUMIFS(Haushaltsbuch2[Einnahmen],Haushaltsbuch2[Kategorie],O$4,Haushaltsbuch2[Datum],\">\"&B36,Haushaltsbuch2[Datum],\"<=\"&B37)","v":0},{"$f":"SUMIFS(Haushaltsbuch2[Einnahmen],Haushaltsbuch2[Kategorie],P$4,Haushaltsbuch2[Datum],\">\"&B36,Haushaltsbuch2[Datum],\"<=\"&B37)","v":0},{"$f":"SUMIFS(Haushaltsbuch2[Einnahmen],Haushaltsbuch2[Kategorie],Q$4,Haushaltsbuch2[Datum],\">\"&B36,Haushaltsbuch2[Datum],\"<=\"&B37)","v":0},{"$f":"SUMIFS(Haushaltsbuch2[Einnahmen],Haushaltsbuch2[Kategorie],R$4,Haushaltsbuch2[Datum],\">\"&B36,Haushaltsbuch2[Datum],\"<=\"&B37)","v":0},null,null,null,null,null,null,null,null,null,null,null,null,null,null,null,null,null,null,{"$f":"SUMIFS(Haushaltsbuch2[Ausgaben],Haushaltsbuch2[Kategorie],AK$4,Haushaltsbuch2[Datum],\">\"&B36,Haushaltsbuch2[Datum],\"<=\"&B37)","v":0},null,null,{"$f":"SUMIFS(Dividenden[Betrag in EUR],Dividenden[Datum],\">\"&B36,Dividenden[Datum],\"<=\"&B37)","v":0},{"$f":"SUMIFS(Optionen[G/V (Netto)],Optionen[Datum],\">\"&B36,Optionen[Datum],\"<=\"&B37)","v":0},null,0,0,null,0,0,null,{"$f":"SUMIFS(Haushaltsbuch2[Einnahmen],Haushaltsbuch2[Datum],\">\"&B36,Haushaltsbuch2[Datum],\"<=\"&B37)+AN37+AO37","v":0},null,{"$f":"SUMIFS(Haushaltsbuch2[Ausgaben],Haushaltsbuch2[Datum],\">\"&B36,Haushaltsbuch2[Datum],\"<=\"&B37)","v":0}]
[2004,38352,null,null,null,null,null,null,null,null,null,null,{"$f":"SUMIFS(Haushaltsbuch2[Einnahmen],Haushaltsbuch2[Kategorie],M$4,Haushaltsbuch2[Datum],\">\"&B37,Haushaltsbuch2[Datum],\"<=\"&B38)","v":0},{"$f":"SUMIFS(Haushaltsbuch2[Einnahmen],Haushaltsbuch2[Kategorie],N$4,Haushaltsbuch2[Datum],\">\"&B37,Haushaltsbuch2[Datum],\"<=\"&B38)","v":0},{"$f":"SUMIFS(Haushaltsbuch2[Einnahmen],Haushaltsbuch2[Kategorie],O$4,Haushaltsbuch2[Datum],\">\"&B37,Haushaltsbuch2[Datum],\"<=\"&B38)","v":0},{"$f":"SUMIFS(Haushaltsbuch2[Einnahmen],Haushaltsbuch2[Kategorie],P$4,Haushaltsbuch2[Datum],\">\"&B37,Haushaltsbuch2[Datum],\"<=\"&B38)","v":0},{"$f":"SUMIFS(Haushaltsbuch2[Einnahmen],Haushaltsbuch2[Kategorie],Q$4,Haushaltsbuch2[Datum],\">\"&B37,Haushaltsbuch2[Datum],\"<=\"&B38)","v":0},{"$f":"SUMIFS(Haushaltsbuch2[Einnahmen],Haushaltsbuch2[Kategorie],R$4,Haushaltsbuch2[Datum],\">\"&B37,Haushaltsbuch2[Datum],\"<=\"&B38)","v":0},null,null,null,null,null,null,null,null,null,null,null,null,null,null,null,null,null,null,{"$f":"SUMIFS(Haushaltsbuch2[Ausgaben],Haushaltsbuch2[Kategorie],AK$4,Haushaltsbuch2[Datum],\">\"&B37,Haushaltsbuch2[Datum],\"<=\"&B38)","v":0},null,null,{"$f":"SUMIFS(Dividenden[Betrag in EUR],Dividenden[Datum],\">\"&B37,Dividenden[Datum],\"<=\"&B38)","v":0},{"$f":"SUMIFS(Optionen[G/V (Netto)],Optionen[Datum],\">\"&B37,Optionen[Datum],\"<=\"&B38)","v":0},null,0,0,null,0,0,null,{"$f":"SUMIFS(Haushaltsbuch2[Einnahmen],Haushaltsbuch2[Datum],\">\"&B37,Haushaltsbuch2[Datum],\"<=\"&B38)+AN38+AO38","v":0},null,{"$f":"SUMIFS(Haushaltsbuch2[Ausgaben],Haushaltsbuch2[Datum],\">\"&B37,Haushaltsbuch2[Datum],\"<=\"&B38)","v":0}]
[2005,38717,null,null,null,null,null,null,null,null,null,null,{"$f":"SUMIFS(Haushaltsbuch2[Einnahmen],Haushaltsbuch2[Kategorie],M$4,Haushaltsbuch2[Datum],\">\"&B38,Haushaltsbuch2[Datum],\"<=\"&B39)","v":0},{"$f":"SUMIFS(Haushaltsbuch2[Einnahmen],Haushaltsbuch2[Kategorie],N$4,Haushaltsbuch2[Datum],\">\"&B38,Haushaltsbuch2[Datum],\"<=\"&B39)","v":0},{"$f":"SUMIFS(Haushaltsbuch2[Einnahmen],Haushaltsbuch2[Kategorie],O$4,Haushaltsbuch2[Datum],\">\"&B38,Haushaltsbuch2[Datum],\"<=\"&B39)","v":0},{"$f":"SUMIFS(Haushaltsbuch2[Einnahmen],Haushaltsbuch2[Kategorie],P$4,Haushaltsbuch2[Datum],\">\"&B38,Haushaltsbuch2[Datum],\"<=\"&B39)","v":0},{"$f":"SUMIFS(Haushaltsbuch2[Einnahmen],Haushaltsbuch2[Kategorie],Q$4,Haushaltsbuch2[Datum],\">\"&B38,Haushaltsbuch2[Datum],\"<=\"&B39)","v":0},{"$f":"SUMIFS(Haushaltsbuch2[Einnahmen],Haushaltsbuch2[Kategorie],R$4,Haushaltsbuch2[Datum],\">\"&B38,Haushaltsbuch2[Datum],\"<=\"&B39)","v":0},null,null,null,null,null,null,null,null,null,null,null,null,null,null,null,null,null,null,{"$f":"SUMIFS(Haushaltsbuch2[Ausgaben],Haushaltsbuch2[Kategorie],AK$4,Haushaltsbuch2[Datum],\">\"&B38,Haushaltsbuch2[Datum],\"<=\"&B39)","v":0},null,null,{"$f":"SUMIFS(Dividenden[Betrag in EUR],Dividenden[Datum],\">\"&B38,Dividenden[Datum],\"<=\"&B39)","v":0},{"$f":"SUMIFS(Optionen[G/V (Netto)],Optionen[Datum],\">\"&B38,Optionen[Datum],\"<=\"&B39)","v":0},null,0,0,null,0,0,null,{"$f":"SUMIFS(Haushaltsbuch2[Einnahmen],Haushaltsbuch2[Datum],\">\"&B38,Haushaltsbuch2[Datum],\"<=\"&B39)+AN39+AO39","v":0},null,{"$f":"SUMIFS(Haushaltsbuch2[Ausgaben],Haushaltsbuch2[Datum],\">\"&B38,Haushaltsbuch2[Datum],\"<=\"&B39)","v":0}]
[2006,39082,null,null,null,null,null,null,null,null,null,null,{"$f":"SUMIFS(Haushaltsbuch2[Einnahmen],Haushaltsbuch2[Kategorie],M$4,Haushaltsbuch2[Datum],\">\"&B39,Haushaltsbuch2[Datum],\"<=\"&B40)","v":0},{"$f":"SUMIFS(Haushaltsbuch2[Einnahmen],Haushaltsbuch2[Kategorie],N$4,Haushaltsbuch2[Datum],\">\"&B39,Haushaltsbuch2[Datum],\"<=\"&B40)","v":0},{"$f":"SUMIFS(Haushaltsbuch2[Einnahmen],Haushaltsbuch2[Kategorie],O$4,Haushaltsbuch2[Datum],\">\"&B39,Haushaltsbuch2[Datum],\"<=\"&B40)","v":0},{"$f":"SUMIFS(Haushaltsbuch2[Einnahmen],Haushaltsbuch2[Kategorie],P$4,Haushaltsbuch2[Datum],\">\"&B39,Haushaltsbuch2[Datum],\"<=\"&B40)","v":0},{"$f":"SUMIFS(Haushaltsbuch2[Einnahmen],Haushaltsbuch2[Kategorie],Q$4,Haushaltsbuch2[Datum],\">\"&B39,Haushaltsbuch2[Datum],\"<=\"&B40)","v":0},{"$f":"SUMIFS(Haushaltsbuch2[Einnahmen],Haushaltsbuch2[Kategorie],R$4,Haushaltsbuch2[Datum],\">\"&B39,Haushaltsbuch2[Datum],\"<=\"&B40)","v":0},null,null,null,null,null,null,null,null,null,null,null,null,null,null,null,null,null,null,{"$f":"SUMIFS(Haushaltsbuch2[Ausgaben],Haushaltsbuch2[Kategorie],AK$4,Haushaltsbuch2[Datum],\">\"&B39,Haushaltsbuch2[Datum],\"<=\"&B40)","v":0},null,null,{"$f":"SUMIFS(Dividenden[Betrag in EUR],Dividenden[Datum],\">\"&B39,Dividenden[Datum],\"<=\"&B40)","v":0},{"$f":"SUMIFS(Optionen[G/V (Netto)],Optionen[Datum],\">\"&B39,Optionen[Datum],\"<=\"&B40)","v":0},null,0,0,null,0,0,null,{"$f":"SUMIFS(Haushaltsbuch2[Einnahmen],Haushaltsbuch2[Datum],\">\"&B39,Haushaltsbuch2[Datum],\"<=\"&B40)+AN40+AO40","v":0},null,{"$f":"SUMIFS(Haushaltsbuch2[Ausgaben],Haushaltsbuch2[Datum],\">\"&B39,Haushaltsbuch2[Datum],\"<=\"&B40)","v":0}]
[2007,39447,null,null,null,null,null,null,null,null,null,null,{"$f":"SUMIFS(Haushaltsbuch2[Einnahmen],Haushaltsbuch2[Kategorie],M$4,Haushaltsbuch2[Datum],\">\"&B40,Haushaltsbuch2[Datum],\"<=\"&B41)","v":0},{"$f":"SUMIFS(Haushaltsbuch2[Einnahmen],Haushaltsbuch2[Kategorie],N$4,Haushaltsbuch2[Datum],\">\"&B40,Haushaltsbuch2[Datum],\"<=\"&B41)","v":0},{"$f":"SUMIFS(Haushaltsbuch2[Einnahmen],Haushaltsbuch2[Kategorie],O$4,Haushaltsbuch2[Datum],\">\"&B40,Haushaltsbuch2[Datum],\"<=\"&B41)","v":0},{"$f":"SUMIFS(Haushaltsbuch2[Einnahmen],Haushaltsbuch2[Kategorie],P$4,Haushaltsbuch2[Datum],\">\"&B40,Haushaltsbuch2[Datum],\"<=\"&B41)","v":0},{"$f":"SUMIFS(Haushaltsbuch2[Einnahmen],Haushaltsbuch2[Kategorie],Q$4,Haushaltsbuch2[Datum],\">\"&B40,Haushaltsbuch2[Datum],\"<=\"&B41)","v":0},{"$f":"SUMIFS(Haushaltsbuch2[Einnahmen],Haushaltsbuch2[Kategorie],R$4,Haushaltsbuch2[Datum],\">\"&B40,Haushaltsbuch2[Datum],\"<=\"&B41)","v":0},null,null,null,null,null,null,null,null,null,null,null,null,null,null,null,null,null,null,{"$f":"SUMIFS(Haushaltsbuch2[Ausgaben],Haushaltsbuch2[Kategorie],AK$4,Haushaltsbuch2[Datum],\">\"&B40,Haushaltsbuch2[Datum],\"<=\"&B41)","v":0},null,null,{"$f":"SUMIFS(Dividenden[Betrag in EUR],Dividenden[Datum],\">\"&B40,Dividenden[Datum],\"<=\"&B41)","v":0},{"$f":"SUMIFS(Optionen[G/V (Netto)],Optionen[Datum],\">\"&B40,Optionen[Datum],\"<=\"&B41)","v":0},null,0,0,null,0,0,null,{"$f":"SUMIFS(Haushaltsbuch2[Einnahmen],Haushaltsbuch2[Datum],\">\"&B40,Haushaltsbuch2[Datum],\"<=\"&B41)+AN41+AO41","v":0},null,{"$f":"SUMIFS(Haushaltsbuch2[Ausgaben],Haushaltsbuch2[Datum],\">\"&B40,Haushaltsbuch2[Datum],\"<=\"&B41)","v":0}]
[2008,39813,null,null,null,null,null,null,null,null,null,null,{"$f":"SUMIFS(Haushaltsbuch2[Einnahmen],Haushaltsbuch2[Kategorie],M$4,Haushaltsbuch2[Datum],\">\"&B41,Haushaltsbuch2[Datum],\"<=\"&B42)","v":0},{"$f":"SUMIFS(Haushaltsbuch2[Einnahmen],Haushaltsbuch2[Kategorie],N$4,Haushaltsbuch2[Datum],\">\"&B41,Haushaltsbuch2[Datum],\"<=\"&B42)","v":0},{"$f":"SUMIFS(Haushaltsbuch2[Einnahmen],Haushaltsbuch2[Kategorie],O$4,Haushaltsbuch2[Datum],\">\"&B41,Haushaltsbuch2[Datum],\"<=\"&B42)","v":0},{"$f":"SUMIFS(Haushaltsbuch2[Einnahmen],Haushaltsbuch2[Kategorie],P$4,Haushaltsbuch2[Datum],\">\"&B41,Haushaltsbuch2[Datum],\"<=\"&B42)","v":0},{"$f":"SUMIFS(Haushaltsbuch2[Einnahmen],Haushaltsbuch2[Kategorie],Q$4,Haushaltsbuch2[Datum],\">\"&B41,Haushaltsbuch2[Datum],\"<=\"&B42)","v":0},{"$f":"SUMIFS(Haushaltsbuch2[Einnahmen],Haushaltsbuch2[Kategorie],R$4,Haushaltsbuch2[Datum],\">\"&B41,Haushaltsbuch2[Datum],\"<=\"&B42)","v":0},null,null,null,null,null,null,null,null,null,null,null,null,null,null,null,null,null,null,{"$f":"SUMIFS(Haushaltsbuch2[Ausgaben],Haushaltsbuch2[Kategorie],AK$4,Haushaltsbuch2[Datum],\">\"&B41,Haushaltsbuch2[Datum],\"<=\"&B42)","v":0},null,null,{"$f":"SUMIFS(Dividenden[Betrag in EUR],Dividenden[Datum],\">\"&B41,Dividenden[Datum],\"<=\"&B42)","v":0},{"$f":"SUMIFS(Optionen[G/V (Netto)],Optionen[Datum],\">\"&B41,Optionen[Datum],\"<=\"&B42)","v":0},null,0,0,null,0,0,null,{"$f":"SUMIFS(Haushaltsbuch2[Einnahmen],Haushaltsbuch2[Datum],\">\"&B41,Haushaltsbuch2[Datum],\"<=\"&B42)+AN42+AO42","v":0},null,{"$f":"SUMIFS(Haushaltsbuch2[Ausgaben],Haushaltsbuch2[Datum],\">\"&B41,Haushaltsbuch2[Datum],\"<=\"&B42)","v":0}]
[2009,40178,null,null,null,null,null,null,null,null,null,null,{"$f":"SUMIFS(Haushaltsbuch2[Einnahmen],Haushaltsbuch2[Kategorie],M$4,Haushaltsbuch2[Datum],\">\"&B42,Haushaltsbuch2[Datum],\"<=\"&B43)","v":0},{"$f":"SUMIFS(Haushaltsbuch2[Einnahmen],Haushaltsbuch2[Kategorie],N$4,Haushaltsbuch2[Datum],\">\"&B42,Haushaltsbuch2[Datum],\"<=\"&B43)","v":0},{"$f":"SUMIFS(Haushaltsbuch2[Einnahmen],Haushaltsbuch2[Kategorie],O$4,Haushaltsbuch2[Datum],\">\"&B42,Haushaltsbuch2[Datum],\"<=\"&B43)","v":0},{"$f":"SUMIFS(Haushaltsbuch2[Einnahmen],Haushaltsbuch2[Kategorie],P$4,Haushaltsbuch2[Datum],\">\"&B42,Haushaltsbuch2[Datum],\"<=\"&B43)","v":0},{"$f":"SUMIFS(Haushaltsbuch2[Einnahmen],Haushaltsbuch2[Kategorie],Q$4,Haushaltsbuch2[Datum],\">\"&B42,Haushaltsbuch2[Datum],\"<=\"&B43)","v":0},{"$f":"SUMIFS(Haushaltsbuch2[Einnahmen],Haushaltsbuch2[Kategorie],R$4,Haushaltsbuch2[Datum],\">\"&B42,Haushaltsbuch2[Datum],\"<=\"&B43)","v":0},null,null,null,null,null,null,null,null,null,null,null,null,null,null,null,null,null,null,{"$f":"SUMIFS(Haushaltsbuch2[Ausgaben],Haushaltsbuch2[Kategorie],AK$4,Haushaltsbuch2[Datum],\">\"&B42,Haushaltsbuch2[Datum],\"<=\"&B43)","v":0},null,null,{"$f":"SUMIFS(Dividenden[Betrag in EUR],Dividenden[Datum],\">\"&B42,Dividenden[Datum],\"<=\"&B43)","v":0},{"$f":"SUMIFS(Optionen[G/V (Netto)],Optionen[Datum],\">\"&B42,Optionen[Datum],\"<=\"&B43)","v":0},null,0,0,null,0,0,null,{"$f":"SUMIFS(Haushaltsbuch2[Einnahmen],Haushaltsbuch2[Datum],\">\"&B42,Haushaltsbuch2[Datum],\"<=\"&B43)+AN43+AO43","v":0},null,{"$f":"SUMIFS(Haushaltsbuch2[Ausgaben],Haushaltsbuch2[Datum],\">\"&B42,Haushaltsbuch2[Datum],\"<=\"&B43)","v":0}]
[2010,40543,null,null,null,null,null,null,null,null,null,null,{"$f":"SUMIFS(Haushaltsbuch2[Einnahmen],Haushaltsbuch2[Kategorie],M$4,Haushaltsbuch2[Datum],\">\"&B43,Haushaltsbuch2[Datum],\"<=\"&B44)","v":0},{"$f":"SUMIFS(Haushaltsbuch2[Einnahmen],Haushaltsbuch2[Kategorie],N$4,Haushaltsbuch2[Datum],\">\"&B43,Haushaltsbuch2[Datum],\"<=\"&B44)","v":0},{"$f":"SUMIFS(Haushaltsbuch2[Einnahmen],Haushaltsbuch2[Kategorie],O$4,Haushaltsbuch2[Datum],\">\"&B43,Haushaltsbuch2[Datum],\"<=\"&B44)","v":0},{"$f":"SUMIFS(Haushaltsbuch2[Einnahmen],Haushaltsbuch2[Kategorie],P$4,Haushaltsbuch2[Datum],\">\"&B43,Haushaltsbuch2[Datum],\"<=\"&B44)","v":0},{"$f":"SUMIFS(Haushaltsbuch2[Einnahmen],Haushaltsbuch2[Kategorie],Q$4,Haushaltsbuch2[Datum],\">\"&B43,Haushaltsbuch2[Datum],\"<=\"&B44)","v":0},{"$f":"SUMIFS(Haushaltsbuch2[Einnahmen],Haushaltsbuch2[Kategorie],R$4,Haushaltsbuch2[Datum],\">\"&B43,Haushaltsbuch2[Datum],\"<=\"&B44)","v":0},null,null,null,null,null,null,null,null,null,null,null,null,null,null,null,null,null,null,{"$f":"SUMIFS(Haushaltsbuch2[Ausgaben],Haushaltsbuch2[Kategorie],AK$4,Haushaltsbuch2[Datum],\">\"&B43,Haushaltsbuch2[Datum],\"<=\"&B44)","v":0},null,null,{"$f":"SUMIFS(Dividenden[Betrag in EUR],Dividenden[Datum],\">\"&B43,Dividenden[Datum],\"<=\"&B44)","v":0},{"$f":"SUMIFS(Optionen[G/V (Netto)],Optionen[Datum],\">\"&B43,Optionen[Datum],\"<=\"&B44)","v":0},null,0,0,null,0,0,null,{"$f":"SUMIFS(Haushaltsbuch2[Einnahmen],Haushaltsbuch2[Datum],\">\"&B43,Haushaltsbuch2[Datum],\"<=\"&B44)+AN44+AO44","v":0},null,{"$f":"SUMIFS(Haushaltsbuch2[Ausgaben],Haushaltsbuch2[Datum],\">\"&B43,Haushaltsbuch2[Datum],\"<=\"&B44)","v":0}]
[2011,{"$f":"DATE(YEAR(B44)+1,12,31)","v":40908},null,null,null,null,null,null,null,null,null,null,{"$f":"SUMIFS(Haushaltsbuch2[Einnahmen],Haushaltsbuch2[Kategorie],M$4,Haushaltsbuch2[Datum],\">\"&B44,Haushaltsbuch2[Datum],\"<=\"&B45)","v":0},{"$f":"SUMIFS(Haushaltsbuch2[Einnahmen],Haushaltsbuch2[Kategorie],N$4,Haushaltsbuch2[Datum],\">\"&B44,Haushaltsbuch2[Datum],\"<=\"&B45)","v":0},{"$f":"SUMIFS(Haushaltsbuch2[Einnahmen],Haushaltsbuch2[Kategorie],O$4,Haushaltsbuch2[Datum],\">\"&B44,Haushaltsbuch2[Datum],\"<=\"&B45)","v":0},{"$f":"SUMIFS(Haushaltsbuch2[Einnahmen],Haushaltsbuch2[Kategorie],P$4,Haushaltsbuch2[Datum],\">\"&B44,Haushaltsbuch2[Datum],\"<=\"&B45)","v":0},{"$f":"SUMIFS(Haushaltsbuch2[Einnahmen],Haushaltsbuch2[Kategorie],Q$4,Haushaltsbuch2[Datum],\">\"&B44,Haushaltsbuch2[Datum],\"<=\"&B45)","v":0},{"$f":"SUMIFS(Haushaltsbuch2[Einnahmen],Haushaltsbuch2[Kategorie],R$4,Haushaltsbuch2[Datum],\">\"&B44,Haushaltsbuch2[Datum],\"<=\"&B45)","v":0},null,null,null,null,null,null,null,null,null,null,null,null,null,null,null,null,null,null,{"$f":"SUMIFS(Haushaltsbuch2[Ausgaben],Haushaltsbuch2[Kategorie],AK$4,Haushaltsbuch2[Datum],\">\"&B44,Haushaltsbuch2[Datum],\"<=\"&B45)","v":0},null,null,{"$f":"SUMIFS(Dividenden[Betrag in EUR],Dividenden[Datum],\">\"&B44,Dividenden[Datum],\"<=\"&B45)","v":0},{"$f":"SUMIFS(Optionen[G/V (Netto)],Optionen[Datum],\">\"&B44,Optionen[Datum],\"<=\"&B45)","v":0},null,0,0,null,0,0,null,{"$f":"SUMIFS(Haushaltsbuch2[Einnahmen],Haushaltsbuch2[Datum],\">\"&B44,Haushaltsbuch2[Datum],\"<=\"&B45)+AN45+AO45","v":0},null,{"$f":"SUMIFS(Haushaltsbuch2[Ausgaben],Haushaltsbuch2[Datum],\">\"&B44,Haushaltsbuch2[Datum],\"<=\"&B45)","v":0}]
[2012,41274,null,null,null,null,null,null,null,null,null,null,{"$f":"SUMIFS(Haushaltsbuch2[Einnahmen],Haushaltsbuch2[Kategorie],M$4,Haushaltsbuch2[Datum],\">\"&B45,Haushaltsbuch2[Datum],\"<=\"&B46)","v":0},{"$f":"SUMIFS(Haushaltsbuch2[Einnahmen],Haushaltsbuch2[Kategorie],N$4,Haushaltsbuch2[Datum],\">\"&B45,Haushaltsbuch2[Datum],\"<=\"&B46)","v":0},{"$f":"SUMIFS(Haushaltsbuch2[Einnahmen],Haushaltsbuch2[Kategorie],O$4,Haushaltsbuch2[Datum],\">\"&B45,Haushaltsbuch2[Datum],\"<=\"&B46)","v":0},{"$f":"SUMIFS(Haushaltsbuch2[Einnahmen],Haushaltsbuch2[Kategorie],P$4,Haushaltsbuch2[Datum],\">\"&B45,Haushaltsbuch2[Datum],\"<=\"&B46)","v":0},{"$f":"SUMIFS(Haushaltsbuch2[Einnahmen],Haushaltsbuch2[Kategorie],Q$4,Haushaltsbuch2[Datum],\">\"&B45,Haushaltsbuch2[Datum],\"<=\"&B46)","v":0},{"$f":"SUMIFS(Haushaltsbuch2[Einnahmen],Haushaltsbuch2[Kategorie],R$4,Haushaltsbuch2[Datum],\">\"&B45,Haushaltsbuch2[Datum],\"<=\"&B46)","v":0},null,null,null,null,null,null,null,null,null,null,null,null,null,null,null,null,null,null,{"$f":"SUMIFS(Haushaltsbuch2[Ausgaben],Haushaltsbuch2[Kategorie],AK$4,Haushaltsbuch2[Datum],\">\"&B45,Haushaltsbuch2[Datum],\"<=\"&B46)","v":0},null,null,{"$f":"SUMIFS(Dividenden[Betrag in EUR],Dividenden[Datum],\">\"&B45,Dividenden[Datum],\"<=\"&B46)","v":0},{"$f":"SUMIFS(Optionen[G/V (Netto)],Optionen[Datum],\">\"&B45,Optionen[Datum],\"<=\"&B46)","v":0},null,0,0,null,0,0,null,{"$f":"SUMIFS(Haushaltsbuch2[Einnahmen],Haushaltsbuch2[Datum],\">\"&B45,Haushaltsbuch2[Datum],\"<=\"&B46)+AN46+AO46","v":0},null,{"$f":"SUMIFS(Haushaltsbuch2[Ausgaben],Haushaltsbuch2[Datum],\">\"&B45,Haushaltsbuch2[Datum],\"<=\"&B46)","v":0}]
[2013,41639,null,null,null,null,null,null,null,null,null,null,{"$f":"SUMIFS(Haushaltsbuch2[Einnahmen],Haushaltsbuch2[Kategorie],M$4,Haushaltsbuch2[Datum],\">\"&B46,Haushaltsbuch2[Datum],\"<=\"&B47)","v":0},{"$f":"SUMIFS(Haushaltsbuch2[Einnahmen],Haushaltsbuch2[Kategorie],N$4,Haushaltsbuch2[Datum],\">\"&B46,Haushaltsbuch2[Datum],\"<=\"&B47)","v":0},{"$f":"SUMIFS(Haushaltsbuch2[Einnahmen],Haushaltsbuch2[Kategorie],O$4,Haushaltsbuch2[Datum],\">\"&B46,Haushaltsbuch2[Datum],\"<=\"&B47)","v":0},{"$f":"SUMIFS(Haushaltsbuch2[Einnahmen],Haushaltsbuch2[Kategorie],P$4,Haushaltsbuch2[Datum],\">\"&B46,Haushaltsbuch2[Datum],\"<=\"&B47)","v":0},{"$f":"SUMIFS(Haushaltsbuch2[Einnahmen],Haushaltsbuch2[Kategorie],Q$4,Haushaltsbuch2[Datum],\">\"&B46,Haushaltsbuch2[Datum],\"<=\"&B47)","v":0},{"$f":"SUMIFS(Haushaltsbuch2[Einnahmen],Haushaltsbuch2[Kategorie],R$4,Haushaltsbuch2[Datum],\">\"&B46,Haushaltsbuch2[Datum],\"<=\"&B47)","v":0},null,null,null,null,null,null,null,null,null,null,null,null,null,null,null,null,null,null,{"$f":"SUMIFS(Haushaltsbuch2[Ausgaben],Haushaltsbuch2[Kategorie],AK$4,Haushaltsbuch2[Datum],\">\"&B46,Haushaltsbuch2[Datum],\"<=\"&B47)","v":0},null,null,{"$f":"SUMIFS(Dividenden[Betrag in EUR],Dividenden[Datum],\">\"&B46,Dividenden[Datum],\"<=\"&B47)","v":0},{"$f":"SUMIFS(Optionen[G/V (Netto)],Optionen[Datum],\">\"&B46,Optionen[Datum],\"<=\"&B47)","v":0},null,0,0,null,0,0,null,{"$f":"SUMIFS(Haushaltsbuch2[Einnahmen],Haushaltsbuch2[Datum],\">\"&B46,Haushaltsbuch2[Datum],\"<=\"&B47)+AN47+AO47","v":0},null,{"$f":"SUMIFS(Haushaltsbuch2[Ausgaben],Haushaltsbuch2[Datum],\">\"&B46,Haushaltsbuch2[Datum],\"<=\"&B47)","v":0}]
[2014,42004,null,null,null,null,null,null,null,null,null,null,{"$f":"SUMIFS(Haushaltsbuch2[Einnahmen],Haushaltsbuch2[Kategorie],M$4,Haushaltsbuch2[Datum],\">\"&B47,Haushaltsbuch2[Datum],\"<=\"&B48)","v":0},{"$f":"SUMIFS(Haushaltsbuch2[Einnahmen],Haushaltsbuch2[Kategorie],N$4,Haushaltsbuch2[Datum],\">\"&B47,Haushaltsbuch2[Datum],\"<=\"&B48)","v":0},{"$f":"SUMIFS(Haushaltsbuch2[Einnahmen],Haushaltsbuch2[Kategorie],O$4,Haushaltsbuch2[Datum],\">\"&B47,Haushaltsbuch2[Datum],\"<=\"&B48)","v":0},{"$f":"SUMIFS(Haushaltsbuch2[Einnahmen],Haushaltsbuch2[Kategorie],P$4,Haushaltsbuch2[Datum],\">\"&B47,Haushaltsbuch2[Datum],\"<=\"&B48)","v":0},{"$f":"SUMIFS(Haushaltsbuch2[Einnahmen],Haushaltsbuch2[Kategorie],Q$4,Haushaltsbuch2[Datum],\">\"&B47,Haushaltsbuch2[Datum],\"<=\"&B48)","v":0},{"$f":"SUMIFS(Haushaltsbuch2[Einnahmen],Haushaltsbuch2[Kategorie],R$4,Haushaltsbuch2[Datum],\">\"&B47,Haushaltsbuch2[Datum],\"<=\"&B48)","v":0},null,null,null,null,null,null,null,null,null,null,null,null,null,null,null,null,null,null,{"$f":"SUMIFS(Haushaltsbuch2[Ausgaben],Haushaltsbuch2[Kategorie],AK$4,Haushaltsbuch2[Datum],\">\"&B47,Haushaltsbuch2[Datum],\"<=\"&B48)","v":0},null,null,{"$f":"SUMIFS(Dividenden[Betrag in EUR],Dividenden[Datum],\">\"&B47,Dividenden[Datum],\"<=\"&B48)","v":0},{"$f":"SUMIFS(Optionen[G/V (Netto)],Optionen[Datum],\">\"&B47,Optionen[Datum],\"<=\"&B48)","v":0},null,0,0,null,0,0,null,{"$f":"SUMIFS(Haushaltsbuch2[Einnahmen],Haushaltsbuch2[Datum],\">\"&B47,Haushaltsbuch2[Datum],\"<=\"&B48)+AN48+AO48","v":0},null,{"$f":"SUMIFS(Haushaltsbuch2[Ausgaben],Haushaltsbuch2[Datum],\">\"&B47,Haushaltsbuch2[Datum],\"<=\"&B48)","v":0}]
[2015,42369,null,null,null,null,null,null,null,null,null,null,{"$f":"SUMIFS(Haushaltsbuch2[Einnahmen],Haushaltsbuch2[Kategorie],M$4,Haushaltsbuch2[Datum],\">\"&B48,Haushaltsbuch2[Datum],\"<=\"&B49)","v":0},{"$f":"SUMIFS(Haushaltsbuch2[Einnahmen],Haushaltsbuch2[Kategorie],N$4,Haushaltsbuch2[Datum],\">\"&B48,Haushaltsbuch2[Datum],\"<=\"&B49)","v":0},{"$f":"SUMIFS(Haushaltsbuch2[Einnahmen],Haushaltsbuch2[Kategorie],O$4,Haushaltsbuch2[Datum],\">\"&B48,Haushaltsbuch2[Datum],\"<=\"&B49)","v":0},{"$f":"SUMIFS(Haushaltsbuch2[Einnahmen],Haushaltsbuch2[Kategorie],P$4,Haushaltsbuch2[Datum],\">\"&B48,Haushaltsbuch2[Datum],\"<=\"&B49)","v":0},{"$f":"SUMIFS(Haushaltsbuch2[Einnahmen],Haushaltsbuch2[Kategorie],Q$4,Haushaltsbuch2[Datum],\">\"&B48,Haushaltsbuch2[Datum],\"<=\"&B49)","v":0},{"$f":"SUMIFS(Haushaltsbuch2[Einnahmen],Haushaltsbuch2[Kategorie],R$4,Haushaltsbuch2[Datum],\">\"&B48,Haushaltsbuch2[Datum],\"<=\"&B49)","v":0},null,null,null,null,null,null,null,null,null,null,null,null,null,null,null,null,null,null,{"$f":"SUMIFS(Haushaltsbuch2[Ausgaben],Haushaltsbuch2[Kategorie],AK$4,Haushaltsbuch2[Datum],\">\"&B48,Haushaltsbuch2[Datum],\"<=\"&B49)","v":0},null,null,{"$f":"SUMIFS(Dividenden[Betrag in EUR],Dividenden[Datum],\">\"&B48,Dividenden[Datum],\"<=\"&B49)","v":0},{"$f":"SUMIFS(Optionen[G/V (Netto)],Optionen[Datum],\">\"&B48,Optionen[Datum],\"<=\"&B49)","v":0},null,0,0,null,0,0,null,{"$f":"SUMIFS(Haushaltsbuch2[Einnahmen],Haushaltsbuch2[Datum],\">\"&B48,Haushaltsbuch2[Datum],\"<=\"&B49)+AN49+AO49","v":0},null,{"$f":"SUMIFS(Haushaltsbuch2[Ausgaben],Haushaltsbuch2[Datum],\">\"&B48,Haushaltsbuch2[Datum],\"<=\"&B49)","v":0}]
[2016,42735,null,null,null,null,null,null,null,null,null,null,{"$f":"SUMIFS(Haushaltsbuch2[Einnahmen],Haushaltsbuch2[Kategorie],M$4,Haushaltsbuch2[Datum],\">\"&B49,Haushaltsbuch2[Datum],\"<=\"&B50)","v":0},{"$f":"SUMIFS(Haushaltsbuch2[Einnahmen],Haushaltsbuch2[Kategorie],N$4,Haushaltsbuch2[Datum],\">\"&B49,Haushaltsbuch2[Datum],\"<=\"&B50)","v":0},{"$f":"SUMIFS(Haushaltsbuch2[Einnahmen],Haushaltsbuch2[Kategorie],O$4,Haushaltsbuch2[Datum],\">\"&B49,Haushaltsbuch2[Datum],\"<=\"&B50)","v":0},{"$f":"SUMIFS(Haushaltsbuch2[Einnahmen],Haushaltsbuch2[Kategorie],P$4,Haushaltsbuch2[Datum],\">\"&B49,Haushaltsbuch2[Datum],\"<=\"&B50)","v":0},{"$f":"SUMIFS(Haushaltsbuch2[Einnahmen],Haushaltsbuch2[Kategorie],Q$4,Haushaltsbuch2[Datum],\">\"&B49,Haushaltsbuch2[Datum],\"<=\"&B50)","v":0},{"$f":"SUMIFS(Haushaltsbuch2[Einnahmen],Haushaltsbuch2[Kategorie],R$4,Haushaltsbuch2[Datum],\">\"&B49,Haushaltsbuch2[Datum],\"<=\"&B50)","v":0},null,null,null,null,null,null,null,null,null,null,null,null,null,null,null,null,null,null,{"$f":"SUMIFS(Haushaltsbuch2[Ausgaben],Haushaltsbuch2[Kategorie],AK$4,Haushaltsbuch2[Datum],\">\"&B49,Haushaltsbuch2[Datum],\"<=\"&B50)","v":0},null,null,{"$f":"SUMIFS(Dividenden[Betrag in EUR],Dividenden[Datum],\">\"&B49,Dividenden[Datum],\"<=\"&B50)","v":0},{"$f":"SUMIFS(Optionen[G/V (Netto)],Optionen[Datum],\">\"&B49,Optionen[Datum],\"<=\"&B50)","v":0},null,0,0,null,0,0,null,{"$f":"SUMIFS(Haushaltsbuch2[Einnahmen],Haushaltsbuch2[Datum],\">\"&B49,Haushaltsbuch2[Datum],\"<=\"&B50)+AN50+AO50","v":0},null,{"$f":"SUMIFS(Haushaltsbuch2[Ausgaben],Haushaltsbuch2[Datum],\">\"&B49,Haushaltsbuch2[Datum],\"<=\"&B50)","v":0}]
[2017,43100,null,null,null,null,null,null,null,null,null,null,{"$f":"SUMIFS(Haushaltsbuch2[Einnahmen],Haushaltsbuch2[Kategorie],M$4,Haushaltsbuch2[Datum],\">\"&B50,Haushaltsbuch2[Datum],\"<=\"&B51)","v":0},{"$f":"SUMIFS(Haushaltsbuch2[Einnahmen],Haushaltsbuch2[Kategorie],N$4,Haushaltsbuch2[Datum],\">\"&B50,Haushaltsbuch2[Datum],\"<=\"&B51)","v":0},{"$f":"SUMIFS(Haushaltsbuch2[Einnahmen],Haushaltsbuch2[Kategorie],O$4,Haushaltsbuch2[Datum],\">\"&B50,Haushaltsbuch2[Datum],\"<=\"&B51)","v":0},{"$f":"SUMIFS(Haushaltsbuch2[Einnahmen],Haushaltsbuch2[Kategorie],P$4,Haushaltsbuch2[Datum],\">\"&B50,Haushaltsbuch2[Datum],\"<=\"&B51)","v":0},{"$f":"SUMIFS(Haushaltsbuch2[Einnahmen],Haushaltsbuch2[Kategorie],Q$4,Haushaltsbuch2[Datum],\">\"&B50,Haushaltsbuch2[Datum],\"<=\"&B51)","v":0},{"$f":"SUMIFS(Haushaltsbuch2[Einnahmen],Haushaltsbuch2[Kategorie],R$4,Haushaltsbuch2[Datum],\">\"&B50,Haushaltsbuch2[Datum],\"<=\"&B51)","v":0},null,null,null,null,null,null,null,null,null,null,null,null,null,null,null,null,null,null,{"$f":"SUMIFS(Haushaltsbuch2[Ausgaben],Haushaltsbuch2[Kategorie],AK$4,Haushaltsbuch2[Datum],\">\"&B50,Haushaltsbuch2[Datum],\"<=\"&B51)","v":0},null,null,{"$f":"SUMIFS(Dividenden[Betrag in EUR],Dividenden[Datum],\">\"&B50,Dividenden[Datum],\"<=\"&B51)","v":0},{"$f":"SUMIFS(Optionen[G/V (Netto)],Optionen[Datum],\">\"&B50,Optionen[Datum],\"<=\"&B51)","v":0},null,0,0,null,0,0,null,{"$f":"SUMIFS(Haushaltsbuch2[Einnahmen],Haushaltsbuch2[Datum],\">\"&B50,Haushaltsbuch2[Datum],\"<=\"&B51)+AN51+AO51","v":0},null,{"$f":"SUMIFS(Haushaltsbuch2[Ausgaben],Haushaltsbuch2[Datum],\">\"&B50,Haushaltsbuch2[Datum],\"<=\"&B51)","v":0}]
[2018,43465,{"$f":"SUMIFS(Haushaltsbuch2[Einnahmen],Haushaltsbuch2[Kategorie],$C$4,Haushaltsbuch2[Datum],\">\"&B51,Haushaltsbuch2[Datum],\"<=\"&B52)","v":0},{"$f":"SUMIFS(Haushaltsbuch2[Einnahmen],Haushaltsbuch2[Kategorie],$D$4,Haushaltsbuch2[Datum],\">\"&B51,Haushaltsbuch2[Datum],\"<=\"&B52)","v":0},{"$f":"SUMIFS(Haushaltsbuch2[Einnahmen],Haushaltsbuch2[Kategorie],E$4,Haushaltsbuch2[Datum],\">\"&B51,Haushaltsbuch2[Datum],\"<=\"&B52)","v":0},{"$f":"SUMIFS(Haushaltsbuch2[Einnahmen],Haushaltsbuch2[Kategorie],F$4,Haushaltsbuch2[Datum],\">\"&B51,Haushaltsbuch2[Datum],\"<=\"&B52)","v":0},{"$f":"SUMIFS(Haushaltsbuch2[Einnahmen],Haushaltsbuch2[Kategorie],G$4,Haushaltsbuch2[Datum],\">\"&B51,Haushaltsbuch2[Datum],\"<=\"&B52)","v":0},{"$f":"SUMIFS(Haushaltsbuch2[Einnahmen],Haushaltsbuch2[Kategorie],H$4,Haushaltsbuch2[Datum],\">\"&B51,Haushaltsbuch2[Datum],\"<=\"&B52)","v":0},{"$f":"SUMIFS(Haushaltsbuch2[Einnahmen],Haushaltsbuch2[Kategorie],I$4,Haushaltsbuch2[Datum],\">\"&B51,Haushaltsbuch2[Datum],\"<=\"&B52)","v":0},{"$f":"SUMIFS(Haushaltsbuch2[Einnahmen],Haushaltsbuch2[Kategorie],J$4,Haushaltsbuch2[Datum],\">\"&B51,Haushaltsbuch2[Datum],\"<=\"&B52)","v":0},{"$f":"SUMIFS(Haushaltsbuch2[Einnahmen],Haushaltsbuch2[Kategorie],K$4,Haushaltsbuch2[Datum],\">\"&B51,Haushaltsbuch2[Datum],\"<=\"&B52)","v":0},{"$f":"SUMIFS(Haushaltsbuch2[Einnahmen],Haushaltsbuch2[Kategorie],L$4,Haushaltsbuch2[Datum],\">\"&B51,Haushaltsbuch2[Datum],\"<=\"&B52)","v":0},{"$f":"SUMIFS(Haushaltsbuch2[Einnahmen],Haushaltsbuch2[Kategorie],M$4,Haushaltsbuch2[Datum],\">\"&B51,Haushaltsbuch2[Datum],\"<=\"&B52)","v":0},{"$f":"SUMIFS(Haushaltsbuch2[Einnahmen],Haushaltsbuch2[Kategorie],N$4,Haushaltsbuch2[Datum],\">\"&B51,Haushaltsbuch2[Datum],\"<=\"&B52)","v":0},{"$f":"SUMIFS(Haushaltsbuch2[Einnahmen],Haushaltsbuch2[Kategorie],O$4,Haushaltsbuch2[Datum],\">\"&B51,Haushaltsbuch2[Datum],\"<=\"&B52)","v":0},{"$f":"SUMIFS(Haushaltsbuch2[Einnahmen],Haushaltsbuch2[Kategorie],P$4,Haushaltsbuch2[Datum],\">\"&B51,Haushaltsbuch2[Datum],\"<=\"&B52)","v":0},{"$f":"SUMIFS(Haushaltsbuch2[Einnahmen],Haushaltsbuch2[Kategorie],Q$4,Haushaltsbuch2[Datum],\">\"&B51,Haushaltsbuch2[Datum],\"<=\"&B52)","v":0},{"$f":"SUMIFS(Haushaltsbuch2[Einnahmen],Haushaltsbuch2[Kategorie],R$4,Haushaltsbuch2[Datum],\">\"&B51,Haushaltsbuch2[Datum],\"<=\"&B52)","v":0},{"$f":"SUMIFS(Haushaltsbuch2[Ausgaben],Haushaltsbuch2[Kategorie],S$4,Haushaltsbuch2[Datum],\">\"&B51,Haushaltsbuch2[Datum],\"<=\"&B52)","v":0},{"$f":"SUMIFS(Haushaltsbuch2[Ausgaben],Haushaltsbuch2[Kategorie],T$4,Haushaltsbuch2[Datum],\">\"&B51,Haushaltsbuch2[Datum],\"<=\"&B52)","v":0},{"$f":"SUMIFS(Haushaltsbuch2[Ausgaben],Haushaltsbuch2[Kategorie],U$4,Haushaltsbuch2[Datum],\">\"&B51,Haushaltsbuch2[Datum],\"<=\"&B52)","v":0},{"$f":"SUMIFS(Haushaltsbuch2[Ausgaben],Haushaltsbuch2[Kategorie],V$4,Haushaltsbuch2[Datum],\">\"&B51,Haushaltsbuch2[Datum],\"<=\"&B52)","v":0},{"$f":"SUMIFS(Haushaltsbuch2[Ausgaben],Haushaltsbuch2[Kategorie],W$4,Haushaltsbuch2[Datum],\">\"&B51,Haushaltsbuch2[Datum],\"<=\"&B52)","v":0},{"$f":"SUMIFS(Haushaltsbuch2[Ausgaben],Haushaltsbuch2[Kategorie],X$4,Haushaltsbuch2[Datum],\">\"&B51,Haushaltsbuch2[Datum],\"<=\"&B52)","v":0},{"$f":"SUMIFS(Haushaltsbuch2[Ausgaben],Haushaltsbuch2[Kategorie],Y$4,Haushaltsbuch2[Datum],\">\"&B51,Haushaltsbuch2[Datum],\"<=\"&B52)","v":0},{"$f":"SUMIFS(Haushaltsbuch2[Ausgaben],Haushaltsbuch2[Kategorie],Z$4,Haushaltsbuch2[Datum],\">\"&B51,Haushaltsbuch2[Datum],\"<=\"&B52)","v":0},{"$f":"SUMIFS(Haushaltsbuch2[Ausgaben],Haushaltsbuch2[Kategorie],AA$4,Haushaltsbuch2[Datum],\">\"&B51,Haushaltsbuch2[Datum],\"<=\"&B52)","v":0},{"$f":"SUMIFS(Haushaltsbuch2[Ausgaben],Haushaltsbuch2[Kategorie],AB$4,Haushaltsbuch2[Datum],\">\"&B51,Haushaltsbuch2[Datum],\"<=\"&B52)","v":0},{"$f":"SUMIFS(Haushaltsbuch2[Ausgaben],Haushaltsbuch2[Kategorie],AC$4,Haushaltsbuch2[Datum],\">\"&B51,Haushaltsbuch2[Datum],\"<=\"&B52)","v":0},{"$f":"SUMIFS(Haushaltsbuch2[Ausgaben],Haushaltsbuch2[Kategorie],AD$4,Haushaltsbuch2[Datum],\">\"&B51,Haushaltsbuch2[Datum],\"<=\"&B52)","v":0},{"$f":"SUMIFS(Haushaltsbuch2[Ausgaben],Haushaltsbuch2[Kategorie],AE$4,Haushaltsbuch2[Datum],\">\"&B51,Haushaltsbuch2[Datum],\"<=\"&B52)","v":0},{"$f":"SUMIFS(Haushaltsbuch2[Ausgaben],Haushaltsbuch2[Kategorie],AF$4,Haushaltsbuch2[Datum],\">\"&B51,Haushaltsbuch2[Datum],\"<=\"&B52)","v":0},{"$f":"SUMIFS(Haushaltsbuch2[Ausgaben],Haushaltsbuch2[Kategorie],AG$4,Haushaltsbuch2[Datum],\">\"&B51,Haushaltsbuch2[Datum],\"<=\"&B52)","v":0},{"$f":"SUMIFS(Haushaltsbuch2[Ausgaben],Haushaltsbuch2[Kategorie],AH$4,Haushaltsbuch2[Datum],\">\"&B51,Haushaltsbuch2[Datum],\"<=\"&B52)","v":0},{"$f":"SUMIFS(Haushaltsbuch2[Ausgaben],Haushaltsbuch2[Kategorie],AI$4,Haushaltsbuch2[Datum],\">\"&B51,Haushaltsbuch2[Datum],\"<=\"&B52)","v":0},{"$f":"SUMIFS(Haushaltsbuch2[Ausgaben],Haushaltsbuch2[Kategorie],AJ$4,Haushaltsbuch2[Datum],\">\"&B51,Haushaltsbuch2[Datum],\"<=\"&B52)","v":0},{"$f":"SUMIFS(Haushaltsbuch2[Ausgaben],Haushaltsbuch2[Kategorie],AK$4,Haushaltsbuch2[Datum],\">\"&B51,Haushaltsbuch2[Datum],\"<=\"&B52)","v":0},{"$f":"SUMIFS(Haushaltsbuch2[Ausgaben],Haushaltsbuch2[Kategorie],AL$4,Haushaltsbuch2[Datum],\">\"&B51,Haushaltsbuch2[Datum],\"<=\"&B52)","v":0},null,{"$f":"SUMIFS(Dividenden[Betrag in EUR],Dividenden[Datum],\">\"&B51,Dividenden[Datum],\"<=\"&B52)","v":0},{"$f":"SUMIFS(Optionen[G/V (Netto)],Optionen[Datum],\">\"&B51,Optionen[Datum],\"<=\"&B52)","v":0},null,0,0,null,0,0,null,{"$f":"SUMIFS(Haushaltsbuch2[Einnahmen],Haushaltsbuch2[Datum],\">\"&B51,Haushaltsbuch2[Datum],\"<=\"&B52)+AN52+AO52","v":0},null,{"$f":"SUMIFS(Haushaltsbuch2[Ausgaben],Haushaltsbuch2[Datum],\">\"&B51,Haushaltsbuch2[Datum],\"<=\"&B52)","v":0}]
[2019,43830,{"$f":"SUMIFS(Haushaltsbuch2[Einnahmen],Haushaltsbuch2[Kategorie],$C$4,Haushaltsbuch2[Datum],\">\"&B52,Haushaltsbuch2[Datum],\"<=\"&B53)","v":0},{"$f":"SUMIFS(Haushaltsbuch2[Einnahmen],Haushaltsbuch2[Kategorie],$D$4,Haushaltsbuch2[Datum],\">\"&B52,Haushaltsbuch2[Datum],\"<=\"&B53)","v":0},{"$f":"SUMIFS(Haushaltsbuch2[Einnahmen],Haushaltsbuch2[Kategorie],E$4,Haushaltsbuch2[Datum],\">\"&B52,Haushaltsbuch2[Datum],\"<=\"&B53)","v":0},{"$f":"SUMIFS(Haushaltsbuch2[Einnahmen],Haushaltsbuch2[Kategorie],F$4,Haushaltsbuch2[Datum],\">\"&B52,Haushaltsbuch2[Datum],\"<=\"&B53)","v":0},{"$f":"SUMIFS(Haushaltsbuch2[Einnahmen],Haushaltsbuch2[Kategorie],G$4,Haushaltsbuch2[Datum],\">\"&B52,Haushaltsbuch2[Datum],\"<=\"&B53)","v":0},{"$f":"SUMIFS(Haushaltsbuch2[Einnahmen],Haushaltsbuch2[Kategorie],H$4,Haushaltsbuch2[Datum],\">\"&B52,Haushaltsbuch2[Datum],\"<=\"&B53)","v":0},{"$f":"SUMIFS(Haushaltsbuch2[Einnahmen],Haushaltsbuch2[Kategorie],I$4,Haushaltsbuch2[Datum],\">\"&B52,Haushaltsbuch2[Datum],\"<=\"&B53)","v":0},{"$f":"SUMIFS(Haushaltsbuch2[Einnahmen],Haushaltsbuch2[Kategorie],J$4,Haushaltsbuch2[Datum],\">\"&B52,Haushaltsbuch2[Datum],\"<=\"&B53)","v":0},{"$f":"SUMIFS(Haushaltsbuch2[Einnahmen],Haushaltsbuch2[Kategorie],K$4,Haushaltsbuch2[Datum],\">\"&B52,Haushaltsbuch2[Datum],\"<=\"&B53)","v":0},{"$f":"SUMIFS(Haushaltsbuch2[Einnahmen],Haushaltsbuch2[Kategorie],L$4,Haushaltsbuch2[Datum],\">\"&B52,Haushaltsbuch2[Datum],\"<=\"&B53)","v":0},{"$f":"SUMIFS(Haushaltsbuch2[Einnahmen],Haushaltsbuch2[Kategorie],M$4,Haushaltsbuch2[Datum],\">\"&B52,Haushaltsbuch2[Datum],\"<=\"&B53)","v":0},{"$f":"SUMIFS(Haushaltsbuch2[Einnahmen],Haushaltsbuch2[Kategorie],N$4,Haushaltsbuch2[Datum],\">\"&B52,Haushaltsbuch2[Datum],\"<=\"&B53)","v":0},{"$f":"SUMIFS(Haushaltsbuch2[Einnahmen],Haushaltsbuch2[Kategorie],O$4,Haushaltsbuch2[Datum],\">\"&B52,Haushaltsbuch2[Datum],\"<=\"&B53)","v":0},{"$f":"SUMIFS(Haushaltsbuch2[Einnahmen],Haushaltsbuch2[Kategorie],P$4,Haushaltsbuch2[Datum],\">\"&B52,Haushaltsbuch2[Datum],\"<=\"&B53)","v":0},{"$f":"SUMIFS(Haushaltsbuch2[Einnahmen],Haushaltsbuch2[Kategorie],Q$4,Haushaltsbuch2[Datum],\">\"&B52,Haushaltsbuch2[Datum],\"<=\"&B53)","v":0},{"$f":"SUMIFS(Haushaltsbuch2[Einnahmen],Haushaltsbuch2[Kategorie],R$4,Haushaltsbuch2[Datum],\">\"&B52,Haushaltsbuch2[Datum],\"<=\"&B53)","v":0},{"$f":"SUMIFS(Haushaltsbuch2[Ausgaben],Haushaltsbuch2[Kategorie],S$4,Haushaltsbuch2[Datum],\">\"&B52,Haushaltsbuch2[Datum],\"<=\"&B53)","v":0},{"$f":"SUMIFS(Haushaltsbuch2[Ausgaben],Haushaltsbuch2[Kategorie],T$4,Haushaltsbuch2[Datum],\">\"&B52,Haushaltsbuch2[Datum],\"<=\"&B53)","v":0},{"$f":"SUMIFS(Haushaltsbuch2[Ausgaben],Haushaltsbuch2[Kategorie],U$4,Haushaltsbuch2[Datum],\">\"&B52,Haushaltsbuch2[Datum],\"<=\"&B53)","v":0},{"$f":"SUMIFS(Haushaltsbuch2[Ausgaben],Haushaltsbuch2[Kategorie],V$4,Haushaltsbuch2[Datum],\">\"&B52,Haushaltsbuch2[Datum],\"<=\"&B53)","v":0},{"$f":"SUMIFS(Haushaltsbuch2[Ausgaben],Haushaltsbuch2[Kategorie],W$4,Haushaltsbuch2[Datum],\">\"&B52,Haushaltsbuch2[Datum],\"<=\"&B53)","v":0},{"$f":"SUMIFS(Haushaltsbuch2[Ausgaben],Haushaltsbuch2[Kategorie],X$4,Haushaltsbuch2[Datum],\">\"&B52,Haushaltsbuch2[Datum],\"<=\"&B53)","v":0},{"$f":"SUMIFS(Haushaltsbuch2[Ausgaben],Haushaltsbuch2[Kategorie],Y$4,Haushaltsbuch2[Datum],\">\"&B52,Haushaltsbuch2[Datum],\"<=\"&B53)","v":0},{"$f":"SUMIFS(Haushaltsbuch2[Ausgaben],Haushaltsbuch2[Kategorie],Z$4,Haushaltsbuch2[Datum],\">\"&B52,Haushaltsbuch2[Datum],\"<=\"&B53)","v":0},{"$f":"SUMIFS(Haushaltsbuch2[Ausgaben],Haushaltsbuch2[Kategorie],AA$4,Haushaltsbuch2[Datum],\">\"&B52,Haushaltsbuch2[Datum],\"<=\"&B53)","v":0},{"$f":"SUMIFS(Haushaltsbuch2[Ausgaben],Haushaltsbuch2[Kategorie],AB$4,Haushaltsbuch2[Datum],\">\"&B52,Haushaltsbuch2[Datum],\"<=\"&B53)","v":0},{"$f":"SUMIFS(Haushaltsbuch2[Ausgaben],Haushaltsbuch2[Kategorie],AC$4,Haushaltsbuch2[Datum],\">\"&B52,Haushaltsbuch2[Datum],\"<=\"&B53)","v":0},{"$f":"SUMIFS(Haushaltsbuch2[Ausgaben],Haushaltsbuch2[Kategorie],AD$4,Haushaltsbuch2[Datum],\">\"&B52,Haushaltsbuch2[Datum],\"<=\"&B53)","v":0},{"$f":"SUMIFS(Haushaltsbuch2[Ausgaben],Haushaltsbuch2[Kategorie],AE$4,Haushaltsbuch2[Datum],\">\"&B52,Haushaltsbuch2[Datum],\"<=\"&B53)","v":0},{"$f":"SUMIFS(Haushaltsbuch2[Ausgaben],Haushaltsbuch2[Kategorie],AF$4,Haushaltsbuch2[Datum],\">\"&B52,Haushaltsbuch2[Datum],\"<=\"&B53)","v":0},{"$f":"SUMIFS(Haushaltsbuch2[Ausgaben],Haushaltsbuch2[Kategorie],AG$4,Haushaltsbuch2[Datum],\">\"&B52,Haushaltsbuch2[Datum],\"<=\"&B53)","v":0},{"$f":"SUMIFS(Haushaltsbuch2[Ausgaben],Haushaltsbuch2[Kategorie],AH$4,Haushaltsbuch2[Datum],\">\"&B52,Haushaltsbuch2[Datum],\"<=\"&B53)","v":0},{"$f":"SUMIFS(Haushaltsbuch2[Ausgaben],Haushaltsbuch2[Kategorie],AI$4,Haushaltsbuch2[Datum],\">\"&B52,Haushaltsbuch2[Datum],\"<=\"&B53)","v":0},{"$f":"SUMIFS(Haushaltsbuch2[Ausgaben],Haushaltsbuch2[Kategorie],AJ$4,Haushaltsbuch2[Datum],\">\"&B52,Haushaltsbuch2[Datum],\"<=\"&B53)","v":0},{"$f":"SUMIFS(Haushaltsbuch2[Ausgaben],Haushaltsbuch2[Kategorie],AK$4,Haushaltsbuch2[Datum],\">\"&B52,Haushaltsbuch2[Datum],\"<=\"&B53)","v":0},{"$f":"SUMIFS(Haushaltsbuch2[Ausgaben],Haushaltsbuch2[Kategorie],AL$4,Haushaltsbuch2[Datum],\">\"&B52,Haushaltsbuch2[Datum],\"<=\"&B53)","v":0},null,{"$f":"SUMIFS(Dividenden[Betrag in EUR],Dividenden[Datum],\">\"&B52,Dividenden[Datum],\"<=\"&B53)","v":0},{"$f":"SUMIFS(Optionen[G/V (Netto)],Optionen[Datum],\">\"&B52,Optionen[Datum],\"<=\"&B53)","v":0},null,0,0,null,0,0,null,{"$f":"SUMIFS(Haushaltsbuch2[Einnahmen],Haushaltsbuch2[Datum],\">\"&B52,Haushaltsbuch2[Datum],\"<=\"&B53)+AN53+AO53","v":0},null,{"$f":"SUMIFS(Haushaltsbuch2[Ausgaben],Haushaltsbuch2[Datum],\">\"&B52,Haushaltsbuch2[Datum],\"<=\"&B53)","v":0}]
[2020,44196,{"$f":"SUMIFS(Haushaltsbuch2[Einnahmen],Haushaltsbuch2[Kategorie],$C$4,Haushaltsbuch2[Datum],\">\"&B53,Haushaltsbuch2[Datum],\"<=\"&B54)","v":0},{"$f":"SUMIFS(Haushaltsbuch2[Einnahmen],Haushaltsbuch2[Kategorie],$D$4,Haushaltsbuch2[Datum],\">\"&B53,Haushaltsbuch2[Datum],\"<=\"&B54)","v":0},{"$f":"SUMIFS(Haushaltsbuch2[Einnahmen],Haushaltsbuch2[Kategorie],E$4,Haushaltsbuch2[Datum],\">\"&B53,Haushaltsbuch2[Datum],\"<=\"&B54)","v":0},{"$f":"SUMIFS(Haushaltsbuch2[Einnahmen],Haushaltsbuch2[Kategorie],F$4,Haushaltsbuch2[Datum],\">\"&B53,Haushaltsbuch2[Datum],\"<=\"&B54)","v":0},{"$f":"SUMIFS(Haushaltsbuch2[Einnahmen],Haushaltsbuch2[Kategorie],G$4,Haushaltsbuch2[Datum],\">\"&B53,Haushaltsbuch2[Datum],\"<=\"&B54)","v":0},{"$f":"SUMIFS(Haushaltsbuch2[Einnahmen],Haushaltsbuch2[Kategorie],H$4,Haushaltsbuch2[Datum],\">\"&B53,Haushaltsbuch2[Datum],\"<=\"&B54)","v":0},{"$f":"SUMIFS(Haushaltsbuch2[Einnahmen],Haushaltsbuch2[Kategorie],I$4,Haushaltsbuch2[Datum],\">\"&B53,Haushaltsbuch2[Datum],\"<=\"&B54)","v":0},{"$f":"SUMIFS(Haushaltsbuch2[Einnahmen],Haushaltsbuch2[Kategorie],J$4,Haushaltsbuch2[Datum],\">\"&B53,Haushaltsbuch2[Datum],\"<=\"&B54)","v":0},{"$f":"SUMIFS(Haushaltsbuch2[Einnahmen],Haushaltsbuch2[Kategorie],K$4,Haushaltsbuch2[Datum],\">\"&B53,Haushaltsbuch2[Datum],\"<=\"&B54)","v":0},{"$f":"SUMIFS(Haushaltsbuch2[Einnahmen],Haushaltsbuch2[Kategorie],L$4,Haushaltsbuch2[Datum],\">\"&B53,Haushaltsbuch2[Datum],\"<=\"&B54)","v":0},{"$f":"SUMIFS(Haushaltsbuch2[Einnahmen],Haushaltsbuch2[Kategorie],M$4,Haushaltsbuch2[Datum],\">\"&B53,Haushaltsbuch2[Datum],\"<=\"&B54)","v":0},{"$f":"SUMIFS(Haushaltsbuch2[Einnahmen],Haushaltsbuch2[Kategorie],N$4,Haushaltsbuch2[Datum],\">\"&B53,Haushaltsbuch2[Datum],\"<=\"&B54)","v":0},{"$f":"SUMIFS(Haushaltsbuch2[Einnahmen],Haushaltsbuch2[Kategorie],O$4,Haushaltsbuch2[Datum],\">\"&B53,Haushaltsbuch2[Datum],\"<=\"&B54)","v":0},{"$f":"SUMIFS(Haushaltsbuch2[Einnahmen],Haushaltsbuch2[Kategorie],P$4,Haushaltsbuch2[Datum],\">\"&B53,Haushaltsbuch2[Datum],\"<=\"&B54)","v":0},{"$f":"SUMIFS(Haushaltsbuch2[Einnahmen],Haushaltsbuch2[Kategorie],Q$4,Haushaltsbuch2[Datum],\">\"&B53,Haushaltsbuch2[Datum],\"<=\"&B54)","v":0},{"$f":"SUMIFS(Haushaltsbuch2[Einnahmen],Haushaltsbuch2[Kategorie],R$4,Haushaltsbuch2[Datum],\">\"&B53,Haushaltsbuch2[Datum],\"<=\"&B54)","v":0},{"$f":"SUMIFS(Haushaltsbuch2[Ausgaben],Haushaltsbuch2[Kategorie],S$4,Haushaltsbuch2[Datum],\">\"&B53,Haushaltsbuch2[Datum],\"<=\"&B54)","v":0},{"$f":"SUMIFS(Haushaltsbuch2[Ausgaben],Haushaltsbuch2[Kategorie],T$4,Haushaltsbuch2[Datum],\">\"&B53,Haushaltsbuch2[Datum],\"<=\"&B54)","v":0},{"$f":"SUMIFS(Haushaltsbuch2[Ausgaben],Haushaltsbuch2[Kategorie],U$4,Haushaltsbuch2[Datum],\">\"&B53,Haushaltsbuch2[Datum],\"<=\"&B54)","v":0},{"$f":"SUMIFS(Haushaltsbuch2[Ausgaben],Haushaltsbuch2[Kategorie],V$4,Haushaltsbuch2[Datum],\">\"&B53,Haushaltsbuch2[Datum],\"<=\"&B54)","v":0},{"$f":"SUMIFS(Haushaltsbuch2[Ausgaben],Haushaltsbuch2[Kategorie],W$4,Haushaltsbuch2[Datum],\">\"&B53,Haushaltsbuch2[Datum],\"<=\"&B54)","v":0},{"$f":"SUMIFS(Haushaltsbuch2[Ausgaben],Haushaltsbuch2[Kategorie],X$4,Haushaltsbuch2[Datum],\">\"&B53,Haushaltsbuch2[Datum],\"<=\"&B54)","v":0},{"$f":"SUMIFS(Haushaltsbuch2[Ausgaben],Haushaltsbuch2[Kategorie],Y$4,Haushaltsbuch2[Datum],\">\"&B53,Haushaltsbuch2[Datum],\"<=\"&B54)","v":0},{"$f":"SUMIFS(Haushaltsbuch2[Ausgaben],Haushaltsbuch2[Kategorie],Z$4,Haushaltsbuch2[Datum],\">\"&B53,Haushaltsbuch2[Datum],\"<=\"&B54)","v":0},{"$f":"SUMIFS(Haushaltsbuch2[Ausgaben],Haushaltsbuch2[Kategorie],AA$4,Haushaltsbuch2[Datum],\">\"&B53,Haushaltsbuch2[Datum],\"<=\"&B54)","v":0},{"$f":"SUMIFS(Haushaltsbuch2[Ausgaben],Haushaltsbuch2[Kategorie],AB$4,Haushaltsbuch2[Datum],\">\"&B53,Haushaltsbuch2[Datum],\"<=\"&B54)","v":0},{"$f":"SUMIFS(Haushaltsbuch2[Ausgaben],Haushaltsbuch2[Kategorie],AC$4,Haushaltsbuch2[Datum],\">\"&B53,Haushaltsbuch2[Datum],\"<=\"&B54)","v":0},{"$f":"SUMIFS(Haushaltsbuch2[Ausgaben],Haushaltsbuch2[Kategorie],AD$4,Haushaltsbuch2[Datum],\">\"&B53,Haushaltsbuch2[Datum],\"<=\"&B54)","v":0},{"$f":"SUMIFS(Haushaltsbuch2[Ausgaben],Haushaltsbuch2[Kategorie],AE$4,Haushaltsbuch2[Datum],\">\"&B53,Haushaltsbuch2[Datum],\"<=\"&B54)","v":0},{"$f":"SUMIFS(Haushaltsbuch2[Ausgaben],Haushaltsbuch2[Kategorie],AF$4,Haushaltsbuch2[Datum],\">\"&B53,Haushaltsbuch2[Datum],\"<=\"&B54)","v":0},{"$f":"SUMIFS(Haushaltsbuch2[Ausgaben],Haushaltsbuch2[Kategorie],AG$4,Haushaltsbuch2[Datum],\">\"&B53,Haushaltsbuch2[Datum],\"<=\"&B54)","v":0},{"$f":"SUMIFS(Haushaltsbuch2[Ausgaben],Haushaltsbuch2[Kategorie],AH$4,Haushaltsbuch2[Datum],\">\"&B53,Haushaltsbuch2[Datum],\"<=\"&B54)","v":0},{"$f":"SUMIFS(Haushaltsbuch2[Ausgaben],Haushaltsbuch2[Kategorie],AI$4,Haushaltsbuch2[Datum],\">\"&B53,Haushaltsbuch2[Datum],\"<=\"&B54)","v":0},{"$f":"SUMIFS(Haushaltsbuch2[Ausgaben],Haushaltsbuch2[Kategorie],AJ$4,Haushaltsbuch2[Datum],\">\"&B53,Haushaltsbuch2[Datum],\"<=\"&B54)","v":0},{"$f":"SUMIFS(Haushaltsbuch2[Ausgaben],Haushaltsbuch2[Kategorie],AK$4,Haushaltsbuch2[Datum],\">\"&B53,Haushaltsbuch2[Datum],\"<=\"&B54)","v":0},{"$f":"SUMIFS(Haushaltsbuch2[Ausgaben],Haushaltsbuch2[Kategorie],AL$4,Haushaltsbuch2[Datum],\">\"&B53,Haushaltsbuch2[Datum],\"<=\"&B54)","v":0},null,{"$f":"SUMIFS(Dividenden[Betrag in EUR],Dividenden[Datum],\">\"&B53,Dividenden[Datum],\"<=\"&B54)","v":0},{"$f":"SUMIFS(Optionen[G/V (Netto)],Optionen[Datum],\">\"&B53,Optionen[Datum],\"<=\"&B54)","v":0},null,0,0,null,0,0,null,{"$f":"SUMIFS(Haushaltsbuch2[Einnahmen],Haushaltsbuch2[Datum],\">\"&B53,Haushaltsbuch2[Datum],\"<=\"&B54)+AN54+AO54","v":0},null,{"$f":"SUMIFS(Haushaltsbuch2[Ausgaben],Haushaltsbuch2[Datum],\">\"&B53,Haushaltsbuch2[Datum],\"<=\"&B54)","v":0}]

{"sheet":"Passive Einnahmen","index":13,"n_rows":26,"n_cols":63,"rows_kept":26,"cut":false,"hidden":false,"merged":[[33,62,33,65],[34,62,34,65],[14,1,14,28],[14,31,14,58],[9,61,9,62],[8,25,9,34],[10,25,11,34],[6,49,11,58],[5,1,6,10],[8,1,9,10],[10,1,11,10],[5,37,6,46],[8,37,9,46],[10,37,11,46],[5,13,6,22],[8,13,9,22],[10,13,11,22],[3,25,4,34],[5,25,6,34],[0,1,1,58],[3,1,4,10],[3,49,4,58],[5,49,5,58],[3,37,4,46],[3,13,4,22]]}
[null,"Passives Einkommen",null,null,null,null,null,null,null,null,null,null,null,null,null,null,null,null,null,null,null,null,null,null,null,null,null,null,null,null,null,null,null,null,null,null,null,null,null,null,null,null,null,null,null,null,null,null,null,null,null,null,null,null,null,null,null,null,null,null,null,"DATA TRACKING"]
[]
[null,null,null,null,null,null,null,null,null,null,null,null,null,null,null,null,null,null,null,null,null,null,null,null,null,null,null,null,null,null,null,null,null,null,null,null,null,null,null,null,null,null,null,null,null,null,null,null,null,null,null,null,null,null,null,null,null,null,null,null,null,"Summer aktueller Monat",{"$f":"'E&A DATA'!AT604","v":0}]
[null,"Aktueller Monat",null,null,null,null,null,null,null,null,null,null,null,"Aktueller Monat\nVergleich Vormonat",null,null,null,null,null,null,null,null,null,null,null,"Aktueller Monat\nVergleich Vorjahr",null,null,null,null,null,null,null,null,null,null,null,"Aktuelles Jahr",null,null,null,null,null,null,null,null,null,null,null,"Rendite der letzten 12 Monate",null,null,null,null,null,null,null,null,null,null,null,"Summe Monat 12M-Ø",{"$f":"'E&A DATA'!AU604","v":0}]
[null,null,null,null,null,null,null,null,null,null,null,null,null,null,null,null,null,null,null,null,null,null,null,null,null,null,null,null,null,null,null,null,null,null,null,null,null,null,null,null,null,null,null,null,null,null,null,null,null,null,null,null,null,null,null,null,null,null,null,null,null,"Summe aktuelles Jahr",{"$f":"'E&A DATA Jahre'!AT54","v":0}]
[null,{"$f":"BK3","v":0},null,null,null,null,null,null,null,null,null,null,null,{"$f":"BK22","v":0},null,null,null,null,null,null,null,null,null,null,null,{"$f":"BK23","v":0},null,null,null,null,null,null,null,null,null,null,null,{"$f":"BK5","v":0},null,null,null,null,null,null,null,null,null,null,null,null,null,null,null,null,null,null,null,null,null,null,null,"Summe letzte 12 Monate",{"$f":"SUM('E&A DATA'!AT593:AT604)","v":0}]
[null,null,null,null,null,null,null,null,null,null,null,null,null,null,null,null,null,null,null,null,null,null,null,null,null,null,null,null,null,null,null,null,null,null,null,null,null,null,null,null,null,null,null,null,null,null,null,null,null,null,null,null,null,null,null,null,null,null,null,null,null,"Kapitalstock 12M-Ø"]
[null,null,null,null,null,null,null,null,null,null,null,null,null,null,null,null,null,null,null,null,null,null,null,null,null,null,null,null,null,null,null,null,null,null,null,null,null,null,null,null,null,null,null,null,null,null,null,null,null,null,null,null,null,null,null,null,null,null,null,null,null,"Rendite 12M-Ø"]
[null,"Durchschn. Einnahmen pro Monat",null,null,null,null,null,null,null,null,null,null,null,"Durchschn. Einnahmen Vergleich Vormonat",null,null,null,null,null,null,null,null,null,null,null,"Durchschn. Einnahmen Vergleich Vorjahr",null,null,null,null,null,null,null,null,null,null,null,"Einnahmen der letzten 12 Monate"]
[null,null,null,null,null,null,null,null,null,null,null,null,null,null,null,null,null,null,null,null,null,null,null,null,null,null,null,null,null,null,null,null,null,null,null,null,null,null,null,null,null,null,null,null,null,null,null,null,null,null,null,null,null,null,null,null,null,null,null,null,null,"12M-Ø"]
[null,{"$f":"BK4","v":0},null,null,null,null,null,null,null,null,null,null,null,{"$f":"BK25","v":0},null,null,null,null,null,null,null,null,null,null,null,{"$f":"BK26","v":0},null,null,null,null,null,null,null,null,null,null,null,{"$f":"BK6","v":0},null,null,null,null,null,null,null,null,null,null,null,null,null,null,null,null,null,null,null,null,null,null,null,"Zinsen",{"$f":"AVERAGE('E&A DATA'!M593:M604)","v":0}]
[null,null,null,null,null,null,null,null,null,null,null,null,null,null,null,null,null,null,null,null,null,null,null,null,null,null,null,null,null,null,null,null,null,null,null,null,null,null,null,null,null,null,null,null,null,null,null,null,null,null,null,null,null,null,null,null,null,null,null,null,null,"Dividenden lt. HH",{"$f":"AVERAGE('E&A DATA'!N593:N604)","v":0}]
[null,null,null,null,null,null,null,null,null,null,null,null,null,null,null,null,null,null,null,null,null,null,null,null,null,null,null,null,null,null,null,null,null,null,null,null,null,null,null,null,null,null,null,null,null,null,null,null,null,null,null,null,null,null,null,null,null,null,null,null,null,"Dividenden lt. ExtSh",{"$f":"AVERAGE('E&A DATA'!AN593:AN604)","v":0}]
[null,null,null,null,null,null,null,null,null,null,null,null,null,null,null,null,null,null,null,null,null,null,null,null,null,null,null,null,null,null,null,null,null,null,null,null,null,null,null,null,null,null,null,null,null,null,null,null,null,null,null,null,null,null,null,null,null,null,null,null,null,"Dividenden Gesamt",{"$f":"AVERAGE('E&A DATA'!AQ593:AQ604)","v":0}]
[null,"Passives Einkommen je Monat",null,null,null,null,null,null,null,null,null,null,null,null,null,null,null,null,null,null,null,null,null,null,null,null,null,null,null,null,null,"Passives Einkommen je Jahr",null,null,null,null,null,null,null,null,null,null,null,null,null,null,null,null,null,null,null,null,null,null,null,null,null,null,null,null,null,"Optionserträge lt. HH",{"$f":"AVERAGE('E&A DATA'!O593:O604)","v":0}]
[null,null,null,null,null,null,null,null,null,null,null,null,null,null,null,null,null,null,null,null,null,null,null,null,null,null,null,null,null,null,null,null,null,null,null,null,null,null,null,null,null,null,null,null,null,null,null,null,null,null,null,null,null,null,null,null,null,null,null,null,null,"Optionserträge lt. ExtSh",{"$f":"AVERAGE('E&A DATA'!AO593:AO604)","v":0}]
[null,null,null,null,null,null,null,null,null,null,null,null,null,null,null,null,null,null,null,null,null,null,null,null,null,null,null,null,null,null,null,null,null,null,null,null,null,null,null,null,null,null,null,null,null,null,null,null,null,null,null,null,null,null,null,null,null,null,null,null,null,"Optionserträge Gesamt",{"$f":"AVERAGE('E&A DATA'!AR593:AR604)","v":0}]
[null,null,null,null,null,null,null,null,null,null,null,null,null,null,null,null,null,null,null,null,null,null,null,null,null,null,null,null,null,null,null,null,null,null,null,null,null,null,null,null,null,null,null,null,null,null,null,null,null,null,null,null,null,null,null,null,null,null,null,null,null,"Lizenzen",{"$f":"AVERAGE('E&A DATA'!P593:P604)","v":0}]
[null,null,null,null,null,null,null,null,null,null,null,null,null,null,null,null,null,null,null,null,null,null,null,null,null,null,null,null,null,null,null,null,null,null,null,null,null,null,null,null,null,null,null,null,null,null,null,null,null,null,null,null,null,null,null,null,null,null,null,null,null,"P2P Kredit",{"$f":"AVERAGE('E&A DATA'!Q593:Q604)","v":0}]
[null,null,null,null,null,null,null,null,null,null,null,null,null,null,null,null,null,null,null,null,null,null,null,null,null,null,null,null,null,null,null,null,null,null,null,null,null,null,null,null,null,null,null,null,null,null,null,null,null,null,null,null,null,null,null,null,null,null,null,null,null,"Sonstige PE",{"$f":"AVERAGE('E&A DATA'!R593:R604)","v":0}]
[null,null,null,null,null,null,null,null,null,null,null,null,null,null,null,null,null,null,null,null,null,null,null,null,null,null,null,null,null,null,null,null,null,null,null,null,null,null,null,null,null,null,null,null,null,null,null,null,null,null,null,null,null,null,null,null,null,null,null,null,null,"Aktuelle Einnahmen"]
[null,null,null,null,null,null,null,null,null,null,null,null,null,null,null,null,null,null,null,null,null,null,null,null,null,null,null,null,null,null,null,null,null,null,null,null,null,null,null,null,null,null,null,null,null,null,null,null,null,null,null,null,null,null,null,null,null,null,null,null,null,"Differenz zum Vormonat",{"$f":"'E&A DATA'!AT604-'E&A DATA'!AT603","v":0}]
[null,null,null,null,null,null,null,null,null,null,null,null,null,null,null,null,null,null,null,null,null,null,null,null,null,null,null,null,null,null,null,null,null,null,null,null,null,null,null,null,null,null,null,null,null,null,null,null,null,null,null,null,null,null,null,null,null,null,null,null,null,"Differenz zum Vorjahr",{"$f":"'E&A DATA'!AT604-'E&A DATA'!AT592","v":0}]
[null,null,null,null,null,null,null,null,null,null,null,null,null,null,null,null,null,null,null,null,null,null,null,null,null,null,null,null,null,null,null,null,null,null,null,null,null,null,null,null,null,null,null,null,null,null,null,null,null,null,null,null,null,null,null,null,null,null,null,null,null,"Durchschnittliche Einnahmen"]
[null,null,null,null,null,null,null,null,null,null,null,null,null,null,null,null,null,null,null,null,null,null,null,null,null,null,null,null,null,null,null,null,null,null,null,null,null,null,null,null,null,null,null,null,null,null,null,null,null,null,null,null,null,null,null,null,null,null,null,null,null,"Differenz zum Vormonat",{"$f":"'E&A DATA'!AU604-'E&A DATA'!AU603","v":0}]
[null,null,null,null,null,null,null,null,null,null,null,null,null,null,null,null,null,null,null,null,null,null,null,null,null,null,null,null,null,null,null,null,null,null,null,null,null,null,null,null,null,null,null,null,null,null,null,null,null,null,null,null,null,null,null,null,null,null,null,null,null,"Differenz zum Vorjahr",{"$f":"'E&A DATA'!AU604-'E&A DATA'!AU592","v":0}]

{"sheet":"Dividenden","index":14,"n_rows":12,"n_cols":22,"rows_kept":12,"cut":false,"hidden":false,"merged":[[8,4,8,6],[0,13,0,16],[4,19,6,19],[0,1,1,6],[5,4,5,6],[3,4,3,6],[4,4,4,6],[6,4,6,6],[7,4,7,6]]}
[null,"Dividenden eintragen",null,null,null,null,null,null,null,null,null,null,null,"HILFSTABELLEN"]
[]
[null,null,null,null,null,null,null,null,null,null,null,null,null,"Monatlich",12,null,"Aktueller Kurs",null,null,"Intervall"]
[null,null,null,null,"Summe Dividenden","Summe Dividenden ",null,{"$f":"SUM(Dividenden[Betrag in EUR])","v":0},null,null,null,null,null,"Quartalsweise",4,null,"Anzahl WP"]
[null,null,null,null,"Anzahl Dividenden","Anzahl Dividenden",null,{"$f":"COUNT(Dividenden[Datum])","v":0},null,null,null,null,null,"Halbjährlich",2,null,"Dividende in EUR",null,null,"Portfolio",1]
[null,null,null,null,"Durchschnittliche Dividendenhöhe",null,null,{"$f":"IFERROR(H4/H5,0)","v":0},null,null,null,null,null,"Jährlich",1,null,"Kurs in EUR",null,null,null,2]
[null,null,null,null,"Summe Dividenden aktuelles Jahr","Aktuelles Jahr ",null,{"$f":"SUMIFS(Dividenden[Betrag in EUR],Dividenden[Datum],\">\"&$N$9,Dividenden[Datum],\"<=\"&$O$9)","v":0},null,null,null,null,null,null,null,null,"Kaufkurs in EUR",null,null,null,3]
[null,null,null,null,"Anzahl Dividenden aktuelles Jahr",null,null,{"$f":"COUNTIFS(Dividenden[Datum],\">=\"&$N$9,Dividenden[Datum],\"<=\"&$O$9)","v":0},null,null,null,null,null,"Heute",{"$f":"TODAY()","v":43835}]
[null,null,null,null,"Durchschn. Dividendenhöhe aktuelles Jahr",null,null,{"$f":"IFERROR(H7/H8,0)","v":0},null,null,null,null,null,{"$f":"DATE(YEAR($O$8),1,1)","v":43831},{"$f":"DATE(YEAR($O$8),12,31)","v":44196}]
[]
["Datum","Aktie","Betrag","Währung","Ausschüttungsintervall","Aktuelle Rendite","Persönliche Rendite","Betrag in EUR",null,null,null,null,null,"Datum","Aktie","Portfolio","Betrag","Währung","Ausschüttungsintervall","Aktuelle Rendite","Persönliche Rendite","Betrag in EUR"]
[null,null,null,null,null,null,null,null,null,null,null,null,null,"27.09.2018","ABC",null,null,null,null,null,null,"50"]

{"sheet":"Optionsprämien","index":15,"n_rows":9,"n_cols":34,"rows_kept":9,"cut":false,"hidden":false,"merged":[[0,19,0,20],[0,0,1,14],[3,11,3,13],[4,11,4,13]]}
["Optionsprämien"]
[]
[null,null,null,null,null,null,null,null,null,null,null,null,null,null,null,null,null,null,null,"Heute",{"$f":"TODAY()","v":43835}]
[null,null,null,null,null,null,null,null,null,null,null,"Summe Optionsprämien ",null,null,{"$f":"SUM(Optionen[G/V (Netto)])","v":0},null,null,null,null,"Monatsanfang",{"$f":"DATE(YEAR(U3),MONTH(U3),1)","v":43831}]
[null,null,null,null,null,null,null,null,null,null,null,"Summe aktueller Monat ",null,null,{"$f":"SUMIFS(Optionen[G/V (Netto)],Optionen[Datum],\">=\"&U4,Optionen[Datum],\"<=\"&U5)","v":0},null,null,null,null,"Monatsende",{"$f":"EOMONTH(U4,0)","v":43861}]
[]
["Closing","Kosten","Datum","Verfall","P/C","Underlying","Kurs","Kontrakte","Strike","Optionskurs","Restlaufzeit","Distanz","Rendite","Rendite/ Risiko","G/V (Netto)",null,null,null,null,"Closing","Kosten","Datum","Verfall","P/C","Underlying","Kurs","Kontrakte","Strike","Optionskurs","Restlaufzeit","Distanz","Rendite","Rendite/Risiko","G/V (Netto)"]
[null,null,null,null,null,null,null,null,null,null,null,null,null,null,null,null,null,null,null,null,null,"27.09.2018","51-12-18","Covered Call","fsdf","1","1","1","1",{"$f":"IFERROR(W8-V8,\"\")","v":""},{"$f":"IFERROR(ABS((AB8-Z8)/Z8),\"\")","v":0},{"$f":"IFERROR((AC8/AB8)*(365/AD8),\"\")","v":""},{"$f":"IFERROR(AE8*AF8*10,\"\")","v":""}]
[null,null,null,null,null,null,null,null,null,null,null,null,null,null,{"$f":"IF(Optionen[[#This Row],[Kontrakte]]=\"\",\"\",Optionen[[#This Row],[Kontrakte]]*100*Optionen[[#This Row],[Optionskurs]]*0.725-Optionen[[#This Row],[Kosten]]-Optionen[[#This Row],[Kontrakte]]*0.75)","v":""}]

{"sheet":"Underlyings","index":16,"n_rows":107,"n_cols":2,"rows_kept":107,"cut":false,"hidden":false,"merged":[[0,0,1,1]]}
["Potentielle Underlyings"]
[]
[]
[]
[]
[]
["Nr.","Underlying"]
[1]
[2]
[3]
[4]
[5]
[6]
[7]
[8]
[9]
[10]
[11]
[12]
[13]
[14]
[15]
[16]
[17]
[18]
[19]
[20]
[21]
[22]
[23]
[24]
[25]
[26]
[27]
[28]
[29]
[30]
[31]
[32]
[33]
[34]
[35]
[36]
[37]
[38]
[39]
[40]
[41]
[42]
[43]
[44]
[45]
[46]
[47]
[48]
[49]
[50]
[51]
[52]
[53]
[54]
[55]
[56]
[57]
[58]
[59]
[60]
[61]
[62]
[63]
[64]
[65]
[66]
[67]
[68]
[69]
[70]
[71]
[72]
[73]
[74]
[75]
[76]
[77]
[78]
[79]
[80]
[81]
[82]
[83]
[84]
[85]
[86]
[87]
[88]
[89]
[90]
[91]
[92]
[93]
[94]
[95]
[96]
[97]
[98]
[99]
[100]

{"sheet":"Zugeteilte Aktien","index":17,"n_rows":9,"n_cols":12,"rows_kept":9,"cut":false,"hidden":false,"merged":[[0,0,1,11],[3,8,3,10],[4,8,4,10]]}
["Zugeteilte Aktien"]
[]
[]
[null,null,null,null,null,null,null,null,"Gewinne der zugeteilten Aktien",null,null,{"$f":"SUM(ZugeteilteAktien[GuV in EUR])","v":0}]
[null,null,null,null,null,null,null,null,"Gesamt (inkl. Zugeteilte Aktien) ",null,null,{"$f":"L4+Optionsprämien!O4","v":0}]
[]
["Datum","Aktie","Portfolio","Stück","Strike","Kurs Aktuell","Datum Verkauf","Verkaufskurs","Haltedauer","GuV in EUR","GuV in %","GuV in % p.a."]
[null,null,null,null,null,null,null,null,{"$f":"IF(IF(ISBLANK(ZugeteilteAktien[[#This Row],[Datum Verkauf]]),TODAY()-ZugeteilteAktien[[#This Row],[Datum]],ZugeteilteAktien[[#This Row],[Datum Verkauf]]-ZugeteilteAktien[[#This Row],[Datum]])>30000,\"\",IF(ISBLANK(ZugeteilteAktien[[#This Row],[Datum Verkauf]]),TODAY()-ZugeteilteAktien[[#This Row],[Datum]],ZugeteilteAktien[[#This Row],[Datum Verkauf]]-ZugeteilteAktien[[#This Row],[Datum]]))","v":""},{"$f":"IFERROR(IF(ISBLANK(ZugeteilteAktien[[#This Row],[Datum Verkauf]]),\"\",(ZugeteilteAktien[[#This Row],[Verkaufskurs]]-ZugeteilteAktien[[#This Row],[Strike]])*ZugeteilteAktien[[#This Row],[Stück]]),\"\")","v":""},{"$f":"IFERROR(ZugeteilteAktien[[#This Row],[GuV in EUR]]/(ZugeteilteAktien[[#This Row],[Stück]]*ZugeteilteAktien[[#This Row],[Strike]]),\"\")","v":""},{"$f":"IFERROR(IF(ZugeteilteAktien[[#This Row],[Datum Verkauf]]=\"\",\"\",((ZugeteilteAktien[[#This Row],[Verkaufskurs]]/ZugeteilteAktien[[#This Row],[Strike]])^(1/(ZugeteilteAktien[[#This Row],[Haltedauer]]/365)))-1),\"\")","v":""}]
[null,null,null,null,null,null,null,null,{"$f":"IF(IF(ISBLANK(ZugeteilteAktien[[#This Row],[Datum Verkauf]]),TODAY()-ZugeteilteAktien[[#This Row],[Datum]],ZugeteilteAktien[[#This Row],[Datum Verkauf]]-ZugeteilteAktien[[#This Row],[Datum]])>30000,\"\",IF(ISBLANK(ZugeteilteAktien[[#This Row],[Datum Verkauf]]),TODAY()-ZugeteilteAktien[[#This Row],[Datum]],ZugeteilteAktien[[#This Row],[Datum Verkauf]]-ZugeteilteAktien[[#This Row],[Datum]]))","v":""},{"$f":"IFERROR(IF(ISBLANK(ZugeteilteAktien[[#This Row],[Datum Verkauf]]),\"\",(ZugeteilteAktien[[#This Row],[Verkaufskurs]]-ZugeteilteAktien[[#This Row],[Strike]])*ZugeteilteAktien[[#This Row],[Stück]]),\"\")","v":""},{"$f":"IFERROR(ZugeteilteAktien[[#This Row],[GuV in EUR]]/(ZugeteilteAktien[[#This Row],[Stück]]*ZugeteilteAktien[[#This Row],[Strike]]),\"\")","v":""},{"$f":"IFERROR(IF(ZugeteilteAktien[[#This Row],[Datum Verkauf]]=\"\",\"\",((ZugeteilteAktien[[#This Row],[Verkaufskurs]]/ZugeteilteAktien[[#This Row],[Strike]])^(1/(ZugeteilteAktien[[#This Row],[Haltedauer]]/365)))-1),\"\")","v":""}]

{"sheet":"Ende","index":18,"n_rows":9,"n_cols":2,"rows_kept":9,"cut":false,"hidden":false,"merged":[[8,1,13,58],[3,1,7,58],[0,0,1,59]]}
["FinOrga"]
[]
[]
[null,"Vielen Dank, dass Du das FinOrga-Excel benutzt!"]
[]
[]
[]
[]
[null,"Ich hoffe es gefällt Dir und hilft dabei Deine Ziele zu erreichen.\nIch freue mich immer über Feedback:\ninfo@finorga.net"]